{"text_format":"3","workbook":"xlsx","n_sheets":3,"sheets":["説明事項","入力画面","出力帳票"],"not_rendered":{"macros":1,"defined_names":1},"read":"whole","date_system":"1900"}

{"sheet":"説明事項","index":0,"n_rows":23,"n_cols":11,"rows_kept":23,"merged":[[2,1,2,11],[3,1,3,11],[4,2,4,11],[5,2,5,11],[6,2,6,11],[7,2,7,11],[9,1,9,11],[10,1,10,11],[11,1,11,11],[12,2,12,11],[13,2,13,11],[14,2,14,11],[15,2,15,11],[16,2,16,11],[17,2,17,11],[18,2,18,11],[19,2,19,11],[20,2,20,11],[21,2,21,11],[22,2,22,11]]}
[{"$nulls":10},"仙建工業株式会社"]
[{"$nulls":10},"2015-04-14"]
[null,"【説明事項】"]
[]
[null,"・","協力会社が独自に作成した出来高検収書（名称はこの限りではない）でも要件を満たして"]
[null,null,"いるならば、その様式を使用してください。"]
[null,"・","上記によれない場合には、当社の出来高検収書を使用してください。"]
[null,"・","エクセル様式には自動計算、マクロが含まれていますので、下記使用方法を参照して作成願います。"]
[null,"・","協力会社名には、受注者の現場代理人（現場代理人を定めない場合は社長）が記名押印してください。"]
[]
[null,"【使用方法】"]
[]
[null,"・","記入漏れ、間違いがないか十分確認の上、提出してください。"]
[null,"・","行数は最大５００件までです。"]
[null,"・","入力画面と出力帳票が別々になっています。提出するのは出力帳票の方を提出してください。"]
[null,"・","出力する際は合計金額が表示されているページを確認し、出力範囲を選択して出力してください。"]
[null,null,"（出力範囲を指定しないまま印刷すると最大２５ページ出力されてしまいます）"]
[null,"・","協力会社名欄の押印は出力した枚数全てに押印してください。"]
[null,"・","前回データを残す場合は、その都度ファイル名を変更して保存してください。"]
[null,"・","【前月更新】ボタンを押印すると、『出来高回数』、『最終行№』、『検収期間』、『今回数量』"]
[null,null,"が消去され、前回数量に今回数量が合算されます。"]
[null,"・","【データ削除】ボタンを押印すると入力した箇所が全て消去されます。"]
[null,"・","【前月更新】、【データ削除】ボタンを押印すると、元に戻せなくなります。ご注意ください。"]

{"sheet":"入力画面","index":1,"n_rows":510,"n_cols":93,"rows_kept":510,"merged":[[2,2,2,17],[2,18,2,19],[2,20,2,22],[2,41,2,45],[2,46,2,52],[2,54,2,64],[3,4,3,7],[3,9,3,14],[3,16,3,21],[3,29,3,35],[3,41,3,46],[3,47,3,64],[4,0,4,3],[4,4,4,11],[4,12,4,16],[4,17,4,40],[5,0,5,3],[5,4,5,11],[5,12,5,16],[5,17,5,20],[5,21,5,28],[5,29,5,32],[5,33,5,40],[6,0,7,0],[6,1,7,16],[6,17,6,30],[6,31,6,38],[6,39,6,46],[6,47,6,54],[6,55,7,64],[7,17,7,18],[7,19,7,21],[7,22,7,25],[7,26,7,30],[7,31,7,33],[7,34,7,38],[7,39,7,41],[7,42,7,46],[7,47,7,49],[7,50,7,54],[8,1,8,16],[8,17,8,18],[8,19,8,21],[8,22,8,25],[8,26,8,30],[8,31,8,33],[8,34,8,38],[8,39,8,41],[8,42,8,46],[8,47,8,49],[8,50,8,54],[8,55,8,64],[9,0,9,64],[10,1,10,16],[10,17,10,18],[10,19,10,21],[10,22,10,25],[10,26,10,30],[10,31,10,33],[10,34,10,38],[10,39,10,41],[10,42,10,46],[10,47,10,49],[10,50,10,54],[10,55,10,64],[11,1,11,16],[11,17,11,18],[11,19,11,21],[11,22,11,25],[11,26,11,30],[11,31,11,33],[11,34,11,38],[11,39,11,41],[11,42,11,46],[11,47,11,49],[11,50,11,54],[11,55,11,64],[12,1,12,16],[12,17,12,18],[12,19,12,21],[12,22,12,25],[12,26,12,30],[12,31,12,33],[12,34,12,38],[12,39,12,41],[12,42,12,46],[12,47,12,49],[12,50,12,54],[12,55,12,64],[13,1,13,16],[13,17,13,18],[13,19,13,21],[13,22,13,25],[13,26,13,30],[13,31,13,33],[13,34,13,38],[13,39,13,41],[13,42,13,46],[13,47,13,49],[13,50,13,54],[13,55,13,64],[14,1,14,16],[14,17,14,18],[14,19,14,21],[14,22,14,25],[14,26,14,30],[14,31,14,33],[14,34,14,38],[14,39,14,41],[14,42,14,46],[14,47,14,49],[14,50,14,54],[14,55,14,64],[15,1,15,16],[15,17,15,18],[15,19,15,21],[15,22,15,25],[15,26,15,30],[15,31,15,33],[15,34,15,38],[15,39,15,41],[15,42,15,46],[15,47,15,49],[15,50,15,54],[15,55,15,64],[16,1,16,16],[16,17,16,18],[16,19,16,21],[16,22,16,25],[16,26,16,30],[16,31,16,33],[16,34,16,38],[16,39,16,41],[16,42,16,46],[16,47,16,49],[16,50,16,54],[16,55,16,64],[17,1,17,16],[17,17,17,18],[17,19,17,21],[17,22,17,25],[17,26,17,30],[17,31,17,33],[17,34,17,38],[17,39,17,41],[17,42,17,46],[17,47,17,49],[17,50,17,54],[17,55,17,64],[18,1,18,16],[18,17,18,18],[18,19,18,21],[18,22,18,25],[18,26,18,30],[18,31,18,33],[18,34,18,38],[18,39,18,41],[18,42,18,46],[18,47,18,49],[18,50,18,54],[18,55,18,64],[19,1,19,16],[19,17,19,18],[19,19,19,21],[19,22,19,25],[19,26,19,30],[19,31,19,33],[19,34,19,38],[19,39,19,41],[19,42,19,46],[19,47,19,49],[19,50,19,54],[19,55,19,64],[20,1,20,16],[20,17,20,18],[20,19,20,21],[20,22,20,25],[20,26,20,30],[20,31,20,33],[20,34,20,38],[20,39,20,41],[20,42,20,46],[20,47,20,49],[20,50,20,54],[20,55,20,64],[21,1,21,16],[21,17,21,18],[21,19,21,21],[21,22,21,25],[21,26,21,30],[21,31,21,33],[21,34,21,38],[21,39,21,41],[21,42,21,46],[21,47,21,49],[21,50,21,54],[21,55,21,64],[22,1,22,16],[22,17,22,18],[22,19,22,21],[22,22,22,25],[22,26,22,30],[22,31,22,33],[22,34,22,38],[22,39,22,41],[22,42,22,46],[22,47,22,49],[22,50,22,54],[22,55,22,64],[23,1,23,16],[23,17,23,18],[23,19,23,21],[23,22,23,25],[23,26,23,30],[23,31,23,33],[23,34,23,38],[23,39,23,41],[23,42,23,46],[23,47,23,49],[23,50,23,54],[23,55,23,64],[24,1,24,16],[24,17,24,18],[24,19,24,21],[24,22,24,25],[24,26,24,30],[24,31,24,33],[24,34,24,38],[24,39,24,41],[24,42,24,46],[24,47,24,49],[24,50,24,54],[24,55,24,64],[25,1,25,16],[25,17,25,18],[25,19,25,21],[25,22,25,25],[25,26,25,30],[25,31,25,33],[25,34,25,38],[25,39,25,41],[25,42,25,46],[25,47,25,49],[25,50,25,54],[25,55,25,64],[26,1,26,16],[26,17,26,18],[26,19,26,21],[26,22,26,25],[26,26,26,30],[26,31,26,33],[26,34,26,38],[26,39,26,41],[26,42,26,46],[26,47,26,49],[26,50,26,54],[26,55,26,64],[27,1,27,16],[27,17,27,18],[27,19,27,21],[27,22,27,25],[27,26,27,30],[27,31,27,33],[27,34,27,38],[27,39,27,41],[27,42,27,46],[27,47,27,49],[27,50,27,54],[27,55,27,64],[28,1,28,16],[28,17,28,18],[28,19,28,21],[28,22,28,25],[28,26,28,30],[28,31,28,33],[28,34,28,38],[28,39,28,41],[28,42,28,46],[28,47,28,49],[28,50,28,54],[28,55,28,64],[29,1,29,16],[29,17,29,18],[29,19,29,21],[29,22,29,25],[29,26,29,30],[29,31,29,33],[29,34,29,38],[29,39,29,41],[29,42,29,46],[29,47,29,49],[29,50,29,54],[29,55,29,64],[30,1,30,16],[30,17,30,18],[30,19,30,21],[30,22,30,25],[30,26,30,30],[30,31,30,33],[30,34,30,38],[30,39,30,41],[30,42,30,46],[30,47,30,49],[30,50,30,54],[30,55,30,64],[31,1,31,16],[31,17,31,18],[31,19,31,21],[31,22,31,25],[31,26,31,30],[31,31,31,33],[31,34,31,38],[31,39,31,41],[31,42,31,46],[31,47,31,49],[31,50,31,54],[31,55,31,64],[32,1,32,16],[32,17,32,18],[32,19,32,21],[32,22,32,25],[32,26,32,30],[32,31,32,33],[32,34,32,38],[32,39,32,41],[32,42,32,46],[32,47,32,49],[32,50,32,54],[32,55,32,64],[33,1,33,16],[33,17,33,18],[33,19,33,21],[33,22,33,25],[33,26,33,30],[33,31,33,33],[33,34,33,38],[33,39,33,41],[33,42,33,46],[33,47,33,49],[33,50,33,54],[33,55,33,64],[34,1,34,16],[34,17,34,18],[34,19,34,21],[34,22,34,25],[34,26,34,30],[34,31,34,33],[34,34,34,38],[34,39,34,41],[34,42,34,46],[34,47,34,49],[34,50,34,54],[34,55,34,64],[35,1,35,16],[35,17,35,18],[35,19,35,21],[35,22,35,25],[35,26,35,30],[35,31,35,33],[35,34,35,38],[35,39,35,41],[35,42,35,46],[35,47,35,49],[35,50,35,54],[35,55,35,64],[36,1,36,16],[36,17,36,18],[36,19,36,21],[36,22,36,25],[36,26,36,30],[36,31,36,33],[36,34,36,38],[36,39,36,41],[36,42,36,46],[36,47,36,49],[36,50,36,54],[36,55,36,64],[37,1,37,16],[37,17,37,18],[37,19,37,21],[37,22,37,25],[37,26,37,30],[37,31,37,33],[37,34,37,38],[37,39,37,41],[37,42,37,46],[37,47,37,49],[37,50,37,54],[37,55,37,64],[38,1,38,16],[38,17,38,18],[38,19,38,21],[38,22,38,25],[38,26,38,30],[38,31,38,33],[38,34,38,38],[38,39,38,41],[38,42,38,46],[38,47,38,49],[38,50,38,54],[38,55,38,64],[39,1,39,16],[39,17,39,18],[39,19,39,21],[39,22,39,25],[39,26,39,30],[39,31,39,33],[39,34,39,38],[39,39,39,41],[39,42,39,46],[39,47,39,49],[39,50,39,54],[39,55,39,64],[40,1,40,16],[40,17,40,18],[40,19,40,21],[40,22,40,25],[40,26,40,30],[40,31,40,33],[40,34,40,38],[40,39,40,41],[40,42,40,46],[40,47,40,49],[40,50,40,54],[40,55,40,64],[41,1,41,16],[41,17,41,18],[41,19,41,21],[41,22,41,25],[41,26,41,30],[41,31,41,33],[41,34,41,38],[41,39,41,41],[41,42,41,46],[41,47,41,49],[41,50,41,54],[41,55,41,64],[42,1,42,16],[42,17,42,18],[42,19,42,21],[42,22,42,25],[42,26,42,30],[42,31,42,33],[42,34,42,38],[42,39,42,41],[42,42,42,46],[42,47,42,49],[42,50,42,54],[42,55,42,64],[43,1,43,16],[43,17,43,18],[43,19,43,21],[43,22,43,25],[43,26,43,30],[43,31,43,33],[43,34,43,38],[43,39,43,41],[43,42,43,46],[43,47,43,49],[43,50,43,54],[43,55,43,64],[44,1,44,16],[44,17,44,18],[44,19,44,21],[44,22,44,25],[44,26,44,30],[44,31,44,33],[44,34,44,38],[44,39,44,41],[44,42,44,46],[44,47,44,49],[44,50,44,54],[44,55,44,64],[45,1,45,16],[45,17,45,18],[45,19,45,21],[45,22,45,25],[45,26,45,30],[45,31,45,33],[45,34,45,38],[45,39,45,41],[45,42,45,46],[45,47,45,49],[45,50,45,54],[45,55,45,64],[46,1,46,16],[46,17,46,18],[46,19,46,21],[46,22,46,25],[46,26,46,30],[46,31,46,33],[46,34,46,38],[46,39,46,41],[46,42,46,46],[46,47,46,49],[46,50,46,54],[46,55,46,64],[47,1,47,16],[47,17,47,18],[47,19,47,21],[47,22,47,25],[47,26,47,30],[47,31,47,33],[47,34,47,38],[47,39,47,41],[47,42,47,46],[47,47,47,49],[47,50,47,54],[47,55,47,64],[48,1,48,16],[48,17,48,18],[48,19,48,21],[48,22,48,25],[48,26,48,30],[48,31,48,33],[48,34,48,38],[48,39,48,41],[48,42,48,46],[48,47,48,49],[48,50,48,54],[48,55,48,64],[49,1,49,16],[49,17,49,18],[49,19,49,21],[49,22,49,25],[49,26,49,30],[49,31,49,33],[49,34,49,38],[49,39,49,41],[49,42,49,46],[49,47,49,49],[49,50,49,54],[49,55,49,64],[50,1,50,16],[50,17,50,18],[50,19,50,21],[50,22,50,25],[50,26,50,30],[50,31,50,33],[50,34,50,38],[50,39,50,41],[50,42,50,46],[50,47,50,49],[50,50,50,54],[50,55,50,64],[51,1,51,16],[51,17,51,18],[51,19,51,21],[51,22,51,25],[51,26,51,30],[51,31,51,33],[51,34,51,38],[51,39,51,41],[51,42,51,46],[51,47,51,49],[51,50,51,54],[51,55,51,64],[52,1,52,16],[52,17,52,18],[52,19,52,21],[52,22,52,25],[52,26,52,30],[52,31,52,33],[52,34,52,38],[52,39,52,41],[52,42,52,46],[52,47,52,49],[52,50,52,54],[52,55,52,64],[53,1,53,16],[53,17,53,18],[53,19,53,21],[53,22,53,25],[53,26,53,30],[53,31,53,33],[53,34,53,38],[53,39,53,41],[53,42,53,46],[53,47,53,49],[53,50,53,54],[53,55,53,64],[54,1,54,16],[54,17,54,18],[54,19,54,21],[54,22,54,25],[54,26,54,30],[54,31,54,33],[54,34,54,38],[54,39,54,41],[54,42,54,46],[54,47,54,49],[54,50,54,54],[54,55,54,64],[55,1,55,16],[55,17,55,18],[55,19,55,21],[55,22,55,25],[55,26,55,30],[55,31,55,33],[55,34,55,38],[55,39,55,41],[55,42,55,46],[55,47,55,49],[55,50,55,54],[55,55,55,64],[56,1,56,16],[56,17,56,18],[56,19,56,21],[56,22,56,25],[56,26,56,30],[56,31,56,33],[56,34,56,38],[56,39,56,41],[56,42,56,46],[56,47,56,49],[56,50,56,54],[56,55,56,64],[57,1,57,16],[57,17,57,18],[57,19,57,21],[57,22,57,25],[57,26,57,30],[57,31,57,33],[57,34,57,38],[57,39,57,41],[57,42,57,46],[57,47,57,49],[57,50,57,54],[57,55,57,64],[58,1,58,16],[58,17,58,18],[58,19,58,21],[58,22,58,25],[58,26,58,30],[58,31,58,33],[58,34,58,38],[58,39,58,41],[58,42,58,46],[58,47,58,49],[58,50,58,54],[58,55,58,64],[59,1,59,16],[59,17,59,18],[59,19,59,21],[59,22,59,25],[59,26,59,30],[59,31,59,33],[59,34,59,38],[59,39,59,41],[59,42,59,46],[59,47,59,49],[59,50,59,54],[59,55,59,64],[60,1,60,16],[60,17,60,18],[60,19,60,21],[60,22,60,25],[60,26,60,30],[60,31,60,33],[60,34,60,38],[60,39,60,41],[60,42,60,46],[60,47,60,49],[60,50,60,54],[60,55,60,64],[61,1,61,16],[61,17,61,18],[61,19,61,21],[61,22,61,25],[61,26,61,30],[61,31,61,33],[61,34,61,38],[61,39,61,41],[61,42,61,46],[61,47,61,49],[61,50,61,54],[61,55,61,64],[62,1,62,16],[62,17,62,18],[62,19,62,21],[62,22,62,25],[62,26,62,30],[62,31,62,33],[62,34,62,38],[62,39,62,41],[62,42,62,46],[62,47,62,49],[62,50,62,54],[62,55,62,64],[63,1,63,16],[63,17,63,18],[63,19,63,21],[63,22,63,25],[63,26,63,30],[63,31,63,33],[63,34,63,38],[63,39,63,41],[63,42,63,46],[63,47,63,49],[63,50,63,54],[63,55,63,64],[64,1,64,16],[64,17,64,18],[64,19,64,21],[64,22,64,25],[64,26,64,30],[64,31,64,33],[64,34,64,38],[64,39,64,41],[64,42,64,46],[64,47,64,49],[64,50,64,54],[64,55,64,64],[65,1,65,16],[65,17,65,18],[65,19,65,21],[65,22,65,25],[65,26,65,30],[65,31,65,33],[65,34,65,38],[65,39,65,41],[65,42,65,46],[65,47,65,49],[65,50,65,54],[65,55,65,64],[66,1,66,16],[66,17,66,18],[66,19,66,21],[66,22,66,25],[66,26,66,30],[66,31,66,33],[66,34,66,38],[66,39,66,41],[66,42,66,46],[66,47,66,49],[66,50,66,54],[66,55,66,64],[67,1,67,16],[67,17,67,18],[67,19,67,21],[67,22,67,25],[67,26,67,30],[67,31,67,33],[67,34,67,38],[67,39,67,41],[67,42,67,46],[67,47,67,49],[67,50,67,54],[67,55,67,64],[68,1,68,16],[68,17,68,18],[68,19,68,21],[68,22,68,25],[68,26,68,30],[68,31,68,33],[68,34,68,38],[68,39,68,41],[68,42,68,46],[68,47,68,49],[68,50,68,54],[68,55,68,64],[69,1,69,16],[69,17,69,18],[69,19,69,21],[69,22,69,25],[69,26,69,30],[69,31,69,33],[69,34,69,38],[69,39,69,41],[69,42,69,46],[69,47,69,49],[69,50,69,54],[69,55,69,64],[70,1,70,16],[70,17,70,18],[70,19,70,21],[70,22,70,25],[70,26,70,30],[70,31,70,33],[70,34,70,38],[70,39,70,41],[70,42,70,46],[70,47,70,49],[70,50,70,54],[70,55,70,64],[71,1,71,16],[71,17,71,18],[71,19,71,21],[71,22,71,25],[71,26,71,30],[71,31,71,33],[71,34,71,38],[71,39,71,41],[71,42,71,46],[71,47,71,49],[71,50,71,54],[71,55,71,64],[72,1,72,16],[72,17,72,18],[72,19,72,21],[72,22,72,25],[72,26,72,30],[72,31,72,33],[72,34,72,38],[72,39,72,41],[72,42,72,46],[72,47,72,49],[72,50,72,54],[72,55,72,64],[73,1,73,16],[73,17,73,18],[73,19,73,21],[73,22,73,25],[73,26,73,30],[73,31,73,33],[73,34,73,38],[73,39,73,41],[73,42,73,46],[73,47,73,49],[73,50,73,54],[73,55,73,64],[74,1,74,16],[74,17,74,18],[74,19,74,21],[74,22,74,25],[74,26,74,30],[74,31,74,33],[74,34,74,38],[74,39,74,41],[74,42,74,46],[74,47,74,49],[74,50,74,54],[74,55,74,64],[75,1,75,16],[75,17,75,18],[75,19,75,21],[75,22,75,25],[75,26,75,30],[75,31,75,33],[75,34,75,38],[75,39,75,41],[75,42,75,46],[75,47,75,49],[75,50,75,54],[75,55,75,64],[76,1,76,16],[76,17,76,18],[76,19,76,21],[76,22,76,25],[76,26,76,30],[76,31,76,33],[76,34,76,38],[76,39,76,41],[76,42,76,46],[76,47,76,49],[76,50,76,54],[76,55,76,64],[77,1,77,16],[77,17,77,18],[77,19,77,21],[77,22,77,25],[77,26,77,30],[77,31,77,33],[77,34,77,38],[77,39,77,41],[77,42,77,46],[77,47,77,49],[77,50,77,54],[77,55,77,64],[78,1,78,16],[78,17,78,18],[78,19,78,21],[78,22,78,25],[78,26,78,30],[78,31,78,33],[78,34,78,38],[78,39,78,41],[78,42,78,46],[78,47,78,49],[78,50,78,54],[78,55,78,64],[79,1,79,16],[79,17,79,18],[79,19,79,21],[79,22,79,25],[79,26,79,30],[79,31,79,33],[79,34,79,38],[79,39,79,41],[79,42,79,46],[79,47,79,49],[79,50,79,54],[79,55,79,64],[80,1,80,16],[80,17,80,18],[80,19,80,21],[80,22,80,25],[80,26,80,30],[80,31,80,33],[80,34,80,38],[80,39,80,41],[80,42,80,46],[80,47,80,49],[80,50,80,54],[80,55,80,64],[81,1,81,16],[81,17,81,18],[81,19,81,21],[81,22,81,25],[81,26,81,30],[81,31,81,33],[81,34,81,38],[81,39,81,41],[81,42,81,46],[81,47,81,49],[81,50,81,54],[81,55,81,64],[82,26,82,30],[82,31,82,33],[82,34,82,38],[82,39,82,41],[82,42,82,46],[82,47,82,49],[82,50,82,54],[82,55,82,64],[83,1,83,16],[83,17,83,18],[83,19,83,21],[83,22,83,25],[83,26,83,30],[83,31,83,33],[83,34,83,38],[83,42,83,46],[83,47,83,49],[83,50,83,54],[83,55,83,64],[84,1,84,16],[84,17,84,18],[84,19,84,21],[84,22,84,25],[84,26,84,30],[84,31,84,33],[84,34,84,38],[84,39,84,41],[84,42,84,46],[84,47,84,49],[84,50,84,54],[84,55,84,64],[85,1,85,16],[85,17,85,18],[85,19,85,21],[85,22,85,25],[85,26,85,30],[85,55,85,64],[413,1,413,16],[413,17,413,18],[413,19,413,21],[413,22,413,25],[413,26,413,30],[413,31,413,33],[413,34,413,38],[413,39,413,41],[413,42,413,46],[413,47,413,49],[413,50,413,54],[413,55,413,64],[415,1,415,16],[415,17,415,18],[415,19,415,21],[415,22,415,25],[415,26,415,30],[415,31,415,33],[415,34,415,38],[415,39,415,41],[415,50,415,54],[415,55,415,64],[416,1,416,16],[416,17,416,18],[416,19,416,21],[416,22,416,25],[416,26,416,30],[416,31,416,33],[416,34,416,38],[416,39,416,41],[416,42,416,46],[416,47,416,49],[416,50,416,54],[416,55,416,64],[417,1,417,16],[417,17,417,18],[417,19,417,21],[417,22,417,25],[417,26,417,30],[417,31,417,33],[417,34,417,38],[417,39,417,41],[417,42,417,46],[417,47,417,49],[417,50,417,54],[417,55,417,64]],"merged_total":6055,"flags":["merged_cut"]}
[]
[]
[null,null,"出　来　高　検　収　書　（第",{"$nulls":17},"回）",{"$nulls":33},"仙 建 工 業 株 式 会 社"]
[{"$nulls":4},"検収期間",{"$nulls":3},"自",{"$nulls":6},"至",{"$nulls":25},"協力会社名"]
["工 事 番 号",{"$nulls":11},"工 事 件 名",{"$nulls":48},"※押印は出力帳票にお願いします"]
["契   約   日",{"$nulls":11},"工         期",{"$nulls":4},"自",{"$nulls":11},"至"]
["№","工                         種",{"$nulls":15},"契       約       金       額",{"$nulls":13},"前回迄出来高累計",{"$nulls":7},"今  回  出  来  高",{"$nulls":7},"残            高",{"$nulls":7},"摘                要"]
[{"$nulls":17},"単位",null,"数 量",null,null,"単   価",{"$nulls":3},"金     額",{"$nulls":4},"数 量",null,null,"金     額",{"$nulls":4},"数 量",null,null,"金     額",{"$nulls":4},"数 量",null,null,"金     額",{"$nulls":27},"（数量）",{"$nulls":6},"（金額）"]
["－","－",{"$nulls":15},"－",null,"－",null,null,"合   計",{"$nulls":3},{"$f":"SUM(AA11:AE510)","v":{"v":0,"d":"0 "}},{"$nulls":4},"合 計",null,null,{"$f":"SUM(AI11:AM510)","v":{"v":0,"d":"0 "}},{"$nulls":4},"合 計",null,null,{"$f":"SUM(AQ11:AU510)","v":{"v":0,"d":"0 "}},{"$nulls":4},"合 計",null,null,{"$f":"SUM(AY11:BC510)","v":{"v":0,"d":"0 "}},{"$nulls":4},"－",{"$nulls":22},"前回","今回",null,null,"計1","計2",null,"前回","今回",{"$nulls":4},"計1","計2"]
[]
[1,{"$nulls":25},{"$f":"ROUND(T11*$W11,0)","v":{"v":0,"d":"0 "}},{"$nulls":4},{"$f":"CF11","v":{"v":0,"d":"0.00"}},null,null,{"$f":"CO11","v":{"v":0,"d":"0 "}},{"$nulls":7},{"$f":"ROUND(AN11*$W11,0)","v":{"v":0,"d":"0 "}},{"$nulls":4},{"$f":"T11-AF11-AN11","v":{"v":0,"d":"0.00"}},null,null,{"$f":"AA11-AI11-AQ11","v":{"v":0,"d":"0 "}},{"$nulls":27},{"$f":"AF11","v":{"v":0,"d":"0.0"}},{"$nulls":3},{"$f":"SUM(CA11:CB11)","v":{"v":0,"d":"0.0"}},null,null,{"$f":"AI11","v":{"v":0,"d":"0 "}},{"$nulls":5},{"$f":"SUM(CH11:CI11)","v":{"v":0,"d":"0 "}}]
[2,{"$nulls":25},{"$f":"ROUND(T12*$W12,0)","v":{"v":0,"d":"0 "}},{"$nulls":4},{"$f":"CF12","v":{"v":0,"d":"0.00"}},null,null,{"$f":"CO12","v":{"v":0,"d":"0 "}},{"$nulls":7},{"$f":"ROUND(AN12*$W12,0)","v":{"v":0,"d":"0 "}},{"$nulls":4},{"$f":"T12-AF12-AN12","v":{"v":0,"d":"0.00"}},null,null,{"$f":"AA12-AI12-AQ12","v":{"v":0,"d":"0 "}},{"$nulls":27},{"$f":"AF12","v":{"v":0,"d":"0.0"}},{"$nulls":3},{"$f":"SUM(CA12:CB12)","v":{"v":0,"d":"0.0"}},null,null,{"v":0,"d":"0 "},{"$nulls":5},{"$f":"SUM(CH12:CI12)","v":{"v":0,"d":"0 "}}]
[3,{"$nulls":25},{"v":0,"d":"0 "},{"$nulls":4},{"v":0,"d":"0.00"},null,null,{"v":0,"d":"0 "},{"$nulls":7},{"v":0,"d":"0 "},{"$nulls":4},{"v":0,"d":"0.00"},null,null,{"v":0,"d":"0 "},{"$nulls":27},{"v":0,"d":"0.0"},{"$nulls":3},{"v":0,"d":"0.0"},null,null,{"v":0,"d":"0 "},{"$nulls":5},{"v":0,"d":"0 "}]
[4,{"$nulls":25},{"v":0,"d":"0 "},{"$nulls":4},{"v":0,"d":"0.00"},null,null,{"v":0,"d":"0 "},{"$nulls":7},{"v":0,"d":"0 "},{"$nulls":4},{"v":0,"d":"0.00"},null,null,{"v":0,"d":"0 "},{"$nulls":27},{"v":0,"d":"0.0"},{"$nulls":3},{"v":0,"d":"0.0"},null,null,{"v":0,"d":"0 "},{"$nulls":5},{"v":0,"d":"0 "}]
[5,{"$nulls":25},{"v":0,"d":"0 "},{"$nulls":4},{"v":0,"d":"0.00"},null,null,{"v":0,"d":"0 "},{"$nulls":7},{"v":0,"d":"0 "},{"$nulls":4},{"v":0,"d":"0.00"},null,null,{"v":0,"d":"0 "},{"$nulls":27},{"v":0,"d":"0.0"},{"$nulls":3},{"v":0,"d":"0.0"},null,null,{"v":0,"d":"0 "},{"$nulls":5},{"v":0,"d":"0 "}]
[6,{"$nulls":25},{"v":0,"d":"0 "},{"$nulls":4},{"v":0,"d":"0.00"},null,null,{"v":0,"d":"0 "},{"$nulls":7},{"v":0,"d":"0 "},{"$nulls":4},{"v":0,"d":"0.00"},null,null,{"v":0,"d":"0 "},{"$nulls":27},{"v":0,"d":"0.0"},{"$nulls":3},{"v":0,"d":"0.0"},null,null,{"v":0,"d":"0 "},{"$nulls":5},{"v":0,"d":"0 "}]
[7,{"$nulls":25},{"v":0,"d":"0 "},{"$nulls":4},{"v":0,"d":"0.00"},null,null,{"v":0,"d":"0 "},{"$nulls":7},{"v":0,"d":"0 "},{"$nulls":4},{"v":0,"d":"0.00"},null,null,{"v":0,"d":"0 "},{"$nulls":27},{"v":0,"d":"0.0"},{"$nulls":3},{"v":0,"d":"0.0"},null,null,{"v":0,"d":"0 "},{"$nulls":5},{"v":0,"d":"0 "}]
[8,{"$nulls":25},{"v":0,"d":"0 "},{"$nulls":4},{"v":0,"d":"0.00"},null,null,{"v":0,"d":"0 "},{"$nulls":7},{"v":0,"d":"0 "},{"$nulls":4},{"v":0,"d":"0.00"},null,null,{"v":0,"d":"0 "},{"$nulls":27},{"v":0,"d":"0.0"},{"$nulls":3},{"v":0,"d":"0.0"},null,null,{"v":0,"d":"0 "},{"$nulls":5},{"v":0,"d":"0 "}]
[9,{"$nulls":25},{"v":0,"d":"0 "},{"$nulls":4},{"v":0,"d":"0.00"},null,null,{"v":0,"d":"0 "},{"$nulls":7},{"v":0,"d":"0 "},{"$nulls":4},{"v":0,"d":"0.00"},null,null,{"v":0,"d":"0 "},{"$nulls":27},{"v":0,"d":"0.0"},{"$nulls":3},{"v":0,"d":"0.0"},null,null,{"v":0,"d":"0 "},{"$nulls":5},{"v":0,"d":"0 "}]
[10,{"$nulls":25},{"v":0,"d":"0 "},{"$nulls":4},{"v":0,"d":"0.00"},null,null,{"v":0,"d":"0 "},{"$nulls":7},{"v":0,"d":"0 "},{"$nulls":4},{"v":0,"d":"0.00"},null,null,{"v":0,"d":"0 "},{"$nulls":27},{"v":0,"d":"0.0"},{"$nulls":3},{"v":0,"d":"0.0"},null,null,{"v":0,"d":"0 "},{"$nulls":5},{"v":0,"d":"0 "}]
[11,{"$nulls":25},{"$f":"ROUND(T21*$W21,0)","v":{"v":0,"d":"0 "}},{"$nulls":4},{"v":0,"d":"0.00"},null,null,{"v":0,"d":"0 "},{"$nulls":7},{"$f":"ROUND(AN21*$W21,0)","v":{"v":0,"d":"0 "}},{"$nulls":4},{"$f":"T21-AF21-AN21","v":{"v":0,"d":"0.00"}},null,null,{"$f":"AA21-AI21-AQ21","v":{"v":0,"d":"0 "}},{"$nulls":27},{"v":0,"d":"0.0"},{"$nulls":3},{"v":0,"d":"0.0"},null,null,{"v":0,"d":"0 "},{"$nulls":5},{"v":0,"d":"0 "}]
[12,{"$nulls":25},{"$f":"ROUND(T22*$W22,0)","v":{"v":0,"d":"0 "}},{"$nulls":4},{"v":0,"d":"0.00"},null,null,{"v":0,"d":"0 "},{"$nulls":7},{"$f":"ROUND(AN22*$W22,0)","v":{"v":0,"d":"0 "}},{"$nulls":4},{"$f":"T22-AF22-AN22","v":{"v":0,"d":"0.00"}},null,null,{"$f":"AA22-AI22-AQ22","v":{"v":0,"d":"0 "}},{"$nulls":27},{"v":0,"d":"0.0"},{"$nulls":3},{"v":0,"d":"0.0"},null,null,{"v":0,"d":"0 "},{"$nulls":5},{"v":0,"d":"0 "}]
[13,{"$nulls":25},{"v":0,"d":"0 "},{"$nulls":4},{"v":0,"d":"0.00"},null,null,{"v":0,"d":"0 "},{"$nulls":7},{"v":0,"d":"0 "},{"$nulls":4},{"v":0,"d":"0.00"},null,null,{"v":0,"d":"0 "},{"$nulls":27},{"v":0,"d":"0.0"},{"$nulls":3},{"v":0,"d":"0.0"},null,null,{"v":0,"d":"0 "},{"$nulls":5},{"v":0,"d":"0 "}]
[14,{"$nulls":25},{"v":0,"d":"0 "},{"$nulls":4},{"v":0,"d":"0.00"},null,null,{"v":0,"d":"0 "},{"$nulls":7},{"v":0,"d":"0 "},{"$nulls":4},{"v":0,"d":"0.00"},null,null,{"v":0,"d":"0 "},{"$nulls":27},{"v":0,"d":"0.0"},{"$nulls":3},{"$f":"SUM(CA24:CB24)","v":{"v":0,"d":"0.0"}},null,null,{"v":0,"d":"0 "},{"$nulls":5},{"v":0,"d":"0 "}]
[15,{"$nulls":25},{"v":0,"d":"0 "},{"$nulls":4},{"v":0,"d":"0.00"},null,null,{"v":0,"d":"0 "},{"$nulls":7},{"v":0,"d":"0 "},{"$nulls":4},{"v":0,"d":"0.00"},null,null,{"v":0,"d":"0 "},{"$nulls":27},{"v":0,"d":"0.0"},{"$nulls":3},{"v":0,"d":"0.0"},null,null,{"v":0,"d":"0 "},{"$nulls":5},{"v":0,"d":"0 "}]
[16,{"$nulls":25},{"v":0,"d":"0 "},{"$nulls":4},{"v":0,"d":"0.00"},null,null,{"v":0,"d":"0 "},{"$nulls":7},{"v":0,"d":"0 "},{"$nulls":4},{"v":0,"d":"0.00"},null,null,{"v":0,"d":"0 "},{"$nulls":27},{"v":0,"d":"0.0"},{"$nulls":3},{"v":0,"d":"0.0"},null,null,{"v":0,"d":"0 "},{"$nulls":5},{"v":0,"d":"0 "}]
[17,{"$nulls":25},{"v":0,"d":"0 "},{"$nulls":4},{"v":0,"d":"0.00"},null,null,{"v":0,"d":"0 "},{"$nulls":7},{"v":0,"d":"0 "},{"$nulls":4},{"v":0,"d":"0.00"},null,null,{"v":0,"d":"0 "},{"$nulls":27},{"v":0,"d":"0.0"},{"$nulls":3},{"v":0,"d":"0.0"},null,null,{"v":0,"d":"0 "},{"$nulls":5},{"v":0,"d":"0 "}]
[18,{"$nulls":25},{"v":0,"d":"0 "},{"$nulls":4},{"v":0,"d":"0.00"},null,null,{"v":0,"d":"0 "},{"$nulls":7},{"v":0,"d":"0 "},{"$nulls":4},{"v":0,"d":"0.00"},null,null,{"v":0,"d":"0 "},{"$nulls":27},{"v":0,"d":"0.0"},{"$nulls":3},{"v":0,"d":"0.0"},null,null,{"v":0,"d":"0 "},{"$nulls":5},{"v":0,"d":"0 "}]
[19,{"$nulls":25},{"v":0,"d":"0 "},{"$nulls":4},{"v":0,"d":"0.00"},null,null,{"v":0,"d":"0 "},{"$nulls":7},{"v":0,"d":"0 "},{"$nulls":4},{"v":0,"d":"0.00"},null,null,{"v":0,"d":"0 "},{"$nulls":27},{"v":0,"d":"0.0"},{"$nulls":3},{"v":0,"d":"0.0"},null,null,{"v":0,"d":"0 "},{"$nulls":5},{"v":0,"d":"0 "}]
[20,{"$nulls":25},{"v":0,"d":"0 "},{"$nulls":4},{"v":0,"d":"0.00"},null,null,{"v":0,"d":"0 "},{"$nulls":7},{"v":0,"d":"0 "},{"$nulls":4},{"v":0,"d":"0.00"},null,null,{"v":0,"d":"0 "},{"$nulls":27},{"v":0,"d":"0.0"},{"$nulls":3},{"v":0,"d":"0.0"},null,null,{"v":0,"d":"0 "},{"$nulls":5},{"v":0,"d":"0 "}]
[21,{"$nulls":25},{"$f":"ROUND(T31*$W31,0)","v":{"v":0,"d":"0 "}},{"$nulls":4},{"v":0,"d":"0.00"},null,null,{"v":0,"d":"0 "},{"$nulls":7},{"$f":"ROUND(AN31*$W31,0)","v":{"v":0,"d":"0 "}},{"$nulls":4},{"$f":"T31-AF31-AN31","v":{"v":0,"d":"0.00"}},null,null,{"$f":"AA31-AI31-AQ31","v":{"v":0,"d":"0 "}},{"$nulls":27},{"v":0,"d":"0.0"},{"$nulls":3},{"v":0,"d":"0.0"},null,null,{"v":0,"d":"0 "},{"$nulls":5},{"v":0,"d":"0 "}]
[22,{"$nulls":25},{"$f":"ROUND(T32*$W32,0)","v":{"v":0,"d":"0 "}},{"$nulls":4},{"v":0,"d":"0.00"},null,null,{"v":0,"d":"0 "},{"$nulls":7},{"$f":"ROUND(AN32*$W32,0)","v":{"v":0,"d":"0 "}},{"$nulls":4},{"$f":"T32-AF32-AN32","v":{"v":0,"d":"0.00"}},null,null,{"$f":"AA32-AI32-AQ32","v":{"v":0,"d":"0 "}},{"$nulls":27},{"v":0,"d":"0.0"},{"$nulls":3},{"v":0,"d":"0.0"},null,null,{"v":0,"d":"0 "},{"$nulls":5},{"v":0,"d":"0 "}]
[23,{"$nulls":25},{"v":0,"d":"0 "},{"$nulls":4},{"v":0,"d":"0.00"},null,null,{"v":0,"d":"0 "},{"$nulls":7},{"v":0,"d":"0 "},{"$nulls":4},{"v":0,"d":"0.00"},null,null,{"v":0,"d":"0 "},{"$nulls":27},{"v":0,"d":"0.0"},{"$nulls":3},{"v":0,"d":"0.0"},null,null,{"v":0,"d":"0 "},{"$nulls":5},{"v":0,"d":"0 "}]
[24,{"$nulls":25},{"v":0,"d":"0 "},{"$nulls":4},{"v":0,"d":"0.00"},null,null,{"v":0,"d":"0 "},{"$nulls":7},{"v":0,"d":"0 "},{"$nulls":4},{"v":0,"d":"0.00"},null,null,{"v":0,"d":"0 "},{"$nulls":27},{"v":0,"d":"0.0"},{"$nulls":3},{"v":0,"d":"0.0"},null,null,{"v":0,"d":"0 "},{"$nulls":5},{"v":0,"d":"0 "}]
[25,{"$nulls":25},{"v":0,"d":"0 "},{"$nulls":4},{"v":0,"d":"0.00"},null,null,{"v":0,"d":"0 "},{"$nulls":7},{"v":0,"d":"0 "},{"$nulls":4},{"v":0,"d":"0.00"},null,null,{"v":0,"d":"0 "},{"$nulls":27},{"v":0,"d":"0.0"},{"$nulls":3},{"v":0,"d":"0.0"},null,null,{"v":0,"d":"0 "},{"$nulls":5},{"v":0,"d":"0 "}]
[26,{"$nulls":25},{"v":0,"d":"0 "},{"$nulls":4},{"v":0,"d":"0.00"},null,null,{"v":0,"d":"0 "},{"$nulls":7},{"v":0,"d":"0 "},{"$nulls":4},{"v":0,"d":"0.00"},null,null,{"v":0,"d":"0 "},{"$nulls":27},{"v":0,"d":"0.0"},{"$nulls":3},{"v":0,"d":"0.0"},null,null,{"v":0,"d":"0 "},{"$nulls":5},{"v":0,"d":"0 "}]
[27,{"$nulls":25},{"v":0,"d":"0 "},{"$nulls":4},{"v":0,"d":"0.00"},null,null,{"v":0,"d":"0 "},{"$nulls":7},{"v":0,"d":"0 "},{"$nulls":4},{"v":0,"d":"0.00"},null,null,{"v":0,"d":"0 "},{"$nulls":27},{"v":0,"d":"0.0"},{"$nulls":3},{"v":0,"d":"0.0"},null,null,{"v":0,"d":"0 "},{"$nulls":5},{"v":0,"d":"0 "}]
[28,{"$nulls":25},{"v":0,"d":"0 "},{"$nulls":4},{"v":0,"d":"0.00"},null,null,{"v":0,"d":"0 "},{"$nulls":7},{"v":0,"d":"0 "},{"$nulls":4},{"v":0,"d":"0.00"},null,null,{"v":0,"d":"0 "},{"$nulls":27},{"v":0,"d":"0.0"},{"$nulls":3},{"v":0,"d":"0.0"},null,null,{"v":0,"d":"0 "},{"$nulls":5},{"v":0,"d":"0 "}]
[29,{"$nulls":25},{"v":0,"d":"0 "},{"$nulls":4},{"v":0,"d":"0.00"},null,null,{"v":0,"d":"0 "},{"$nulls":7},{"v":0,"d":"0 "},{"$nulls":4},{"v":0,"d":"0.00"},null,null,{"v":0,"d":"0 "},{"$nulls":27},{"v":0,"d":"0.0"},{"$nulls":3},{"v":0,"d":"0.0"},null,null,{"v":0,"d":"0 "},{"$nulls":5},{"v":0,"d":"0 "}]
[30,{"$nulls":25},{"v":0,"d":"0 "},{"$nulls":4},{"v":0,"d":"0.00"},null,null,{"v":0,"d":"0 "},{"$nulls":7},{"v":0,"d":"0 "},{"$nulls":4},{"v":0,"d":"0.00"},null,null,{"v":0,"d":"0 "},{"$nulls":27},{"v":0,"d":"0.0"},{"$nulls":3},{"v":0,"d":"0.0"},null,null,{"v":0,"d":"0 "},{"$nulls":5},{"v":0,"d":"0 "}]
[31,{"$nulls":25},{"$f":"ROUND(T41*$W41,0)","v":{"v":0,"d":"0 "}},{"$nulls":4},{"v":0,"d":"0.00"},null,null,{"v":0,"d":"0 "},{"$nulls":7},{"$f":"ROUND(AN41*$W41,0)","v":{"v":0,"d":"0 "}},{"$nulls":4},{"$f":"T41-AF41-AN41","v":{"v":0,"d":"0.00"}},null,null,{"$f":"AA41-AI41-AQ41","v":{"v":0,"d":"0 "}},{"$nulls":27},{"v":0,"d":"0.0"},{"$nulls":3},{"v":0,"d":"0.0"},null,null,{"v":0,"d":"0 "},{"$nulls":5},{"v":0,"d":"0 "}]
[32,{"$nulls":25},{"$f":"ROUND(T42*$W42,0)","v":{"v":0,"d":"0 "}},{"$nulls":4},{"v":0,"d":"0.00"},null,null,{"v":0,"d":"0 "},{"$nulls":7},{"$f":"ROUND(AN42*$W42,0)","v":{"v":0,"d":"0 "}},{"$nulls":4},{"$f":"T42-AF42-AN42","v":{"v":0,"d":"0.00"}},null,null,{"$f":"AA42-AI42-AQ42","v":{"v":0,"d":"0 "}},{"$nulls":27},{"v":0,"d":"0.0"},{"$nulls":3},{"v":0,"d":"0.0"},null,null,{"v":0,"d":"0 "},{"$nulls":5},{"v":0,"d":"0 "}]
[33,{"$nulls":25},{"v":0,"d":"0 "},{"$nulls":4},{"v":0,"d":"0.00"},null,null,{"v":0,"d":"0 "},{"$nulls":7},{"v":0,"d":"0 "},{"$nulls":4},{"v":0,"d":"0.00"},null,null,{"v":0,"d":"0 "},{"$nulls":27},{"v":0,"d":"0.0"},{"$nulls":3},{"v":0,"d":"0.0"},null,null,{"v":0,"d":"0 "},{"$nulls":5},{"v":0,"d":"0 "}]
[34,{"$nulls":25},{"v":0,"d":"0 "},{"$nulls":4},{"v":0,"d":"0.00"},null,null,{"v":0,"d":"0 "},{"$nulls":7},{"v":0,"d":"0 "},{"$nulls":4},{"v":0,"d":"0.00"},null,null,{"v":0,"d":"0 "},{"$nulls":27},{"v":0,"d":"0.0"},{"$nulls":3},{"v":0,"d":"0.0"},null,null,{"v":0,"d":"0 "},{"$nulls":5},{"v":0,"d":"0 "}]
[35,{"$nulls":25},{"v":0,"d":"0 "},{"$nulls":4},{"v":0,"d":"0.00"},null,null,{"v":0,"d":"0 "},{"$nulls":7},{"v":0,"d":"0 "},{"$nulls":4},{"v":0,"d":"0.00"},null,null,{"v":0,"d":"0 "},{"$nulls":27},{"v":0,"d":"0.0"},{"$nulls":3},{"v":0,"d":"0.0"},null,null,{"v":0,"d":"0 "},{"$nulls":5},{"v":0,"d":"0 "}]
[36,{"$nulls":25},{"v":0,"d":"0 "},{"$nulls":4},{"v":0,"d":"0.00"},null,null,{"v":0,"d":"0 "},{"$nulls":7},{"v":0,"d":"0 "},{"$nulls":4},{"v":0,"d":"0.00"},null,null,{"v":0,"d":"0 "},{"$nulls":27},{"v":0,"d":"0.0"},{"$nulls":3},{"v":0,"d":"0.0"},null,null,{"v":0,"d":"0 "},{"$nulls":5},{"v":0,"d":"0 "}]
[37,{"$nulls":25},{"v":0,"d":"0 "},{"$nulls":4},{"v":0,"d":"0.00"},null,null,{"v":0,"d":"0 "},{"$nulls":7},{"v":0,"d":"0 "},{"$nulls":4},{"v":0,"d":"0.00"},null,null,{"v":0,"d":"0 "},{"$nulls":27},{"v":0,"d":"0.0"},{"$nulls":3},{"v":0,"d":"0.0"},null,null,{"v":0,"d":"0 "},{"$nulls":5},{"v":0,"d":"0 "}]
[38,{"$nulls":25},{"v":0,"d":"0 "},{"$nulls":4},{"v":0,"d":"0.00"},null,null,{"v":0,"d":"0 "},{"$nulls":7},{"v":0,"d":"0 "},{"$nulls":4},{"v":0,"d":"0.00"},null,null,{"v":0,"d":"0 "},{"$nulls":27},{"v":0,"d":"0.0"},{"$nulls":3},{"v":0,"d":"0.0"},null,null,{"v":0,"d":"0 "},{"$nulls":5},{"v":0,"d":"0 "}]
[39,{"$nulls":25},{"v":0,"d":"0 "},{"$nulls":4},{"v":0,"d":"0.00"},null,null,{"v":0,"d":"0 "},{"$nulls":7},{"v":0,"d":"0 "},{"$nulls":4},{"v":0,"d":"0.00"},null,null,{"v":0,"d":"0 "},{"$nulls":27},{"v":0,"d":"0.0"},{"$nulls":3},{"v":0,"d":"0.0"},null,null,{"v":0,"d":"0 "},{"$nulls":5},{"v":0,"d":"0 "}]
[40,{"$nulls":25},{"v":0,"d":"0 "},{"$nulls":4},{"v":0,"d":"0.00"},null,null,{"v":0,"d":"0 "},{"$nulls":7},{"v":0,"d":"0 "},{"$nulls":4},{"v":0,"d":"0.00"},null,null,{"v":0,"d":"0 "},{"$nulls":27},{"v":0,"d":"0.0"},{"$nulls":3},{"v":0,"d":"0.0"},null,null,{"v":0,"d":"0 "},{"$nulls":5},{"v":0,"d":"0 "}]
[41,{"$nulls":25},{"$f":"ROUND(T51*$W51,0)","v":{"v":0,"d":"0 "}},{"$nulls":4},{"v":0,"d":"0.00"},null,null,{"v":0,"d":"0 "},{"$nulls":7},{"$f":"ROUND(AN51*$W51,0)","v":{"v":0,"d":"0 "}},{"$nulls":4},{"$f":"T51-AF51-AN51","v":{"v":0,"d":"0.00"}},null,null,{"$f":"AA51-AI51-AQ51","v":{"v":0,"d":"0 "}},{"$nulls":27},{"v":0,"d":"0.0"},{"$nulls":3},{"v":0,"d":"0.0"},null,null,{"v":0,"d":"0 "},{"$nulls":5},{"v":0,"d":"0 "}]
[42,{"$nulls":25},{"$f":"ROUND(T52*$W52,0)","v":{"v":0,"d":"0 "}},{"$nulls":4},{"v":0,"d":"0.00"},null,null,{"v":0,"d":"0 "},{"$nulls":7},{"$f":"ROUND(AN52*$W52,0)","v":{"v":0,"d":"0 "}},{"$nulls":4},{"$f":"T52-AF52-AN52","v":{"v":0,"d":"0.00"}},null,null,{"$f":"AA52-AI52-AQ52","v":{"v":0,"d":"0 "}},{"$nulls":27},{"v":0,"d":"0.0"},{"$nulls":3},{"v":0,"d":"0.0"},null,null,{"v":0,"d":"0 "},{"$nulls":5},{"v":0,"d":"0 "}]
[43,{"$nulls":25},{"v":0,"d":"0 "},{"$nulls":4},{"v":0,"d":"0.00"},null,null,{"v":0,"d":"0 "},{"$nulls":7},{"v":0,"d":"0 "},{"$nulls":4},{"v":0,"d":"0.00"},null,null,{"v":0,"d":"0 "},{"$nulls":27},{"v":0,"d":"0.0"},{"$nulls":3},{"v":0,"d":"0.0"},null,null,{"v":0,"d":"0 "},{"$nulls":5},{"v":0,"d":"0 "}]
[44,{"$nulls":25},{"v":0,"d":"0 "},{"$nulls":4},{"v":0,"d":"0.00"},null,null,{"v":0,"d":"0 "},{"$nulls":7},{"v":0,"d":"0 "},{"$nulls":4},{"v":0,"d":"0.00"},null,null,{"v":0,"d":"0 "},{"$nulls":27},{"v":0,"d":"0.0"},{"$nulls":3},{"v":0,"d":"0.0"},null,null,{"v":0,"d":"0 "},{"$nulls":5},{"v":0,"d":"0 "}]
[45,{"$nulls":25},{"v":0,"d":"0 "},{"$nulls":4},{"v":0,"d":"0.00"},null,null,{"v":0,"d":"0 "},{"$nulls":7},{"v":0,"d":"0 "},{"$nulls":4},{"v":0,"d":"0.00"},null,null,{"v":0,"d":"0 "},{"$nulls":27},{"v":0,"d":"0.0"},{"$nulls":3},{"v":0,"d":"0.0"},null,null,{"v":0,"d":"0 "},{"$nulls":5},{"v":0,"d":"0 "}]
[46,{"$nulls":25},{"v":0,"d":"0 "},{"$nulls":4},{"v":0,"d":"0.00"},null,null,{"v":0,"d":"0 "},{"$nulls":7},{"v":0,"d":"0 "},{"$nulls":4},{"v":0,"d":"0.00"},null,null,{"v":0,"d":"0 "},{"$nulls":27},{"v":0,"d":"0.0"},{"$nulls":3},{"v":0,"d":"0.0"},null,null,{"v":0,"d":"0 "},{"$nulls":5},{"v":0,"d":"0 "}]
[47,{"$nulls":25},{"v":0,"d":"0 "},{"$nulls":4},{"v":0,"d":"0.00"},null,null,{"v":0,"d":"0 "},{"$nulls":7},{"v":0,"d":"0 "},{"$nulls":4},{"v":0,"d":"0.00"},null,null,{"v":0,"d":"0 "},{"$nulls":27},{"v":0,"d":"0.0"},{"$nulls":3},{"v":0,"d":"0.0"},null,null,{"v":0,"d":"0 "},{"$nulls":5},{"v":0,"d":"0 "}]
[48,{"$nulls":25},{"v":0,"d":"0 "},{"$nulls":4},{"v":0,"d":"0.00"},null,null,{"v":0,"d":"0 "},{"$nulls":7},{"v":0,"d":"0 "},{"$nulls":4},{"v":0,"d":"0.00"},null,null,{"v":0,"d":"0 "},{"$nulls":27},{"v":0,"d":"0.0"},{"$nulls":3},{"v":0,"d":"0.0"},null,null,{"v":0,"d":"0 "},{"$nulls":5},{"v":0,"d":"0 "}]
[49,{"$nulls":25},{"v":0,"d":"0 "},{"$nulls":4},{"v":0,"d":"0.00"},null,null,{"v":0,"d":"0 "},{"$nulls":7},{"v":0,"d":"0 "},{"$nulls":4},{"v":0,"d":"0.00"},null,null,{"v":0,"d":"0 "},{"$nulls":27},{"v":0,"d":"0.0"},{"$nulls":3},{"v":0,"d":"0.0"},null,null,{"v":0,"d":"0 "},{"$nulls":5},{"v":0,"d":"0 "}]
[50,{"$nulls":25},{"v":0,"d":"0 "},{"$nulls":4},{"v":0,"d":"0.00"},null,null,{"v":0,"d":"0 "},{"$nulls":7},{"v":0,"d":"0 "},{"$nulls":4},{"v":0,"d":"0.00"},null,null,{"v":0,"d":"0 "},{"$nulls":27},{"v":0,"d":"0.0"},{"$nulls":3},{"v":0,"d":"0.0"},null,null,{"v":0,"d":"0 "},{"$nulls":5},{"v":0,"d":"0 "}]
[51,{"$nulls":25},{"$f":"ROUND(T61*$W61,0)","v":{"v":0,"d":"0 "}},{"$nulls":4},{"v":0,"d":"0.00"},null,null,{"v":0,"d":"0 "},{"$nulls":7},{"$f":"ROUND(AN61*$W61,0)","v":{"v":0,"d":"0 "}},{"$nulls":4},{"$f":"T61-AF61-AN61","v":{"v":0,"d":"0.00"}},null,null,{"$f":"AA61-AI61-AQ61","v":{"v":0,"d":"0 "}},{"$nulls":27},{"v":0,"d":"0.0"},{"$nulls":3},{"v":0,"d":"0.0"},null,null,{"v":0,"d":"0 "},{"$nulls":5},{"v":0,"d":"0 "}]
[52,{"$nulls":25},{"$f":"ROUND(T62*$W62,0)","v":{"v":0,"d":"0 "}},{"$nulls":4},{"v":0,"d":"0.00"},null,null,{"v":0,"d":"0 "},{"$nulls":7},{"$f":"ROUND(AN62*$W62,0)","v":{"v":0,"d":"0 "}},{"$nulls":4},{"$f":"T62-AF62-AN62","v":{"v":0,"d":"0.00"}},null,null,{"$f":"AA62-AI62-AQ62","v":{"v":0,"d":"0 "}},{"$nulls":27},{"v":0,"d":"0.0"},{"$nulls":3},{"v":0,"d":"0.0"},null,null,{"v":0,"d":"0 "},{"$nulls":5},{"v":0,"d":"0 "}]
[53,{"$nulls":25},{"v":0,"d":"0 "},{"$nulls":4},{"v":0,"d":"0.00"},null,null,{"v":0,"d":"0 "},{"$nulls":7},{"v":0,"d":"0 "},{"$nulls":4},{"v":0,"d":"0.00"},null,null,{"v":0,"d":"0 "},{"$nulls":27},{"v":0,"d":"0.0"},{"$nulls":3},{"v":0,"d":"0.0"},null,null,{"v":0,"d":"0 "},{"$nulls":5},{"v":0,"d":"0 "}]
[54,{"$nulls":25},{"v":0,"d":"0 "},{"$nulls":4},{"v":0,"d":"0.00"},null,null,{"v":0,"d":"0 "},{"$nulls":7},{"v":0,"d":"0 "},{"$nulls":4},{"v":0,"d":"0.00"},null,null,{"v":0,"d":"0 "},{"$nulls":27},{"v":0,"d":"0.0"},{"$nulls":3},{"v":0,"d":"0.0"},null,null,{"v":0,"d":"0 "},{"$nulls":5},{"v":0,"d":"0 "}]
[55,{"$nulls":25},{"v":0,"d":"0 "},{"$nulls":4},{"v":0,"d":"0.00"},null,null,{"v":0,"d":"0 "},{"$nulls":7},{"v":0,"d":"0 "},{"$nulls":4},{"v":0,"d":"0.00"},null,null,{"v":0,"d":"0 "},{"$nulls":27},{"v":0,"d":"0.0"},{"$nulls":3},{"v":0,"d":"0.0"},null,null,{"v":0,"d":"0 "},{"$nulls":5},{"v":0,"d":"0 "}]
[56,{"$nulls":25},{"v":0,"d":"0 "},{"$nulls":4},{"v":0,"d":"0.00"},null,null,{"v":0,"d":"0 "},{"$nulls":7},{"v":0,"d":"0 "},{"$nulls":4},{"v":0,"d":"0.00"},null,null,{"v":0,"d":"0 "},{"$nulls":27},{"v":0,"d":"0.0"},{"$nulls":3},{"v":0,"d":"0.0"},null,null,{"v":0,"d":"0 "},{"$nulls":5},{"v":0,"d":"0 "}]
[57,{"$nulls":25},{"v":0,"d":"0 "},{"$nulls":4},{"v":0,"d":"0.00"},null,null,{"v":0,"d":"0 "},{"$nulls":7},{"v":0,"d":"0 "},{"$nulls":4},{"v":0,"d":"0.00"},null,null,{"v":0,"d":"0 "},{"$nulls":27},{"v":0,"d":"0.0"},{"$nulls":3},{"v":0,"d":"0.0"},null,null,{"v":0,"d":"0 "},{"$nulls":5},{"v":0,"d":"0 "}]
[58,{"$nulls":25},{"v":0,"d":"0 "},{"$nulls":4},{"v":0,"d":"0.00"},null,null,{"v":0,"d":"0 "},{"$nulls":7},{"v":0,"d":"0 "},{"$nulls":4},{"v":0,"d":"0.00"},null,null,{"v":0,"d":"0 "},{"$nulls":27},{"v":0,"d":"0.0"},{"$nulls":3},{"v":0,"d":"0.0"},null,null,{"v":0,"d":"0 "},{"$nulls":5},{"v":0,"d":"0 "}]
[59,{"$nulls":25},{"v":0,"d":"0 "},{"$nulls":4},{"v":0,"d":"0.00"},null,null,{"v":0,"d":"0 "},{"$nulls":7},{"v":0,"d":"0 "},{"$nulls":4},{"v":0,"d":"0.00"},null,null,{"v":0,"d":"0 "},{"$nulls":27},{"v":0,"d":"0.0"},{"$nulls":3},{"v":0,"d":"0.0"},null,null,{"v":0,"d":"0 "},{"$nulls":5},{"v":0,"d":"0 "}]
[60,{"$nulls":25},{"v":0,"d":"0 "},{"$nulls":4},{"v":0,"d":"0.00"},null,null,{"v":0,"d":"0 "},{"$nulls":7},{"v":0,"d":"0 "},{"$nulls":4},{"v":0,"d":"0.00"},null,null,{"v":0,"d":"0 "},{"$nulls":27},{"v":0,"d":"0.0"},{"$nulls":3},{"v":0,"d":"0.0"},null,null,{"v":0,"d":"0 "},{"$nulls":5},{"v":0,"d":"0 "}]
[61,{"$nulls":25},{"$f":"ROUND(T71*$W71,0)","v":{"v":0,"d":"0 "}},{"$nulls":4},{"v":0,"d":"0.00"},null,null,{"v":0,"d":"0 "},{"$nulls":7},{"$f":"ROUND(AN71*$W71,0)","v":{"v":0,"d":"0 "}},{"$nulls":4},{"$f":"T71-AF71-AN71","v":{"v":0,"d":"0.00"}},null,null,{"$f":"AA71-AI71-AQ71","v":{"v":0,"d":"0 "}},{"$nulls":27},{"v":0,"d":"0.0"},{"$nulls":3},{"v":0,"d":"0.0"},null,null,{"v":0,"d":"0 "},{"$nulls":5},{"v":0,"d":"0 "}]
[62,{"$nulls":25},{"$f":"ROUND(T72*$W72,0)","v":{"v":0,"d":"0 "}},{"$nulls":4},{"v":0,"d":"0.00"},null,null,{"v":0,"d":"0 "},{"$nulls":7},{"$f":"ROUND(AN72*$W72,0)","v":{"v":0,"d":"0 "}},{"$nulls":4},{"$f":"T72-AF72-AN72","v":{"v":0,"d":"0.00"}},null,null,{"$f":"AA72-AI72-AQ72","v":{"v":0,"d":"0 "}},{"$nulls":27},{"v":0,"d":"0.0"},{"$nulls":3},{"v":0,"d":"0.0"},null,null,{"v":0,"d":"0 "},{"$nulls":5},{"v":0,"d":"0 "}]
[63,{"$nulls":25},{"v":0,"d":"0 "},{"$nulls":4},{"v":0,"d":"0.00"},null,null,{"v":0,"d":"0 "},{"$nulls":7},{"v":0,"d":"0 "},{"$nulls":4},{"v":0,"d":"0.00"},null,null,{"v":0,"d":"0 "},{"$nulls":27},{"v":0,"d":"0.0"},{"$nulls":3},{"v":0,"d":"0.0"},null,null,{"v":0,"d":"0 "},{"$nulls":5},{"v":0,"d":"0 "}]
[64,{"$nulls":25},{"v":0,"d":"0 "},{"$nulls":4},{"v":0,"d":"0.00"},null,null,{"v":0,"d":"0 "},{"$nulls":7},{"v":0,"d":"0 "},{"$nulls":4},{"v":0,"d":"0.00"},null,null,{"v":0,"d":"0 "},{"$nulls":27},{"v":0,"d":"0.0"},{"$nulls":3},{"v":0,"d":"0.0"},null,null,{"v":0,"d":"0 "},{"$nulls":5},{"v":0,"d":"0 "}]
[65,{"$nulls":25},{"v":0,"d":"0 "},{"$nulls":4},{"v":0,"d":"0.00"},null,null,{"v":0,"d":"0 "},{"$nulls":7},{"v":0,"d":"0 "},{"$nulls":4},{"v":0,"d":"0.00"},null,null,{"v":0,"d":"0 "},{"$nulls":27},{"v":0,"d":"0.0"},{"$nulls":3},{"v":0,"d":"0.0"},null,null,{"$f":"AI75","v":{"v":0,"d":"0 "}},{"$nulls":5},{"v":0,"d":"0 "}]
[66,{"$nulls":25},{"v":0,"d":"0 "},{"$nulls":4},{"$f":"CF76","v":{"v":0,"d":"0.00"}},null,null,{"$f":"CO76","v":{"v":0,"d":"0 "}},{"$nulls":7},{"v":0,"d":"0 "},{"$nulls":4},{"v":0,"d":"0.00"},null,null,{"v":0,"d":"0 "},{"$nulls":27},{"$f":"AF76","v":{"v":0,"d":"0.0"}},{"$nulls":3},{"v":0,"d":"0.0"},null,null,{"v":0,"d":"0 "},{"$nulls":5},{"$f":"SUM(CH76:CI76)","v":{"v":0,"d":"0 "}}]
[67,{"$nulls":25},{"v":0,"d":"0 "},{"$nulls":4},{"v":0,"d":"0.00"},null,null,{"v":0,"d":"0 "},{"$nulls":7},{"v":0,"d":"0 "},{"$nulls":4},{"v":0,"d":"0.00"},null,null,{"v":0,"d":"0 "},{"$nulls":27},{"v":0,"d":"0.0"},{"$nulls":3},{"v":0,"d":"0.0"},null,null,{"v":0,"d":"0 "},{"$nulls":5},{"v":0,"d":"0 "}]
[68,{"$nulls":25},{"v":0,"d":"0 "},{"$nulls":4},{"v":0,"d":"0.00"},null,null,{"v":0,"d":"0 "},{"$nulls":7},{"v":0,"d":"0 "},{"$nulls":4},{"v":0,"d":"0.00"},null,null,{"v":0,"d":"0 "},{"$nulls":27},{"v":0,"d":"0.0"},{"$nulls":3},{"v":0,"d":"0.0"},null,null,{"v":0,"d":"0 "},{"$nulls":5},{"v":0,"d":"0 "}]
[69,{"$nulls":25},{"v":0,"d":"0 "},{"$nulls":4},{"v":0,"d":"0.00"},null,null,{"v":0,"d":"0 "},{"$nulls":7},{"v":0,"d":"0 "},{"$nulls":4},{"v":0,"d":"0.00"},null,null,{"v":0,"d":"0 "},{"$nulls":27},{"v":0,"d":"0.0"},{"$nulls":3},{"v":0,"d":"0.0"},null,null,{"v":0,"d":"0 "},{"$nulls":5},{"v":0,"d":"0 "}]
[70,{"$nulls":25},{"v":0,"d":"0 "},{"$nulls":4},{"v":0,"d":"0.00"},null,null,{"v":0,"d":"0 "},{"$nulls":7},{"v":0,"d":"0 "},{"$nulls":4},{"v":0,"d":"0.00"},null,null,{"v":0,"d":"0 "},{"$nulls":27},{"v":0,"d":"0.0"},{"$nulls":3},{"v":0,"d":"0.0"},null,null,{"v":0,"d":"0 "},{"$nulls":5},{"v":0,"d":"0 "}]
[71,{"$nulls":25},{"$f":"ROUND(T81*$W81,0)","v":{"v":0,"d":"0 "}},{"$nulls":4},{"v":0,"d":"0.00"},null,null,{"v":0,"d":"0 "},{"$nulls":7},{"$f":"ROUND(AN81*$W81,0)","v":{"v":0,"d":"0 "}},{"$nulls":4},{"$f":"T81-AF81-AN81","v":{"v":0,"d":"0.00"}},null,null,{"$f":"AA81-AI81-AQ81","v":{"v":0,"d":"0 "}},{"$nulls":27},{"v":0,"d":"0.0"},{"$nulls":3},{"v":0,"d":"0.0"},null,null,{"v":0,"d":"0 "},{"$nulls":5},{"v":0,"d":"0 "}]
[72,{"$nulls":25},{"$f":"ROUND(T82*$W82,0)","v":{"v":0,"d":"0 "}},{"$nulls":4},{"v":0,"d":"0.00"},null,null,{"v":0,"d":"0 "},{"$nulls":7},{"$f":"ROUND(AN82*$W82,0)","v":{"v":0,"d":"0 "}},{"$nulls":4},{"$f":"T82-AF82-AN82","v":{"v":0,"d":"0.00"}},null,null,{"$f":"AA82-AI82-AQ82","v":{"v":0,"d":"0 "}},{"$nulls":27},{"v":0,"d":"0.0"},{"$nulls":3},{"v":0,"d":"0.0"},null,null,{"v":0,"d":"0 "},{"$nulls":5},{"v":0,"d":"0 "}]
[73,{"$nulls":25},{"v":0,"d":"0 "},{"$nulls":4},{"v":0,"d":"0.00"},null,null,{"v":0,"d":"0 "},{"$nulls":7},{"v":0,"d":"0 "},{"$nulls":4},{"v":0,"d":"0.00"},null,null,{"v":0,"d":"0 "},{"$nulls":27},{"v":0,"d":"0.0"},{"$nulls":3},{"v":0,"d":"0.0"},null,null,{"v":0,"d":"0 "},{"$nulls":5},{"v":0,"d":"0 "}]
[74,{"$nulls":25},{"v":0,"d":"0 "},{"$nulls":4},{"v":0,"d":"0.00"},null,null,{"v":0,"d":"0 "},{"$nulls":7},{"v":0,"d":"0 "},{"$nulls":4},{"v":0,"d":"0.00"},null,null,{"v":0,"d":"0 "},{"$nulls":27},{"v":0,"d":"0.0"},{"$nulls":3},{"v":0,"d":"0.0"},null,null,{"v":0,"d":"0 "},{"$nulls":5},{"v":0,"d":"0 "}]
[75,{"$nulls":25},{"v":0,"d":"0 "},{"$nulls":4},{"v":0,"d":"0.00"},null,null,{"v":0,"d":"0 "},{"$nulls":7},{"v":0,"d":"0 "},{"$nulls":4},{"v":0,"d":"0.00"},null,null,{"v":0,"d":"0 "},{"$nulls":27},{"v":0,"d":"0.0"},{"$nulls":3},{"v":0,"d":"0.0"},null,null,{"v":0,"d":"0 "},{"$nulls":5},{"v":0,"d":"0 "}]
[76,{"$nulls":25},{"v":0,"d":"0 "},{"$nulls":4},{"v":0,"d":"0.00"},null,null,{"v":0,"d":"0 "},{"$nulls":7},{"v":0,"d":"0 "},{"$nulls":4},{"v":0,"d":"0.00"},null,null,{"v":0,"d":"0 "},{"$nulls":27},{"v":0,"d":"0.0"},{"$nulls":3},{"v":0,"d":"0.0"},null,null,{"v":0,"d":"0 "},{"$nulls":5},{"v":0,"d":"0 "}]
[77,{"$nulls":25},{"v":0,"d":"0 "},{"$nulls":4},{"v":0,"d":"0.00"},null,null,{"v":0,"d":"0 "},{"$nulls":7},{"v":0,"d":"0 "},{"$nulls":4},{"v":0,"d":"0.00"},null,null,{"v":0,"d":"0 "},{"$nulls":27},{"v":0,"d":"0.0"},{"$nulls":3},{"v":0,"d":"0.0"},null,null,{"v":0,"d":"0 "},{"$nulls":5},{"v":0,"d":"0 "}]
[78,{"$nulls":25},{"v":0,"d":"0 "},{"$nulls":4},{"v":0,"d":"0.00"},null,null,{"v":0,"d":"0 "},{"$nulls":7},{"v":0,"d":"0 "},{"$nulls":4},{"v":0,"d":"0.00"},null,null,{"v":0,"d":"0 "},{"$nulls":27},{"v":0,"d":"0.0"},{"$nulls":3},{"$f":"SUM(CA88:CB88)","v":{"v":0,"d":"0.0"}},null,null,{"v":0,"d":"0 "},{"$nulls":5},{"v":0,"d":"0 "}]
[79,{"$nulls":25},{"v":0,"d":"0 "},{"$nulls":4},{"v":0,"d":"0.00"},null,null,{"v":0,"d":"0 "},{"$nulls":7},{"v":0,"d":"0 "},{"$nulls":4},{"v":0,"d":"0.00"},null,null,{"v":0,"d":"0 "},{"$nulls":27},{"v":0,"d":"0.0"},{"$nulls":3},{"v":0,"d":"0.0"},null,null,{"v":0,"d":"0 "},{"$nulls":5},{"v":0,"d":"0 "}]
[80,{"$nulls":25},{"v":0,"d":"0 "},{"$nulls":4},{"v":0,"d":"0.00"},null,null,{"v":0,"d":"0 "},{"$nulls":7},{"v":0,"d":"0 "},{"$nulls":4},{"v":0,"d":"0.00"},null,null,{"v":0,"d":"0 "},{"$nulls":27},{"v":0,"d":"0.0"},{"$nulls":3},{"v":0,"d":"0.0"},null,null,{"v":0,"d":"0 "},{"$nulls":5},{"v":0,"d":"0 "}]
[81,{"$nulls":25},{"$f":"ROUND(T91*$W91,0)","v":{"v":0,"d":"0 "}},{"$nulls":4},{"v":0,"d":"0.00"},null,null,{"v":0,"d":"0 "},{"$nulls":7},{"$f":"ROUND(AN91*$W91,0)","v":{"v":0,"d":"0 "}},{"$nulls":4},{"$f":"T91-AF91-AN91","v":{"v":0,"d":"0.00"}},null,null,{"$f":"AA91-AI91-AQ91","v":{"v":0,"d":"0 "}},{"$nulls":27},{"v":0,"d":"0.0"},{"$nulls":3},{"v":0,"d":"0.0"},null,null,{"v":0,"d":"0 "},{"$nulls":5},{"v":0,"d":"0 "}]
[82,{"$nulls":25},{"$f":"ROUND(T92*$W92,0)","v":{"v":0,"d":"0 "}},{"$nulls":4},{"v":0,"d":"0.00"},null,null,{"v":0,"d":"0 "},{"$nulls":7},{"$f":"ROUND(AN92*$W92,0)","v":{"v":0,"d":"0 "}},{"$nulls":4},{"$f":"T92-AF92-AN92","v":{"v":0,"d":"0.00"}},null,null,{"$f":"AA92-AI92-AQ92","v":{"v":0,"d":"0 "}},{"$nulls":27},{"v":0,"d":"0.0"},{"$nulls":3},{"v":0,"d":"0.0"},null,null,{"v":0,"d":"0 "},{"$nulls":5},{"v":0,"d":"0 "}]
[83,{"$nulls":25},{"v":0,"d":"0 "},{"$nulls":4},{"v":0,"d":"0.00"},null,null,{"v":0,"d":"0 "},{"$nulls":7},{"v":0,"d":"0 "},{"$nulls":4},{"v":0,"d":"0.00"},null,null,{"v":0,"d":"0 "},{"$nulls":27},{"v":0,"d":"0.0"},{"$nulls":3},{"v":0,"d":"0.0"},null,null,{"v":0,"d":"0 "},{"$nulls":5},{"v":0,"d":"0 "}]
[84,{"$nulls":25},{"v":0,"d":"0 "},{"$nulls":4},{"v":0,"d":"0.00"},null,null,{"v":0,"d":"0 "},{"$nulls":7},{"v":0,"d":"0 "},{"$nulls":4},{"v":0,"d":"0.00"},null,null,{"v":0,"d":"0 "},{"$nulls":27},{"v":0,"d":"0.0"},{"$nulls":3},{"v":0,"d":"0.0"},null,null,{"v":0,"d":"0 "},{"$nulls":5},{"v":0,"d":"0 "}]
[85,{"$nulls":25},{"v":0,"d":"0 "},{"$nulls":4},{"v":0,"d":"0.00"},null,null,{"v":0,"d":"0 "},{"$nulls":7},{"v":0,"d":"0 "},{"$nulls":4},{"v":0,"d":"0.00"},null,null,{"v":0,"d":"0 "},{"$nulls":27},{"v":0,"d":"0.0"},{"$nulls":3},{"v":0,"d":"0.0"},null,null,{"v":0,"d":"0 "},{"$nulls":5},{"v":0,"d":"0 "}]
[86,{"$nulls":25},{"v":0,"d":"0 "},{"$nulls":4},{"v":0,"d":"0.00"},null,null,{"v":0,"d":"0 "},{"$nulls":7},{"v":0,"d":"0 "},{"$nulls":4},{"v":0,"d":"0.00"},null,null,{"v":0,"d":"0 "},{"$nulls":27},{"v":0,"d":"0.0"},{"$nulls":3},{"v":0,"d":"0.0"},null,null,{"v":0,"d":"0 "},{"$nulls":5},{"v":0,"d":"0 "}]
[87,{"$nulls":25},{"v":0,"d":"0 "},{"$nulls":4},{"v":0,"d":"0.00"},null,null,{"v":0,"d":"0 "},{"$nulls":7},{"v":0,"d":"0 "},{"$nulls":4},{"v":0,"d":"0.00"},null,null,{"v":0,"d":"0 "},{"$nulls":27},{"v":0,"d":"0.0"},{"$nulls":3},{"v":0,"d":"0.0"},null,null,{"v":0,"d":"0 "},{"$nulls":5},{"v":0,"d":"0 "}]
[88,{"$nulls":25},{"v":0,"d":"0 "},{"$nulls":4},{"v":0,"d":"0.00"},null,null,{"v":0,"d":"0 "},{"$nulls":7},{"v":0,"d":"0 "},{"$nulls":4},{"v":0,"d":"0.00"},null,null,{"v":0,"d":"0 "},{"$nulls":27},{"v":0,"d":"0.0"},{"$nulls":3},{"v":0,"d":"0.0"},null,null,{"v":0,"d":"0 "},{"$nulls":5},{"v":0,"d":"0 "}]
[89,{"$nulls":25},{"v":0,"d":"0 "},{"$nulls":4},{"v":0,"d":"0.00"},null,null,{"v":0,"d":"0 "},{"$nulls":7},{"v":0,"d":"0 "},{"$nulls":4},{"v":0,"d":"0.00"},null,null,{"v":0,"d":"0 "},{"$nulls":27},{"v":0,"d":"0.0"},{"$nulls":3},{"v":0,"d":"0.0"},null,null,{"v":0,"d":"0 "},{"$nulls":5},{"v":0,"d":"0 "}]
[90,{"$nulls":25},{"v":0,"d":"0 "},{"$nulls":4},{"v":0,"d":"0.00"},null,null,{"v":0,"d":"0 "},{"$nulls":7},{"v":0,"d":"0 "},{"$nulls":4},{"v":0,"d":"0.00"},null,null,{"v":0,"d":"0 "},{"$nulls":27},{"v":0,"d":"0.0"},{"$nulls":3},{"v":0,"d":"0.0"},null,null,{"v":0,"d":"0 "},{"$nulls":5},{"v":0,"d":"0 "}]
[91,{"$nulls":25},{"$f":"ROUND(T101*$W101,0)","v":{"v":0,"d":"0 "}},{"$nulls":4},{"v":0,"d":"0.00"},null,null,{"v":0,"d":"0 "},{"$nulls":7},{"$f":"ROUND(AN101*$W101,0)","v":{"v":0,"d":"0 "}},{"$nulls":4},{"$f":"T101-AF101-AN101","v":{"v":0,"d":"0.00"}},null,null,{"$f":"AA101-AI101-AQ101","v":{"v":0,"d":"0 "}},{"$nulls":27},{"v":0,"d":"0.0"},{"$nulls":3},{"v":0,"d":"0.0"},null,null,{"v":0,"d":"0 "},{"$nulls":5},{"v":0,"d":"0 "}]
[92,{"$nulls":25},{"$f":"ROUND(T102*$W102,0)","v":{"v":0,"d":"0 "}},{"$nulls":4},{"v":0,"d":"0.00"},null,null,{"v":0,"d":"0 "},{"$nulls":7},{"$f":"ROUND(AN102*$W102,0)","v":{"v":0,"d":"0 "}},{"$nulls":4},{"$f":"T102-AF102-AN102","v":{"v":0,"d":"0.00"}},null,null,{"$f":"AA102-AI102-AQ102","v":{"v":0,"d":"0 "}},{"$nulls":27},{"v":0,"d":"0.0"},{"$nulls":3},{"v":0,"d":"0.0"},null,null,{"v":0,"d":"0 "},{"$nulls":5},{"v":0,"d":"0 "}]
[93,{"$nulls":25},{"v":0,"d":"0 "},{"$nulls":4},{"v":0,"d":"0.00"},null,null,{"v":0,"d":"0 "},{"$nulls":7},{"v":0,"d":"0 "},{"$nulls":4},{"v":0,"d":"0.00"},null,null,{"v":0,"d":"0 "},{"$nulls":27},{"v":0,"d":"0.0"},{"$nulls":3},{"v":0,"d":"0.0"},null,null,{"v":0,"d":"0 "},{"$nulls":5},{"v":0,"d":"0 "}]
[94,{"$nulls":25},{"v":0,"d":"0 "},{"$nulls":4},{"v":0,"d":"0.00"},null,null,{"v":0,"d":"0 "},{"$nulls":7},{"v":0,"d":"0 "},{"$nulls":4},{"v":0,"d":"0.00"},null,null,{"v":0,"d":"0 "},{"$nulls":27},{"v":0,"d":"0.0"},{"$nulls":3},{"v":0,"d":"0.0"},null,null,{"v":0,"d":"0 "},{"$nulls":5},{"v":0,"d":"0 "}]
[95,{"$nulls":25},{"v":0,"d":"0 "},{"$nulls":4},{"v":0,"d":"0.00"},null,null,{"v":0,"d":"0 "},{"$nulls":7},{"v":0,"d":"0 "},{"$nulls":4},{"v":0,"d":"0.00"},null,null,{"v":0,"d":"0 "},{"$nulls":27},{"v":0,"d":"0.0"},{"$nulls":3},{"v":0,"d":"0.0"},null,null,{"v":0,"d":"0 "},{"$nulls":5},{"v":0,"d":"0 "}]
[96,{"$nulls":25},{"v":0,"d":"0 "},{"$nulls":4},{"v":0,"d":"0.00"},null,null,{"v":0,"d":"0 "},{"$nulls":7},{"v":0,"d":"0 "},{"$nulls":4},{"v":0,"d":"0.00"},null,null,{"v":0,"d":"0 "},{"$nulls":27},{"v":0,"d":"0.0"},{"$nulls":3},{"v":0,"d":"0.0"},null,null,{"v":0,"d":"0 "},{"$nulls":5},{"v":0,"d":"0 "}]
[97,{"$nulls":25},{"v":0,"d":"0 "},{"$nulls":4},{"v":0,"d":"0.00"},null,null,{"v":0,"d":"0 "},{"$nulls":7},{"v":0,"d":"0 "},{"$nulls":4},{"v":0,"d":"0.00"},null,null,{"v":0,"d":"0 "},{"$nulls":27},{"v":0,"d":"0.0"},{"$nulls":3},{"v":0,"d":"0.0"},null,null,{"v":0,"d":"0 "},{"$nulls":5},{"v":0,"d":"0 "}]
[98,{"$nulls":25},{"v":0,"d":"0 "},{"$nulls":4},{"v":0,"d":"0.00"},null,null,{"v":0,"d":"0 "},{"$nulls":7},{"v":0,"d":"0 "},{"$nulls":4},{"v":0,"d":"0.00"},null,null,{"v":0,"d":"0 "},{"$nulls":27},{"v":0,"d":"0.0"},{"$nulls":3},{"v":0,"d":"0.0"},null,null,{"v":0,"d":"0 "},{"$nulls":5},{"v":0,"d":"0 "}]
[99,{"$nulls":25},{"v":0,"d":"0 "},{"$nulls":4},{"v":0,"d":"0.00"},null,null,{"v":0,"d":"0 "},{"$nulls":7},{"v":0,"d":"0 "},{"$nulls":4},{"v":0,"d":"0.00"},null,null,{"v":0,"d":"0 "},{"$nulls":27},{"v":0,"d":"0.0"},{"$nulls":3},{"v":0,"d":"0.0"},null,null,{"v":0,"d":"0 "},{"$nulls":5},{"v":0,"d":"0 "}]
[100,{"$nulls":25},{"v":0,"d":"0 "},{"$nulls":4},{"v":0,"d":"0.00"},null,null,{"v":0,"d":"0 "},{"$nulls":7},{"v":0,"d":"0 "},{"$nulls":4},{"v":0,"d":"0.00"},null,null,{"v":0,"d":"0 "},{"$nulls":27},{"v":0,"d":"0.0"},{"$nulls":3},{"v":0,"d":"0.0"},null,null,{"v":0,"d":"0 "},{"$nulls":5},{"v":0,"d":"0 "}]
[101,{"$nulls":25},{"$f":"ROUND(T111*$W111,0)","v":{"v":0,"d":"0 "}},{"$nulls":4},{"v":0,"d":"0.00"},null,null,{"v":0,"d":"0 "},{"$nulls":7},{"$f":"ROUND(AN111*$W111,0)","v":{"v":0,"d":"0 "}},{"$nulls":4},{"$f":"T111-AF111-AN111","v":{"v":0,"d":"0.00"}},null,null,{"$f":"AA111-AI111-AQ111","v":{"v":0,"d":"0 "}},{"$nulls":27},{"v":0,"d":"0.0"},{"$nulls":3},{"v":0,"d":"0.0"},null,null,{"v":0,"d":"0 "},{"$nulls":5},{"v":0,"d":"0 "}]
[102,{"$nulls":25},{"$f":"ROUND(T112*$W112,0)","v":{"v":0,"d":"0 "}},{"$nulls":4},{"v":0,"d":"0.00"},null,null,{"v":0,"d":"0 "},{"$nulls":7},{"$f":"ROUND(AN112*$W112,0)","v":{"v":0,"d":"0 "}},{"$nulls":4},{"$f":"T112-AF112-AN112","v":{"v":0,"d":"0.00"}},null,null,{"$f":"AA112-AI112-AQ112","v":{"v":0,"d":"0 "}},{"$nulls":27},{"v":0,"d":"0.0"},{"$nulls":3},{"v":0,"d":"0.0"},null,null,{"v":0,"d":"0 "},{"$nulls":5},{"v":0,"d":"0 "}]
[103,{"$nulls":25},{"v":0,"d":"0 "},{"$nulls":4},{"v":0,"d":"0.00"},null,null,{"v":0,"d":"0 "},{"$nulls":7},{"v":0,"d":"0 "},{"$nulls":4},{"v":0,"d":"0.00"},null,null,{"v":0,"d":"0 "},{"$nulls":27},{"v":0,"d":"0.0"},{"$nulls":3},{"v":0,"d":"0.0"},null,null,{"v":0,"d":"0 "},{"$nulls":5},{"v":0,"d":"0 "}]
[104,{"$nulls":25},{"v":0,"d":"0 "},{"$nulls":4},{"v":0,"d":"0.00"},null,null,{"v":0,"d":"0 "},{"$nulls":7},{"v":0,"d":"0 "},{"$nulls":4},{"v":0,"d":"0.00"},null,null,{"v":0,"d":"0 "},{"$nulls":27},{"v":0,"d":"0.0"},{"$nulls":3},{"v":0,"d":"0.0"},null,null,{"v":0,"d":"0 "},{"$nulls":5},{"v":0,"d":"0 "}]
[105,{"$nulls":25},{"v":0,"d":"0 "},{"$nulls":4},{"v":0,"d":"0.00"},null,null,{"v":0,"d":"0 "},{"$nulls":7},{"v":0,"d":"0 "},{"$nulls":4},{"v":0,"d":"0.00"},null,null,{"v":0,"d":"0 "},{"$nulls":27},{"v":0,"d":"0.0"},{"$nulls":3},{"v":0,"d":"0.0"},null,null,{"v":0,"d":"0 "},{"$nulls":5},{"v":0,"d":"0 "}]
[106,{"$nulls":25},{"v":0,"d":"0 "},{"$nulls":4},{"v":0,"d":"0.00"},null,null,{"v":0,"d":"0 "},{"$nulls":7},{"v":0,"d":"0 "},{"$nulls":4},{"v":0,"d":"0.00"},null,null,{"v":0,"d":"0 "},{"$nulls":27},{"v":0,"d":"0.0"},{"$nulls":3},{"v":0,"d":"0.0"},null,null,{"v":0,"d":"0 "},{"$nulls":5},{"v":0,"d":"0 "}]
[107,{"$nulls":25},{"v":0,"d":"0 "},{"$nulls":4},{"v":0,"d":"0.00"},null,null,{"v":0,"d":"0 "},{"$nulls":7},{"v":0,"d":"0 "},{"$nulls":4},{"v":0,"d":"0.00"},null,null,{"v":0,"d":"0 "},{"$nulls":27},{"v":0,"d":"0.0"},{"$nulls":3},{"v":0,"d":"0.0"},null,null,{"v":0,"d":"0 "},{"$nulls":5},{"v":0,"d":"0 "}]
[108,{"$nulls":25},{"v":0,"d":"0 "},{"$nulls":4},{"v":0,"d":"0.00"},null,null,{"v":0,"d":"0 "},{"$nulls":7},{"v":0,"d":"0 "},{"$nulls":4},{"v":0,"d":"0.00"},null,null,{"v":0,"d":"0 "},{"$nulls":27},{"v":0,"d":"0.0"},{"$nulls":3},{"v":0,"d":"0.0"},null,null,{"v":0,"d":"0 "},{"$nulls":5},{"v":0,"d":"0 "}]
[109,{"$nulls":25},{"v":0,"d":"0 "},{"$nulls":4},{"v":0,"d":"0.00"},null,null,{"v":0,"d":"0 "},{"$nulls":7},{"v":0,"d":"0 "},{"$nulls":4},{"v":0,"d":"0.00"},null,null,{"v":0,"d":"0 "},{"$nulls":27},{"v":0,"d":"0.0"},{"$nulls":3},{"v":0,"d":"0.0"},null,null,{"v":0,"d":"0 "},{"$nulls":5},{"v":0,"d":"0 "}]
[110,{"$nulls":25},{"v":0,"d":"0 "},{"$nulls":4},{"v":0,"d":"0.00"},null,null,{"v":0,"d":"0 "},{"$nulls":7},{"v":0,"d":"0 "},{"$nulls":4},{"v":0,"d":"0.00"},null,null,{"v":0,"d":"0 "},{"$nulls":27},{"v":0,"d":"0.0"},{"$nulls":3},{"v":0,"d":"0.0"},null,null,{"v":0,"d":"0 "},{"$nulls":5},{"v":0,"d":"0 "}]
[111,{"$nulls":25},{"$f":"ROUND(T121*$W121,0)","v":{"v":0,"d":"0 "}},{"$nulls":4},{"v":0,"d":"0.00"},null,null,{"v":0,"d":"0 "},{"$nulls":7},{"$f":"ROUND(AN121*$W121,0)","v":{"v":0,"d":"0 "}},{"$nulls":4},{"$f":"T121-AF121-AN121","v":{"v":0,"d":"0.00"}},null,null,{"$f":"AA121-AI121-AQ121","v":{"v":0,"d":"0 "}},{"$nulls":27},{"v":0,"d":"0.0"},{"$nulls":3},{"v":0,"d":"0.0"},null,null,{"v":0,"d":"0 "},{"$nulls":5},{"v":0,"d":"0 "}]
[112,{"$nulls":25},{"$f":"ROUND(T122*$W122,0)","v":{"v":0,"d":"0 "}},{"$nulls":4},{"v":0,"d":"0.00"},null,null,{"v":0,"d":"0 "},{"$nulls":7},{"$f":"ROUND(AN122*$W122,0)","v":{"v":0,"d":"0 "}},{"$nulls":4},{"$f":"T122-AF122-AN122","v":{"v":0,"d":"0.00"}},null,null,{"$f":"AA122-AI122-AQ122","v":{"v":0,"d":"0 "}},{"$nulls":27},{"v":0,"d":"0.0"},{"$nulls":3},{"v":0,"d":"0.0"},null,null,{"v":0,"d":"0 "},{"$nulls":5},{"v":0,"d":"0 "}]
[113,{"$nulls":25},{"v":0,"d":"0 "},{"$nulls":4},{"v":0,"d":"0.00"},null,null,{"v":0,"d":"0 "},{"$nulls":7},{"v":0,"d":"0 "},{"$nulls":4},{"v":0,"d":"0.00"},null,null,{"v":0,"d":"0 "},{"$nulls":27},{"v":0,"d":"0.0"},{"$nulls":3},{"v":0,"d":"0.0"},null,null,{"v":0,"d":"0 "},{"$nulls":5},{"v":0,"d":"0 "}]
[114,{"$nulls":25},{"v":0,"d":"0 "},{"$nulls":4},{"v":0,"d":"0.00"},null,null,{"v":0,"d":"0 "},{"$nulls":7},{"v":0,"d":"0 "},{"$nulls":4},{"v":0,"d":"0.00"},null,null,{"v":0,"d":"0 "},{"$nulls":27},{"v":0,"d":"0.0"},{"$nulls":3},{"v":0,"d":"0.0"},null,null,{"v":0,"d":"0 "},{"$nulls":5},{"v":0,"d":"0 "}]
[115,{"$nulls":25},{"v":0,"d":"0 "},{"$nulls":4},{"v":0,"d":"0.00"},null,null,{"v":0,"d":"0 "},{"$nulls":7},{"v":0,"d":"0 "},{"$nulls":4},{"v":0,"d":"0.00"},null,null,{"v":0,"d":"0 "},{"$nulls":27},{"v":0,"d":"0.0"},{"$nulls":3},{"v":0,"d":"0.0"},null,null,{"v":0,"d":"0 "},{"$nulls":5},{"v":0,"d":"0 "}]
[116,{"$nulls":25},{"v":0,"d":"0 "},{"$nulls":4},{"v":0,"d":"0.00"},null,null,{"v":0,"d":"0 "},{"$nulls":7},{"v":0,"d":"0 "},{"$nulls":4},{"v":0,"d":"0.00"},null,null,{"v":0,"d":"0 "},{"$nulls":27},{"v":0,"d":"0.0"},{"$nulls":3},{"v":0,"d":"0.0"},null,null,{"v":0,"d":"0 "},{"$nulls":5},{"v":0,"d":"0 "}]
[117,{"$nulls":25},{"v":0,"d":"0 "},{"$nulls":4},{"v":0,"d":"0.00"},null,null,{"v":0,"d":"0 "},{"$nulls":7},{"v":0,"d":"0 "},{"$nulls":4},{"v":0,"d":"0.00"},null,null,{"v":0,"d":"0 "},{"$nulls":27},{"v":0,"d":"0.0"},{"$nulls":3},{"v":0,"d":"0.0"},null,null,{"v":0,"d":"0 "},{"$nulls":5},{"v":0,"d":"0 "}]
[118,{"$nulls":25},{"v":0,"d":"0 "},{"$nulls":4},{"v":0,"d":"0.00"},null,null,{"v":0,"d":"0 "},{"$nulls":7},{"v":0,"d":"0 "},{"$nulls":4},{"v":0,"d":"0.00"},null,null,{"v":0,"d":"0 "},{"$nulls":27},{"v":0,"d":"0.0"},{"$nulls":3},{"v":0,"d":"0.0"},null,null,{"v":0,"d":"0 "},{"$nulls":5},{"v":0,"d":"0 "}]
[119,{"$nulls":25},{"v":0,"d":"0 "},{"$nulls":4},{"v":0,"d":"0.00"},null,null,{"v":0,"d":"0 "},{"$nulls":7},{"v":0,"d":"0 "},{"$nulls":4},{"v":0,"d":"0.00"},null,null,{"v":0,"d":"0 "},{"$nulls":27},{"v":0,"d":"0.0"},{"$nulls":3},{"v":0,"d":"0.0"},null,null,{"v":0,"d":"0 "},{"$nulls":5},{"v":0,"d":"0 "}]
[120,{"$nulls":25},{"v":0,"d":"0 "},{"$nulls":4},{"v":0,"d":"0.00"},null,null,{"v":0,"d":"0 "},{"$nulls":7},{"v":0,"d":"0 "},{"$nulls":4},{"v":0,"d":"0.00"},null,null,{"v":0,"d":"0 "},{"$nulls":27},{"v":0,"d":"0.0"},{"$nulls":3},{"v":0,"d":"0.0"},null,null,{"v":0,"d":"0 "},{"$nulls":5},{"v":0,"d":"0 "}]
[121,{"$nulls":25},{"$f":"ROUND(T131*$W131,0)","v":{"v":0,"d":"0 "}},{"$nulls":4},{"v":0,"d":"0.00"},null,null,{"v":0,"d":"0 "},{"$nulls":7},{"$f":"ROUND(AN131*$W131,0)","v":{"v":0,"d":"0 "}},{"$nulls":4},{"$f":"T131-AF131-AN131","v":{"v":0,"d":"0.00"}},null,null,{"$f":"AA131-AI131-AQ131","v":{"v":0,"d":"0 "}},{"$nulls":27},{"v":0,"d":"0.0"},{"$nulls":3},{"v":0,"d":"0.0"},null,null,{"v":0,"d":"0 "},{"$nulls":5},{"v":0,"d":"0 "}]
[122,{"$nulls":25},{"$f":"ROUND(T132*$W132,0)","v":{"v":0,"d":"0 "}},{"$nulls":4},{"v":0,"d":"0.00"},null,null,{"v":0,"d":"0 "},{"$nulls":7},{"$f":"ROUND(AN132*$W132,0)","v":{"v":0,"d":"0 "}},{"$nulls":4},{"$f":"T132-AF132-AN132","v":{"v":0,"d":"0.00"}},null,null,{"$f":"AA132-AI132-AQ132","v":{"v":0,"d":"0 "}},{"$nulls":27},{"v":0,"d":"0.0"},{"$nulls":3},{"v":0,"d":"0.0"},null,null,{"v":0,"d":"0 "},{"$nulls":5},{"v":0,"d":"0 "}]
[123,{"$nulls":25},{"v":0,"d":"0 "},{"$nulls":4},{"v":0,"d":"0.00"},null,null,{"v":0,"d":"0 "},{"$nulls":7},{"v":0,"d":"0 "},{"$nulls":4},{"v":0,"d":"0.00"},null,null,{"v":0,"d":"0 "},{"$nulls":27},{"v":0,"d":"0.0"},{"$nulls":3},{"v":0,"d":"0.0"},null,null,{"v":0,"d":"0 "},{"$nulls":5},{"v":0,"d":"0 "}]
[124,{"$nulls":25},{"v":0,"d":"0 "},{"$nulls":4},{"v":0,"d":"0.00"},null,null,{"v":0,"d":"0 "},{"$nulls":7},{"v":0,"d":"0 "},{"$nulls":4},{"v":0,"d":"0.00"},null,null,{"v":0,"d":"0 "},{"$nulls":27},{"v":0,"d":"0.0"},{"$nulls":3},{"v":0,"d":"0.0"},null,null,{"v":0,"d":"0 "},{"$nulls":5},{"v":0,"d":"0 "}]
[125,{"$nulls":25},{"v":0,"d":"0 "},{"$nulls":4},{"v":0,"d":"0.00"},null,null,{"v":0,"d":"0 "},{"$nulls":7},{"v":0,"d":"0 "},{"$nulls":4},{"v":0,"d":"0.00"},null,null,{"v":0,"d":"0 "},{"$nulls":27},{"v":0,"d":"0.0"},{"$nulls":3},{"v":0,"d":"0.0"},null,null,{"v":0,"d":"0 "},{"$nulls":5},{"v":0,"d":"0 "}]
[126,{"$nulls":25},{"v":0,"d":"0 "},{"$nulls":4},{"v":0,"d":"0.00"},null,null,{"v":0,"d":"0 "},{"$nulls":7},{"v":0,"d":"0 "},{"$nulls":4},{"v":0,"d":"0.00"},null,null,{"v":0,"d":"0 "},{"$nulls":27},{"v":0,"d":"0.0"},{"$nulls":3},{"v":0,"d":"0.0"},null,null,{"v":0,"d":"0 "},{"$nulls":5},{"v":0,"d":"0 "}]
[127,{"$nulls":25},{"v":0,"d":"0 "},{"$nulls":4},{"v":0,"d":"0.00"},null,null,{"v":0,"d":"0 "},{"$nulls":7},{"v":0,"d":"0 "},{"$nulls":4},{"v":0,"d":"0.00"},null,null,{"v":0,"d":"0 "},{"$nulls":27},{"v":0,"d":"0.0"},{"$nulls":3},{"v":0,"d":"0.0"},null,null,{"v":0,"d":"0 "},{"$nulls":5},{"v":0,"d":"0 "}]
[128,{"$nulls":25},{"v":0,"d":"0 "},{"$nulls":4},{"v":0,"d":"0.00"},null,null,{"v":0,"d":"0 "},{"$nulls":7},{"v":0,"d":"0 "},{"$nulls":4},{"v":0,"d":"0.00"},null,null,{"v":0,"d":"0 "},{"$nulls":27},{"v":0,"d":"0.0"},{"$nulls":3},{"v":0,"d":"0.0"},null,null,{"v":0,"d":"0 "},{"$nulls":5},{"v":0,"d":"0 "}]
[129,{"$nulls":25},{"v":0,"d":"0 "},{"$nulls":4},{"v":0,"d":"0.00"},null,null,{"v":0,"d":"0 "},{"$nulls":7},{"v":0,"d":"0 "},{"$nulls":4},{"v":0,"d":"0.00"},null,null,{"v":0,"d":"0 "},{"$nulls":27},{"v":0,"d":"0.0"},{"$nulls":3},{"v":0,"d":"0.0"},null,null,{"$f":"AI139","v":{"v":0,"d":"0 "}},{"$nulls":5},{"v":0,"d":"0 "}]
[130,{"$nulls":25},{"v":0,"d":"0 "},{"$nulls":4},{"$f":"CF140","v":{"v":0,"d":"0.00"}},null,null,{"$f":"CO140","v":{"v":0,"d":"0 "}},{"$nulls":7},{"v":0,"d":"0 "},{"$nulls":4},{"v":0,"d":"0.00"},null,null,{"v":0,"d":"0 "},{"$nulls":27},{"$f":"AF140","v":{"v":0,"d":"0.0"}},{"$nulls":3},{"v":0,"d":"0.0"},null,null,{"v":0,"d":"0 "},{"$nulls":5},{"$f":"SUM(CH140:CI140)","v":{"v":0,"d":"0 "}}]
[131,{"$nulls":25},{"$f":"ROUND(T141*$W141,0)","v":{"v":0,"d":"0 "}},{"$nulls":4},{"v":0,"d":"0.00"},null,null,{"v":0,"d":"0 "},{"$nulls":7},{"$f":"ROUND(AN141*$W141,0)","v":{"v":0,"d":"0 "}},{"$nulls":4},{"$f":"T141-AF141-AN141","v":{"v":0,"d":"0.00"}},null,null,{"$f":"AA141-AI141-AQ141","v":{"v":0,"d":"0 "}},{"$nulls":27},{"v":0,"d":"0.0"},{"$nulls":3},{"v":0,"d":"0.0"},null,null,{"v":0,"d":"0 "},{"$nulls":5},{"v":0,"d":"0 "}]
[132,{"$nulls":25},{"$f":"ROUND(T142*$W142,0)","v":{"v":0,"d":"0 "}},{"$nulls":4},{"v":0,"d":"0.00"},null,null,{"v":0,"d":"0 "},{"$nulls":7},{"$f":"ROUND(AN142*$W142,0)","v":{"v":0,"d":"0 "}},{"$nulls":4},{"$f":"T142-AF142-AN142","v":{"v":0,"d":"0.00"}},null,null,{"$f":"AA142-AI142-AQ142","v":{"v":0,"d":"0 "}},{"$nulls":27},{"v":0,"d":"0.0"},{"$nulls":3},{"v":0,"d":"0.0"},null,null,{"v":0,"d":"0 "},{"$nulls":5},{"v":0,"d":"0 "}]
[133,{"$nulls":25},{"v":0,"d":"0 "},{"$nulls":4},{"v":0,"d":"0.00"},null,null,{"v":0,"d":"0 "},{"$nulls":7},{"v":0,"d":"0 "},{"$nulls":4},{"v":0,"d":"0.00"},null,null,{"v":0,"d":"0 "},{"$nulls":27},{"v":0,"d":"0.0"},{"$nulls":3},{"v":0,"d":"0.0"},null,null,{"v":0,"d":"0 "},{"$nulls":5},{"v":0,"d":"0 "}]
[134,{"$nulls":25},{"v":0,"d":"0 "},{"$nulls":4},{"v":0,"d":"0.00"},null,null,{"v":0,"d":"0 "},{"$nulls":7},{"v":0,"d":"0 "},{"$nulls":4},{"v":0,"d":"0.00"},null,null,{"v":0,"d":"0 "},{"$nulls":27},{"v":0,"d":"0.0"},{"$nulls":3},{"v":0,"d":"0.0"},null,null,{"v":0,"d":"0 "},{"$nulls":5},{"v":0,"d":"0 "}]
[135,{"$nulls":25},{"v":0,"d":"0 "},{"$nulls":4},{"v":0,"d":"0.00"},null,null,{"v":0,"d":"0 "},{"$nulls":7},{"v":0,"d":"0 "},{"$nulls":4},{"v":0,"d":"0.00"},null,null,{"v":0,"d":"0 "},{"$nulls":27},{"v":0,"d":"0.0"},{"$nulls":3},{"v":0,"d":"0.0"},null,null,{"v":0,"d":"0 "},{"$nulls":5},{"v":0,"d":"0 "}]
[136,{"$nulls":25},{"v":0,"d":"0 "},{"$nulls":4},{"v":0,"d":"0.00"},null,null,{"v":0,"d":"0 "},{"$nulls":7},{"v":0,"d":"0 "},{"$nulls":4},{"v":0,"d":"0.00"},null,null,{"v":0,"d":"0 "},{"$nulls":27},{"v":0,"d":"0.0"},{"$nulls":3},{"v":0,"d":"0.0"},null,null,{"v":0,"d":"0 "},{"$nulls":5},{"v":0,"d":"0 "}]
[137,{"$nulls":25},{"v":0,"d":"0 "},{"$nulls":4},{"v":0,"d":"0.00"},null,null,{"v":0,"d":"0 "},{"$nulls":7},{"v":0,"d":"0 "},{"$nulls":4},{"v":0,"d":"0.00"},null,null,{"v":0,"d":"0 "},{"$nulls":27},{"v":0,"d":"0.0"},{"$nulls":3},{"v":0,"d":"0.0"},null,null,{"v":0,"d":"0 "},{"$nulls":5},{"v":0,"d":"0 "}]
[138,{"$nulls":25},{"v":0,"d":"0 "},{"$nulls":4},{"v":0,"d":"0.00"},null,null,{"v":0,"d":"0 "},{"$nulls":7},{"v":0,"d":"0 "},{"$nulls":4},{"v":0,"d":"0.00"},null,null,{"v":0,"d":"0 "},{"$nulls":27},{"v":0,"d":"0.0"},{"$nulls":3},{"v":0,"d":"0.0"},null,null,{"v":0,"d":"0 "},{"$nulls":5},{"v":0,"d":"0 "}]
[139,{"$nulls":25},{"v":0,"d":"0 "},{"$nulls":4},{"v":0,"d":"0.00"},null,null,{"v":0,"d":"0 "},{"$nulls":7},{"v":0,"d":"0 "},{"$nulls":4},{"v":0,"d":"0.00"},null,null,{"v":0,"d":"0 "},{"$nulls":27},{"v":0,"d":"0.0"},{"$nulls":3},{"v":0,"d":"0.0"},null,null,{"v":0,"d":"0 "},{"$nulls":5},{"v":0,"d":"0 "}]
[140,{"$nulls":25},{"v":0,"d":"0 "},{"$nulls":4},{"v":0,"d":"0.00"},null,null,{"v":0,"d":"0 "},{"$nulls":7},{"v":0,"d":"0 "},{"$nulls":4},{"v":0,"d":"0.00"},null,null,{"v":0,"d":"0 "},{"$nulls":27},{"v":0,"d":"0.0"},{"$nulls":3},{"v":0,"d":"0.0"},null,null,{"v":0,"d":"0 "},{"$nulls":5},{"v":0,"d":"0 "}]
[141,{"$nulls":25},{"$f":"ROUND(T151*$W151,0)","v":{"v":0,"d":"0 "}},{"$nulls":4},{"v":0,"d":"0.00"},null,null,{"v":0,"d":"0 "},{"$nulls":7},{"$f":"ROUND(AN151*$W151,0)","v":{"v":0,"d":"0 "}},{"$nulls":4},{"$f":"T151-AF151-AN151","v":{"v":0,"d":"0.00"}},null,null,{"$f":"AA151-AI151-AQ151","v":{"v":0,"d":"0 "}},{"$nulls":27},{"v":0,"d":"0.0"},{"$nulls":3},{"v":0,"d":"0.0"},null,null,{"v":0,"d":"0 "},{"$nulls":5},{"v":0,"d":"0 "}]
[142,{"$nulls":25},{"$f":"ROUND(T152*$W152,0)","v":{"v":0,"d":"0 "}},{"$nulls":4},{"v":0,"d":"0.00"},null,null,{"v":0,"d":"0 "},{"$nulls":7},{"$f":"ROUND(AN152*$W152,0)","v":{"v":0,"d":"0 "}},{"$nulls":4},{"$f":"T152-AF152-AN152","v":{"v":0,"d":"0.00"}},null,null,{"$f":"AA152-AI152-AQ152","v":{"v":0,"d":"0 "}},{"$nulls":27},{"v":0,"d":"0.0"},{"$nulls":3},{"$f":"SUM(CA152:CB152)","v":{"v":0,"d":"0.0"}},null,null,{"v":0,"d":"0 "},{"$nulls":5},{"v":0,"d":"0 "}]
[143,{"$nulls":25},{"v":0,"d":"0 "},{"$nulls":4},{"v":0,"d":"0.00"},null,null,{"v":0,"d":"0 "},{"$nulls":7},{"v":0,"d":"0 "},{"$nulls":4},{"v":0,"d":"0.00"},null,null,{"v":0,"d":"0 "},{"$nulls":27},{"v":0,"d":"0.0"},{"$nulls":3},{"v":0,"d":"0.0"},null,null,{"v":0,"d":"0 "},{"$nulls":5},{"v":0,"d":"0 "}]
[144,{"$nulls":25},{"v":0,"d":"0 "},{"$nulls":4},{"v":0,"d":"0.00"},null,null,{"v":0,"d":"0 "},{"$nulls":7},{"v":0,"d":"0 "},{"$nulls":4},{"v":0,"d":"0.00"},null,null,{"v":0,"d":"0 "},{"$nulls":27},{"v":0,"d":"0.0"},{"$nulls":3},{"v":0,"d":"0.0"},null,null,{"v":0,"d":"0 "},{"$nulls":5},{"v":0,"d":"0 "}]
[145,{"$nulls":25},{"v":0,"d":"0 "},{"$nulls":4},{"v":0,"d":"0.00"},null,null,{"v":0,"d":"0 "},{"$nulls":7},{"v":0,"d":"0 "},{"$nulls":4},{"v":0,"d":"0.00"},null,null,{"v":0,"d":"0 "},{"$nulls":27},{"v":0,"d":"0.0"},{"$nulls":3},{"v":0,"d":"0.0"},null,null,{"v":0,"d":"0 "},{"$nulls":5},{"v":0,"d":"0 "}]
[146,{"$nulls":25},{"v":0,"d":"0 "},{"$nulls":4},{"v":0,"d":"0.00"},null,null,{"v":0,"d":"0 "},{"$nulls":7},{"v":0,"d":"0 "},{"$nulls":4},{"v":0,"d":"0.00"},null,null,{"v":0,"d":"0 "},{"$nulls":27},{"v":0,"d":"0.0"},{"$nulls":3},{"v":0,"d":"0.0"},null,null,{"v":0,"d":"0 "},{"$nulls":5},{"v":0,"d":"0 "}]
[147,{"$nulls":25},{"v":0,"d":"0 "},{"$nulls":4},{"v":0,"d":"0.00"},null,null,{"v":0,"d":"0 "},{"$nulls":7},{"v":0,"d":"0 "},{"$nulls":4},{"v":0,"d":"0.00"},null,null,{"v":0,"d":"0 "},{"$nulls":27},{"v":0,"d":"0.0"},{"$nulls":3},{"v":0,"d":"0.0"},null,null,{"v":0,"d":"0 "},{"$nulls":5},{"v":0,"d":"0 "}]
[148,{"$nulls":25},{"v":0,"d":"0 "},{"$nulls":4},{"v":0,"d":"0.00"},null,null,{"v":0,"d":"0 "},{"$nulls":7},{"v":0,"d":"0 "},{"$nulls":4},{"v":0,"d":"0.00"},null,null,{"v":0,"d":"0 "},{"$nulls":27},{"v":0,"d":"0.0"},{"$nulls":3},{"v":0,"d":"0.0"},null,null,{"v":0,"d":"0 "},{"$nulls":5},{"v":0,"d":"0 "}]
[149,{"$nulls":25},{"v":0,"d":"0 "},{"$nulls":4},{"v":0,"d":"0.00"},null,null,{"v":0,"d":"0 "},{"$nulls":7},{"v":0,"d":"0 "},{"$nulls":4},{"v":0,"d":"0.00"},null,null,{"v":0,"d":"0 "},{"$nulls":27},{"v":0,"d":"0.0"},{"$nulls":3},{"v":0,"d":"0.0"},null,null,{"v":0,"d":"0 "},{"$nulls":5},{"v":0,"d":"0 "}]
[150,{"$nulls":25},{"v":0,"d":"0 "},{"$nulls":4},{"v":0,"d":"0.00"},null,null,{"v":0,"d":"0 "},{"$nulls":7},{"v":0,"d":"0 "},{"$nulls":4},{"v":0,"d":"0.00"},null,null,{"v":0,"d":"0 "},{"$nulls":27},{"v":0,"d":"0.0"},{"$nulls":3},{"v":0,"d":"0.0"},null,null,{"v":0,"d":"0 "},{"$nulls":5},{"v":0,"d":"0 "}]
[151,{"$nulls":25},{"$f":"ROUND(T161*$W161,0)","v":{"v":0,"d":"0 "}},{"$nulls":4},{"v":0,"d":"0.00"},null,null,{"v":0,"d":"0 "},{"$nulls":7},{"$f":"ROUND(AN161*$W161,0)","v":{"v":0,"d":"0 "}},{"$nulls":4},{"$f":"T161-AF161-AN161","v":{"v":0,"d":"0.00"}},null,null,{"$f":"AA161-AI161-AQ161","v":{"v":0,"d":"0 "}},{"$nulls":27},{"v":0,"d":"0.0"},{"$nulls":3},{"v":0,"d":"0.0"},null,null,{"v":0,"d":"0 "},{"$nulls":5},{"v":0,"d":"0 "}]
[152,{"$nulls":25},{"$f":"ROUND(T162*$W162,0)","v":{"v":0,"d":"0 "}},{"$nulls":4},{"v":0,"d":"0.00"},null,null,{"v":0,"d":"0 "},{"$nulls":7},{"$f":"ROUND(AN162*$W162,0)","v":{"v":0,"d":"0 "}},{"$nulls":4},{"$f":"T162-AF162-AN162","v":{"v":0,"d":"0.00"}},null,null,{"$f":"AA162-AI162-AQ162","v":{"v":0,"d":"0 "}},{"$nulls":27},{"v":0,"d":"0.0"},{"$nulls":3},{"v":0,"d":"0.0"},null,null,{"v":0,"d":"0 "},{"$nulls":5},{"v":0,"d":"0 "}]
[153,{"$nulls":25},{"v":0,"d":"0 "},{"$nulls":4},{"v":0,"d":"0.00"},null,null,{"v":0,"d":"0 "},{"$nulls":7},{"v":0,"d":"0 "},{"$nulls":4},{"v":0,"d":"0.00"},null,null,{"v":0,"d":"0 "},{"$nulls":27},{"v":0,"d":"0.0"},{"$nulls":3},{"v":0,"d":"0.0"},null,null,{"v":0,"d":"0 "},{"$nulls":5},{"v":0,"d":"0 "}]
[154,{"$nulls":25},{"v":0,"d":"0 "},{"$nulls":4},{"v":0,"d":"0.00"},null,null,{"v":0,"d":"0 "},{"$nulls":7},{"v":0,"d":"0 "},{"$nulls":4},{"v":0,"d":"0.00"},null,null,{"v":0,"d":"0 "},{"$nulls":27},{"v":0,"d":"0.0"},{"$nulls":3},{"v":0,"d":"0.0"},null,null,{"v":0,"d":"0 "},{"$nulls":5},{"v":0,"d":"0 "}]
[155,{"$nulls":25},{"v":0,"d":"0 "},{"$nulls":4},{"v":0,"d":"0.00"},null,null,{"v":0,"d":"0 "},{"$nulls":7},{"v":0,"d":"0 "},{"$nulls":4},{"v":0,"d":"0.00"},null,null,{"v":0,"d":"0 "},{"$nulls":27},{"v":0,"d":"0.0"},{"$nulls":3},{"v":0,"d":"0.0"},null,null,{"v":0,"d":"0 "},{"$nulls":5},{"v":0,"d":"0 "}]
[156,{"$nulls":25},{"v":0,"d":"0 "},{"$nulls":4},{"v":0,"d":"0.00"},null,null,{"v":0,"d":"0 "},{"$nulls":7},{"v":0,"d":"0 "},{"$nulls":4},{"v":0,"d":"0.00"},null,null,{"v":0,"d":"0 "},{"$nulls":27},{"v":0,"d":"0.0"},{"$nulls":3},{"v":0,"d":"0.0"},null,null,{"v":0,"d":"0 "},{"$nulls":5},{"v":0,"d":"0 "}]
[157,{"$nulls":25},{"v":0,"d":"0 "},{"$nulls":4},{"v":0,"d":"0.00"},null,null,{"v":0,"d":"0 "},{"$nulls":7},{"v":0,"d":"0 "},{"$nulls":4},{"v":0,"d":"0.00"},null,null,{"v":0,"d":"0 "},{"$nulls":27},{"v":0,"d":"0.0"},{"$nulls":3},{"v":0,"d":"0.0"},null,null,{"v":0,"d":"0 "},{"$nulls":5},{"v":0,"d":"0 "}]
[158,{"$nulls":25},{"v":0,"d":"0 "},{"$nulls":4},{"v":0,"d":"0.00"},null,null,{"v":0,"d":"0 "},{"$nulls":7},{"v":0,"d":"0 "},{"$nulls":4},{"v":0,"d":"0.00"},null,null,{"v":0,"d":"0 "},{"$nulls":27},{"v":0,"d":"0.0"},{"$nulls":3},{"v":0,"d":"0.0"},null,null,{"v":0,"d":"0 "},{"$nulls":5},{"v":0,"d":"0 "}]
[159,{"$nulls":25},{"v":0,"d":"0 "},{"$nulls":4},{"v":0,"d":"0.00"},null,null,{"v":0,"d":"0 "},{"$nulls":7},{"v":0,"d":"0 "},{"$nulls":4},{"v":0,"d":"0.00"},null,null,{"v":0,"d":"0 "},{"$nulls":27},{"v":0,"d":"0.0"},{"$nulls":3},{"v":0,"d":"0.0"},null,null,{"v":0,"d":"0 "},{"$nulls":5},{"v":0,"d":"0 "}]
[160,{"$nulls":25},{"v":0,"d":"0 "},{"$nulls":4},{"v":0,"d":"0.00"},null,null,{"v":0,"d":"0 "},{"$nulls":7},{"v":0,"d":"0 "},{"$nulls":4},{"v":0,"d":"0.00"},null,null,{"v":0,"d":"0 "},{"$nulls":27},{"v":0,"d":"0.0"},{"$nulls":3},{"v":0,"d":"0.0"},null,null,{"v":0,"d":"0 "},{"$nulls":5},{"v":0,"d":"0 "}]
[161,{"$nulls":25},{"$f":"ROUND(T171*$W171,0)","v":{"v":0,"d":"0 "}},{"$nulls":4},{"v":0,"d":"0.00"},null,null,{"v":0,"d":"0 "},{"$nulls":7},{"$f":"ROUND(AN171*$W171,0)","v":{"v":0,"d":"0 "}},{"$nulls":4},{"$f":"T171-AF171-AN171","v":{"v":0,"d":"0.00"}},null,null,{"$f":"AA171-AI171-AQ171","v":{"v":0,"d":"0 "}},{"$nulls":27},{"v":0,"d":"0.0"},{"$nulls":3},{"v":0,"d":"0.0"},null,null,{"v":0,"d":"0 "},{"$nulls":5},{"v":0,"d":"0 "}]
[162,{"$nulls":25},{"$f":"ROUND(T172*$W172,0)","v":{"v":0,"d":"0 "}},{"$nulls":4},{"v":0,"d":"0.00"},null,null,{"v":0,"d":"0 "},{"$nulls":7},{"$f":"ROUND(AN172*$W172,0)","v":{"v":0,"d":"0 "}},{"$nulls":4},{"$f":"T172-AF172-AN172","v":{"v":0,"d":"0.00"}},null,null,{"$f":"AA172-AI172-AQ172","v":{"v":0,"d":"0 "}},{"$nulls":27},{"v":0,"d":"0.0"},{"$nulls":3},{"v":0,"d":"0.0"},null,null,{"v":0,"d":"0 "},{"$nulls":5},{"v":0,"d":"0 "}]
[163,{"$nulls":25},{"v":0,"d":"0 "},{"$nulls":4},{"v":0,"d":"0.00"},null,null,{"v":0,"d":"0 "},{"$nulls":7},{"v":0,"d":"0 "},{"$nulls":4},{"v":0,"d":"0.00"},null,null,{"v":0,"d":"0 "},{"$nulls":27},{"v":0,"d":"0.0"},{"$nulls":3},{"v":0,"d":"0.0"},null,null,{"v":0,"d":"0 "},{"$nulls":5},{"v":0,"d":"0 "}]
[164,{"$nulls":25},{"v":0,"d":"0 "},{"$nulls":4},{"v":0,"d":"0.00"},null,null,{"v":0,"d":"0 "},{"$nulls":7},{"v":0,"d":"0 "},{"$nulls":4},{"v":0,"d":"0.00"},null,null,{"v":0,"d":"0 "},{"$nulls":27},{"v":0,"d":"0.0"},{"$nulls":3},{"v":0,"d":"0.0"},null,null,{"v":0,"d":"0 "},{"$nulls":5},{"v":0,"d":"0 "}]
[165,{"$nulls":25},{"v":0,"d":"0 "},{"$nulls":4},{"v":0,"d":"0.00"},null,null,{"v":0,"d":"0 "},{"$nulls":7},{"v":0,"d":"0 "},{"$nulls":4},{"v":0,"d":"0.00"},null,null,{"v":0,"d":"0 "},{"$nulls":27},{"v":0,"d":"0.0"},{"$nulls":3},{"v":0,"d":"0.0"},null,null,{"v":0,"d":"0 "},{"$nulls":5},{"v":0,"d":"0 "}]
[166,{"$nulls":25},{"v":0,"d":"0 "},{"$nulls":4},{"v":0,"d":"0.00"},null,null,{"v":0,"d":"0 "},{"$nulls":7},{"v":0,"d":"0 "},{"$nulls":4},{"v":0,"d":"0.00"},null,null,{"v":0,"d":"0 "},{"$nulls":27},{"v":0,"d":"0.0"},{"$nulls":3},{"v":0,"d":"0.0"},null,null,{"v":0,"d":"0 "},{"$nulls":5},{"v":0,"d":"0 "}]
[167,{"$nulls":25},{"v":0,"d":"0 "},{"$nulls":4},{"v":0,"d":"0.00"},null,null,{"v":0,"d":"0 "},{"$nulls":7},{"v":0,"d":"0 "},{"$nulls":4},{"v":0,"d":"0.00"},null,null,{"v":0,"d":"0 "},{"$nulls":27},{"v":0,"d":"0.0"},{"$nulls":3},{"v":0,"d":"0.0"},null,null,{"v":0,"d":"0 "},{"$nulls":5},{"v":0,"d":"0 "}]
[168,{"$nulls":25},{"v":0,"d":"0 "},{"$nulls":4},{"v":0,"d":"0.00"},null,null,{"v":0,"d":"0 "},{"$nulls":7},{"v":0,"d":"0 "},{"$nulls":4},{"v":0,"d":"0.00"},null,null,{"v":0,"d":"0 "},{"$nulls":27},{"v":0,"d":"0.0"},{"$nulls":3},{"v":0,"d":"0.0"},null,null,{"v":0,"d":"0 "},{"$nulls":5},{"v":0,"d":"0 "}]
[169,{"$nulls":25},{"v":0,"d":"0 "},{"$nulls":4},{"v":0,"d":"0.00"},null,null,{"v":0,"d":"0 "},{"$nulls":7},{"v":0,"d":"0 "},{"$nulls":4},{"v":0,"d":"0.00"},null,null,{"v":0,"d":"0 "},{"$nulls":27},{"v":0,"d":"0.0"},{"$nulls":3},{"v":0,"d":"0.0"},null,null,{"v":0,"d":"0 "},{"$nulls":5},{"v":0,"d":"0 "}]
[170,{"$nulls":25},{"v":0,"d":"0 "},{"$nulls":4},{"v":0,"d":"0.00"},null,null,{"v":0,"d":"0 "},{"$nulls":7},{"v":0,"d":"0 "},{"$nulls":4},{"v":0,"d":"0.00"},null,null,{"v":0,"d":"0 "},{"$nulls":27},{"v":0,"d":"0.0"},{"$nulls":3},{"v":0,"d":"0.0"},null,null,{"v":0,"d":"0 "},{"$nulls":5},{"v":0,"d":"0 "}]
[171,{"$nulls":25},{"$f":"ROUND(T181*$W181,0)","v":{"v":0,"d":"0 "}},{"$nulls":4},{"v":0,"d":"0.00"},null,null,{"v":0,"d":"0 "},{"$nulls":7},{"$f":"ROUND(AN181*$W181,0)","v":{"v":0,"d":"0 "}},{"$nulls":4},{"$f":"T181-AF181-AN181","v":{"v":0,"d":"0.00"}},null,null,{"$f":"AA181-AI181-AQ181","v":{"v":0,"d":"0 "}},{"$nulls":27},{"v":0,"d":"0.0"},{"$nulls":3},{"v":0,"d":"0.0"},null,null,{"v":0,"d":"0 "},{"$nulls":5},{"v":0,"d":"0 "}]
[172,{"$nulls":25},{"$f":"ROUND(T182*$W182,0)","v":{"v":0,"d":"0 "}},{"$nulls":4},{"v":0,"d":"0.00"},null,null,{"v":0,"d":"0 "},{"$nulls":7},{"$f":"ROUND(AN182*$W182,0)","v":{"v":0,"d":"0 "}},{"$nulls":4},{"$f":"T182-AF182-AN182","v":{"v":0,"d":"0.00"}},null,null,{"$f":"AA182-AI182-AQ182","v":{"v":0,"d":"0 "}},{"$nulls":27},{"v":0,"d":"0.0"},{"$nulls":3},{"v":0,"d":"0.0"},null,null,{"v":0,"d":"0 "},{"$nulls":5},{"v":0,"d":"0 "}]
[173,{"$nulls":25},{"v":0,"d":"0 "},{"$nulls":4},{"v":0,"d":"0.00"},null,null,{"v":0,"d":"0 "},{"$nulls":7},{"v":0,"d":"0 "},{"$nulls":4},{"v":0,"d":"0.00"},null,null,{"v":0,"d":"0 "},{"$nulls":27},{"v":0,"d":"0.0"},{"$nulls":3},{"v":0,"d":"0.0"},null,null,{"v":0,"d":"0 "},{"$nulls":5},{"v":0,"d":"0 "}]
[174,{"$nulls":25},{"v":0,"d":"0 "},{"$nulls":4},{"v":0,"d":"0.00"},null,null,{"v":0,"d":"0 "},{"$nulls":7},{"v":0,"d":"0 "},{"$nulls":4},{"v":0,"d":"0.00"},null,null,{"v":0,"d":"0 "},{"$nulls":27},{"v":0,"d":"0.0"},{"$nulls":3},{"v":0,"d":"0.0"},null,null,{"v":0,"d":"0 "},{"$nulls":5},{"v":0,"d":"0 "}]
[175,{"$nulls":25},{"v":0,"d":"0 "},{"$nulls":4},{"v":0,"d":"0.00"},null,null,{"v":0,"d":"0 "},{"$nulls":7},{"v":0,"d":"0 "},{"$nulls":4},{"v":0,"d":"0.00"},null,null,{"v":0,"d":"0 "},{"$nulls":27},{"v":0,"d":"0.0"},{"$nulls":3},{"v":0,"d":"0.0"},null,null,{"v":0,"d":"0 "},{"$nulls":5},{"v":0,"d":"0 "}]
[176,{"$nulls":25},{"v":0,"d":"0 "},{"$nulls":4},{"v":0,"d":"0.00"},null,null,{"v":0,"d":"0 "},{"$nulls":7},{"v":0,"d":"0 "},{"$nulls":4},{"v":0,"d":"0.00"},null,null,{"v":0,"d":"0 "},{"$nulls":27},{"v":0,"d":"0.0"},{"$nulls":3},{"v":0,"d":"0.0"},null,null,{"v":0,"d":"0 "},{"$nulls":5},{"v":0,"d":"0 "}]
[177,{"$nulls":25},{"v":0,"d":"0 "},{"$nulls":4},{"v":0,"d":"0.00"},null,null,{"v":0,"d":"0 "},{"$nulls":7},{"v":0,"d":"0 "},{"$nulls":4},{"v":0,"d":"0.00"},null,null,{"v":0,"d":"0 "},{"$nulls":27},{"v":0,"d":"0.0"},{"$nulls":3},{"v":0,"d":"0.0"},null,null,{"v":0,"d":"0 "},{"$nulls":5},{"v":0,"d":"0 "}]
[178,{"$nulls":25},{"v":0,"d":"0 "},{"$nulls":4},{"v":0,"d":"0.00"},null,null,{"v":0,"d":"0 "},{"$nulls":7},{"v":0,"d":"0 "},{"$nulls":4},{"v":0,"d":"0.00"},null,null,{"v":0,"d":"0 "},{"$nulls":27},{"v":0,"d":"0.0"},{"$nulls":3},{"v":0,"d":"0.0"},null,null,{"v":0,"d":"0 "},{"$nulls":5},{"v":0,"d":"0 "}]
[179,{"$nulls":25},{"v":0,"d":"0 "},{"$nulls":4},{"v":0,"d":"0.00"},null,null,{"v":0,"d":"0 "},{"$nulls":7},{"v":0,"d":"0 "},{"$nulls":4},{"v":0,"d":"0.00"},null,null,{"v":0,"d":"0 "},{"$nulls":27},{"v":0,"d":"0.0"},{"$nulls":3},{"v":0,"d":"0.0"},null,null,{"v":0,"d":"0 "},{"$nulls":5},{"v":0,"d":"0 "}]
[180,{"$nulls":25},{"v":0,"d":"0 "},{"$nulls":4},{"v":0,"d":"0.00"},null,null,{"v":0,"d":"0 "},{"$nulls":7},{"v":0,"d":"0 "},{"$nulls":4},{"v":0,"d":"0.00"},null,null,{"v":0,"d":"0 "},{"$nulls":27},{"v":0,"d":"0.0"},{"$nulls":3},{"v":0,"d":"0.0"},null,null,{"v":0,"d":"0 "},{"$nulls":5},{"v":0,"d":"0 "}]
[181,{"$nulls":25},{"$f":"ROUND(T191*$W191,0)","v":{"v":0,"d":"0 "}},{"$nulls":4},{"v":0,"d":"0.00"},null,null,{"v":0,"d":"0 "},{"$nulls":7},{"$f":"ROUND(AN191*$W191,0)","v":{"v":0,"d":"0 "}},{"$nulls":4},{"$f":"T191-AF191-AN191","v":{"v":0,"d":"0.00"}},null,null,{"$f":"AA191-AI191-AQ191","v":{"v":0,"d":"0 "}},{"$nulls":27},{"v":0,"d":"0.0"},{"$nulls":3},{"v":0,"d":"0.0"},null,null,{"v":0,"d":"0 "},{"$nulls":5},{"v":0,"d":"0 "}]
[182,{"$nulls":25},{"$f":"ROUND(T192*$W192,0)","v":{"v":0,"d":"0 "}},{"$nulls":4},{"v":0,"d":"0.00"},null,null,{"v":0,"d":"0 "},{"$nulls":7},{"$f":"ROUND(AN192*$W192,0)","v":{"v":0,"d":"0 "}},{"$nulls":4},{"$f":"T192-AF192-AN192","v":{"v":0,"d":"0.00"}},null,null,{"$f":"AA192-AI192-AQ192","v":{"v":0,"d":"0 "}},{"$nulls":27},{"v":0,"d":"0.0"},{"$nulls":3},{"v":0,"d":"0.0"},null,null,{"v":0,"d":"0 "},{"$nulls":5},{"v":0,"d":"0 "}]
[183,{"$nulls":25},{"v":0,"d":"0 "},{"$nulls":4},{"v":0,"d":"0.00"},null,null,{"v":0,"d":"0 "},{"$nulls":7},{"v":0,"d":"0 "},{"$nulls":4},{"v":0,"d":"0.00"},null,null,{"v":0,"d":"0 "},{"$nulls":27},{"v":0,"d":"0.0"},{"$nulls":3},{"v":0,"d":"0.0"},null,null,{"v":0,"d":"0 "},{"$nulls":5},{"v":0,"d":"0 "}]
[184,{"$nulls":25},{"v":0,"d":"0 "},{"$nulls":4},{"v":0,"d":"0.00"},null,null,{"v":0,"d":"0 "},{"$nulls":7},{"v":0,"d":"0 "},{"$nulls":4},{"v":0,"d":"0.00"},null,null,{"v":0,"d":"0 "},{"$nulls":27},{"v":0,"d":"0.0"},{"$nulls":3},{"v":0,"d":"0.0"},null,null,{"v":0,"d":"0 "},{"$nulls":5},{"v":0,"d":"0 "}]
[185,{"$nulls":25},{"v":0,"d":"0 "},{"$nulls":4},{"v":0,"d":"0.00"},null,null,{"v":0,"d":"0 "},{"$nulls":7},{"v":0,"d":"0 "},{"$nulls":4},{"v":0,"d":"0.00"},null,null,{"v":0,"d":"0 "},{"$nulls":27},{"v":0,"d":"0.0"},{"$nulls":3},{"v":0,"d":"0.0"},null,null,{"v":0,"d":"0 "},{"$nulls":5},{"v":0,"d":"0 "}]
[186,{"$nulls":25},{"v":0,"d":"0 "},{"$nulls":4},{"v":0,"d":"0.00"},null,null,{"v":0,"d":"0 "},{"$nulls":7},{"v":0,"d":"0 "},{"$nulls":4},{"v":0,"d":"0.00"},null,null,{"v":0,"d":"0 "},{"$nulls":27},{"v":0,"d":"0.0"},{"$nulls":3},{"v":0,"d":"0.0"},null,null,{"v":0,"d":"0 "},{"$nulls":5},{"v":0,"d":"0 "}]
[187,{"$nulls":25},{"v":0,"d":"0 "},{"$nulls":4},{"v":0,"d":"0.00"},null,null,{"v":0,"d":"0 "},{"$nulls":7},{"v":0,"d":"0 "},{"$nulls":4},{"v":0,"d":"0.00"},null,null,{"v":0,"d":"0 "},{"$nulls":27},{"v":0,"d":"0.0"},{"$nulls":3},{"v":0,"d":"0.0"},null,null,{"v":0,"d":"0 "},{"$nulls":5},{"v":0,"d":"0 "}]
[188,{"$nulls":25},{"v":0,"d":"0 "},{"$nulls":4},{"v":0,"d":"0.00"},null,null,{"v":0,"d":"0 "},{"$nulls":7},{"v":0,"d":"0 "},{"$nulls":4},{"v":0,"d":"0.00"},null,null,{"v":0,"d":"0 "},{"$nulls":27},{"v":0,"d":"0.0"},{"$nulls":3},{"v":0,"d":"0.0"},null,null,{"v":0,"d":"0 "},{"$nulls":5},{"v":0,"d":"0 "}]
[189,{"$nulls":25},{"v":0,"d":"0 "},{"$nulls":4},{"v":0,"d":"0.00"},null,null,{"v":0,"d":"0 "},{"$nulls":7},{"v":0,"d":"0 "},{"$nulls":4},{"v":0,"d":"0.00"},null,null,{"v":0,"d":"0 "},{"$nulls":27},{"v":0,"d":"0.0"},{"$nulls":3},{"v":0,"d":"0.0"},null,null,{"v":0,"d":"0 "},{"$nulls":5},{"v":0,"d":"0 "}]
[190,{"$nulls":25},{"v":0,"d":"0 "},{"$nulls":4},{"v":0,"d":"0.00"},null,null,{"v":0,"d":"0 "},{"$nulls":7},{"v":0,"d":"0 "},{"$nulls":4},{"v":0,"d":"0.00"},null,null,{"v":0,"d":"0 "},{"$nulls":27},{"v":0,"d":"0.0"},{"$nulls":3},{"v":0,"d":"0.0"},null,null,{"v":0,"d":"0 "},{"$nulls":5},{"v":0,"d":"0 "}]
[191,{"$nulls":25},{"$f":"ROUND(T201*$W201,0)","v":{"v":0,"d":"0 "}},{"$nulls":4},{"v":0,"d":"0.00"},null,null,{"v":0,"d":"0 "},{"$nulls":7},{"$f":"ROUND(AN201*$W201,0)","v":{"v":0,"d":"0 "}},{"$nulls":4},{"$f":"T201-AF201-AN201","v":{"v":0,"d":"0.00"}},null,null,{"$f":"AA201-AI201-AQ201","v":{"v":0,"d":"0 "}},{"$nulls":27},{"v":0,"d":"0.0"},{"$nulls":3},{"v":0,"d":"0.0"},null,null,{"v":0,"d":"0 "},{"$nulls":5},{"v":0,"d":"0 "}]
[192,{"$nulls":25},{"$f":"ROUND(T202*$W202,0)","v":{"v":0,"d":"0 "}},{"$nulls":4},{"v":0,"d":"0.00"},null,null,{"v":0,"d":"0 "},{"$nulls":7},{"$f":"ROUND(AN202*$W202,0)","v":{"v":0,"d":"0 "}},{"$nulls":4},{"$f":"T202-AF202-AN202","v":{"v":0,"d":"0.00"}},null,null,{"$f":"AA202-AI202-AQ202","v":{"v":0,"d":"0 "}},{"$nulls":27},{"v":0,"d":"0.0"},{"$nulls":3},{"v":0,"d":"0.0"},null,null,{"v":0,"d":"0 "},{"$nulls":5},{"v":0,"d":"0 "}]
[193,{"$nulls":25},{"v":0,"d":"0 "},{"$nulls":4},{"v":0,"d":"0.00"},null,null,{"v":0,"d":"0 "},{"$nulls":7},{"v":0,"d":"0 "},{"$nulls":4},{"v":0,"d":"0.00"},null,null,{"v":0,"d":"0 "},{"$nulls":27},{"v":0,"d":"0.0"},{"$nulls":3},{"v":0,"d":"0.0"},null,null,{"$f":"AI203","v":{"v":0,"d":"0 "}},{"$nulls":5},{"v":0,"d":"0 "}]
[194,{"$nulls":25},{"v":0,"d":"0 "},{"$nulls":4},{"$f":"CF204","v":{"v":0,"d":"0.00"}},null,null,{"$f":"CO204","v":{"v":0,"d":"0 "}},{"$nulls":7},{"v":0,"d":"0 "},{"$nulls":4},{"v":0,"d":"0.00"},null,null,{"v":0,"d":"0 "},{"$nulls":27},{"$f":"AF204","v":{"v":0,"d":"0.0"}},{"$nulls":3},{"v":0,"d":"0.0"},null,null,{"v":0,"d":"0 "},{"$nulls":5},{"$f":"SUM(CH204:CI204)","v":{"v":0,"d":"0 "}}]
[195,{"$nulls":25},{"v":0,"d":"0 "},{"$nulls":4},{"v":0,"d":"0.00"},null,null,{"v":0,"d":"0 "},{"$nulls":7},{"v":0,"d":"0 "},{"$nulls":4},{"v":0,"d":"0.00"},null,null,{"v":0,"d":"0 "},{"$nulls":27},{"v":0,"d":"0.0"},{"$nulls":3},{"v":0,"d":"0.0"},null,null,{"v":0,"d":"0 "},{"$nulls":5},{"v":0,"d":"0 "}]
[196,{"$nulls":25},{"v":0,"d":"0 "},{"$nulls":4},{"v":0,"d":"0.00"},null,null,{"v":0,"d":"0 "},{"$nulls":7},{"v":0,"d":"0 "},{"$nulls":4},{"v":0,"d":"0.00"},null,null,{"v":0,"d":"0 "},{"$nulls":27},{"v":0,"d":"0.0"},{"$nulls":3},{"v":0,"d":"0.0"},null,null,{"v":0,"d":"0 "},{"$nulls":5},{"v":0,"d":"0 "}]
[197,{"$nulls":25},{"v":0,"d":"0 "},{"$nulls":4},{"v":0,"d":"0.00"},null,null,{"v":0,"d":"0 "},{"$nulls":7},{"v":0,"d":"0 "},{"$nulls":4},{"v":0,"d":"0.00"},null,null,{"v":0,"d":"0 "},{"$nulls":27},{"v":0,"d":"0.0"},{"$nulls":3},{"v":0,"d":"0.0"},null,null,{"v":0,"d":"0 "},{"$nulls":5},{"v":0,"d":"0 "}]
[198,{"$nulls":25},{"v":0,"d":"0 "},{"$nulls":4},{"v":0,"d":"0.00"},null,null,{"v":0,"d":"0 "},{"$nulls":7},{"v":0,"d":"0 "},{"$nulls":4},{"v":0,"d":"0.00"},null,null,{"v":0,"d":"0 "},{"$nulls":27},{"v":0,"d":"0.0"},{"$nulls":3},{"v":0,"d":"0.0"},null,null,{"v":0,"d":"0 "},{"$nulls":5},{"v":0,"d":"0 "}]
[199,{"$nulls":25},{"v":0,"d":"0 "},{"$nulls":4},{"v":0,"d":"0.00"},null,null,{"v":0,"d":"0 "},{"$nulls":7},{"v":0,"d":"0 "},{"$nulls":4},{"v":0,"d":"0.00"},null,null,{"v":0,"d":"0 "},{"$nulls":27},{"v":0,"d":"0.0"},{"$nulls":3},{"v":0,"d":"0.0"},null,null,{"v":0,"d":"0 "},{"$nulls":5},{"v":0,"d":"0 "}]
[200,{"$nulls":25},{"v":0,"d":"0 "},{"$nulls":4},{"v":0,"d":"0.00"},null,null,{"v":0,"d":"0 "},{"$nulls":7},{"v":0,"d":"0 "},{"$nulls":4},{"v":0,"d":"0.00"},null,null,{"v":0,"d":"0 "},{"$nulls":27},{"v":0,"d":"0.0"},{"$nulls":3},{"v":0,"d":"0.0"},null,null,{"v":0,"d":"0 "},{"$nulls":5},{"v":0,"d":"0 "}]
[201,{"$nulls":25},{"$f":"ROUND(T211*$W211,0)","v":{"v":0,"d":"0 "}},{"$nulls":4},{"$f":"CF211","v":{"v":0,"d":"0.00"}},null,null,{"v":0,"d":"0 "},{"$nulls":7},{"$f":"ROUND(AN211*$W211,0)","v":{"v":0,"d":"0 "}},{"$nulls":4},{"$f":"T211-AF211-AN211","v":{"v":0,"d":"0.00"}},null,null,{"$f":"AA211-AI211-AQ211","v":{"v":0,"d":"0 "}},{"$nulls":27},{"v":0,"d":"0.0"},{"$nulls":3},{"v":0,"d":"0.0"},null,null,{"v":0,"d":"0 "},{"$nulls":5},{"v":0,"d":"0 "}]
[202,{"$nulls":25},{"$f":"ROUND(T212*$W212,0)","v":{"v":0,"d":"0 "}},{"$nulls":4},{"v":0,"d":"0.00"},null,null,{"v":0,"d":"0 "},{"$nulls":7},{"v":0,"d":"0 "},{"$nulls":4},{"v":0,"d":"0.00"},null,null,{"v":0,"d":"0 "},{"$nulls":27},{"v":0,"d":"0.0"},{"$nulls":3},{"v":0,"d":"0.0"},null,null,{"v":0,"d":"0 "},{"$nulls":5},{"v":0,"d":"0 "}]
[203,{"$nulls":25},{"$f":"ROUND(T213*$W213,0)","v":{"v":0,"d":"0 "}},{"$nulls":4},{"v":0,"d":"0.00"},null,null,{"v":0,"d":"0 "},{"$nulls":7},{"v":0,"d":"0 "},{"$nulls":4},{"v":0,"d":"0.00"},null,null,{"v":0,"d":"0 "},{"$nulls":27},{"$f":"AF213","v":{"v":0,"d":"0.0"}},{"$nulls":3},{"v":0,"d":"0.0"},null,null,{"v":0,"d":"0 "},{"$nulls":5},{"v":0,"d":"0 "}]
[204,{"$nulls":25},{"$f":"ROUND(T214*$W214,0)","v":{"v":0,"d":"0 "}},{"$nulls":4},{"v":0,"d":"0.00"},null,null,{"v":0,"d":"0 "},{"$nulls":7},{"v":0,"d":"0 "},{"$nulls":4},{"v":0,"d":"0.00"},null,null,{"v":0,"d":"0 "},{"$nulls":27},{"v":0,"d":"0.0"},{"$nulls":3},{"v":0,"d":"0.0"},null,null,{"v":0,"d":"0 "},{"$nulls":5},{"v":0,"d":"0 "}]
[205,{"$nulls":25},{"$f":"ROUND(T215*$W215,0)","v":{"v":0,"d":"0 "}},{"$nulls":4},{"v":0,"d":"0.00"},null,null,{"v":0,"d":"0 "},{"$nulls":7},{"v":0,"d":"0 "},{"$nulls":4},{"v":0,"d":"0.00"},null,null,{"v":0,"d":"0 "},{"$nulls":27},{"v":0,"d":"0.0"},{"$nulls":3},{"v":0,"d":"0.0"},null,null,{"v":0,"d":"0 "},{"$nulls":5},{"v":0,"d":"0 "}]
[206,{"$nulls":25},{"$f":"ROUND(T216*$W216,0)","v":{"v":0,"d":"0 "}},{"$nulls":4},{"v":0,"d":"0.00"},null,null,{"v":0,"d":"0 "},{"$nulls":7},{"v":0,"d":"0 "},{"$nulls":4},{"v":0,"d":"0.00"},null,null,{"v":0,"d":"0 "},{"$nulls":27},{"v":0,"d":"0.0"},{"$nulls":3},{"$f":"SUM(CA216:CB216)","v":{"v":0,"d":"0.0"}},null,null,{"v":0,"d":"0 "},{"$nulls":5},{"v":0,"d":"0 "}]
[207,{"$nulls":25},{"v":0,"d":"0 "},{"$nulls":4},{"v":0,"d":"0.00"},null,null,{"v":0,"d":"0 "},{"$nulls":7},{"v":0,"d":"0 "},{"$nulls":4},{"v":0,"d":"0.00"},null,null,{"v":0,"d":"0 "},{"$nulls":27},{"v":0,"d":"0.0"},{"$nulls":3},{"v":0,"d":"0.0"},null,null,{"v":0,"d":"0 "},{"$nulls":5},{"v":0,"d":"0 "}]
[208,{"$nulls":25},{"v":0,"d":"0 "},{"$nulls":4},{"v":0,"d":"0.00"},null,null,{"v":0,"d":"0 "},{"$nulls":7},{"v":0,"d":"0 "},{"$nulls":4},{"v":0,"d":"0.00"},null,null,{"v":0,"d":"0 "},{"$nulls":27},{"v":0,"d":"0.0"},{"$nulls":3},{"v":0,"d":"0.0"},null,null,{"v":0,"d":"0 "},{"$nulls":5},{"v":0,"d":"0 "}]
[209,{"$nulls":25},{"v":0,"d":"0 "},{"$nulls":4},{"v":0,"d":"0.00"},null,null,{"v":0,"d":"0 "},{"$nulls":7},{"v":0,"d":"0 "},{"$nulls":4},{"v":0,"d":"0.00"},null,null,{"v":0,"d":"0 "},{"$nulls":27},{"v":0,"d":"0.0"},{"$nulls":3},{"v":0,"d":"0.0"},null,null,{"v":0,"d":"0 "},{"$nulls":5},{"v":0,"d":"0 "}]
[210,{"$nulls":25},{"v":0,"d":"0 "},{"$nulls":4},{"v":0,"d":"0.00"},null,null,{"v":0,"d":"0 "},{"$nulls":7},{"v":0,"d":"0 "},{"$nulls":4},{"v":0,"d":"0.00"},null,null,{"v":0,"d":"0 "},{"$nulls":27},{"v":0,"d":"0.0"},{"$nulls":3},{"v":0,"d":"0.0"},null,null,{"v":0,"d":"0 "},{"$nulls":5},{"v":0,"d":"0 "}]
[211,{"$nulls":25},{"v":0,"d":"0 "},{"$nulls":4},{"v":0,"d":"0.00"},null,null,{"v":0,"d":"0 "},{"$nulls":7},{"v":0,"d":"0 "},{"$nulls":4},{"v":0,"d":"0.00"},null,null,{"v":0,"d":"0 "},{"$nulls":27},{"v":0,"d":"0.0"},{"$nulls":3},{"v":0,"d":"0.0"},null,null,{"v":0,"d":"0 "},{"$nulls":5},{"v":0,"d":"0 "}]
[212,{"$nulls":25},{"v":0,"d":"0 "},{"$nulls":4},{"v":0,"d":"0.00"},null,null,{"v":0,"d":"0 "},{"$nulls":7},{"v":0,"d":"0 "},{"$nulls":4},{"v":0,"d":"0.00"},null,null,{"v":0,"d":"0 "},{"$nulls":27},{"v":0,"d":"0.0"},{"$nulls":3},{"v":0,"d":"0.0"},null,null,{"v":0,"d":"0 "},{"$nulls":5},{"v":0,"d":"0 "}]
[213,{"$nulls":25},{"v":0,"d":"0 "},{"$nulls":4},{"v":0,"d":"0.00"},null,null,{"v":0,"d":"0 "},{"$nulls":7},{"v":0,"d":"0 "},{"$nulls":4},{"v":0,"d":"0.00"},null,null,{"v":0,"d":"0 "},{"$nulls":27},{"v":0,"d":"0.0"},{"$nulls":3},{"v":0,"d":"0.0"},null,null,{"v":0,"d":"0 "},{"$nulls":5},{"v":0,"d":"0 "}]
[214,{"$nulls":25},{"v":0,"d":"0 "},{"$nulls":4},{"v":0,"d":"0.00"},null,null,{"v":0,"d":"0 "},{"$nulls":7},{"v":0,"d":"0 "},{"$nulls":4},{"v":0,"d":"0.00"},null,null,{"v":0,"d":"0 "},{"$nulls":27},{"v":0,"d":"0.0"},{"$nulls":3},{"v":0,"d":"0.0"},null,null,{"v":0,"d":"0 "},{"$nulls":5},{"v":0,"d":"0 "}]
[215,{"$nulls":25},{"v":0,"d":"0 "},{"$nulls":4},{"v":0,"d":"0.00"},null,null,{"v":0,"d":"0 "},{"$nulls":7},{"v":0,"d":"0 "},{"$nulls":4},{"v":0,"d":"0.00"},null,null,{"v":0,"d":"0 "},{"$nulls":27},{"v":0,"d":"0.0"},{"$nulls":3},{"v":0,"d":"0.0"},null,null,{"v":0,"d":"0 "},{"$nulls":5},{"v":0,"d":"0 "}]
[216,{"$nulls":25},{"v":0,"d":"0 "},{"$nulls":4},{"v":0,"d":"0.00"},null,null,{"v":0,"d":"0 "},{"$nulls":7},{"v":0,"d":"0 "},{"$nulls":4},{"v":0,"d":"0.00"},null,null,{"v":0,"d":"0 "},{"$nulls":27},{"v":0,"d":"0.0"},{"$nulls":3},{"v":0,"d":"0.0"},null,null,{"v":0,"d":"0 "},{"$nulls":5},{"v":0,"d":"0 "}]
[217,{"$nulls":25},{"v":0,"d":"0 "},{"$nulls":4},{"v":0,"d":"0.00"},null,null,{"v":0,"d":"0 "},{"$nulls":7},{"v":0,"d":"0 "},{"$nulls":4},{"v":0,"d":"0.00"},null,null,{"v":0,"d":"0 "},{"$nulls":27},{"v":0,"d":"0.0"},{"$nulls":3},{"v":0,"d":"0.0"},null,null,{"v":0,"d":"0 "},{"$nulls":5},{"v":0,"d":"0 "}]
[218,{"$nulls":25},{"v":0,"d":"0 "},{"$nulls":4},{"v":0,"d":"0.00"},null,null,{"v":0,"d":"0 "},{"$nulls":7},{"v":0,"d":"0 "},{"$nulls":4},{"v":0,"d":"0.00"},null,null,{"v":0,"d":"0 "},{"$nulls":27},{"v":0,"d":"0.0"},{"$nulls":3},{"v":0,"d":"0.0"},null,null,{"v":0,"d":"0 "},{"$nulls":5},{"v":0,"d":"0 "}]
[219,{"$nulls":25},{"v":0,"d":"0 "},{"$nulls":4},{"v":0,"d":"0.00"},null,null,{"v":0,"d":"0 "},{"$nulls":7},{"v":0,"d":"0 "},{"$nulls":4},{"v":0,"d":"0.00"},null,null,{"v":0,"d":"0 "},{"$nulls":27},{"v":0,"d":"0.0"},{"$nulls":3},{"v":0,"d":"0.0"},null,null,{"v":0,"d":"0 "},{"$nulls":5},{"v":0,"d":"0 "}]
[220,{"$nulls":25},{"v":0,"d":"0 "},{"$nulls":4},{"v":0,"d":"0.00"},null,null,{"v":0,"d":"0 "},{"$nulls":7},{"v":0,"d":"0 "},{"$nulls":4},{"v":0,"d":"0.00"},null,null,{"v":0,"d":"0 "},{"$nulls":27},{"v":0,"d":"0.0"},{"$nulls":3},{"v":0,"d":"0.0"},null,null,{"v":0,"d":"0 "},{"$nulls":5},{"v":0,"d":"0 "}]
[221,{"$nulls":25},{"v":0,"d":"0 "},{"$nulls":4},{"v":0,"d":"0.00"},null,null,{"v":0,"d":"0 "},{"$nulls":7},{"v":0,"d":"0 "},{"$nulls":4},{"v":0,"d":"0.00"},null,null,{"v":0,"d":"0 "},{"$nulls":27},{"v":0,"d":"0.0"},{"$nulls":3},{"v":0,"d":"0.0"},null,null,{"v":0,"d":"0 "},{"$nulls":5},{"v":0,"d":"0 "}]
[222,{"$nulls":25},{"v":0,"d":"0 "},{"$nulls":4},{"v":0,"d":"0.00"},null,null,{"v":0,"d":"0 "},{"$nulls":7},{"v":0,"d":"0 "},{"$nulls":4},{"v":0,"d":"0.00"},null,null,{"v":0,"d":"0 "},{"$nulls":27},{"v":0,"d":"0.0"},{"$nulls":3},{"v":0,"d":"0.0"},null,null,{"v":0,"d":"0 "},{"$nulls":5},{"v":0,"d":"0 "}]
[223,{"$nulls":25},{"v":0,"d":"0 "},{"$nulls":4},{"v":0,"d":"0.00"},null,null,{"v":0,"d":"0 "},{"$nulls":7},{"v":0,"d":"0 "},{"$nulls":4},{"v":0,"d":"0.00"},null,null,{"v":0,"d":"0 "},{"$nulls":27},{"v":0,"d":"0.0"},{"$nulls":3},{"v":0,"d":"0.0"},null,null,{"v":0,"d":"0 "},{"$nulls":5},{"v":0,"d":"0 "}]
[224,{"$nulls":25},{"v":0,"d":"0 "},{"$nulls":4},{"v":0,"d":"0.00"},null,null,{"v":0,"d":"0 "},{"$nulls":7},{"v":0,"d":"0 "},{"$nulls":4},{"v":0,"d":"0.00"},null,null,{"v":0,"d":"0 "},{"$nulls":27},{"v":0,"d":"0.0"},{"$nulls":3},{"v":0,"d":"0.0"},null,null,{"v":0,"d":"0 "},{"$nulls":5},{"v":0,"d":"0 "}]
[225,{"$nulls":25},{"v":0,"d":"0 "},{"$nulls":4},{"v":0,"d":"0.00"},null,null,{"v":0,"d":"0 "},{"$nulls":7},{"v":0,"d":"0 "},{"$nulls":4},{"v":0,"d":"0.00"},null,null,{"v":0,"d":"0 "},{"$nulls":27},{"v":0,"d":"0.0"},{"$nulls":3},{"v":0,"d":"0.0"},null,null,{"v":0,"d":"0 "},{"$nulls":5},{"v":0,"d":"0 "}]
[226,{"$nulls":25},{"v":0,"d":"0 "},{"$nulls":4},{"v":0,"d":"0.00"},null,null,{"v":0,"d":"0 "},{"$nulls":7},{"v":0,"d":"0 "},{"$nulls":4},{"v":0,"d":"0.00"},null,null,{"v":0,"d":"0 "},{"$nulls":27},{"v":0,"d":"0.0"},{"$nulls":3},{"v":0,"d":"0.0"},null,null,{"v":0,"d":"0 "},{"$nulls":5},{"v":0,"d":"0 "}]
[227,{"$nulls":25},{"v":0,"d":"0 "},{"$nulls":4},{"v":0,"d":"0.00"},null,null,{"v":0,"d":"0 "},{"$nulls":7},{"v":0,"d":"0 "},{"$nulls":4},{"v":0,"d":"0.00"},null,null,{"v":0,"d":"0 "},{"$nulls":27},{"v":0,"d":"0.0"},{"$nulls":3},{"v":0,"d":"0.0"},null,null,{"v":0,"d":"0 "},{"$nulls":5},{"v":0,"d":"0 "}]
[228,{"$nulls":25},{"v":0,"d":"0 "},{"$nulls":4},{"v":0,"d":"0.00"},null,null,{"v":0,"d":"0 "},{"$nulls":7},{"v":0,"d":"0 "},{"$nulls":4},{"v":0,"d":"0.00"},null,null,{"v":0,"d":"0 "},{"$nulls":27},{"v":0,"d":"0.0"},{"$nulls":3},{"v":0,"d":"0.0"},null,null,{"v":0,"d":"0 "},{"$nulls":5},{"v":0,"d":"0 "}]
[229,{"$nulls":25},{"v":0,"d":"0 "},{"$nulls":4},{"v":0,"d":"0.00"},null,null,{"v":0,"d":"0 "},{"$nulls":7},{"v":0,"d":"0 "},{"$nulls":4},{"v":0,"d":"0.00"},null,null,{"v":0,"d":"0 "},{"$nulls":27},{"v":0,"d":"0.0"},{"$nulls":3},{"v":0,"d":"0.0"},null,null,{"v":0,"d":"0 "},{"$nulls":5},{"v":0,"d":"0 "}]
[230,{"$nulls":25},{"v":0,"d":"0 "},{"$nulls":4},{"v":0,"d":"0.00"},null,null,{"v":0,"d":"0 "},{"$nulls":7},{"v":0,"d":"0 "},{"$nulls":4},{"v":0,"d":"0.00"},null,null,{"v":0,"d":"0 "},{"$nulls":27},{"v":0,"d":"0.0"},{"$nulls":3},{"v":0,"d":"0.0"},null,null,{"v":0,"d":"0 "},{"$nulls":5},{"v":0,"d":"0 "}]
[231,{"$nulls":25},{"v":0,"d":"0 "},{"$nulls":4},{"v":0,"d":"0.00"},null,null,{"v":0,"d":"0 "},{"$nulls":7},{"v":0,"d":"0 "},{"$nulls":4},{"v":0,"d":"0.00"},null,null,{"v":0,"d":"0 "},{"$nulls":27},{"v":0,"d":"0.0"},{"$nulls":3},{"v":0,"d":"0.0"},null,null,{"v":0,"d":"0 "},{"$nulls":5},{"v":0,"d":"0 "}]
[232,{"$nulls":25},{"v":0,"d":"0 "},{"$nulls":4},{"v":0,"d":"0.00"},null,null,{"v":0,"d":"0 "},{"$nulls":7},{"v":0,"d":"0 "},{"$nulls":4},{"v":0,"d":"0.00"},null,null,{"v":0,"d":"0 "},{"$nulls":27},{"v":0,"d":"0.0"},{"$nulls":3},{"v":0,"d":"0.0"},null,null,{"v":0,"d":"0 "},{"$nulls":5},{"v":0,"d":"0 "}]
[233,{"$nulls":25},{"v":0,"d":"0 "},{"$nulls":4},{"v":0,"d":"0.00"},null,null,{"v":0,"d":"0 "},{"$nulls":7},{"v":0,"d":"0 "},{"$nulls":4},{"v":0,"d":"0.00"},null,null,{"v":0,"d":"0 "},{"$nulls":27},{"v":0,"d":"0.0"},{"$nulls":3},{"v":0,"d":"0.0"},null,null,{"v":0,"d":"0 "},{"$nulls":5},{"v":0,"d":"0 "}]
[234,{"$nulls":25},{"v":0,"d":"0 "},{"$nulls":4},{"v":0,"d":"0.00"},null,null,{"v":0,"d":"0 "},{"$nulls":7},{"v":0,"d":"0 "},{"$nulls":4},{"v":0,"d":"0.00"},null,null,{"v":0,"d":"0 "},{"$nulls":27},{"v":0,"d":"0.0"},{"$nulls":3},{"v":0,"d":"0.0"},null,null,{"v":0,"d":"0 "},{"$nulls":5},{"v":0,"d":"0 "}]
[235,{"$nulls":25},{"v":0,"d":"0 "},{"$nulls":4},{"v":0,"d":"0.00"},null,null,{"v":0,"d":"0 "},{"$nulls":7},{"v":0,"d":"0 "},{"$nulls":4},{"v":0,"d":"0.00"},null,null,{"v":0,"d":"0 "},{"$nulls":27},{"v":0,"d":"0.0"},{"$nulls":3},{"v":0,"d":"0.0"},null,null,{"v":0,"d":"0 "},{"$nulls":5},{"v":0,"d":"0 "}]
[236,{"$nulls":25},{"v":0,"d":"0 "},{"$nulls":4},{"v":0,"d":"0.00"},null,null,{"v":0,"d":"0 "},{"$nulls":7},{"v":0,"d":"0 "},{"$nulls":4},{"v":0,"d":"0.00"},null,null,{"v":0,"d":"0 "},{"$nulls":27},{"v":0,"d":"0.0"},{"$nulls":3},{"v":0,"d":"0.0"},null,null,{"v":0,"d":"0 "},{"$nulls":5},{"v":0,"d":"0 "}]
[237,{"$nulls":25},{"v":0,"d":"0 "},{"$nulls":4},{"v":0,"d":"0.00"},null,null,{"v":0,"d":"0 "},{"$nulls":7},{"v":0,"d":"0 "},{"$nulls":4},{"v":0,"d":"0.00"},null,null,{"v":0,"d":"0 "},{"$nulls":27},{"v":0,"d":"0.0"},{"$nulls":3},{"v":0,"d":"0.0"},null,null,{"v":0,"d":"0 "},{"$nulls":5},{"v":0,"d":"0 "}]
[238,{"$nulls":25},{"v":0,"d":"0 "},{"$nulls":4},{"v":0,"d":"0.00"},null,null,{"v":0,"d":"0 "},{"$nulls":7},{"v":0,"d":"0 "},{"$nulls":4},{"v":0,"d":"0.00"},null,null,{"v":0,"d":"0 "},{"$nulls":27},{"v":0,"d":"0.0"},{"$nulls":3},{"v":0,"d":"0.0"},null,null,{"v":0,"d":"0 "},{"$nulls":5},{"v":0,"d":"0 "}]
[239,{"$nulls":25},{"v":0,"d":"0 "},{"$nulls":4},{"v":0,"d":"0.00"},null,null,{"v":0,"d":"0 "},{"$nulls":7},{"v":0,"d":"0 "},{"$nulls":4},{"v":0,"d":"0.00"},null,null,{"v":0,"d":"0 "},{"$nulls":27},{"v":0,"d":"0.0"},{"$nulls":3},{"v":0,"d":"0.0"},null,null,{"v":0,"d":"0 "},{"$nulls":5},{"v":0,"d":"0 "}]
[240,{"$nulls":25},{"v":0,"d":"0 "},{"$nulls":4},{"v":0,"d":"0.00"},null,null,{"v":0,"d":"0 "},{"$nulls":7},{"v":0,"d":"0 "},{"$nulls":4},{"v":0,"d":"0.00"},null,null,{"v":0,"d":"0 "},{"$nulls":27},{"v":0,"d":"0.0"},{"$nulls":3},{"v":0,"d":"0.0"},null,null,{"v":0,"d":"0 "},{"$nulls":5},{"v":0,"d":"0 "}]
[241,{"$nulls":25},{"v":0,"d":"0 "},{"$nulls":4},{"v":0,"d":"0.00"},null,null,{"v":0,"d":"0 "},{"$nulls":7},{"v":0,"d":"0 "},{"$nulls":4},{"v":0,"d":"0.00"},null,null,{"v":0,"d":"0 "},{"$nulls":27},{"v":0,"d":"0.0"},{"$nulls":3},{"v":0,"d":"0.0"},null,null,{"v":0,"d":"0 "},{"$nulls":5},{"v":0,"d":"0 "}]
[242,{"$nulls":25},{"v":0,"d":"0 "},{"$nulls":4},{"v":0,"d":"0.00"},null,null,{"v":0,"d":"0 "},{"$nulls":7},{"v":0,"d":"0 "},{"$nulls":4},{"v":0,"d":"0.00"},null,null,{"v":0,"d":"0 "},{"$nulls":27},{"v":0,"d":"0.0"},{"$nulls":3},{"v":0,"d":"0.0"},null,null,{"v":0,"d":"0 "},{"$nulls":5},{"v":0,"d":"0 "}]
[243,{"$nulls":25},{"v":0,"d":"0 "},{"$nulls":4},{"v":0,"d":"0.00"},null,null,{"v":0,"d":"0 "},{"$nulls":7},{"v":0,"d":"0 "},{"$nulls":4},{"v":0,"d":"0.00"},null,null,{"v":0,"d":"0 "},{"$nulls":27},{"v":0,"d":"0.0"},{"$nulls":3},{"v":0,"d":"0.0"},null,null,{"v":0,"d":"0 "},{"$nulls":5},{"v":0,"d":"0 "}]
[244,{"$nulls":25},{"v":0,"d":"0 "},{"$nulls":4},{"v":0,"d":"0.00"},null,null,{"v":0,"d":"0 "},{"$nulls":7},{"v":0,"d":"0 "},{"$nulls":4},{"v":0,"d":"0.00"},null,null,{"v":0,"d":"0 "},{"$nulls":27},{"v":0,"d":"0.0"},{"$nulls":3},{"v":0,"d":"0.0"},null,null,{"v":0,"d":"0 "},{"$nulls":5},{"v":0,"d":"0 "}]
[245,{"$nulls":25},{"v":0,"d":"0 "},{"$nulls":4},{"v":0,"d":"0.00"},null,null,{"v":0,"d":"0 "},{"$nulls":7},{"v":0,"d":"0 "},{"$nulls":4},{"v":0,"d":"0.00"},null,null,{"v":0,"d":"0 "},{"$nulls":27},{"v":0,"d":"0.0"},{"$nulls":3},{"v":0,"d":"0.0"},null,null,{"v":0,"d":"0 "},{"$nulls":5},{"v":0,"d":"0 "}]
[246,{"$nulls":25},{"v":0,"d":"0 "},{"$nulls":4},{"v":0,"d":"0.00"},null,null,{"v":0,"d":"0 "},{"$nulls":7},{"v":0,"d":"0 "},{"$nulls":4},{"v":0,"d":"0.00"},null,null,{"v":0,"d":"0 "},{"$nulls":27},{"v":0,"d":"0.0"},{"$nulls":3},{"v":0,"d":"0.0"},null,null,{"v":0,"d":"0 "},{"$nulls":5},{"v":0,"d":"0 "}]
[247,{"$nulls":25},{"v":0,"d":"0 "},{"$nulls":4},{"v":0,"d":"0.00"},null,null,{"v":0,"d":"0 "},{"$nulls":7},{"v":0,"d":"0 "},{"$nulls":4},{"v":0,"d":"0.00"},null,null,{"v":0,"d":"0 "},{"$nulls":27},{"v":0,"d":"0.0"},{"$nulls":3},{"v":0,"d":"0.0"},null,null,{"v":0,"d":"0 "},{"$nulls":5},{"v":0,"d":"0 "}]
[248,{"$nulls":25},{"v":0,"d":"0 "},{"$nulls":4},{"v":0,"d":"0.00"},null,null,{"v":0,"d":"0 "},{"$nulls":7},{"v":0,"d":"0 "},{"$nulls":4},{"v":0,"d":"0.00"},null,null,{"v":0,"d":"0 "},{"$nulls":27},{"v":0,"d":"0.0"},{"$nulls":3},{"v":0,"d":"0.0"},null,null,{"v":0,"d":"0 "},{"$nulls":5},{"v":0,"d":"0 "}]
[249,{"$nulls":25},{"v":0,"d":"0 "},{"$nulls":4},{"v":0,"d":"0.00"},null,null,{"v":0,"d":"0 "},{"$nulls":7},{"v":0,"d":"0 "},{"$nulls":4},{"v":0,"d":"0.00"},null,null,{"v":0,"d":"0 "},{"$nulls":27},{"v":0,"d":"0.0"},{"$nulls":3},{"v":0,"d":"0.0"},null,null,{"v":0,"d":"0 "},{"$nulls":5},{"v":0,"d":"0 "}]
[250,{"$nulls":25},{"v":0,"d":"0 "},{"$nulls":4},{"v":0,"d":"0.00"},null,null,{"v":0,"d":"0 "},{"$nulls":7},{"v":0,"d":"0 "},{"$nulls":4},{"v":0,"d":"0.00"},null,null,{"v":0,"d":"0 "},{"$nulls":27},{"v":0,"d":"0.0"},{"$nulls":3},{"v":0,"d":"0.0"},null,null,{"v":0,"d":"0 "},{"$nulls":5},{"v":0,"d":"0 "}]
[251,{"$nulls":25},{"v":0,"d":"0 "},{"$nulls":4},{"v":0,"d":"0.00"},null,null,{"v":0,"d":"0 "},{"$nulls":7},{"v":0,"d":"0 "},{"$nulls":4},{"v":0,"d":"0.00"},null,null,{"v":0,"d":"0 "},{"$nulls":27},{"v":0,"d":"0.0"},{"$nulls":3},{"v":0,"d":"0.0"},null,null,{"v":0,"d":"0 "},{"$nulls":5},{"v":0,"d":"0 "}]
[252,{"$nulls":25},{"v":0,"d":"0 "},{"$nulls":4},{"v":0,"d":"0.00"},null,null,{"v":0,"d":"0 "},{"$nulls":7},{"v":0,"d":"0 "},{"$nulls":4},{"v":0,"d":"0.00"},null,null,{"v":0,"d":"0 "},{"$nulls":27},{"v":0,"d":"0.0"},{"$nulls":3},{"v":0,"d":"0.0"},null,null,{"v":0,"d":"0 "},{"$nulls":5},{"v":0,"d":"0 "}]
[253,{"$nulls":25},{"v":0,"d":"0 "},{"$nulls":4},{"v":0,"d":"0.00"},null,null,{"v":0,"d":"0 "},{"$nulls":7},{"v":0,"d":"0 "},{"$nulls":4},{"v":0,"d":"0.00"},null,null,{"v":0,"d":"0 "},{"$nulls":27},{"v":0,"d":"0.0"},{"$nulls":3},{"v":0,"d":"0.0"},null,null,{"v":0,"d":"0 "},{"$nulls":5},{"v":0,"d":"0 "}]
[254,{"$nulls":25},{"v":0,"d":"0 "},{"$nulls":4},{"v":0,"d":"0.00"},null,null,{"v":0,"d":"0 "},{"$nulls":7},{"v":0,"d":"0 "},{"$nulls":4},{"v":0,"d":"0.00"},null,null,{"v":0,"d":"0 "},{"$nulls":27},{"v":0,"d":"0.0"},{"$nulls":3},{"v":0,"d":"0.0"},null,null,{"v":0,"d":"0 "},{"$nulls":5},{"v":0,"d":"0 "}]
[255,{"$nulls":25},{"v":0,"d":"0 "},{"$nulls":4},{"v":0,"d":"0.00"},null,null,{"v":0,"d":"0 "},{"$nulls":7},{"v":0,"d":"0 "},{"$nulls":4},{"v":0,"d":"0.00"},null,null,{"v":0,"d":"0 "},{"$nulls":27},{"v":0,"d":"0.0"},{"$nulls":3},{"v":0,"d":"0.0"},null,null,{"v":0,"d":"0 "},{"$nulls":5},{"v":0,"d":"0 "}]
[256,{"$nulls":25},{"v":0,"d":"0 "},{"$nulls":4},{"v":0,"d":"0.00"},null,null,{"v":0,"d":"0 "},{"$nulls":7},{"v":0,"d":"0 "},{"$nulls":4},{"v":0,"d":"0.00"},null,null,{"v":0,"d":"0 "},{"$nulls":27},{"v":0,"d":"0.0"},{"$nulls":3},{"v":0,"d":"0.0"},null,null,{"v":0,"d":"0 "},{"$nulls":5},{"v":0,"d":"0 "}]
[257,{"$nulls":25},{"v":0,"d":"0 "},{"$nulls":4},{"v":0,"d":"0.00"},null,null,{"v":0,"d":"0 "},{"$nulls":7},{"v":0,"d":"0 "},{"$nulls":4},{"v":0,"d":"0.00"},null,null,{"v":0,"d":"0 "},{"$nulls":27},{"v":0,"d":"0.0"},{"$nulls":3},{"v":0,"d":"0.0"},null,null,{"$f":"AI267","v":{"v":0,"d":"0 "}},{"$nulls":5},{"v":0,"d":"0 "}]
[258,{"$nulls":25},{"v":0,"d":"0 "},{"$nulls":4},{"v":0,"d":"0.00"},null,null,{"$f":"CO268","v":{"v":0,"d":"0 "}},{"$nulls":7},{"v":0,"d":"0 "},{"$nulls":4},{"v":0,"d":"0.00"},null,null,{"v":0,"d":"0 "},{"$nulls":27},{"v":0,"d":"0.0"},{"$nulls":3},{"v":0,"d":"0.0"},null,null,{"v":0,"d":"0 "},{"$nulls":5},{"$f":"SUM(CH268:CI268)","v":{"v":0,"d":"0 "}}]
[259,{"$nulls":25},{"v":0,"d":"0 "},{"$nulls":4},{"v":0,"d":"0.00"},null,null,{"v":0,"d":"0 "},{"$nulls":7},{"v":0,"d":"0 "},{"$nulls":4},{"v":0,"d":"0.00"},null,null,{"v":0,"d":"0 "},{"$nulls":27},{"v":0,"d":"0.0"},{"$nulls":3},{"v":0,"d":"0.0"},null,null,{"v":0,"d":"0 "},{"$nulls":5},{"v":0,"d":"0 "}]
[260,{"$nulls":25},{"v":0,"d":"0 "},{"$nulls":4},{"v":0,"d":"0.00"},null,null,{"v":0,"d":"0 "},{"$nulls":7},{"v":0,"d":"0 "},{"$nulls":4},{"v":0,"d":"0.00"},null,null,{"v":0,"d":"0 "},{"$nulls":27},{"v":0,"d":"0.0"},{"$nulls":3},{"v":0,"d":"0.0"},null,null,{"v":0,"d":"0 "},{"$nulls":5},{"v":0,"d":"0 "}]
[261,{"$nulls":25},{"v":0,"d":"0 "},{"$nulls":4},{"v":0,"d":"0.00"},null,null,{"v":0,"d":"0 "},{"$nulls":7},{"v":0,"d":"0 "},{"$nulls":4},{"v":0,"d":"0.00"},null,null,{"v":0,"d":"0 "},{"$nulls":27},{"v":0,"d":"0.0"},{"$nulls":3},{"v":0,"d":"0.0"},null,null,{"v":0,"d":"0 "},{"$nulls":5},{"v":0,"d":"0 "}]
[262,{"$nulls":25},{"v":0,"d":"0 "},{"$nulls":4},{"v":0,"d":"0.00"},null,null,{"v":0,"d":"0 "},{"$nulls":7},{"v":0,"d":"0 "},{"$nulls":4},{"v":0,"d":"0.00"},null,null,{"v":0,"d":"0 "},{"$nulls":27},{"v":0,"d":"0.0"},{"$nulls":3},{"v":0,"d":"0.0"},null,null,{"v":0,"d":"0 "},{"$nulls":5},{"v":0,"d":"0 "}]
[263,{"$nulls":25},{"v":0,"d":"0 "},{"$nulls":4},{"v":0,"d":"0.00"},null,null,{"v":0,"d":"0 "},{"$nulls":7},{"v":0,"d":"0 "},{"$nulls":4},{"v":0,"d":"0.00"},null,null,{"v":0,"d":"0 "},{"$nulls":27},{"v":0,"d":"0.0"},{"$nulls":3},{"v":0,"d":"0.0"},null,null,{"v":0,"d":"0 "},{"$nulls":5},{"v":0,"d":"0 "}]
[264,{"$nulls":25},{"v":0,"d":"0 "},{"$nulls":4},{"v":0,"d":"0.00"},null,null,{"v":0,"d":"0 "},{"$nulls":7},{"v":0,"d":"0 "},{"$nulls":4},{"v":0,"d":"0.00"},null,null,{"v":0,"d":"0 "},{"$nulls":27},{"v":0,"d":"0.0"},{"$nulls":3},{"v":0,"d":"0.0"},null,null,{"v":0,"d":"0 "},{"$nulls":5},{"v":0,"d":"0 "}]
[265,{"$nulls":25},{"v":0,"d":"0 "},{"$nulls":4},{"$f":"CF275","v":{"v":0,"d":"0.00"}},null,null,{"v":0,"d":"0 "},{"$nulls":7},{"$f":"ROUND(AN275*$W275,0)","v":{"v":0,"d":"0 "}},{"$nulls":4},{"$f":"T275-AF275-AN275","v":{"v":0,"d":"0.00"}},null,null,{"$f":"AA275-AI275-AQ275","v":{"v":0,"d":"0 "}},{"$nulls":27},{"v":0,"d":"0.0"},{"$nulls":3},{"v":0,"d":"0.0"},null,null,{"v":0,"d":"0 "},{"$nulls":5},{"v":0,"d":"0 "}]
[266,{"$nulls":25},{"v":0,"d":"0 "},{"$nulls":4},{"v":0,"d":"0.00"},null,null,{"v":0,"d":"0 "},{"$nulls":7},{"v":0,"d":"0 "},{"$nulls":4},{"v":0,"d":"0.00"},null,null,{"v":0,"d":"0 "},{"$nulls":27},{"v":0,"d":"0.0"},{"$nulls":3},{"v":0,"d":"0.0"},null,null,{"v":0,"d":"0 "},{"$nulls":5},{"v":0,"d":"0 "}]
[267,{"$nulls":25},{"v":0,"d":"0 "},{"$nulls":4},{"v":0,"d":"0.00"},null,null,{"v":0,"d":"0 "},{"$nulls":7},{"v":0,"d":"0 "},{"$nulls":4},{"v":0,"d":"0.00"},null,null,{"v":0,"d":"0 "},{"$nulls":27},{"$f":"AF277","v":{"v":0,"d":"0.0"}},{"$nulls":3},{"v":0,"d":"0.0"},null,null,{"v":0,"d":"0 "},{"$nulls":5},{"v":0,"d":"0 "}]
[268,{"$nulls":25},{"v":0,"d":"0 "},{"$nulls":4},{"v":0,"d":"0.00"},null,null,{"v":0,"d":"0 "},{"$nulls":7},{"v":0,"d":"0 "},{"$nulls":4},{"v":0,"d":"0.00"},null,null,{"v":0,"d":"0 "},{"$nulls":27},{"v":0,"d":"0.0"},{"$nulls":3},{"v":0,"d":"0.0"},null,null,{"v":0,"d":"0 "},{"$nulls":5},{"v":0,"d":"0 "}]
[269,{"$nulls":25},{"v":0,"d":"0 "},{"$nulls":4},{"v":0,"d":"0.00"},null,null,{"v":0,"d":"0 "},{"$nulls":7},{"v":0,"d":"0 "},{"$nulls":4},{"v":0,"d":"0.00"},null,null,{"v":0,"d":"0 "},{"$nulls":27},{"v":0,"d":"0.0"},{"$nulls":3},{"v":0,"d":"0.0"},null,null,{"v":0,"d":"0 "},{"$nulls":5},{"v":0,"d":"0 "}]
[270,{"$nulls":25},{"$f":"ROUND(T280*$W280,0)","v":{"v":0,"d":"0 "}},{"$nulls":4},{"v":0,"d":"0.00"},null,null,{"v":0,"d":"0 "},{"$nulls":7},{"v":0,"d":"0 "},{"$nulls":4},{"v":0,"d":"0.00"},null,null,{"v":0,"d":"0 "},{"$nulls":27},{"v":0,"d":"0.0"},{"$nulls":3},{"$f":"SUM(CA280:CB280)","v":{"v":0,"d":"0.0"}},null,null,{"v":0,"d":"0 "},{"$nulls":5},{"v":0,"d":"0 "}]
[271,{"$nulls":25},{"v":0,"d":"0 "},{"$nulls":4},{"v":0,"d":"0.00"},null,null,{"v":0,"d":"0 "},{"$nulls":7},{"v":0,"d":"0 "},{"$nulls":4},{"v":0,"d":"0.00"},null,null,{"v":0,"d":"0 "},{"$nulls":27},{"v":0,"d":"0.0"},{"$nulls":3},{"v":0,"d":"0.0"},null,null,{"v":0,"d":"0 "},{"$nulls":5},{"v":0,"d":"0 "}]
[272,{"$nulls":25},{"v":0,"d":"0 "},{"$nulls":4},{"v":0,"d":"0.00"},null,null,{"v":0,"d":"0 "},{"$nulls":7},{"v":0,"d":"0 "},{"$nulls":4},{"v":0,"d":"0.00"},null,null,{"v":0,"d":"0 "},{"$nulls":27},{"v":0,"d":"0.0"},{"$nulls":3},{"v":0,"d":"0.0"},null,null,{"v":0,"d":"0 "},{"$nulls":5},{"v":0,"d":"0 "}]
[273,{"$nulls":25},{"v":0,"d":"0 "},{"$nulls":4},{"v":0,"d":"0.00"},null,null,{"v":0,"d":"0 "},{"$nulls":7},{"v":0,"d":"0 "},{"$nulls":4},{"v":0,"d":"0.00"},null,null,{"v":0,"d":"0 "},{"$nulls":27},{"v":0,"d":"0.0"},{"$nulls":3},{"v":0,"d":"0.0"},null,null,{"v":0,"d":"0 "},{"$nulls":5},{"v":0,"d":"0 "}]
[274,{"$nulls":25},{"v":0,"d":"0 "},{"$nulls":4},{"v":0,"d":"0.00"},null,null,{"v":0,"d":"0 "},{"$nulls":7},{"v":0,"d":"0 "},{"$nulls":4},{"v":0,"d":"0.00"},null,null,{"v":0,"d":"0 "},{"$nulls":27},{"v":0,"d":"0.0"},{"$nulls":3},{"v":0,"d":"0.0"},null,null,{"v":0,"d":"0 "},{"$nulls":5},{"v":0,"d":"0 "}]
[275,{"$nulls":25},{"v":0,"d":"0 "},{"$nulls":4},{"v":0,"d":"0.00"},null,null,{"v":0,"d":"0 "},{"$nulls":7},{"v":0,"d":"0 "},{"$nulls":4},{"v":0,"d":"0.00"},null,null,{"v":0,"d":"0 "},{"$nulls":27},{"v":0,"d":"0.0"},{"$nulls":3},{"v":0,"d":"0.0"},null,null,{"v":0,"d":"0 "},{"$nulls":5},{"v":0,"d":"0 "}]
[276,{"$nulls":25},{"v":0,"d":"0 "},{"$nulls":4},{"v":0,"d":"0.00"},null,null,{"v":0,"d":"0 "},{"$nulls":7},{"v":0,"d":"0 "},{"$nulls":4},{"v":0,"d":"0.00"},null,null,{"v":0,"d":"0 "},{"$nulls":27},{"v":0,"d":"0.0"},{"$nulls":3},{"v":0,"d":"0.0"},null,null,{"v":0,"d":"0 "},{"$nulls":5},{"v":0,"d":"0 "}]
[277,{"$nulls":25},{"v":0,"d":"0 "},{"$nulls":4},{"v":0,"d":"0.00"},null,null,{"v":0,"d":"0 "},{"$nulls":7},{"v":0,"d":"0 "},{"$nulls":4},{"v":0,"d":"0.00"},null,null,{"v":0,"d":"0 "},{"$nulls":27},{"v":0,"d":"0.0"},{"$nulls":3},{"v":0,"d":"0.0"},null,null,{"v":0,"d":"0 "},{"$nulls":5},{"v":0,"d":"0 "}]
[278,{"$nulls":25},{"v":0,"d":"0 "},{"$nulls":4},{"v":0,"d":"0.00"},null,null,{"v":0,"d":"0 "},{"$nulls":7},{"v":0,"d":"0 "},{"$nulls":4},{"v":0,"d":"0.00"},null,null,{"v":0,"d":"0 "},{"$nulls":27},{"v":0,"d":"0.0"},{"$nulls":3},{"v":0,"d":"0.0"},null,null,{"v":0,"d":"0 "},{"$nulls":5},{"v":0,"d":"0 "}]
[279,{"$nulls":25},{"v":0,"d":"0 "},{"$nulls":4},{"v":0,"d":"0.00"},null,null,{"v":0,"d":"0 "},{"$nulls":7},{"v":0,"d":"0 "},{"$nulls":4},{"v":0,"d":"0.00"},null,null,{"v":0,"d":"0 "},{"$nulls":27},{"v":0,"d":"0.0"},{"$nulls":3},{"v":0,"d":"0.0"},null,null,{"v":0,"d":"0 "},{"$nulls":5},{"v":0,"d":"0 "}]
[280,{"$nulls":25},{"v":0,"d":"0 "},{"$nulls":4},{"v":0,"d":"0.00"},null,null,{"v":0,"d":"0 "},{"$nulls":7},{"v":0,"d":"0 "},{"$nulls":4},{"v":0,"d":"0.00"},null,null,{"v":0,"d":"0 "},{"$nulls":27},{"v":0,"d":"0.0"},{"$nulls":3},{"v":0,"d":"0.0"},null,null,{"v":0,"d":"0 "},{"$nulls":5},{"v":0,"d":"0 "}]
[281,{"$nulls":25},{"v":0,"d":"0 "},{"$nulls":4},{"v":0,"d":"0.00"},null,null,{"v":0,"d":"0 "},{"$nulls":7},{"v":0,"d":"0 "},{"$nulls":4},{"v":0,"d":"0.00"},null,null,{"v":0,"d":"0 "},{"$nulls":27},{"v":0,"d":"0.0"},{"$nulls":3},{"v":0,"d":"0.0"},null,null,{"v":0,"d":"0 "},{"$nulls":5},{"v":0,"d":"0 "}]
[282,{"$nulls":25},{"v":0,"d":"0 "},{"$nulls":4},{"v":0,"d":"0.00"},null,null,{"v":0,"d":"0 "},{"$nulls":7},{"v":0,"d":"0 "},{"$nulls":4},{"v":0,"d":"0.00"},null,null,{"v":0,"d":"0 "},{"$nulls":27},{"v":0,"d":"0.0"},{"$nulls":3},{"v":0,"d":"0.0"},null,null,{"v":0,"d":"0 "},{"$nulls":5},{"v":0,"d":"0 "}]
[283,{"$nulls":25},{"v":0,"d":"0 "},{"$nulls":4},{"v":0,"d":"0.00"},null,null,{"v":0,"d":"0 "},{"$nulls":7},{"v":0,"d":"0 "},{"$nulls":4},{"v":0,"d":"0.00"},null,null,{"v":0,"d":"0 "},{"$nulls":27},{"v":0,"d":"0.0"},{"$nulls":3},{"v":0,"d":"0.0"},null,null,{"v":0,"d":"0 "},{"$nulls":5},{"v":0,"d":"0 "}]
[284,{"$nulls":25},{"v":0,"d":"0 "},{"$nulls":4},{"v":0,"d":"0.00"},null,null,{"v":0,"d":"0 "},{"$nulls":7},{"v":0,"d":"0 "},{"$nulls":4},{"v":0,"d":"0.00"},null,null,{"v":0,"d":"0 "},{"$nulls":27},{"v":0,"d":"0.0"},{"$nulls":3},{"v":0,"d":"0.0"},null,null,{"v":0,"d":"0 "},{"$nulls":5},{"v":0,"d":"0 "}]
[285,{"$nulls":25},{"v":0,"d":"0 "},{"$nulls":4},{"v":0,"d":"0.00"},null,null,{"v":0,"d":"0 "},{"$nulls":7},{"v":0,"d":"0 "},{"$nulls":4},{"v":0,"d":"0.00"},null,null,{"v":0,"d":"0 "},{"$nulls":27},{"v":0,"d":"0.0"},{"$nulls":3},{"v":0,"d":"0.0"},null,null,{"v":0,"d":"0 "},{"$nulls":5},{"v":0,"d":"0 "}]
[286,{"$nulls":25},{"v":0,"d":"0 "},{"$nulls":4},{"v":0,"d":"0.00"},null,null,{"v":0,"d":"0 "},{"$nulls":7},{"v":0,"d":"0 "},{"$nulls":4},{"v":0,"d":"0.00"},null,null,{"v":0,"d":"0 "},{"$nulls":27},{"v":0,"d":"0.0"},{"$nulls":3},{"v":0,"d":"0.0"},null,null,{"v":0,"d":"0 "},{"$nulls":5},{"v":0,"d":"0 "}]
[287,{"$nulls":25},{"v":0,"d":"0 "},{"$nulls":4},{"v":0,"d":"0.00"},null,null,{"v":0,"d":"0 "},{"$nulls":7},{"v":0,"d":"0 "},{"$nulls":4},{"v":0,"d":"0.00"},null,null,{"v":0,"d":"0 "},{"$nulls":27},{"v":0,"d":"0.0"},{"$nulls":3},{"v":0,"d":"0.0"},null,null,{"v":0,"d":"0 "},{"$nulls":5},{"v":0,"d":"0 "}]
[288,{"$nulls":25},{"v":0,"d":"0 "},{"$nulls":4},{"v":0,"d":"0.00"},null,null,{"v":0,"d":"0 "},{"$nulls":7},{"v":0,"d":"0 "},{"$nulls":4},{"v":0,"d":"0.00"},null,null,{"v":0,"d":"0 "},{"$nulls":27},{"v":0,"d":"0.0"},{"$nulls":3},{"v":0,"d":"0.0"},null,null,{"v":0,"d":"0 "},{"$nulls":5},{"v":0,"d":"0 "}]
[289,{"$nulls":25},{"v":0,"d":"0 "},{"$nulls":4},{"v":0,"d":"0.00"},null,null,{"v":0,"d":"0 "},{"$nulls":7},{"v":0,"d":"0 "},{"$nulls":4},{"v":0,"d":"0.00"},null,null,{"v":0,"d":"0 "},{"$nulls":27},{"v":0,"d":"0.0"},{"$nulls":3},{"v":0,"d":"0.0"},null,null,{"v":0,"d":"0 "},{"$nulls":5},{"v":0,"d":"0 "}]
[290,{"$nulls":25},{"v":0,"d":"0 "},{"$nulls":4},{"v":0,"d":"0.00"},null,null,{"v":0,"d":"0 "},{"$nulls":7},{"v":0,"d":"0 "},{"$nulls":4},{"v":0,"d":"0.00"},null,null,{"v":0,"d":"0 "},{"$nulls":27},{"v":0,"d":"0.0"},{"$nulls":3},{"v":0,"d":"0.0"},null,null,{"v":0,"d":"0 "},{"$nulls":5},{"v":0,"d":"0 "}]
[291,{"$nulls":25},{"v":0,"d":"0 "},{"$nulls":4},{"v":0,"d":"0.00"},null,null,{"v":0,"d":"0 "},{"$nulls":7},{"v":0,"d":"0 "},{"$nulls":4},{"v":0,"d":"0.00"},null,null,{"v":0,"d":"0 "},{"$nulls":27},{"v":0,"d":"0.0"},{"$nulls":3},{"v":0,"d":"0.0"},null,null,{"v":0,"d":"0 "},{"$nulls":5},{"v":0,"d":"0 "}]
[292,{"$nulls":25},{"v":0,"d":"0 "},{"$nulls":4},{"v":0,"d":"0.00"},null,null,{"v":0,"d":"0 "},{"$nulls":7},{"v":0,"d":"0 "},{"$nulls":4},{"v":0,"d":"0.00"},null,null,{"v":0,"d":"0 "},{"$nulls":27},{"v":0,"d":"0.0"},{"$nulls":3},{"v":0,"d":"0.0"},null,null,{"v":0,"d":"0 "},{"$nulls":5},{"v":0,"d":"0 "}]
[293,{"$nulls":25},{"v":0,"d":"0 "},{"$nulls":4},{"v":0,"d":"0.00"},null,null,{"v":0,"d":"0 "},{"$nulls":7},{"v":0,"d":"0 "},{"$nulls":4},{"v":0,"d":"0.00"},null,null,{"v":0,"d":"0 "},{"$nulls":27},{"v":0,"d":"0.0"},{"$nulls":3},{"v":0,"d":"0.0"},null,null,{"v":0,"d":"0 "},{"$nulls":5},{"v":0,"d":"0 "}]
[294,{"$nulls":25},{"v":0,"d":"0 "},{"$nulls":4},{"v":0,"d":"0.00"},null,null,{"v":0,"d":"0 "},{"$nulls":7},{"v":0,"d":"0 "},{"$nulls":4},{"v":0,"d":"0.00"},null,null,{"v":0,"d":"0 "},{"$nulls":27},{"v":0,"d":"0.0"},{"$nulls":3},{"v":0,"d":"0.0"},null,null,{"v":0,"d":"0 "},{"$nulls":5},{"v":0,"d":"0 "}]
[295,{"$nulls":25},{"v":0,"d":"0 "},{"$nulls":4},{"v":0,"d":"0.00"},null,null,{"v":0,"d":"0 "},{"$nulls":7},{"v":0,"d":"0 "},{"$nulls":4},{"v":0,"d":"0.00"},null,null,{"v":0,"d":"0 "},{"$nulls":27},{"v":0,"d":"0.0"},{"$nulls":3},{"v":0,"d":"0.0"},null,null,{"v":0,"d":"0 "},{"$nulls":5},{"v":0,"d":"0 "}]
[296,{"$nulls":25},{"v":0,"d":"0 "},{"$nulls":4},{"v":0,"d":"0.00"},null,null,{"v":0,"d":"0 "},{"$nulls":7},{"v":0,"d":"0 "},{"$nulls":4},{"v":0,"d":"0.00"},null,null,{"v":0,"d":"0 "},{"$nulls":27},{"v":0,"d":"0.0"},{"$nulls":3},{"v":0,"d":"0.0"},null,null,{"v":0,"d":"0 "},{"$nulls":5},{"v":0,"d":"0 "}]
[297,{"$nulls":25},{"v":0,"d":"0 "},{"$nulls":4},{"v":0,"d":"0.00"},null,null,{"v":0,"d":"0 "},{"$nulls":7},{"v":0,"d":"0 "},{"$nulls":4},{"v":0,"d":"0.00"},null,null,{"v":0,"d":"0 "},{"$nulls":27},{"v":0,"d":"0.0"},{"$nulls":3},{"v":0,"d":"0.0"},null,null,{"v":0,"d":"0 "},{"$nulls":5},{"v":0,"d":"0 "}]
[298,{"$nulls":25},{"v":0,"d":"0 "},{"$nulls":4},{"v":0,"d":"0.00"},null,null,{"v":0,"d":"0 "},{"$nulls":7},{"v":0,"d":"0 "},{"$nulls":4},{"v":0,"d":"0.00"},null,null,{"v":0,"d":"0 "},{"$nulls":27},{"v":0,"d":"0.0"},{"$nulls":3},{"v":0,"d":"0.0"},null,null,{"v":0,"d":"0 "},{"$nulls":5},{"v":0,"d":"0 "}]
[299,{"$nulls":25},{"v":0,"d":"0 "},{"$nulls":4},{"v":0,"d":"0.00"},null,null,{"v":0,"d":"0 "},{"$nulls":7},{"v":0,"d":"0 "},{"$nulls":4},{"v":0,"d":"0.00"},null,null,{"v":0,"d":"0 "},{"$nulls":27},{"v":0,"d":"0.0"},{"$nulls":3},{"v":0,"d":"0.0"},null,null,{"v":0,"d":"0 "},{"$nulls":5},{"v":0,"d":"0 "}]
[300,{"$nulls":25},{"v":0,"d":"0 "},{"$nulls":4},{"v":0,"d":"0.00"},null,null,{"v":0,"d":"0 "},{"$nulls":7},{"v":0,"d":"0 "},{"$nulls":4},{"v":0,"d":"0.00"},null,null,{"v":0,"d":"0 "},{"$nulls":27},{"v":0,"d":"0.0"},{"$nulls":3},{"v":0,"d":"0.0"},null,null,{"v":0,"d":"0 "},{"$nulls":5},{"v":0,"d":"0 "}]
[301,{"$nulls":25},{"v":0,"d":"0 "},{"$nulls":4},{"v":0,"d":"0.00"},null,null,{"v":0,"d":"0 "},{"$nulls":7},{"v":0,"d":"0 "},{"$nulls":4},{"v":0,"d":"0.00"},null,null,{"v":0,"d":"0 "},{"$nulls":27},{"v":0,"d":"0.0"},{"$nulls":3},{"v":0,"d":"0.0"},null,null,{"v":0,"d":"0 "},{"$nulls":5},{"v":0,"d":"0 "}]
[302,{"$nulls":25},{"v":0,"d":"0 "},{"$nulls":4},{"v":0,"d":"0.00"},null,null,{"v":0,"d":"0 "},{"$nulls":7},{"v":0,"d":"0 "},{"$nulls":4},{"v":0,"d":"0.00"},null,null,{"v":0,"d":"0 "},{"$nulls":27},{"v":0,"d":"0.0"},{"$nulls":3},{"v":0,"d":"0.0"},null,null,{"v":0,"d":"0 "},{"$nulls":5},{"v":0,"d":"0 "}]
[303,{"$nulls":25},{"v":0,"d":"0 "},{"$nulls":4},{"v":0,"d":"0.00"},null,null,{"v":0,"d":"0 "},{"$nulls":7},{"v":0,"d":"0 "},{"$nulls":4},{"v":0,"d":"0.00"},null,null,{"v":0,"d":"0 "},{"$nulls":27},{"v":0,"d":"0.0"},{"$nulls":3},{"v":0,"d":"0.0"},null,null,{"v":0,"d":"0 "},{"$nulls":5},{"v":0,"d":"0 "}]
[304,{"$nulls":25},{"v":0,"d":"0 "},{"$nulls":4},{"v":0,"d":"0.00"},null,null,{"v":0,"d":"0 "},{"$nulls":7},{"v":0,"d":"0 "},{"$nulls":4},{"v":0,"d":"0.00"},null,null,{"v":0,"d":"0 "},{"$nulls":27},{"v":0,"d":"0.0"},{"$nulls":3},{"v":0,"d":"0.0"},null,null,{"v":0,"d":"0 "},{"$nulls":5},{"v":0,"d":"0 "}]
[305,{"$nulls":25},{"v":0,"d":"0 "},{"$nulls":4},{"v":0,"d":"0.00"},null,null,{"v":0,"d":"0 "},{"$nulls":7},{"v":0,"d":"0 "},{"$nulls":4},{"v":0,"d":"0.00"},null,null,{"v":0,"d":"0 "},{"$nulls":27},{"v":0,"d":"0.0"},{"$nulls":3},{"v":0,"d":"0.0"},null,null,{"v":0,"d":"0 "},{"$nulls":5},{"v":0,"d":"0 "}]
[306,{"$nulls":25},{"v":0,"d":"0 "},{"$nulls":4},{"v":0,"d":"0.00"},null,null,{"v":0,"d":"0 "},{"$nulls":7},{"v":0,"d":"0 "},{"$nulls":4},{"v":0,"d":"0.00"},null,null,{"v":0,"d":"0 "},{"$nulls":27},{"v":0,"d":"0.0"},{"$nulls":3},{"v":0,"d":"0.0"},null,null,{"v":0,"d":"0 "},{"$nulls":5},{"v":0,"d":"0 "}]
[307,{"$nulls":25},{"v":0,"d":"0 "},{"$nulls":4},{"v":0,"d":"0.00"},null,null,{"v":0,"d":"0 "},{"$nulls":7},{"v":0,"d":"0 "},{"$nulls":4},{"v":0,"d":"0.00"},null,null,{"v":0,"d":"0 "},{"$nulls":27},{"v":0,"d":"0.0"},{"$nulls":3},{"v":0,"d":"0.0"},null,null,{"v":0,"d":"0 "},{"$nulls":5},{"v":0,"d":"0 "}]
[308,{"$nulls":25},{"v":0,"d":"0 "},{"$nulls":4},{"v":0,"d":"0.00"},null,null,{"v":0,"d":"0 "},{"$nulls":7},{"v":0,"d":"0 "},{"$nulls":4},{"v":0,"d":"0.00"},null,null,{"v":0,"d":"0 "},{"$nulls":27},{"v":0,"d":"0.0"},{"$nulls":3},{"v":0,"d":"0.0"},null,null,{"v":0,"d":"0 "},{"$nulls":5},{"v":0,"d":"0 "}]
[309,{"$nulls":25},{"v":0,"d":"0 "},{"$nulls":4},{"v":0,"d":"0.00"},null,null,{"v":0,"d":"0 "},{"$nulls":7},{"v":0,"d":"0 "},{"$nulls":4},{"v":0,"d":"0.00"},null,null,{"v":0,"d":"0 "},{"$nulls":27},{"v":0,"d":"0.0"},{"$nulls":3},{"v":0,"d":"0.0"},null,null,{"v":0,"d":"0 "},{"$nulls":5},{"v":0,"d":"0 "}]
[310,{"$nulls":25},{"v":0,"d":"0 "},{"$nulls":4},{"v":0,"d":"0.00"},null,null,{"v":0,"d":"0 "},{"$nulls":7},{"v":0,"d":"0 "},{"$nulls":4},{"v":0,"d":"0.00"},null,null,{"v":0,"d":"0 "},{"$nulls":27},{"v":0,"d":"0.0"},{"$nulls":3},{"v":0,"d":"0.0"},null,null,{"v":0,"d":"0 "},{"$nulls":5},{"v":0,"d":"0 "}]
[311,{"$nulls":25},{"v":0,"d":"0 "},{"$nulls":4},{"v":0,"d":"0.00"},null,null,{"v":0,"d":"0 "},{"$nulls":7},{"v":0,"d":"0 "},{"$nulls":4},{"v":0,"d":"0.00"},null,null,{"v":0,"d":"0 "},{"$nulls":27},{"v":0,"d":"0.0"},{"$nulls":3},{"v":0,"d":"0.0"},null,null,{"v":0,"d":"0 "},{"$nulls":5},{"v":0,"d":"0 "}]
[312,{"$nulls":25},{"v":0,"d":"0 "},{"$nulls":4},{"v":0,"d":"0.00"},null,null,{"v":0,"d":"0 "},{"$nulls":7},{"v":0,"d":"0 "},{"$nulls":4},{"v":0,"d":"0.00"},null,null,{"v":0,"d":"0 "},{"$nulls":27},{"v":0,"d":"0.0"},{"$nulls":3},{"v":0,"d":"0.0"},null,null,{"v":0,"d":"0 "},{"$nulls":5},{"v":0,"d":"0 "}]
[313,{"$nulls":25},{"v":0,"d":"0 "},{"$nulls":4},{"v":0,"d":"0.00"},null,null,{"v":0,"d":"0 "},{"$nulls":7},{"v":0,"d":"0 "},{"$nulls":4},{"v":0,"d":"0.00"},null,null,{"v":0,"d":"0 "},{"$nulls":27},{"v":0,"d":"0.0"},{"$nulls":3},{"v":0,"d":"0.0"},null,null,{"v":0,"d":"0 "},{"$nulls":5},{"v":0,"d":"0 "}]
[314,{"$nulls":25},{"v":0,"d":"0 "},{"$nulls":4},{"v":0,"d":"0.00"},null,null,{"v":0,"d":"0 "},{"$nulls":7},{"v":0,"d":"0 "},{"$nulls":4},{"v":0,"d":"0.00"},null,null,{"v":0,"d":"0 "},{"$nulls":27},{"v":0,"d":"0.0"},{"$nulls":3},{"v":0,"d":"0.0"},null,null,{"v":0,"d":"0 "},{"$nulls":5},{"v":0,"d":"0 "}]
[315,{"$nulls":25},{"v":0,"d":"0 "},{"$nulls":4},{"v":0,"d":"0.00"},null,null,{"v":0,"d":"0 "},{"$nulls":7},{"v":0,"d":"0 "},{"$nulls":4},{"v":0,"d":"0.00"},null,null,{"v":0,"d":"0 "},{"$nulls":27},{"v":0,"d":"0.0"},{"$nulls":3},{"v":0,"d":"0.0"},null,null,{"v":0,"d":"0 "},{"$nulls":5},{"v":0,"d":"0 "}]
[316,{"$nulls":25},{"v":0,"d":"0 "},{"$nulls":4},{"v":0,"d":"0.00"},null,null,{"v":0,"d":"0 "},{"$nulls":7},{"v":0,"d":"0 "},{"$nulls":4},{"v":0,"d":"0.00"},null,null,{"v":0,"d":"0 "},{"$nulls":27},{"v":0,"d":"0.0"},{"$nulls":3},{"v":0,"d":"0.0"},null,null,{"v":0,"d":"0 "},{"$nulls":5},{"v":0,"d":"0 "}]
[317,{"$nulls":25},{"v":0,"d":"0 "},{"$nulls":4},{"v":0,"d":"0.00"},null,null,{"v":0,"d":"0 "},{"$nulls":7},{"v":0,"d":"0 "},{"$nulls":4},{"v":0,"d":"0.00"},null,null,{"v":0,"d":"0 "},{"$nulls":27},{"v":0,"d":"0.0"},{"$nulls":3},{"v":0,"d":"0.0"},null,null,{"v":0,"d":"0 "},{"$nulls":5},{"v":0,"d":"0 "}]
[318,{"$nulls":25},{"v":0,"d":"0 "},{"$nulls":4},{"v":0,"d":"0.00"},null,null,{"v":0,"d":"0 "},{"$nulls":7},{"v":0,"d":"0 "},{"$nulls":4},{"v":0,"d":"0.00"},null,null,{"v":0,"d":"0 "},{"$nulls":27},{"v":0,"d":"0.0"},{"$nulls":3},{"v":0,"d":"0.0"},null,null,{"v":0,"d":"0 "},{"$nulls":5},{"v":0,"d":"0 "}]
[319,{"$nulls":25},{"v":0,"d":"0 "},{"$nulls":4},{"v":0,"d":"0.00"},null,null,{"v":0,"d":"0 "},{"$nulls":7},{"v":0,"d":"0 "},{"$nulls":4},{"v":0,"d":"0.00"},null,null,{"v":0,"d":"0 "},{"$nulls":27},{"v":0,"d":"0.0"},{"$nulls":3},{"v":0,"d":"0.0"},null,null,{"v":0,"d":"0 "},{"$nulls":5},{"v":0,"d":"0 "}]
[320,{"$nulls":25},{"v":0,"d":"0 "},{"$nulls":4},{"v":0,"d":"0.00"},null,null,{"v":0,"d":"0 "},{"$nulls":7},{"v":0,"d":"0 "},{"$nulls":4},{"v":0,"d":"0.00"},null,null,{"v":0,"d":"0 "},{"$nulls":27},{"v":0,"d":"0.0"},{"$nulls":3},{"v":0,"d":"0.0"},null,null,{"v":0,"d":"0 "},{"$nulls":5},{"v":0,"d":"0 "}]
[321,{"$nulls":25},{"v":0,"d":"0 "},{"$nulls":4},{"v":0,"d":"0.00"},null,null,{"v":0,"d":"0 "},{"$nulls":7},{"v":0,"d":"0 "},{"$nulls":4},{"v":0,"d":"0.00"},null,null,{"v":0,"d":"0 "},{"$nulls":27},{"v":0,"d":"0.0"},{"$nulls":3},{"v":0,"d":"0.0"},null,null,{"$f":"AI331","v":{"v":0,"d":"0 "}},{"$nulls":5},{"v":0,"d":"0 "}]
[322,{"$nulls":25},{"v":0,"d":"0 "},{"$nulls":4},{"v":0,"d":"0.00"},null,null,{"$f":"CO332","v":{"v":0,"d":"0 "}},{"$nulls":7},{"v":0,"d":"0 "},{"$nulls":4},{"v":0,"d":"0.00"},null,null,{"v":0,"d":"0 "},{"$nulls":27},{"v":0,"d":"0.0"},{"$nulls":3},{"v":0,"d":"0.0"},null,null,{"v":0,"d":"0 "},{"$nulls":5},{"$f":"SUM(CH332:CI332)","v":{"v":0,"d":"0 "}}]
[323,{"$nulls":25},{"v":0,"d":"0 "},{"$nulls":4},{"v":0,"d":"0.00"},null,null,{"v":0,"d":"0 "},{"$nulls":7},{"v":0,"d":"0 "},{"$nulls":4},{"v":0,"d":"0.00"},null,null,{"v":0,"d":"0 "},{"$nulls":27},{"v":0,"d":"0.0"},{"$nulls":3},{"v":0,"d":"0.0"},null,null,{"v":0,"d":"0 "},{"$nulls":5},{"v":0,"d":"0 "}]
[324,{"$nulls":25},{"v":0,"d":"0 "},{"$nulls":4},{"v":0,"d":"0.00"},null,null,{"v":0,"d":"0 "},{"$nulls":7},{"v":0,"d":"0 "},{"$nulls":4},{"v":0,"d":"0.00"},null,null,{"v":0,"d":"0 "},{"$nulls":27},{"v":0,"d":"0.0"},{"$nulls":3},{"v":0,"d":"0.0"},null,null,{"v":0,"d":"0 "},{"$nulls":5},{"v":0,"d":"0 "}]
[325,{"$nulls":25},{"v":0,"d":"0 "},{"$nulls":4},{"v":0,"d":"0.00"},null,null,{"v":0,"d":"0 "},{"$nulls":7},{"v":0,"d":"0 "},{"$nulls":4},{"v":0,"d":"0.00"},null,null,{"v":0,"d":"0 "},{"$nulls":27},{"v":0,"d":"0.0"},{"$nulls":3},{"v":0,"d":"0.0"},null,null,{"v":0,"d":"0 "},{"$nulls":5},{"v":0,"d":"0 "}]
[326,{"$nulls":25},{"v":0,"d":"0 "},{"$nulls":4},{"v":0,"d":"0.00"},null,null,{"v":0,"d":"0 "},{"$nulls":7},{"v":0,"d":"0 "},{"$nulls":4},{"v":0,"d":"0.00"},null,null,{"v":0,"d":"0 "},{"$nulls":27},{"v":0,"d":"0.0"},{"$nulls":3},{"v":0,"d":"0.0"},null,null,{"v":0,"d":"0 "},{"$nulls":5},{"v":0,"d":"0 "}]
[327,{"$nulls":25},{"v":0,"d":"0 "},{"$nulls":4},{"v":0,"d":"0.00"},null,null,{"v":0,"d":"0 "},{"$nulls":7},{"v":0,"d":"0 "},{"$nulls":4},{"v":0,"d":"0.00"},null,null,{"v":0,"d":"0 "},{"$nulls":27},{"v":0,"d":"0.0"},{"$nulls":3},{"v":0,"d":"0.0"},null,null,{"v":0,"d":"0 "},{"$nulls":5},{"v":0,"d":"0 "}]
[328,{"$nulls":25},{"v":0,"d":"0 "},{"$nulls":4},{"v":0,"d":"0.00"},null,null,{"v":0,"d":"0 "},{"$nulls":7},{"v":0,"d":"0 "},{"$nulls":4},{"v":0,"d":"0.00"},null,null,{"v":0,"d":"0 "},{"$nulls":27},{"v":0,"d":"0.0"},{"$nulls":3},{"v":0,"d":"0.0"},null,null,{"v":0,"d":"0 "},{"$nulls":5},{"v":0,"d":"0 "}]
[329,{"$nulls":25},{"v":0,"d":"0 "},{"$nulls":4},{"$f":"CF339","v":{"v":0,"d":"0.00"}},null,null,{"v":0,"d":"0 "},{"$nulls":7},{"$f":"ROUND(AN339*$W339,0)","v":{"v":0,"d":"0 "}},{"$nulls":4},{"$f":"T339-AF339-AN339","v":{"v":0,"d":"0.00"}},null,null,{"$f":"AA339-AI339-AQ339","v":{"v":0,"d":"0 "}},{"$nulls":27},{"v":0,"d":"0.0"},{"$nulls":3},{"v":0,"d":"0.0"},null,null,{"v":0,"d":"0 "},{"$nulls":5},{"v":0,"d":"0 "}]
[330,{"$nulls":25},{"v":0,"d":"0 "},{"$nulls":4},{"v":0,"d":"0.00"},null,null,{"v":0,"d":"0 "},{"$nulls":7},{"v":0,"d":"0 "},{"$nulls":4},{"v":0,"d":"0.00"},null,null,{"v":0,"d":"0 "},{"$nulls":27},{"v":0,"d":"0.0"},{"$nulls":3},{"v":0,"d":"0.0"},null,null,{"v":0,"d":"0 "},{"$nulls":5},{"v":0,"d":"0 "}]
[331,{"$nulls":25},{"v":0,"d":"0 "},{"$nulls":4},{"v":0,"d":"0.00"},null,null,{"v":0,"d":"0 "},{"$nulls":7},{"v":0,"d":"0 "},{"$nulls":4},{"v":0,"d":"0.00"},null,null,{"v":0,"d":"0 "},{"$nulls":27},{"$f":"AF341","v":{"v":0,"d":"0.0"}},{"$nulls":3},{"v":0,"d":"0.0"},null,null,{"v":0,"d":"0 "},{"$nulls":5},{"v":0,"d":"0 "}]
[332,{"$nulls":25},{"v":0,"d":"0 "},{"$nulls":4},{"v":0,"d":"0.00"},null,null,{"v":0,"d":"0 "},{"$nulls":7},{"v":0,"d":"0 "},{"$nulls":4},{"v":0,"d":"0.00"},null,null,{"v":0,"d":"0 "},{"$nulls":27},{"v":0,"d":"0.0"},{"$nulls":3},{"v":0,"d":"0.0"},null,null,{"v":0,"d":"0 "},{"$nulls":5},{"v":0,"d":"0 "}]
[333,{"$nulls":25},{"v":0,"d":"0 "},{"$nulls":4},{"v":0,"d":"0.00"},null,null,{"v":0,"d":"0 "},{"$nulls":7},{"v":0,"d":"0 "},{"$nulls":4},{"v":0,"d":"0.00"},null,null,{"v":0,"d":"0 "},{"$nulls":27},{"v":0,"d":"0.0"},{"$nulls":3},{"v":0,"d":"0.0"},null,null,{"v":0,"d":"0 "},{"$nulls":5},{"v":0,"d":"0 "}]
[334,{"$nulls":25},{"$f":"ROUND(T344*$W344,0)","v":{"v":0,"d":"0 "}},{"$nulls":4},{"v":0,"d":"0.00"},null,null,{"v":0,"d":"0 "},{"$nulls":7},{"v":0,"d":"0 "},{"$nulls":4},{"v":0,"d":"0.00"},null,null,{"v":0,"d":"0 "},{"$nulls":27},{"v":0,"d":"0.0"},{"$nulls":3},{"$f":"SUM(CA344:CB344)","v":{"v":0,"d":"0.0"}},null,null,{"v":0,"d":"0 "},{"$nulls":5},{"v":0,"d":"0 "}]
[335,{"$nulls":25},{"v":0,"d":"0 "},{"$nulls":4},{"v":0,"d":"0.00"},null,null,{"v":0,"d":"0 "},{"$nulls":7},{"v":0,"d":"0 "},{"$nulls":4},{"v":0,"d":"0.00"},null,null,{"v":0,"d":"0 "},{"$nulls":27},{"v":0,"d":"0.0"},{"$nulls":3},{"v":0,"d":"0.0"},null,null,{"v":0,"d":"0 "},{"$nulls":5},{"v":0,"d":"0 "}]
[336,{"$nulls":25},{"v":0,"d":"0 "},{"$nulls":4},{"v":0,"d":"0.00"},null,null,{"v":0,"d":"0 "},{"$nulls":7},{"v":0,"d":"0 "},{"$nulls":4},{"v":0,"d":"0.00"},null,null,{"v":0,"d":"0 "},{"$nulls":27},{"v":0,"d":"0.0"},{"$nulls":3},{"v":0,"d":"0.0"},null,null,{"v":0,"d":"0 "},{"$nulls":5},{"v":0,"d":"0 "}]
[337,{"$nulls":25},{"v":0,"d":"0 "},{"$nulls":4},{"v":0,"d":"0.00"},null,null,{"v":0,"d":"0 "},{"$nulls":7},{"v":0,"d":"0 "},{"$nulls":4},{"v":0,"d":"0.00"},null,null,{"v":0,"d":"0 "},{"$nulls":27},{"v":0,"d":"0.0"},{"$nulls":3},{"v":0,"d":"0.0"},null,null,{"v":0,"d":"0 "},{"$nulls":5},{"v":0,"d":"0 "}]
[338,{"$nulls":25},{"v":0,"d":"0 "},{"$nulls":4},{"v":0,"d":"0.00"},null,null,{"v":0,"d":"0 "},{"$nulls":7},{"v":0,"d":"0 "},{"$nulls":4},{"v":0,"d":"0.00"},null,null,{"v":0,"d":"0 "},{"$nulls":27},{"v":0,"d":"0.0"},{"$nulls":3},{"v":0,"d":"0.0"},null,null,{"v":0,"d":"0 "},{"$nulls":5},{"v":0,"d":"0 "}]
[339,{"$nulls":25},{"v":0,"d":"0 "},{"$nulls":4},{"v":0,"d":"0.00"},null,null,{"v":0,"d":"0 "},{"$nulls":7},{"v":0,"d":"0 "},{"$nulls":4},{"v":0,"d":"0.00"},null,null,{"v":0,"d":"0 "},{"$nulls":27},{"v":0,"d":"0.0"},{"$nulls":3},{"v":0,"d":"0.0"},null,null,{"v":0,"d":"0 "},{"$nulls":5},{"v":0,"d":"0 "}]
[340,{"$nulls":25},{"v":0,"d":"0 "},{"$nulls":4},{"v":0,"d":"0.00"},null,null,{"v":0,"d":"0 "},{"$nulls":7},{"v":0,"d":"0 "},{"$nulls":4},{"v":0,"d":"0.00"},null,null,{"v":0,"d":"0 "},{"$nulls":27},{"v":0,"d":"0.0"},{"$nulls":3},{"v":0,"d":"0.0"},null,null,{"v":0,"d":"0 "},{"$nulls":5},{"v":0,"d":"0 "}]
[341,{"$nulls":25},{"v":0,"d":"0 "},{"$nulls":4},{"v":0,"d":"0.00"},null,null,{"v":0,"d":"0 "},{"$nulls":7},{"v":0,"d":"0 "},{"$nulls":4},{"v":0,"d":"0.00"},null,null,{"v":0,"d":"0 "},{"$nulls":27},{"v":0,"d":"0.0"},{"$nulls":3},{"v":0,"d":"0.0"},null,null,{"v":0,"d":"0 "},{"$nulls":5},{"v":0,"d":"0 "}]
[342,{"$nulls":25},{"v":0,"d":"0 "},{"$nulls":4},{"v":0,"d":"0.00"},null,null,{"v":0,"d":"0 "},{"$nulls":7},{"v":0,"d":"0 "},{"$nulls":4},{"v":0,"d":"0.00"},null,null,{"v":0,"d":"0 "},{"$nulls":27},{"v":0,"d":"0.0"},{"$nulls":3},{"v":0,"d":"0.0"},null,null,{"v":0,"d":"0 "},{"$nulls":5},{"v":0,"d":"0 "}]
[343,{"$nulls":25},{"v":0,"d":"0 "},{"$nulls":4},{"v":0,"d":"0.00"},null,null,{"v":0,"d":"0 "},{"$nulls":7},{"v":0,"d":"0 "},{"$nulls":4},{"v":0,"d":"0.00"},null,null,{"v":0,"d":"0 "},{"$nulls":27},{"v":0,"d":"0.0"},{"$nulls":3},{"v":0,"d":"0.0"},null,null,{"v":0,"d":"0 "},{"$nulls":5},{"v":0,"d":"0 "}]
[344,{"$nulls":25},{"v":0,"d":"0 "},{"$nulls":4},{"v":0,"d":"0.00"},null,null,{"v":0,"d":"0 "},{"$nulls":7},{"v":0,"d":"0 "},{"$nulls":4},{"v":0,"d":"0.00"},null,null,{"v":0,"d":"0 "},{"$nulls":27},{"v":0,"d":"0.0"},{"$nulls":3},{"v":0,"d":"0.0"},null,null,{"v":0,"d":"0 "},{"$nulls":5},{"v":0,"d":"0 "}]
[345,{"$nulls":25},{"v":0,"d":"0 "},{"$nulls":4},{"v":0,"d":"0.00"},null,null,{"v":0,"d":"0 "},{"$nulls":7},{"v":0,"d":"0 "},{"$nulls":4},{"v":0,"d":"0.00"},null,null,{"v":0,"d":"0 "},{"$nulls":27},{"v":0,"d":"0.0"},{"$nulls":3},{"v":0,"d":"0.0"},null,null,{"v":0,"d":"0 "},{"$nulls":5},{"v":0,"d":"0 "}]
[346,{"$nulls":25},{"v":0,"d":"0 "},{"$nulls":4},{"v":0,"d":"0.00"},null,null,{"v":0,"d":"0 "},{"$nulls":7},{"v":0,"d":"0 "},{"$nulls":4},{"v":0,"d":"0.00"},null,null,{"v":0,"d":"0 "},{"$nulls":27},{"v":0,"d":"0.0"},{"$nulls":3},{"v":0,"d":"0.0"},null,null,{"v":0,"d":"0 "},{"$nulls":5},{"v":0,"d":"0 "}]
[347,{"$nulls":25},{"v":0,"d":"0 "},{"$nulls":4},{"v":0,"d":"0.00"},null,null,{"v":0,"d":"0 "},{"$nulls":7},{"v":0,"d":"0 "},{"$nulls":4},{"v":0,"d":"0.00"},null,null,{"v":0,"d":"0 "},{"$nulls":27},{"v":0,"d":"0.0"},{"$nulls":3},{"v":0,"d":"0.0"},null,null,{"v":0,"d":"0 "},{"$nulls":5},{"v":0,"d":"0 "}]
[348,{"$nulls":25},{"v":0,"d":"0 "},{"$nulls":4},{"v":0,"d":"0.00"},null,null,{"v":0,"d":"0 "},{"$nulls":7},{"v":0,"d":"0 "},{"$nulls":4},{"v":0,"d":"0.00"},null,null,{"v":0,"d":"0 "},{"$nulls":27},{"v":0,"d":"0.0"},{"$nulls":3},{"v":0,"d":"0.0"},null,null,{"v":0,"d":"0 "},{"$nulls":5},{"v":0,"d":"0 "}]
[349,{"$nulls":25},{"v":0,"d":"0 "},{"$nulls":4},{"v":0,"d":"0.00"},null,null,{"v":0,"d":"0 "},{"$nulls":7},{"v":0,"d":"0 "},{"$nulls":4},{"v":0,"d":"0.00"},null,null,{"v":0,"d":"0 "},{"$nulls":27},{"v":0,"d":"0.0"},{"$nulls":3},{"v":0,"d":"0.0"},null,null,{"v":0,"d":"0 "},{"$nulls":5},{"v":0,"d":"0 "}]
[350,{"$nulls":25},{"v":0,"d":"0 "},{"$nulls":4},{"v":0,"d":"0.00"},null,null,{"v":0,"d":"0 "},{"$nulls":7},{"v":0,"d":"0 "},{"$nulls":4},{"v":0,"d":"0.00"},null,null,{"v":0,"d":"0 "},{"$nulls":27},{"v":0,"d":"0.0"},{"$nulls":3},{"v":0,"d":"0.0"},null,null,{"v":0,"d":"0 "},{"$nulls":5},{"v":0,"d":"0 "}]
[351,{"$nulls":25},{"v":0,"d":"0 "},{"$nulls":4},{"v":0,"d":"0.00"},null,null,{"v":0,"d":"0 "},{"$nulls":7},{"v":0,"d":"0 "},{"$nulls":4},{"v":0,"d":"0.00"},null,null,{"v":0,"d":"0 "},{"$nulls":27},{"v":0,"d":"0.0"},{"$nulls":3},{"v":0,"d":"0.0"},null,null,{"v":0,"d":"0 "},{"$nulls":5},{"v":0,"d":"0 "}]
[352,{"$nulls":25},{"v":0,"d":"0 "},{"$nulls":4},{"v":0,"d":"0.00"},null,null,{"v":0,"d":"0 "},{"$nulls":7},{"v":0,"d":"0 "},{"$nulls":4},{"v":0,"d":"0.00"},null,null,{"v":0,"d":"0 "},{"$nulls":27},{"v":0,"d":"0.0"},{"$nulls":3},{"v":0,"d":"0.0"},null,null,{"v":0,"d":"0 "},{"$nulls":5},{"v":0,"d":"0 "}]
[353,{"$nulls":25},{"v":0,"d":"0 "},{"$nulls":4},{"v":0,"d":"0.00"},null,null,{"v":0,"d":"0 "},{"$nulls":7},{"v":0,"d":"0 "},{"$nulls":4},{"v":0,"d":"0.00"},null,null,{"v":0,"d":"0 "},{"$nulls":27},{"v":0,"d":"0.0"},{"$nulls":3},{"v":0,"d":"0.0"},null,null,{"v":0,"d":"0 "},{"$nulls":5},{"v":0,"d":"0 "}]
[354,{"$nulls":25},{"v":0,"d":"0 "},{"$nulls":4},{"v":0,"d":"0.00"},null,null,{"v":0,"d":"0 "},{"$nulls":7},{"v":0,"d":"0 "},{"$nulls":4},{"v":0,"d":"0.00"},null,null,{"v":0,"d":"0 "},{"$nulls":27},{"v":0,"d":"0.0"},{"$nulls":3},{"v":0,"d":"0.0"},null,null,{"v":0,"d":"0 "},{"$nulls":5},{"v":0,"d":"0 "}]
[355,{"$nulls":25},{"v":0,"d":"0 "},{"$nulls":4},{"v":0,"d":"0.00"},null,null,{"v":0,"d":"0 "},{"$nulls":7},{"v":0,"d":"0 "},{"$nulls":4},{"v":0,"d":"0.00"},null,null,{"v":0,"d":"0 "},{"$nulls":27},{"v":0,"d":"0.0"},{"$nulls":3},{"v":0,"d":"0.0"},null,null,{"v":0,"d":"0 "},{"$nulls":5},{"v":0,"d":"0 "}]
[356,{"$nulls":25},{"v":0,"d":"0 "},{"$nulls":4},{"v":0,"d":"0.00"},null,null,{"v":0,"d":"0 "},{"$nulls":7},{"v":0,"d":"0 "},{"$nulls":4},{"v":0,"d":"0.00"},null,null,{"v":0,"d":"0 "},{"$nulls":27},{"v":0,"d":"0.0"},{"$nulls":3},{"v":0,"d":"0.0"},null,null,{"v":0,"d":"0 "},{"$nulls":5},{"v":0,"d":"0 "}]
[357,{"$nulls":25},{"v":0,"d":"0 "},{"$nulls":4},{"v":0,"d":"0.00"},null,null,{"v":0,"d":"0 "},{"$nulls":7},{"v":0,"d":"0 "},{"$nulls":4},{"v":0,"d":"0.00"},null,null,{"v":0,"d":"0 "},{"$nulls":27},{"v":0,"d":"0.0"},{"$nulls":3},{"v":0,"d":"0.0"},null,null,{"v":0,"d":"0 "},{"$nulls":5},{"v":0,"d":"0 "}]
[358,{"$nulls":25},{"v":0,"d":"0 "},{"$nulls":4},{"v":0,"d":"0.00"},null,null,{"v":0,"d":"0 "},{"$nulls":7},{"v":0,"d":"0 "},{"$nulls":4},{"v":0,"d":"0.00"},null,null,{"v":0,"d":"0 "},{"$nulls":27},{"v":0,"d":"0.0"},{"$nulls":3},{"v":0,"d":"0.0"},null,null,{"v":0,"d":"0 "},{"$nulls":5},{"v":0,"d":"0 "}]
[359,{"$nulls":25},{"v":0,"d":"0 "},{"$nulls":4},{"v":0,"d":"0.00"},null,null,{"v":0,"d":"0 "},{"$nulls":7},{"v":0,"d":"0 "},{"$nulls":4},{"v":0,"d":"0.00"},null,null,{"v":0,"d":"0 "},{"$nulls":27},{"v":0,"d":"0.0"},{"$nulls":3},{"v":0,"d":"0.0"},null,null,{"v":0,"d":"0 "},{"$nulls":5},{"v":0,"d":"0 "}]
[360,{"$nulls":25},{"v":0,"d":"0 "},{"$nulls":4},{"v":0,"d":"0.00"},null,null,{"v":0,"d":"0 "},{"$nulls":7},{"v":0,"d":"0 "},{"$nulls":4},{"v":0,"d":"0.00"},null,null,{"v":0,"d":"0 "},{"$nulls":27},{"v":0,"d":"0.0"},{"$nulls":3},{"v":0,"d":"0.0"},null,null,{"v":0,"d":"0 "},{"$nulls":5},{"v":0,"d":"0 "}]
[361,{"$nulls":25},{"v":0,"d":"0 "},{"$nulls":4},{"v":0,"d":"0.00"},null,null,{"v":0,"d":"0 "},{"$nulls":7},{"v":0,"d":"0 "},{"$nulls":4},{"v":0,"d":"0.00"},null,null,{"v":0,"d":"0 "},{"$nulls":27},{"v":0,"d":"0.0"},{"$nulls":3},{"v":0,"d":"0.0"},null,null,{"v":0,"d":"0 "},{"$nulls":5},{"v":0,"d":"0 "}]
[362,{"$nulls":25},{"v":0,"d":"0 "},{"$nulls":4},{"v":0,"d":"0.00"},null,null,{"v":0,"d":"0 "},{"$nulls":7},{"v":0,"d":"0 "},{"$nulls":4},{"v":0,"d":"0.00"},null,null,{"v":0,"d":"0 "},{"$nulls":27},{"v":0,"d":"0.0"},{"$nulls":3},{"v":0,"d":"0.0"},null,null,{"v":0,"d":"0 "},{"$nulls":5},{"v":0,"d":"0 "}]
[363,{"$nulls":25},{"v":0,"d":"0 "},{"$nulls":4},{"v":0,"d":"0.00"},null,null,{"v":0,"d":"0 "},{"$nulls":7},{"v":0,"d":"0 "},{"$nulls":4},{"v":0,"d":"0.00"},null,null,{"v":0,"d":"0 "},{"$nulls":27},{"v":0,"d":"0.0"},{"$nulls":3},{"v":0,"d":"0.0"},null,null,{"v":0,"d":"0 "},{"$nulls":5},{"v":0,"d":"0 "}]
[364,{"$nulls":25},{"v":0,"d":"0 "},{"$nulls":4},{"v":0,"d":"0.00"},null,null,{"v":0,"d":"0 "},{"$nulls":7},{"v":0,"d":"0 "},{"$nulls":4},{"v":0,"d":"0.00"},null,null,{"v":0,"d":"0 "},{"$nulls":27},{"v":0,"d":"0.0"},{"$nulls":3},{"v":0,"d":"0.0"},null,null,{"v":0,"d":"0 "},{"$nulls":5},{"v":0,"d":"0 "}]
[365,{"$nulls":25},{"v":0,"d":"0 "},{"$nulls":4},{"v":0,"d":"0.00"},null,null,{"v":0,"d":"0 "},{"$nulls":7},{"v":0,"d":"0 "},{"$nulls":4},{"v":0,"d":"0.00"},null,null,{"v":0,"d":"0 "},{"$nulls":27},{"v":0,"d":"0.0"},{"$nulls":3},{"v":0,"d":"0.0"},null,null,{"v":0,"d":"0 "},{"$nulls":5},{"v":0,"d":"0 "}]
[366,{"$nulls":25},{"v":0,"d":"0 "},{"$nulls":4},{"v":0,"d":"0.00"},null,null,{"v":0,"d":"0 "},{"$nulls":7},{"v":0,"d":"0 "},{"$nulls":4},{"v":0,"d":"0.00"},null,null,{"v":0,"d":"0 "},{"$nulls":27},{"v":0,"d":"0.0"},{"$nulls":3},{"v":0,"d":"0.0"},null,null,{"v":0,"d":"0 "},{"$nulls":5},{"v":0,"d":"0 "}]
[367,{"$nulls":25},{"v":0,"d":"0 "},{"$nulls":4},{"v":0,"d":"0.00"},null,null,{"v":0,"d":"0 "},{"$nulls":7},{"v":0,"d":"0 "},{"$nulls":4},{"v":0,"d":"0.00"},null,null,{"v":0,"d":"0 "},{"$nulls":27},{"v":0,"d":"0.0"},{"$nulls":3},{"v":0,"d":"0.0"},null,null,{"v":0,"d":"0 "},{"$nulls":5},{"v":0,"d":"0 "}]
[368,{"$nulls":25},{"v":0,"d":"0 "},{"$nulls":4},{"v":0,"d":"0.00"},null,null,{"v":0,"d":"0 "},{"$nulls":7},{"v":0,"d":"0 "},{"$nulls":4},{"v":0,"d":"0.00"},null,null,{"v":0,"d":"0 "},{"$nulls":27},{"v":0,"d":"0.0"},{"$nulls":3},{"v":0,"d":"0.0"},null,null,{"v":0,"d":"0 "},{"$nulls":5},{"v":0,"d":"0 "}]
[369,{"$nulls":25},{"v":0,"d":"0 "},{"$nulls":4},{"v":0,"d":"0.00"},null,null,{"v":0,"d":"0 "},{"$nulls":7},{"v":0,"d":"0 "},{"$nulls":4},{"v":0,"d":"0.00"},null,null,{"v":0,"d":"0 "},{"$nulls":27},{"v":0,"d":"0.0"},{"$nulls":3},{"v":0,"d":"0.0"},null,null,{"v":0,"d":"0 "},{"$nulls":5},{"v":0,"d":"0 "}]
[370,{"$nulls":25},{"v":0,"d":"0 "},{"$nulls":4},{"v":0,"d":"0.00"},null,null,{"v":0,"d":"0 "},{"$nulls":7},{"v":0,"d":"0 "},{"$nulls":4},{"v":0,"d":"0.00"},null,null,{"v":0,"d":"0 "},{"$nulls":27},{"v":0,"d":"0.0"},{"$nulls":3},{"v":0,"d":"0.0"},null,null,{"v":0,"d":"0 "},{"$nulls":5},{"v":0,"d":"0 "}]
[371,{"$nulls":25},{"v":0,"d":"0 "},{"$nulls":4},{"v":0,"d":"0.00"},null,null,{"v":0,"d":"0 "},{"$nulls":7},{"v":0,"d":"0 "},{"$nulls":4},{"v":0,"d":"0.00"},null,null,{"v":0,"d":"0 "},{"$nulls":27},{"v":0,"d":"0.0"},{"$nulls":3},{"v":0,"d":"0.0"},null,null,{"v":0,"d":"0 "},{"$nulls":5},{"v":0,"d":"0 "}]
[372,{"$nulls":25},{"v":0,"d":"0 "},{"$nulls":4},{"v":0,"d":"0.00"},null,null,{"v":0,"d":"0 "},{"$nulls":7},{"v":0,"d":"0 "},{"$nulls":4},{"v":0,"d":"0.00"},null,null,{"v":0,"d":"0 "},{"$nulls":27},{"v":0,"d":"0.0"},{"$nulls":3},{"v":0,"d":"0.0"},null,null,{"v":0,"d":"0 "},{"$nulls":5},{"v":0,"d":"0 "}]
[373,{"$nulls":25},{"v":0,"d":"0 "},{"$nulls":4},{"v":0,"d":"0.00"},null,null,{"v":0,"d":"0 "},{"$nulls":7},{"v":0,"d":"0 "},{"$nulls":4},{"v":0,"d":"0.00"},null,null,{"v":0,"d":"0 "},{"$nulls":27},{"v":0,"d":"0.0"},{"$nulls":3},{"v":0,"d":"0.0"},null,null,{"v":0,"d":"0 "},{"$nulls":5},{"v":0,"d":"0 "}]
[374,{"$nulls":25},{"v":0,"d":"0 "},{"$nulls":4},{"v":0,"d":"0.00"},null,null,{"v":0,"d":"0 "},{"$nulls":7},{"v":0,"d":"0 "},{"$nulls":4},{"v":0,"d":"0.00"},null,null,{"v":0,"d":"0 "},{"$nulls":27},{"v":0,"d":"0.0"},{"$nulls":3},{"v":0,"d":"0.0"},null,null,{"v":0,"d":"0 "},{"$nulls":5},{"v":0,"d":"0 "}]
[375,{"$nulls":25},{"v":0,"d":"0 "},{"$nulls":4},{"v":0,"d":"0.00"},null,null,{"v":0,"d":"0 "},{"$nulls":7},{"v":0,"d":"0 "},{"$nulls":4},{"v":0,"d":"0.00"},null,null,{"v":0,"d":"0 "},{"$nulls":27},{"v":0,"d":"0.0"},{"$nulls":3},{"v":0,"d":"0.0"},null,null,{"v":0,"d":"0 "},{"$nulls":5},{"v":0,"d":"0 "}]
[376,{"$nulls":25},{"v":0,"d":"0 "},{"$nulls":4},{"v":0,"d":"0.00"},null,null,{"v":0,"d":"0 "},{"$nulls":7},{"v":0,"d":"0 "},{"$nulls":4},{"v":0,"d":"0.00"},null,null,{"v":0,"d":"0 "},{"$nulls":27},{"v":0,"d":"0.0"},{"$nulls":3},{"v":0,"d":"0.0"},null,null,{"v":0,"d":"0 "},{"$nulls":5},{"v":0,"d":"0 "}]
[377,{"$nulls":25},{"v":0,"d":"0 "},{"$nulls":4},{"v":0,"d":"0.00"},null,null,{"v":0,"d":"0 "},{"$nulls":7},{"v":0,"d":"0 "},{"$nulls":4},{"v":0,"d":"0.00"},null,null,{"v":0,"d":"0 "},{"$nulls":27},{"v":0,"d":"0.0"},{"$nulls":3},{"v":0,"d":"0.0"},null,null,{"v":0,"d":"0 "},{"$nulls":5},{"v":0,"d":"0 "}]
[378,{"$nulls":25},{"v":0,"d":"0 "},{"$nulls":4},{"v":0,"d":"0.00"},null,null,{"v":0,"d":"0 "},{"$nulls":7},{"v":0,"d":"0 "},{"$nulls":4},{"v":0,"d":"0.00"},null,null,{"v":0,"d":"0 "},{"$nulls":27},{"v":0,"d":"0.0"},{"$nulls":3},{"v":0,"d":"0.0"},null,null,{"v":0,"d":"0 "},{"$nulls":5},{"v":0,"d":"0 "}]
[379,{"$nulls":25},{"v":0,"d":"0 "},{"$nulls":4},{"v":0,"d":"0.00"},null,null,{"v":0,"d":"0 "},{"$nulls":7},{"v":0,"d":"0 "},{"$nulls":4},{"v":0,"d":"0.00"},null,null,{"v":0,"d":"0 "},{"$nulls":27},{"v":0,"d":"0.0"},{"$nulls":3},{"v":0,"d":"0.0"},null,null,{"v":0,"d":"0 "},{"$nulls":5},{"v":0,"d":"0 "}]
[380,{"$nulls":25},{"v":0,"d":"0 "},{"$nulls":4},{"v":0,"d":"0.00"},null,null,{"v":0,"d":"0 "},{"$nulls":7},{"v":0,"d":"0 "},{"$nulls":4},{"v":0,"d":"0.00"},null,null,{"v":0,"d":"0 "},{"$nulls":27},{"v":0,"d":"0.0"},{"$nulls":3},{"v":0,"d":"0.0"},null,null,{"v":0,"d":"0 "},{"$nulls":5},{"v":0,"d":"0 "}]
[381,{"$nulls":25},{"v":0,"d":"0 "},{"$nulls":4},{"v":0,"d":"0.00"},null,null,{"v":0,"d":"0 "},{"$nulls":7},{"v":0,"d":"0 "},{"$nulls":4},{"v":0,"d":"0.00"},null,null,{"v":0,"d":"0 "},{"$nulls":27},{"v":0,"d":"0.0"},{"$nulls":3},{"v":0,"d":"0.0"},null,null,{"v":0,"d":"0 "},{"$nulls":5},{"v":0,"d":"0 "}]
[382,{"$nulls":25},{"v":0,"d":"0 "},{"$nulls":4},{"v":0,"d":"0.00"},null,null,{"v":0,"d":"0 "},{"$nulls":7},{"v":0,"d":"0 "},{"$nulls":4},{"v":0,"d":"0.00"},null,null,{"v":0,"d":"0 "},{"$nulls":27},{"v":0,"d":"0.0"},{"$nulls":3},{"v":0,"d":"0.0"},null,null,{"v":0,"d":"0 "},{"$nulls":5},{"v":0,"d":"0 "}]
[383,{"$nulls":25},{"v":0,"d":"0 "},{"$nulls":4},{"v":0,"d":"0.00"},null,null,{"v":0,"d":"0 "},{"$nulls":7},{"v":0,"d":"0 "},{"$nulls":4},{"v":0,"d":"0.00"},null,null,{"v":0,"d":"0 "},{"$nulls":27},{"v":0,"d":"0.0"},{"$nulls":3},{"v":0,"d":"0.0"},null,null,{"v":0,"d":"0 "},{"$nulls":5},{"v":0,"d":"0 "}]
[384,{"$nulls":25},{"v":0,"d":"0 "},{"$nulls":4},{"v":0,"d":"0.00"},null,null,{"v":0,"d":"0 "},{"$nulls":7},{"v":0,"d":"0 "},{"$nulls":4},{"v":0,"d":"0.00"},null,null,{"v":0,"d":"0 "},{"$nulls":27},{"v":0,"d":"0.0"},{"$nulls":3},{"v":0,"d":"0.0"},null,null,{"v":0,"d":"0 "},{"$nulls":5},{"v":0,"d":"0 "}]
[385,{"$nulls":25},{"v":0,"d":"0 "},{"$nulls":4},{"v":0,"d":"0.00"},null,null,{"v":0,"d":"0 "},{"$nulls":7},{"v":0,"d":"0 "},{"$nulls":4},{"v":0,"d":"0.00"},null,null,{"v":0,"d":"0 "},{"$nulls":27},{"v":0,"d":"0.0"},{"$nulls":3},{"v":0,"d":"0.0"},null,null,{"$f":"AI395","v":{"v":0,"d":"0 "}},{"$nulls":5},{"v":0,"d":"0 "}]
[386,{"$nulls":25},{"v":0,"d":"0 "},{"$nulls":4},{"v":0,"d":"0.00"},null,null,{"$f":"CO396","v":{"v":0,"d":"0 "}},{"$nulls":7},{"v":0,"d":"0 "},{"$nulls":4},{"v":0,"d":"0.00"},null,null,{"v":0,"d":"0 "},{"$nulls":27},{"v":0,"d":"0.0"},{"$nulls":3},{"v":0,"d":"0.0"},null,null,{"v":0,"d":"0 "},{"$nulls":5},{"$f":"SUM(CH396:CI396)","v":{"v":0,"d":"0 "}}]
[387,{"$nulls":25},{"v":0,"d":"0 "},{"$nulls":4},{"v":0,"d":"0.00"},null,null,{"v":0,"d":"0 "},{"$nulls":7},{"v":0,"d":"0 "},{"$nulls":4},{"v":0,"d":"0.00"},null,null,{"v":0,"d":"0 "},{"$nulls":27},{"v":0,"d":"0.0"},{"$nulls":3},{"v":0,"d":"0.0"},null,null,{"v":0,"d":"0 "},{"$nulls":5},{"v":0,"d":"0 "}]
[388,{"$nulls":25},{"v":0,"d":"0 "},{"$nulls":4},{"v":0,"d":"0.00"},null,null,{"v":0,"d":"0 "},{"$nulls":7},{"v":0,"d":"0 "},{"$nulls":4},{"v":0,"d":"0.00"},null,null,{"v":0,"d":"0 "},{"$nulls":27},{"v":0,"d":"0.0"},{"$nulls":3},{"v":0,"d":"0.0"},null,null,{"v":0,"d":"0 "},{"$nulls":5},{"v":0,"d":"0 "}]
[389,{"$nulls":25},{"v":0,"d":"0 "},{"$nulls":4},{"v":0,"d":"0.00"},null,null,{"v":0,"d":"0 "},{"$nulls":7},{"v":0,"d":"0 "},{"$nulls":4},{"v":0,"d":"0.00"},null,null,{"v":0,"d":"0 "},{"$nulls":27},{"v":0,"d":"0.0"},{"$nulls":3},{"v":0,"d":"0.0"},null,null,{"v":0,"d":"0 "},{"$nulls":5},{"v":0,"d":"0 "}]
[390,{"$nulls":25},{"v":0,"d":"0 "},{"$nulls":4},{"v":0,"d":"0.00"},null,null,{"v":0,"d":"0 "},{"$nulls":7},{"v":0,"d":"0 "},{"$nulls":4},{"v":0,"d":"0.00"},null,null,{"v":0,"d":"0 "},{"$nulls":27},{"v":0,"d":"0.0"},{"$nulls":3},{"v":0,"d":"0.0"},null,null,{"v":0,"d":"0 "},{"$nulls":5},{"v":0,"d":"0 "}]
[391,{"$nulls":25},{"v":0,"d":"0 "},{"$nulls":4},{"v":0,"d":"0.00"},null,null,{"v":0,"d":"0 "},{"$nulls":7},{"v":0,"d":"0 "},{"$nulls":4},{"v":0,"d":"0.00"},null,null,{"v":0,"d":"0 "},{"$nulls":27},{"v":0,"d":"0.0"},{"$nulls":3},{"v":0,"d":"0.0"},null,null,{"v":0,"d":"0 "},{"$nulls":5},{"v":0,"d":"0 "}]
[392,{"$nulls":25},{"v":0,"d":"0 "},{"$nulls":4},{"v":0,"d":"0.00"},null,null,{"v":0,"d":"0 "},{"$nulls":7},{"v":0,"d":"0 "},{"$nulls":4},{"v":0,"d":"0.00"},null,null,{"v":0,"d":"0 "},{"$nulls":27},{"v":0,"d":"0.0"},{"$nulls":3},{"v":0,"d":"0.0"},null,null,{"v":0,"d":"0 "},{"$nulls":5},{"v":0,"d":"0 "}]
[393,{"$nulls":25},{"v":0,"d":"0 "},{"$nulls":4},{"$f":"CF403","v":{"v":0,"d":"0.00"}},null,null,{"v":0,"d":"0 "},{"$nulls":7},{"$f":"ROUND(AN403*$W403,0)","v":{"v":0,"d":"0 "}},{"$nulls":4},{"$f":"T403-AF403-AN403","v":{"v":0,"d":"0.00"}},null,null,{"$f":"AA403-AI403-AQ403","v":{"v":0,"d":"0 "}},{"$nulls":27},{"v":0,"d":"0.0"},{"$nulls":3},{"v":0,"d":"0.0"},null,null,{"v":0,"d":"0 "},{"$nulls":5},{"v":0,"d":"0 "}]
[394,{"$nulls":25},{"v":0,"d":"0 "},{"$nulls":4},{"v":0,"d":"0.00"},null,null,{"v":0,"d":"0 "},{"$nulls":7},{"v":0,"d":"0 "},{"$nulls":4},{"v":0,"d":"0.00"},null,null,{"v":0,"d":"0 "},{"$nulls":27},{"v":0,"d":"0.0"},{"$nulls":3},{"v":0,"d":"0.0"},null,null,{"v":0,"d":"0 "},{"$nulls":5},{"v":0,"d":"0 "}]
[395,{"$nulls":25},{"v":0,"d":"0 "},{"$nulls":4},{"v":0,"d":"0.00"},null,null,{"v":0,"d":"0 "},{"$nulls":7},{"v":0,"d":"0 "},{"$nulls":4},{"v":0,"d":"0.00"},null,null,{"v":0,"d":"0 "},{"$nulls":27},{"$f":"AF405","v":{"v":0,"d":"0.0"}},{"$nulls":3},{"v":0,"d":"0.0"},null,null,{"v":0,"d":"0 "},{"$nulls":5},{"v":0,"d":"0 "}]
[396,{"$nulls":25},{"v":0,"d":"0 "},{"$nulls":4},{"v":0,"d":"0.00"},null,null,{"v":0,"d":"0 "},{"$nulls":7},{"v":0,"d":"0 "},{"$nulls":4},{"v":0,"d":"0.00"},null,null,{"v":0,"d":"0 "},{"$nulls":27},{"v":0,"d":"0.0"},{"$nulls":3},{"v":0,"d":"0.0"},null,null,{"v":0,"d":"0 "},{"$nulls":5},{"v":0,"d":"0 "}]
[397,{"$nulls":25},{"v":0,"d":"0 "},{"$nulls":4},{"v":0,"d":"0.00"},null,null,{"v":0,"d":"0 "},{"$nulls":7},{"v":0,"d":"0 "},{"$nulls":4},{"v":0,"d":"0.00"},null,null,{"v":0,"d":"0 "},{"$nulls":27},{"v":0,"d":"0.0"},{"$nulls":3},{"v":0,"d":"0.0"},null,null,{"v":0,"d":"0 "},{"$nulls":5},{"v":0,"d":"0 "}]
[398,{"$nulls":25},{"$f":"ROUND(T408*$W408,0)","v":{"v":0,"d":"0 "}},{"$nulls":4},{"v":0,"d":"0.00"},null,null,{"v":0,"d":"0 "},{"$nulls":7},{"v":0,"d":"0 "},{"$nulls":4},{"v":0,"d":"0.00"},null,null,{"v":0,"d":"0 "},{"$nulls":27},{"v":0,"d":"0.0"},{"$nulls":3},{"$f":"SUM(CA408:CB408)","v":{"v":0,"d":"0.0"}},null,null,{"v":0,"d":"0 "},{"$nulls":5},{"v":0,"d":"0 "}]
[399,{"$nulls":25},{"$f":"ROUND(T409*$W409,0)","v":{"v":0,"d":"0 "}},{"$nulls":4},{"v":0,"d":"0.00"},null,null,{"v":0,"d":"0 "},{"$nulls":7},{"v":0,"d":"0 "},{"$nulls":4},{"v":0,"d":"0.00"},null,null,{"v":0,"d":"0 "},{"$nulls":27},{"v":0,"d":"0.0"},{"$nulls":3},{"v":0,"d":"0.0"},null,null,{"v":0,"d":"0 "},{"$nulls":5},{"v":0,"d":"0 "}]
[400,{"$nulls":25},{"$f":"ROUND(T410*$W410,0)","v":{"v":0,"d":"0 "}},{"$nulls":4},{"$f":"CF410","v":{"v":0,"d":"0.00"}},null,null,{"v":0,"d":"0 "},{"$nulls":7},{"v":0,"d":"0 "},{"$nulls":4},{"v":0,"d":"0.00"},null,null,{"v":0,"d":"0 "},{"$nulls":27},{"v":0,"d":"0.0"},{"$nulls":3},{"v":0,"d":"0.0"},null,null,{"v":0,"d":"0 "},{"$nulls":5},{"v":0,"d":"0 "}]
[401,{"$nulls":25},{"$f":"ROUND(T411*$W411,0)","v":{"v":0,"d":"0 "}},{"$nulls":4},{"v":0,"d":"0.00"},null,null,{"v":0,"d":"0 "},{"$nulls":7},{"$f":"ROUND(AN411*$W411,0)","v":{"v":0,"d":"0 "}},{"$nulls":4},{"$f":"T411-AF411-AN411","v":{"v":0,"d":"0.00"}},null,null,{"$f":"AA411-AI411-AQ411","v":{"v":0,"d":"0 "}},{"$nulls":27},{"$f":"AF411","v":{"v":0,"d":"0.0"}},{"$nulls":3},{"v":0,"d":"0.0"},null,null,{"v":0,"d":"0 "},{"$nulls":5},{"v":0,"d":"0 "}]
[402,{"$nulls":25},{"$f":"ROUND(T412*$W412,0)","v":{"v":0,"d":"0 "}},{"$nulls":4},{"v":0,"d":"0.00"},null,null,{"v":0,"d":"0 "},{"$nulls":7},{"$f":"ROUND(AN412*$W412,0)","v":{"v":0,"d":"0 "}},{"$nulls":4},{"$f":"T412-AF412-AN412","v":{"v":0,"d":"0.00"}},null,null,{"$f":"AA412-AI412-AQ412","v":{"v":0,"d":"0 "}},{"$nulls":27},{"v":0,"d":"0.0"},{"$nulls":3},{"v":0,"d":"0.0"},null,null,{"v":0,"d":"0 "},{"$nulls":5},{"v":0,"d":"0 "}]
[403,{"$nulls":25},{"v":0,"d":"0 "},{"$nulls":4},{"v":0,"d":"0.00"},null,null,{"v":0,"d":"0 "},{"$nulls":7},{"v":0,"d":"0 "},{"$nulls":4},{"v":0,"d":"0.00"},null,null,{"v":0,"d":"0 "},{"$nulls":27},{"v":0,"d":"0.0"},{"$nulls":3},{"v":0,"d":"0.0"},null,null,{"v":0,"d":"0 "},{"$nulls":5},{"v":0,"d":"0 "}]
[404,{"$nulls":25},{"v":0,"d":"0 "},{"$nulls":4},{"v":0,"d":"0.00"},null,null,{"v":0,"d":"0 "},{"$nulls":7},{"v":0,"d":"0 "},{"$nulls":4},{"v":0,"d":"0.00"},null,null,{"v":0,"d":"0 "},{"$nulls":27},{"v":0,"d":"0.0"},{"$nulls":3},{"v":0,"d":"0.0"},null,null,{"v":0,"d":"0 "},{"$nulls":5},{"v":0,"d":"0 "}]
[405,{"$nulls":25},{"v":0,"d":"0 "},{"$nulls":4},{"v":0,"d":"0.00"},null,null,{"v":0,"d":"0 "},{"$nulls":7},{"v":0,"d":"0 "},{"$nulls":4},{"v":0,"d":"0.00"},null,null,{"v":0,"d":"0 "},{"$nulls":27},{"v":0,"d":"0.0"},{"$nulls":3},{"v":0,"d":"0.0"},null,null,{"v":0,"d":"0 "},{"$nulls":5},{"v":0,"d":"0 "}]
[406,{"$nulls":25},{"v":0,"d":"0 "},{"$nulls":4},{"v":0,"d":"0.00"},null,null,{"v":0,"d":"0 "},{"$nulls":7},{"v":0,"d":"0 "},{"$nulls":4},{"v":0,"d":"0.00"},null,null,{"v":0,"d":"0 "},{"$nulls":27},{"v":0,"d":"0.0"},{"$nulls":3},{"v":0,"d":"0.0"},null,null,{"v":0,"d":"0 "},{"$nulls":5},{"v":0,"d":"0 "}]
[407,{"$nulls":25},{"v":0,"d":"0 "},{"$nulls":4},{"v":0,"d":"0.00"},null,null,{"v":0,"d":"0 "},{"$nulls":7},{"v":0,"d":"0 "},{"$nulls":4},{"v":0,"d":"0.00"},null,null,{"v":0,"d":"0 "},{"$nulls":27},{"v":0,"d":"0.0"},{"$nulls":3},{"v":0,"d":"0.0"},null,null,{"v":0,"d":"0 "},{"$nulls":5},{"v":0,"d":"0 "}]
[408,{"$nulls":25},{"v":0,"d":"0 "},{"$nulls":4},{"v":0,"d":"0.00"},null,null,{"v":0,"d":"0 "},{"$nulls":7},{"v":0,"d":"0 "},{"$nulls":4},{"v":0,"d":"0.00"},null,null,{"v":0,"d":"0 "},{"$nulls":27},{"v":0,"d":"0.0"},{"$nulls":3},{"v":0,"d":"0.0"},null,null,{"v":0,"d":"0 "},{"$nulls":5},{"v":0,"d":"0 "}]
[409,{"$nulls":25},{"v":0,"d":"0 "},{"$nulls":4},{"v":0,"d":"0.00"},null,null,{"v":0,"d":"0 "},{"$nulls":7},{"v":0,"d":"0 "},{"$nulls":4},{"v":0,"d":"0.00"},null,null,{"v":0,"d":"0 "},{"$nulls":27},{"v":0,"d":"0.0"},{"$nulls":3},{"v":0,"d":"0.0"},null,null,{"v":0,"d":"0 "},{"$nulls":5},{"v":0,"d":"0 "}]
[410,{"$nulls":25},{"v":0,"d":"0 "},{"$nulls":4},{"v":0,"d":"0.00"},null,null,{"v":0,"d":"0 "},{"$nulls":7},{"v":0,"d":"0 "},{"$nulls":4},{"v":0,"d":"0.00"},null,null,{"v":0,"d":"0 "},{"$nulls":27},{"v":0,"d":"0.0"},{"$nulls":3},{"v":0,"d":"0.0"},null,null,{"v":0,"d":"0 "},{"$nulls":5},{"v":0,"d":"0 "}]
[411,{"$nulls":25},{"$f":"ROUND(T421*$W421,0)","v":{"v":0,"d":"0 "}},{"$nulls":4},{"v":0,"d":"0.00"},null,null,{"v":0,"d":"0 "},{"$nulls":7},{"$f":"ROUND(AN421*$W421,0)","v":{"v":0,"d":"0 "}},{"$nulls":4},{"$f":"T421-AF421-AN421","v":{"v":0,"d":"0.00"}},null,null,{"$f":"AA421-AI421-AQ421","v":{"v":0,"d":"0 "}},{"$nulls":27},{"v":0,"d":"0.0"},{"$nulls":3},{"v":0,"d":"0.0"},null,null,{"v":0,"d":"0 "},{"$nulls":5},{"v":0,"d":"0 "}]
[412,{"$nulls":25},{"$f":"ROUND(T422*$W422,0)","v":{"v":0,"d":"0 "}},{"$nulls":4},{"v":0,"d":"0.00"},null,null,{"v":0,"d":"0 "},{"$nulls":7},{"$f":"ROUND(AN422*$W422,0)","v":{"v":0,"d":"0 "}},{"$nulls":4},{"$f":"T422-AF422-AN422","v":{"v":0,"d":"0.00"}},null,null,{"$f":"AA422-AI422-AQ422","v":{"v":0,"d":"0 "}},{"$nulls":27},{"v":0,"d":"0.0"},{"$nulls":3},{"v":0,"d":"0.0"},null,null,{"v":0,"d":"0 "},{"$nulls":5},{"v":0,"d":"0 "}]
[413,{"$nulls":25},{"v":0,"d":"0 "},{"$nulls":4},{"v":0,"d":"0.00"},null,null,{"v":0,"d":"0 "},{"$nulls":7},{"v":0,"d":"0 "},{"$nulls":4},{"v":0,"d":"0.00"},null,null,{"v":0,"d":"0 "},{"$nulls":27},{"v":0,"d":"0.0"},{"$nulls":3},{"v":0,"d":"0.0"},null,null,{"v":0,"d":"0 "},{"$nulls":5},{"v":0,"d":"0 "}]
[414,{"$nulls":25},{"v":0,"d":"0 "},{"$nulls":4},{"v":0,"d":"0.00"},null,null,{"v":0,"d":"0 "},{"$nulls":7},{"v":0,"d":"0 "},{"$nulls":4},{"v":0,"d":"0.00"},null,null,{"v":0,"d":"0 "},{"$nulls":27},{"v":0,"d":"0.0"},{"$nulls":3},{"v":0,"d":"0.0"},null,null,{"v":0,"d":"0 "},{"$nulls":5},{"v":0,"d":"0 "}]
[415,{"$nulls":25},{"v":0,"d":"0 "},{"$nulls":4},{"v":0,"d":"0.00"},null,null,{"v":0,"d":"0 "},{"$nulls":7},{"v":0,"d":"0 "},{"$nulls":4},{"v":0,"d":"0.00"},null,null,{"v":0,"d":"0 "},{"$nulls":27},{"v":0,"d":"0.0"},{"$nulls":3},{"v":0,"d":"0.0"},null,null,{"v":0,"d":"0 "},{"$nulls":5},{"v":0,"d":"0 "}]
[416,{"$nulls":25},{"v":0,"d":"0 "},{"$nulls":4},{"v":0,"d":"0.00"},null,null,{"v":0,"d":"0 "},{"$nulls":7},{"v":0,"d":"0 "},{"$nulls":4},{"v":0,"d":"0.00"},null,null,{"v":0,"d":"0 "},{"$nulls":27},{"v":0,"d":"0.0"},{"$nulls":3},{"v":0,"d":"0.0"},null,null,{"v":0,"d":"0 "},{"$nulls":5},{"v":0,"d":"0 "}]
[417,{"$nulls":25},{"v":0,"d":"0 "},{"$nulls":4},{"v":0,"d":"0.00"},null,null,{"v":0,"d":"0 "},{"$nulls":7},{"v":0,"d":"0 "},{"$nulls":4},{"v":0,"d":"0.00"},null,null,{"v":0,"d":"0 "},{"$nulls":27},{"v":0,"d":"0.0"},{"$nulls":3},{"v":0,"d":"0.0"},null,null,{"v":0,"d":"0 "},{"$nulls":5},{"v":0,"d":"0 "}]
[418,{"$nulls":25},{"v":0,"d":"0 "},{"$nulls":4},{"v":0,"d":"0.00"},null,null,{"v":0,"d":"0 "},{"$nulls":7},{"v":0,"d":"0 "},{"$nulls":4},{"v":0,"d":"0.00"},null,null,{"v":0,"d":"0 "},{"$nulls":27},{"v":0,"d":"0.0"},{"$nulls":3},{"v":0,"d":"0.0"},null,null,{"v":0,"d":"0 "},{"$nulls":5},{"v":0,"d":"0 "}]
[419,{"$nulls":25},{"v":0,"d":"0 "},{"$nulls":4},{"v":0,"d":"0.00"},null,null,{"v":0,"d":"0 "},{"$nulls":7},{"v":0,"d":"0 "},{"$nulls":4},{"v":0,"d":"0.00"},null,null,{"v":0,"d":"0 "},{"$nulls":27},{"v":0,"d":"0.0"},{"$nulls":3},{"v":0,"d":"0.0"},null,null,{"v":0,"d":"0 "},{"$nulls":5},{"v":0,"d":"0 "}]
[420,{"$nulls":25},{"v":0,"d":"0 "},{"$nulls":4},{"v":0,"d":"0.00"},null,null,{"v":0,"d":"0 "},{"$nulls":7},{"v":0,"d":"0 "},{"$nulls":4},{"v":0,"d":"0.00"},null,null,{"v":0,"d":"0 "},{"$nulls":27},{"v":0,"d":"0.0"},{"$nulls":3},{"v":0,"d":"0.0"},null,null,{"v":0,"d":"0 "},{"$nulls":5},{"v":0,"d":"0 "}]
[421,{"$nulls":25},{"$f":"ROUND(T431*$W431,0)","v":{"v":0,"d":"0 "}},{"$nulls":4},{"v":0,"d":"0.00"},null,null,{"v":0,"d":"0 "},{"$nulls":7},{"$f":"ROUND(AN431*$W431,0)","v":{"v":0,"d":"0 "}},{"$nulls":4},{"$f":"T431-AF431-AN431","v":{"v":0,"d":"0.00"}},null,null,{"$f":"AA431-AI431-AQ431","v":{"v":0,"d":"0 "}},{"$nulls":27},{"v":0,"d":"0.0"},{"$nulls":3},{"v":0,"d":"0.0"},null,null,{"v":0,"d":"0 "},{"$nulls":5},{"v":0,"d":"0 "}]
[422,{"$nulls":25},{"$f":"ROUND(T432*$W432,0)","v":{"v":0,"d":"0 "}},{"$nulls":4},{"v":0,"d":"0.00"},null,null,{"v":0,"d":"0 "},{"$nulls":7},{"$f":"ROUND(AN432*$W432,0)","v":{"v":0,"d":"0 "}},{"$nulls":4},{"$f":"T432-AF432-AN432","v":{"v":0,"d":"0.00"}},null,null,{"$f":"AA432-AI432-AQ432","v":{"v":0,"d":"0 "}},{"$nulls":27},{"v":0,"d":"0.0"},{"$nulls":3},{"v":0,"d":"0.0"},null,null,{"v":0,"d":"0 "},{"$nulls":5},{"v":0,"d":"0 "}]
[423,{"$nulls":25},{"v":0,"d":"0 "},{"$nulls":4},{"v":0,"d":"0.00"},null,null,{"v":0,"d":"0 "},{"$nulls":7},{"v":0,"d":"0 "},{"$nulls":4},{"v":0,"d":"0.00"},null,null,{"v":0,"d":"0 "},{"$nulls":27},{"v":0,"d":"0.0"},{"$nulls":3},{"v":0,"d":"0.0"},null,null,{"v":0,"d":"0 "},{"$nulls":5},{"v":0,"d":"0 "}]
[424,{"$nulls":25},{"v":0,"d":"0 "},{"$nulls":4},{"v":0,"d":"0.00"},null,null,{"v":0,"d":"0 "},{"$nulls":7},{"v":0,"d":"0 "},{"$nulls":4},{"v":0,"d":"0.00"},null,null,{"v":0,"d":"0 "},{"$nulls":27},{"v":0,"d":"0.0"},{"$nulls":3},{"v":0,"d":"0.0"},null,null,{"v":0,"d":"0 "},{"$nulls":5},{"v":0,"d":"0 "}]
[425,{"$nulls":25},{"v":0,"d":"0 "},{"$nulls":4},{"v":0,"d":"0.00"},null,null,{"v":0,"d":"0 "},{"$nulls":7},{"v":0,"d":"0 "},{"$nulls":4},{"v":0,"d":"0.00"},null,null,{"v":0,"d":"0 "},{"$nulls":27},{"v":0,"d":"0.0"},{"$nulls":3},{"v":0,"d":"0.0"},null,null,{"v":0,"d":"0 "},{"$nulls":5},{"v":0,"d":"0 "}]
[426,{"$nulls":25},{"v":0,"d":"0 "},{"$nulls":4},{"v":0,"d":"0.00"},null,null,{"v":0,"d":"0 "},{"$nulls":7},{"v":0,"d":"0 "},{"$nulls":4},{"v":0,"d":"0.00"},null,null,{"v":0,"d":"0 "},{"$nulls":27},{"v":0,"d":"0.0"},{"$nulls":3},{"v":0,"d":"0.0"},null,null,{"v":0,"d":"0 "},{"$nulls":5},{"v":0,"d":"0 "}]
[427,{"$nulls":25},{"v":0,"d":"0 "},{"$nulls":4},{"v":0,"d":"0.00"},null,null,{"v":0,"d":"0 "},{"$nulls":7},{"v":0,"d":"0 "},{"$nulls":4},{"v":0,"d":"0.00"},null,null,{"v":0,"d":"0 "},{"$nulls":27},{"v":0,"d":"0.0"},{"$nulls":3},{"v":0,"d":"0.0"},null,null,{"v":0,"d":"0 "},{"$nulls":5},{"v":0,"d":"0 "}]
[428,{"$nulls":25},{"v":0,"d":"0 "},{"$nulls":4},{"v":0,"d":"0.00"},null,null,{"v":0,"d":"0 "},{"$nulls":7},{"v":0,"d":"0 "},{"$nulls":4},{"v":0,"d":"0.00"},null,null,{"v":0,"d":"0 "},{"$nulls":27},{"v":0,"d":"0.0"},{"$nulls":3},{"v":0,"d":"0.0"},null,null,{"v":0,"d":"0 "},{"$nulls":5},{"v":0,"d":"0 "}]
[429,{"$nulls":25},{"v":0,"d":"0 "},{"$nulls":4},{"v":0,"d":"0.00"},null,null,{"v":0,"d":"0 "},{"$nulls":7},{"v":0,"d":"0 "},{"$nulls":4},{"v":0,"d":"0.00"},null,null,{"v":0,"d":"0 "},{"$nulls":27},{"v":0,"d":"0.0"},{"$nulls":3},{"v":0,"d":"0.0"},null,null,{"v":0,"d":"0 "},{"$nulls":5},{"v":0,"d":"0 "}]
[430,{"$nulls":25},{"v":0,"d":"0 "},{"$nulls":4},{"v":0,"d":"0.00"},null,null,{"v":0,"d":"0 "},{"$nulls":7},{"v":0,"d":"0 "},{"$nulls":4},{"v":0,"d":"0.00"},null,null,{"v":0,"d":"0 "},{"$nulls":27},{"v":0,"d":"0.0"},{"$nulls":3},{"v":0,"d":"0.0"},null,null,{"v":0,"d":"0 "},{"$nulls":5},{"v":0,"d":"0 "}]
[431,{"$nulls":25},{"$f":"ROUND(T441*$W441,0)","v":{"v":0,"d":"0 "}},{"$nulls":4},{"v":0,"d":"0.00"},null,null,{"v":0,"d":"0 "},{"$nulls":7},{"$f":"ROUND(AN441*$W441,0)","v":{"v":0,"d":"0 "}},{"$nulls":4},{"$f":"T441-AF441-AN441","v":{"v":0,"d":"0.00"}},null,null,{"$f":"AA441-AI441-AQ441","v":{"v":0,"d":"0 "}},{"$nulls":27},{"v":0,"d":"0.0"},{"$nulls":3},{"v":0,"d":"0.0"},null,null,{"v":0,"d":"0 "},{"$nulls":5},{"v":0,"d":"0 "}]
[432,{"$nulls":25},{"$f":"ROUND(T442*$W442,0)","v":{"v":0,"d":"0 "}},{"$nulls":4},{"$f":"CF442","v":{"v":0,"d":"0.00"}},null,null,{"v":0,"d":"0 "},{"$nulls":7},{"$f":"ROUND(AN442*$W442,0)","v":{"v":0,"d":"0 "}},{"$nulls":4},{"$f":"T442-AF442-AN442","v":{"v":0,"d":"0.00"}},null,null,{"$f":"AA442-AI442-AQ442","v":{"v":0,"d":"0 "}},{"$nulls":27},{"v":0,"d":"0.0"},{"$nulls":3},{"v":0,"d":"0.0"},null,null,{"v":0,"d":"0 "},{"$nulls":5},{"v":0,"d":"0 "}]
[433,{"$nulls":25},{"v":0,"d":"0 "},{"$nulls":4},{"v":0,"d":"0.00"},null,null,{"v":0,"d":"0 "},{"$nulls":7},{"v":0,"d":"0 "},{"$nulls":4},{"v":0,"d":"0.00"},null,null,{"v":0,"d":"0 "},{"$nulls":27},{"$f":"AF443","v":{"v":0,"d":"0.0"}},{"$nulls":3},{"v":0,"d":"0.0"},null,null,{"v":0,"d":"0 "},{"$nulls":5},{"v":0,"d":"0 "}]
[434,{"$nulls":25},{"v":0,"d":"0 "},{"$nulls":4},{"v":0,"d":"0.00"},null,null,{"v":0,"d":"0 "},{"$nulls":7},{"v":0,"d":"0 "},{"$nulls":4},{"v":0,"d":"0.00"},null,null,{"v":0,"d":"0 "},{"$nulls":27},{"v":0,"d":"0.0"},{"$nulls":3},{"v":0,"d":"0.0"},null,null,{"v":0,"d":"0 "},{"$nulls":5},{"v":0,"d":"0 "}]
[435,{"$nulls":25},{"v":0,"d":"0 "},{"$nulls":4},{"v":0,"d":"0.00"},null,null,{"v":0,"d":"0 "},{"$nulls":7},{"v":0,"d":"0 "},{"$nulls":4},{"v":0,"d":"0.00"},null,null,{"v":0,"d":"0 "},{"$nulls":27},{"v":0,"d":"0.0"},{"$nulls":3},{"v":0,"d":"0.0"},null,null,{"v":0,"d":"0 "},{"$nulls":5},{"v":0,"d":"0 "}]
[436,{"$nulls":25},{"v":0,"d":"0 "},{"$nulls":4},{"v":0,"d":"0.00"},null,null,{"v":0,"d":"0 "},{"$nulls":7},{"v":0,"d":"0 "},{"$nulls":4},{"v":0,"d":"0.00"},null,null,{"v":0,"d":"0 "},{"$nulls":27},{"v":0,"d":"0.0"},{"$nulls":3},{"v":0,"d":"0.0"},null,null,{"v":0,"d":"0 "},{"$nulls":5},{"v":0,"d":"0 "}]
[437,{"$nulls":25},{"v":0,"d":"0 "},{"$nulls":4},{"v":0,"d":"0.00"},null,null,{"v":0,"d":"0 "},{"$nulls":7},{"v":0,"d":"0 "},{"$nulls":4},{"v":0,"d":"0.00"},null,null,{"v":0,"d":"0 "},{"$nulls":27},{"v":0,"d":"0.0"},{"$nulls":3},{"v":0,"d":"0.0"},null,null,{"v":0,"d":"0 "},{"$nulls":5},{"v":0,"d":"0 "}]
[438,{"$nulls":25},{"v":0,"d":"0 "},{"$nulls":4},{"v":0,"d":"0.00"},null,null,{"v":0,"d":"0 "},{"$nulls":7},{"v":0,"d":"0 "},{"$nulls":4},{"v":0,"d":"0.00"},null,null,{"v":0,"d":"0 "},{"$nulls":27},{"v":0,"d":"0.0"},{"$nulls":3},{"v":0,"d":"0.0"},null,null,{"v":0,"d":"0 "},{"$nulls":5},{"v":0,"d":"0 "}]
[439,{"$nulls":25},{"v":0,"d":"0 "},{"$nulls":4},{"v":0,"d":"0.00"},null,null,{"v":0,"d":"0 "},{"$nulls":7},{"v":0,"d":"0 "},{"$nulls":4},{"v":0,"d":"0.00"},null,null,{"v":0,"d":"0 "},{"$nulls":27},{"v":0,"d":"0.0"},{"$nulls":3},{"v":0,"d":"0.0"},null,null,{"v":0,"d":"0 "},{"$nulls":5},{"v":0,"d":"0 "}]
[440,{"$nulls":25},{"v":0,"d":"0 "},{"$nulls":4},{"v":0,"d":"0.00"},null,null,{"v":0,"d":"0 "},{"$nulls":7},{"v":0,"d":"0 "},{"$nulls":4},{"v":0,"d":"0.00"},null,null,{"v":0,"d":"0 "},{"$nulls":27},{"v":0,"d":"0.0"},{"$nulls":3},{"v":0,"d":"0.0"},null,null,{"v":0,"d":"0 "},{"$nulls":5},{"v":0,"d":"0 "}]
[441,{"$nulls":25},{"$f":"ROUND(T451*$W451,0)","v":{"v":0,"d":"0 "}},{"$nulls":4},{"v":0,"d":"0.00"},null,null,{"v":0,"d":"0 "},{"$nulls":7},{"$f":"ROUND(AN451*$W451,0)","v":{"v":0,"d":"0 "}},{"$nulls":4},{"$f":"T451-AF451-AN451","v":{"v":0,"d":"0.00"}},null,null,{"$f":"AA451-AI451-AQ451","v":{"v":0,"d":"0 "}},{"$nulls":27},{"v":0,"d":"0.0"},{"$nulls":3},{"v":0,"d":"0.0"},null,null,{"v":0,"d":"0 "},{"$nulls":5},{"v":0,"d":"0 "}]
[442,{"$nulls":25},{"$f":"ROUND(T452*$W452,0)","v":{"v":0,"d":"0 "}},{"$nulls":4},{"v":0,"d":"0.00"},null,null,{"v":0,"d":"0 "},{"$nulls":7},{"$f":"ROUND(AN452*$W452,0)","v":{"v":0,"d":"0 "}},{"$nulls":4},{"$f":"T452-AF452-AN452","v":{"v":0,"d":"0.00"}},null,null,{"$f":"AA452-AI452-AQ452","v":{"v":0,"d":"0 "}},{"$nulls":27},{"v":0,"d":"0.0"},{"$nulls":3},{"v":0,"d":"0.0"},null,null,{"v":0,"d":"0 "},{"$nulls":5},{"v":0,"d":"0 "}]
[443,{"$nulls":25},{"v":0,"d":"0 "},{"$nulls":4},{"v":0,"d":"0.00"},null,null,{"v":0,"d":"0 "},{"$nulls":7},{"v":0,"d":"0 "},{"$nulls":4},{"v":0,"d":"0.00"},null,null,{"v":0,"d":"0 "},{"$nulls":27},{"v":0,"d":"0.0"},{"$nulls":3},{"v":0,"d":"0.0"},null,null,{"v":0,"d":"0 "},{"$nulls":5},{"v":0,"d":"0 "}]
[444,{"$nulls":25},{"v":0,"d":"0 "},{"$nulls":4},{"v":0,"d":"0.00"},null,null,{"v":0,"d":"0 "},{"$nulls":7},{"v":0,"d":"0 "},{"$nulls":4},{"v":0,"d":"0.00"},null,null,{"v":0,"d":"0 "},{"$nulls":27},{"v":0,"d":"0.0"},{"$nulls":3},{"v":0,"d":"0.0"},null,null,{"v":0,"d":"0 "},{"$nulls":5},{"v":0,"d":"0 "}]
[445,{"$nulls":25},{"v":0,"d":"0 "},{"$nulls":4},{"v":0,"d":"0.00"},null,null,{"v":0,"d":"0 "},{"$nulls":7},{"v":0,"d":"0 "},{"$nulls":4},{"v":0,"d":"0.00"},null,null,{"v":0,"d":"0 "},{"$nulls":27},{"v":0,"d":"0.0"},{"$nulls":3},{"v":0,"d":"0.0"},null,null,{"v":0,"d":"0 "},{"$nulls":5},{"v":0,"d":"0 "}]
[446,{"$nulls":25},{"v":0,"d":"0 "},{"$nulls":4},{"v":0,"d":"0.00"},null,null,{"v":0,"d":"0 "},{"$nulls":7},{"v":0,"d":"0 "},{"$nulls":4},{"v":0,"d":"0.00"},null,null,{"v":0,"d":"0 "},{"$nulls":27},{"v":0,"d":"0.0"},{"$nulls":3},{"v":0,"d":"0.0"},null,null,{"v":0,"d":"0 "},{"$nulls":5},{"v":0,"d":"0 "}]
[447,{"$nulls":25},{"v":0,"d":"0 "},{"$nulls":4},{"v":0,"d":"0.00"},null,null,{"v":0,"d":"0 "},{"$nulls":7},{"v":0,"d":"0 "},{"$nulls":4},{"v":0,"d":"0.00"},null,null,{"v":0,"d":"0 "},{"$nulls":27},{"v":0,"d":"0.0"},{"$nulls":3},{"v":0,"d":"0.0"},null,null,{"v":0,"d":"0 "},{"$nulls":5},{"v":0,"d":"0 "}]
[448,{"$nulls":25},{"v":0,"d":"0 "},{"$nulls":4},{"v":0,"d":"0.00"},null,null,{"v":0,"d":"0 "},{"$nulls":7},{"v":0,"d":"0 "},{"$nulls":4},{"v":0,"d":"0.00"},null,null,{"v":0,"d":"0 "},{"$nulls":27},{"v":0,"d":"0.0"},{"$nulls":3},{"v":0,"d":"0.0"},null,null,{"v":0,"d":"0 "},{"$nulls":5},{"v":0,"d":"0 "}]
[449,{"$nulls":25},{"v":0,"d":"0 "},{"$nulls":4},{"v":0,"d":"0.00"},null,null,{"v":0,"d":"0 "},{"$nulls":7},{"v":0,"d":"0 "},{"$nulls":4},{"v":0,"d":"0.00"},null,null,{"v":0,"d":"0 "},{"$nulls":27},{"v":0,"d":"0.0"},{"$nulls":3},{"v":0,"d":"0.0"},null,null,{"$f":"AI459","v":{"v":0,"d":"0 "}},{"$nulls":5},{"v":0,"d":"0 "}]
[450,{"$nulls":25},{"v":0,"d":"0 "},{"$nulls":4},{"v":0,"d":"0.00"},null,null,{"$f":"CO460","v":{"v":0,"d":"0 "}},{"$nulls":7},{"v":0,"d":"0 "},{"$nulls":4},{"v":0,"d":"0.00"},null,null,{"v":0,"d":"0 "},{"$nulls":27},{"v":0,"d":"0.0"},{"$nulls":3},{"v":0,"d":"0.0"},null,null,{"v":0,"d":"0 "},{"$nulls":5},{"$f":"SUM(CH460:CI460)","v":{"v":0,"d":"0 "}}]
[451,{"$nulls":25},{"$f":"ROUND(T461*$W461,0)","v":{"v":0,"d":"0 "}},{"$nulls":4},{"v":0,"d":"0.00"},null,null,{"v":0,"d":"0 "},{"$nulls":7},{"$f":"ROUND(AN461*$W461,0)","v":{"v":0,"d":"0 "}},{"$nulls":4},{"$f":"T461-AF461-AN461","v":{"v":0,"d":"0.00"}},null,null,{"$f":"AA461-AI461-AQ461","v":{"v":0,"d":"0 "}},{"$nulls":27},{"v":0,"d":"0.0"},{"$nulls":3},{"v":0,"d":"0.0"},null,null,{"v":0,"d":"0 "},{"$nulls":5},{"v":0,"d":"0 "}]
[452,{"$nulls":25},{"$f":"ROUND(T462*$W462,0)","v":{"v":0,"d":"0 "}},{"$nulls":4},{"v":0,"d":"0.00"},null,null,{"v":0,"d":"0 "},{"$nulls":7},{"$f":"ROUND(AN462*$W462,0)","v":{"v":0,"d":"0 "}},{"$nulls":4},{"$f":"T462-AF462-AN462","v":{"v":0,"d":"0.00"}},null,null,{"$f":"AA462-AI462-AQ462","v":{"v":0,"d":"0 "}},{"$nulls":27},{"v":0,"d":"0.0"},{"$nulls":3},{"v":0,"d":"0.0"},null,null,{"v":0,"d":"0 "},{"$nulls":5},{"v":0,"d":"0 "}]
[453,{"$nulls":25},{"v":0,"d":"0 "},{"$nulls":4},{"v":0,"d":"0.00"},null,null,{"v":0,"d":"0 "},{"$nulls":7},{"v":0,"d":"0 "},{"$nulls":4},{"v":0,"d":"0.00"},null,null,{"v":0,"d":"0 "},{"$nulls":27},{"v":0,"d":"0.0"},{"$nulls":3},{"v":0,"d":"0.0"},null,null,{"v":0,"d":"0 "},{"$nulls":5},{"v":0,"d":"0 "}]
[454,{"$nulls":25},{"v":0,"d":"0 "},{"$nulls":4},{"v":0,"d":"0.00"},null,null,{"v":0,"d":"0 "},{"$nulls":7},{"v":0,"d":"0 "},{"$nulls":4},{"v":0,"d":"0.00"},null,null,{"v":0,"d":"0 "},{"$nulls":27},{"v":0,"d":"0.0"},{"$nulls":3},{"v":0,"d":"0.0"},null,null,{"v":0,"d":"0 "},{"$nulls":5},{"v":0,"d":"0 "}]
[455,{"$nulls":25},{"v":0,"d":"0 "},{"$nulls":4},{"v":0,"d":"0.00"},null,null,{"v":0,"d":"0 "},{"$nulls":7},{"v":0,"d":"0 "},{"$nulls":4},{"v":0,"d":"0.00"},null,null,{"v":0,"d":"0 "},{"$nulls":27},{"v":0,"d":"0.0"},{"$nulls":3},{"v":0,"d":"0.0"},null,null,{"v":0,"d":"0 "},{"$nulls":5},{"v":0,"d":"0 "}]
[456,{"$nulls":25},{"v":0,"d":"0 "},{"$nulls":4},{"v":0,"d":"0.00"},null,null,{"v":0,"d":"0 "},{"$nulls":7},{"v":0,"d":"0 "},{"$nulls":4},{"v":0,"d":"0.00"},null,null,{"v":0,"d":"0 "},{"$nulls":27},{"v":0,"d":"0.0"},{"$nulls":3},{"v":0,"d":"0.0"},null,null,{"v":0,"d":"0 "},{"$nulls":5},{"v":0,"d":"0 "}]
[457,{"$nulls":25},{"v":0,"d":"0 "},{"$nulls":4},{"v":0,"d":"0.00"},null,null,{"v":0,"d":"0 "},{"$nulls":7},{"v":0,"d":"0 "},{"$nulls":4},{"v":0,"d":"0.00"},null,null,{"v":0,"d":"0 "},{"$nulls":27},{"v":0,"d":"0.0"},{"$nulls":3},{"v":0,"d":"0.0"},null,null,{"v":0,"d":"0 "},{"$nulls":5},{"v":0,"d":"0 "}]
[458,{"$nulls":25},{"v":0,"d":"0 "},{"$nulls":4},{"$f":"CF468","v":{"v":0,"d":"0.00"}},null,null,{"v":0,"d":"0 "},{"$nulls":7},{"v":0,"d":"0 "},{"$nulls":4},{"v":0,"d":"0.00"},null,null,{"v":0,"d":"0 "},{"$nulls":27},{"$f":"AF468","v":{"v":0,"d":"0.0"}},{"$nulls":3},{"v":0,"d":"0.0"},null,null,{"v":0,"d":"0 "},{"$nulls":5},{"v":0,"d":"0 "}]
[459,{"$nulls":25},{"v":0,"d":"0 "},{"$nulls":4},{"v":0,"d":"0.00"},null,null,{"v":0,"d":"0 "},{"$nulls":7},{"v":0,"d":"0 "},{"$nulls":4},{"v":0,"d":"0.00"},null,null,{"v":0,"d":"0 "},{"$nulls":27},{"v":0,"d":"0.0"},{"$nulls":3},{"v":0,"d":"0.0"},null,null,{"v":0,"d":"0 "},{"$nulls":5},{"v":0,"d":"0 "}]
[460,{"$nulls":25},{"v":0,"d":"0 "},{"$nulls":4},{"v":0,"d":"0.00"},null,null,{"v":0,"d":"0 "},{"$nulls":7},{"v":0,"d":"0 "},{"$nulls":4},{"v":0,"d":"0.00"},null,null,{"v":0,"d":"0 "},{"$nulls":27},{"v":0,"d":"0.0"},{"$nulls":3},{"v":0,"d":"0.0"},null,null,{"v":0,"d":"0 "},{"$nulls":5},{"v":0,"d":"0 "}]
[461,{"$nulls":25},{"$f":"ROUND(T471*$W471,0)","v":{"v":0,"d":"0 "}},{"$nulls":4},{"v":0,"d":"0.00"},null,null,{"v":0,"d":"0 "},{"$nulls":7},{"$f":"ROUND(AN471*$W471,0)","v":{"v":0,"d":"0 "}},{"$nulls":4},{"$f":"T471-AF471-AN471","v":{"v":0,"d":"0.00"}},null,null,{"$f":"AA471-AI471-AQ471","v":{"v":0,"d":"0 "}},{"$nulls":27},{"v":0,"d":"0.0"},{"$nulls":3},{"v":0,"d":"0.0"},null,null,{"v":0,"d":"0 "},{"$nulls":5},{"v":0,"d":"0 "}]
[462,{"$nulls":25},{"$f":"ROUND(T472*$W472,0)","v":{"v":0,"d":"0 "}},{"$nulls":4},{"v":0,"d":"0.00"},null,null,{"v":0,"d":"0 "},{"$nulls":7},{"$f":"ROUND(AN472*$W472,0)","v":{"v":0,"d":"0 "}},{"$nulls":4},{"$f":"T472-AF472-AN472","v":{"v":0,"d":"0.00"}},null,null,{"$f":"AA472-AI472-AQ472","v":{"v":0,"d":"0 "}},{"$nulls":27},{"v":0,"d":"0.0"},{"$nulls":3},{"$f":"SUM(CA472:CB472)","v":{"v":0,"d":"0.0"}},null,null,{"v":0,"d":"0 "},{"$nulls":5},{"v":0,"d":"0 "}]
[463,{"$nulls":25},{"v":0,"d":"0 "},{"$nulls":4},{"v":0,"d":"0.00"},null,null,{"v":0,"d":"0 "},{"$nulls":7},{"v":0,"d":"0 "},{"$nulls":4},{"v":0,"d":"0.00"},null,null,{"v":0,"d":"0 "},{"$nulls":27},{"v":0,"d":"0.0"},{"$nulls":3},{"v":0,"d":"0.0"},null,null,{"v":0,"d":"0 "},{"$nulls":5},{"v":0,"d":"0 "}]
[464,{"$nulls":25},{"v":0,"d":"0 "},{"$nulls":4},{"v":0,"d":"0.00"},null,null,{"v":0,"d":"0 "},{"$nulls":7},{"v":0,"d":"0 "},{"$nulls":4},{"v":0,"d":"0.00"},null,null,{"v":0,"d":"0 "},{"$nulls":27},{"v":0,"d":"0.0"},{"$nulls":3},{"v":0,"d":"0.0"},null,null,{"v":0,"d":"0 "},{"$nulls":5},{"v":0,"d":"0 "}]
[465,{"$nulls":25},{"v":0,"d":"0 "},{"$nulls":4},{"v":0,"d":"0.00"},null,null,{"v":0,"d":"0 "},{"$nulls":7},{"v":0,"d":"0 "},{"$nulls":4},{"v":0,"d":"0.00"},null,null,{"v":0,"d":"0 "},{"$nulls":27},{"v":0,"d":"0.0"},{"$nulls":3},{"v":0,"d":"0.0"},null,null,{"v":0,"d":"0 "},{"$nulls":5},{"v":0,"d":"0 "}]
[466,{"$nulls":25},{"v":0,"d":"0 "},{"$nulls":4},{"v":0,"d":"0.00"},null,null,{"v":0,"d":"0 "},{"$nulls":7},{"v":0,"d":"0 "},{"$nulls":4},{"v":0,"d":"0.00"},null,null,{"v":0,"d":"0 "},{"$nulls":27},{"v":0,"d":"0.0"},{"$nulls":3},{"v":0,"d":"0.0"},null,null,{"v":0,"d":"0 "},{"$nulls":5},{"v":0,"d":"0 "}]
[467,{"$nulls":25},{"v":0,"d":"0 "},{"$nulls":4},{"v":0,"d":"0.00"},null,null,{"v":0,"d":"0 "},{"$nulls":7},{"v":0,"d":"0 "},{"$nulls":4},{"v":0,"d":"0.00"},null,null,{"v":0,"d":"0 "},{"$nulls":27},{"v":0,"d":"0.0"},{"$nulls":3},{"v":0,"d":"0.0"},null,null,{"v":0,"d":"0 "},{"$nulls":5},{"v":0,"d":"0 "}]
[468,{"$nulls":25},{"v":0,"d":"0 "},{"$nulls":4},{"v":0,"d":"0.00"},null,null,{"v":0,"d":"0 "},{"$nulls":7},{"v":0,"d":"0 "},{"$nulls":4},{"v":0,"d":"0.00"},null,null,{"v":0,"d":"0 "},{"$nulls":27},{"v":0,"d":"0.0"},{"$nulls":3},{"v":0,"d":"0.0"},null,null,{"v":0,"d":"0 "},{"$nulls":5},{"v":0,"d":"0 "}]
[469,{"$nulls":25},{"v":0,"d":"0 "},{"$nulls":4},{"v":0,"d":"0.00"},null,null,{"v":0,"d":"0 "},{"$nulls":7},{"v":0,"d":"0 "},{"$nulls":4},{"v":0,"d":"0.00"},null,null,{"v":0,"d":"0 "},{"$nulls":27},{"v":0,"d":"0.0"},{"$nulls":3},{"v":0,"d":"0.0"},null,null,{"v":0,"d":"0 "},{"$nulls":5},{"v":0,"d":"0 "}]
[470,{"$nulls":25},{"v":0,"d":"0 "},{"$nulls":4},{"v":0,"d":"0.00"},null,null,{"v":0,"d":"0 "},{"$nulls":7},{"v":0,"d":"0 "},{"$nulls":4},{"v":0,"d":"0.00"},null,null,{"v":0,"d":"0 "},{"$nulls":27},{"v":0,"d":"0.0"},{"$nulls":3},{"v":0,"d":"0.0"},null,null,{"v":0,"d":"0 "},{"$nulls":5},{"v":0,"d":"0 "}]
[471,{"$nulls":25},{"$f":"ROUND(T481*$W481,0)","v":{"v":0,"d":"0 "}},{"$nulls":4},{"v":0,"d":"0.00"},null,null,{"v":0,"d":"0 "},{"$nulls":7},{"$f":"ROUND(AN481*$W481,0)","v":{"v":0,"d":"0 "}},{"$nulls":4},{"$f":"T481-AF481-AN481","v":{"v":0,"d":"0.00"}},null,null,{"$f":"AA481-AI481-AQ481","v":{"v":0,"d":"0 "}},{"$nulls":27},{"v":0,"d":"0.0"},{"$nulls":3},{"v":0,"d":"0.0"},null,null,{"v":0,"d":"0 "},{"$nulls":5},{"v":0,"d":"0 "}]
[472,{"$nulls":25},{"$f":"ROUND(T482*$W482,0)","v":{"v":0,"d":"0 "}},{"$nulls":4},{"v":0,"d":"0.00"},null,null,{"v":0,"d":"0 "},{"$nulls":7},{"$f":"ROUND(AN482*$W482,0)","v":{"v":0,"d":"0 "}},{"$nulls":4},{"$f":"T482-AF482-AN482","v":{"v":0,"d":"0.00"}},null,null,{"$f":"AA482-AI482-AQ482","v":{"v":0,"d":"0 "}},{"$nulls":27},{"v":0,"d":"0.0"},{"$nulls":3},{"v":0,"d":"0.0"},null,null,{"v":0,"d":"0 "},{"$nulls":5},{"v":0,"d":"0 "}]
[473,{"$nulls":25},{"v":0,"d":"0 "},{"$nulls":4},{"v":0,"d":"0.00"},null,null,{"v":0,"d":"0 "},{"$nulls":7},{"v":0,"d":"0 "},{"$nulls":4},{"v":0,"d":"0.00"},null,null,{"v":0,"d":"0 "},{"$nulls":27},{"v":0,"d":"0.0"},{"$nulls":3},{"v":0,"d":"0.0"},null,null,{"v":0,"d":"0 "},{"$nulls":5},{"v":0,"d":"0 "}]
[474,{"$nulls":25},{"v":0,"d":"0 "},{"$nulls":4},{"v":0,"d":"0.00"},null,null,{"v":0,"d":"0 "},{"$nulls":7},{"v":0,"d":"0 "},{"$nulls":4},{"v":0,"d":"0.00"},null,null,{"v":0,"d":"0 "},{"$nulls":27},{"v":0,"d":"0.0"},{"$nulls":3},{"v":0,"d":"0.0"},null,null,{"v":0,"d":"0 "},{"$nulls":5},{"v":0,"d":"0 "}]
[475,{"$nulls":25},{"v":0,"d":"0 "},{"$nulls":4},{"v":0,"d":"0.00"},null,null,{"v":0,"d":"0 "},{"$nulls":7},{"v":0,"d":"0 "},{"$nulls":4},{"v":0,"d":"0.00"},null,null,{"v":0,"d":"0 "},{"$nulls":27},{"v":0,"d":"0.0"},{"$nulls":3},{"v":0,"d":"0.0"},null,null,{"v":0,"d":"0 "},{"$nulls":5},{"v":0,"d":"0 "}]
[476,{"$nulls":25},{"v":0,"d":"0 "},{"$nulls":4},{"v":0,"d":"0.00"},null,null,{"v":0,"d":"0 "},{"$nulls":7},{"v":0,"d":"0 "},{"$nulls":4},{"v":0,"d":"0.00"},null,null,{"v":0,"d":"0 "},{"$nulls":27},{"v":0,"d":"0.0"},{"$nulls":3},{"v":0,"d":"0.0"},null,null,{"v":0,"d":"0 "},{"$nulls":5},{"v":0,"d":"0 "}]
[477,{"$nulls":25},{"v":0,"d":"0 "},{"$nulls":4},{"v":0,"d":"0.00"},null,null,{"v":0,"d":"0 "},{"$nulls":7},{"v":0,"d":"0 "},{"$nulls":4},{"v":0,"d":"0.00"},null,null,{"v":0,"d":"0 "},{"$nulls":27},{"v":0,"d":"0.0"},{"$nulls":3},{"v":0,"d":"0.0"},null,null,{"v":0,"d":"0 "},{"$nulls":5},{"v":0,"d":"0 "}]
[478,{"$nulls":25},{"v":0,"d":"0 "},{"$nulls":4},{"v":0,"d":"0.00"},null,null,{"v":0,"d":"0 "},{"$nulls":7},{"v":0,"d":"0 "},{"$nulls":4},{"v":0,"d":"0.00"},null,null,{"v":0,"d":"0 "},{"$nulls":27},{"v":0,"d":"0.0"},{"$nulls":3},{"v":0,"d":"0.0"},null,null,{"v":0,"d":"0 "},{"$nulls":5},{"v":0,"d":"0 "}]
[479,{"$nulls":25},{"v":0,"d":"0 "},{"$nulls":4},{"v":0,"d":"0.00"},null,null,{"v":0,"d":"0 "},{"$nulls":7},{"v":0,"d":"0 "},{"$nulls":4},{"v":0,"d":"0.00"},null,null,{"v":0,"d":"0 "},{"$nulls":27},{"v":0,"d":"0.0"},{"$nulls":3},{"v":0,"d":"0.0"},null,null,{"v":0,"d":"0 "},{"$nulls":5},{"v":0,"d":"0 "}]
[480,{"$nulls":25},{"v":0,"d":"0 "},{"$nulls":4},{"v":0,"d":"0.00"},null,null,{"v":0,"d":"0 "},{"$nulls":7},{"v":0,"d":"0 "},{"$nulls":4},{"v":0,"d":"0.00"},null,null,{"v":0,"d":"0 "},{"$nulls":27},{"v":0,"d":"0.0"},{"$nulls":3},{"v":0,"d":"0.0"},null,null,{"v":0,"d":"0 "},{"$nulls":5},{"v":0,"d":"0 "}]
[481,{"$nulls":25},{"$f":"ROUND(T491*$W491,0)","v":{"v":0,"d":"0 "}},{"$nulls":4},{"v":0,"d":"0.00"},null,null,{"v":0,"d":"0 "},{"$nulls":7},{"$f":"ROUND(AN491*$W491,0)","v":{"v":0,"d":"0 "}},{"$nulls":4},{"$f":"T491-AF491-AN491","v":{"v":0,"d":"0.00"}},null,null,{"$f":"AA491-AI491-AQ491","v":{"v":0,"d":"0 "}},{"$nulls":27},{"v":0,"d":"0.0"},{"$nulls":3},{"v":0,"d":"0.0"},null,null,{"v":0,"d":"0 "},{"$nulls":5},{"v":0,"d":"0 "}]
[482,{"$nulls":25},{"$f":"ROUND(T492*$W492,0)","v":{"v":0,"d":"0 "}},{"$nulls":4},{"v":0,"d":"0.00"},null,null,{"v":0,"d":"0 "},{"$nulls":7},{"$f":"ROUND(AN492*$W492,0)","v":{"v":0,"d":"0 "}},{"$nulls":4},{"$f":"T492-AF492-AN492","v":{"v":0,"d":"0.00"}},null,null,{"$f":"AA492-AI492-AQ492","v":{"v":0,"d":"0 "}},{"$nulls":27},{"v":0,"d":"0.0"},{"$nulls":3},{"v":0,"d":"0.0"},null,null,{"v":0,"d":"0 "},{"$nulls":5},{"v":0,"d":"0 "}]
[483,{"$nulls":25},{"v":0,"d":"0 "},{"$nulls":4},{"v":0,"d":"0.00"},null,null,{"v":0,"d":"0 "},{"$nulls":7},{"v":0,"d":"0 "},{"$nulls":4},{"v":0,"d":"0.00"},null,null,{"v":0,"d":"0 "},{"$nulls":27},{"v":0,"d":"0.0"},{"$nulls":3},{"v":0,"d":"0.0"},null,null,{"v":0,"d":"0 "},{"$nulls":5},{"v":0,"d":"0 "}]
[484,{"$nulls":25},{"v":0,"d":"0 "},{"$nulls":4},{"v":0,"d":"0.00"},null,null,{"v":0,"d":"0 "},{"$nulls":7},{"v":0,"d":"0 "},{"$nulls":4},{"v":0,"d":"0.00"},null,null,{"v":0,"d":"0 "},{"$nulls":27},{"v":0,"d":"0.0"},{"$nulls":3},{"v":0,"d":"0.0"},null,null,{"v":0,"d":"0 "},{"$nulls":5},{"v":0,"d":"0 "}]
[485,{"$nulls":25},{"v":0,"d":"0 "},{"$nulls":4},{"v":0,"d":"0.00"},null,null,{"v":0,"d":"0 "},{"$nulls":7},{"v":0,"d":"0 "},{"$nulls":4},{"v":0,"d":"0.00"},null,null,{"v":0,"d":"0 "},{"$nulls":27},{"v":0,"d":"0.0"},{"$nulls":3},{"v":0,"d":"0.0"},null,null,{"v":0,"d":"0 "},{"$nulls":5},{"v":0,"d":"0 "}]
[486,{"$nulls":25},{"v":0,"d":"0 "},{"$nulls":4},{"v":0,"d":"0.00"},null,null,{"v":0,"d":"0 "},{"$nulls":7},{"v":0,"d":"0 "},{"$nulls":4},{"v":0,"d":"0.00"},null,null,{"v":0,"d":"0 "},{"$nulls":27},{"v":0,"d":"0.0"},{"$nulls":3},{"v":0,"d":"0.0"},null,null,{"v":0,"d":"0 "},{"$nulls":5},{"v":0,"d":"0 "}]
[487,{"$nulls":25},{"v":0,"d":"0 "},{"$nulls":4},{"v":0,"d":"0.00"},null,null,{"v":0,"d":"0 "},{"$nulls":7},{"v":0,"d":"0 "},{"$nulls":4},{"v":0,"d":"0.00"},null,null,{"v":0,"d":"0 "},{"$nulls":27},{"v":0,"d":"0.0"},{"$nulls":3},{"v":0,"d":"0.0"},null,null,{"v":0,"d":"0 "},{"$nulls":5},{"v":0,"d":"0 "}]
[488,{"$nulls":25},{"v":0,"d":"0 "},{"$nulls":4},{"v":0,"d":"0.00"},null,null,{"v":0,"d":"0 "},{"$nulls":7},{"v":0,"d":"0 "},{"$nulls":4},{"v":0,"d":"0.00"},null,null,{"v":0,"d":"0 "},{"$nulls":27},{"v":0,"d":"0.0"},{"$nulls":3},{"v":0,"d":"0.0"},null,null,{"v":0,"d":"0 "},{"$nulls":5},{"v":0,"d":"0 "}]
[489,{"$nulls":25},{"v":0,"d":"0 "},{"$nulls":4},{"v":0,"d":"0.00"},null,null,{"v":0,"d":"0 "},{"$nulls":7},{"v":0,"d":"0 "},{"$nulls":4},{"v":0,"d":"0.00"},null,null,{"v":0,"d":"0 "},{"$nulls":27},{"v":0,"d":"0.0"},{"$nulls":3},{"v":0,"d":"0.0"},null,null,{"v":0,"d":"0 "},{"$nulls":5},{"v":0,"d":"0 "}]
[490,{"$nulls":25},{"v":0,"d":"0 "},{"$nulls":4},{"v":0,"d":"0.00"},null,null,{"v":0,"d":"0 "},{"$nulls":7},{"v":0,"d":"0 "},{"$nulls":4},{"v":0,"d":"0.00"},null,null,{"v":0,"d":"0 "},{"$nulls":27},{"v":0,"d":"0.0"},{"$nulls":3},{"v":0,"d":"0.0"},null,null,{"v":0,"d":"0 "},{"$nulls":5},{"v":0,"d":"0 "}]
[491,{"$nulls":25},{"$f":"ROUND(T501*$W501,0)","v":{"v":0,"d":"0 "}},{"$nulls":4},{"v":0,"d":"0.00"},null,null,{"v":0,"d":"0 "},{"$nulls":7},{"$f":"ROUND(AN501*$W501,0)","v":{"v":0,"d":"0 "}},{"$nulls":4},{"$f":"T501-AF501-AN501","v":{"v":0,"d":"0.00"}},null,null,{"$f":"AA501-AI501-AQ501","v":{"v":0,"d":"0 "}},{"$nulls":27},{"v":0,"d":"0.0"},{"$nulls":3},{"v":0,"d":"0.0"},null,null,{"v":0,"d":"0 "},{"$nulls":5},{"v":0,"d":"0 "}]
[492,{"$nulls":25},{"$f":"ROUND(T502*$W502,0)","v":{"v":0,"d":"0 "}},{"$nulls":4},{"v":0,"d":"0.00"},null,null,{"v":0,"d":"0 "},{"$nulls":7},{"$f":"ROUND(AN502*$W502,0)","v":{"v":0,"d":"0 "}},{"$nulls":4},{"$f":"T502-AF502-AN502","v":{"v":0,"d":"0.00"}},null,null,{"$f":"AA502-AI502-AQ502","v":{"v":0,"d":"0 "}},{"$nulls":27},{"v":0,"d":"0.0"},{"$nulls":3},{"v":0,"d":"0.0"},null,null,{"v":0,"d":"0 "},{"$nulls":5},{"v":0,"d":"0 "}]
[493,{"$nulls":25},{"v":0,"d":"0 "},{"$nulls":4},{"v":0,"d":"0.00"},null,null,{"v":0,"d":"0 "},{"$nulls":7},{"v":0,"d":"0 "},{"$nulls":4},{"v":0,"d":"0.00"},null,null,{"v":0,"d":"0 "},{"$nulls":27},{"v":0,"d":"0.0"},{"$nulls":3},{"v":0,"d":"0.0"},null,null,{"v":0,"d":"0 "},{"$nulls":5},{"v":0,"d":"0 "}]
[494,{"$nulls":25},{"v":0,"d":"0 "},{"$nulls":4},{"v":0,"d":"0.00"},null,null,{"v":0,"d":"0 "},{"$nulls":7},{"v":0,"d":"0 "},{"$nulls":4},{"v":0,"d":"0.00"},null,null,{"v":0,"d":"0 "},{"$nulls":27},{"v":0,"d":"0.0"},{"$nulls":3},{"v":0,"d":"0.0"},null,null,{"v":0,"d":"0 "},{"$nulls":5},{"v":0,"d":"0 "}]
[495,{"$nulls":25},{"v":0,"d":"0 "},{"$nulls":4},{"v":0,"d":"0.00"},null,null,{"v":0,"d":"0 "},{"$nulls":7},{"v":0,"d":"0 "},{"$nulls":4},{"v":0,"d":"0.00"},null,null,{"v":0,"d":"0 "},{"$nulls":27},{"v":0,"d":"0.0"},{"$nulls":3},{"v":0,"d":"0.0"},null,null,{"v":0,"d":"0 "},{"$nulls":5},{"v":0,"d":"0 "}]
[496,{"$nulls":25},{"v":0,"d":"0 "},{"$nulls":4},{"v":0,"d":"0.00"},null,null,{"v":0,"d":"0 "},{"$nulls":7},{"v":0,"d":"0 "},{"$nulls":4},{"v":0,"d":"0.00"},null,null,{"v":0,"d":"0 "},{"$nulls":27},{"v":0,"d":"0.0"},{"$nulls":3},{"v":0,"d":"0.0"},null,null,{"v":0,"d":"0 "},{"$nulls":5},{"v":0,"d":"0 "}]
[497,{"$nulls":25},{"v":0,"d":"0 "},{"$nulls":4},{"v":0,"d":"0.00"},null,null,{"v":0,"d":"0 "},{"$nulls":7},{"v":0,"d":"0 "},{"$nulls":4},{"v":0,"d":"0.00"},null,null,{"v":0,"d":"0 "},{"$nulls":27},{"v":0,"d":"0.0"},{"$nulls":3},{"v":0,"d":"0.0"},null,null,{"v":0,"d":"0 "},{"$nulls":5},{"v":0,"d":"0 "}]
[498,{"$nulls":25},{"v":0,"d":"0 "},{"$nulls":4},{"v":0,"d":"0.00"},null,null,{"v":0,"d":"0 "},{"$nulls":7},{"v":0,"d":"0 "},{"$nulls":4},{"v":0,"d":"0.00"},null,null,{"v":0,"d":"0 "},{"$nulls":27},{"v":0,"d":"0.0"},{"$nulls":3},{"v":0,"d":"0.0"},null,null,{"v":0,"d":"0 "},{"$nulls":5},{"v":0,"d":"0 "}]
[499,{"$nulls":25},{"v":0,"d":"0 "},{"$nulls":4},{"v":0,"d":"0.00"},null,null,{"v":0,"d":"0 "},{"$nulls":7},{"v":0,"d":"0 "},{"$nulls":4},{"v":0,"d":"0.00"},null,null,{"v":0,"d":"0 "},{"$nulls":27},{"v":0,"d":"0.0"},{"$nulls":3},{"v":0,"d":"0.0"},null,null,{"v":0,"d":"0 "},{"$nulls":5},{"v":0,"d":"0 "}]
[500,{"$nulls":25},{"v":0,"d":"0 "},{"$nulls":4},{"v":0,"d":"0.00"},null,null,{"v":0,"d":"0 "},{"$nulls":7},{"v":0,"d":"0 "},{"$nulls":4},{"v":0,"d":"0.00"},null,null,{"v":0,"d":"0 "},{"$nulls":27},{"v":0,"d":"0.0"},{"$nulls":3},{"v":0,"d":"0.0"},null,null,{"v":0,"d":"0 "},{"$nulls":5},{"v":0,"d":"0 "}]

{"sheet":"出力帳票","index":2,"n_rows":775,"n_cols":62,"rows_kept":775,"merged":[[75,39,75,41],[75,42,75,46],[77,39,77,41],[77,42,77,46],[79,39,79,41],[79,42,79,46],[91,34,91,41],[91,42,91,46],[180,39,180,41],[180,42,180,46],[181,39,181,41],[181,42,181,46],[182,42,182,46],[183,42,183,46],[184,34,184,41],[184,42,184,46],[215,34,215,41],[244,42,244,46],[246,42,246,46],[268,34,268,38],[270,34,270,38],[270,39,270,41],[270,42,270,46],[271,39,271,41],[273,39,273,41],[273,42,273,46],[274,39,274,41],[274,42,274,46],[275,42,275,46],[276,42,276,46],[277,34,277,41],[277,42,277,46],[674,55,674,64],[675,31,675,33],[675,55,675,64],[676,1,676,16],[676,17,676,18],[676,19,676,21],[676,22,676,25],[676,26,676,30],[676,31,676,33],[676,34,676,38],[676,39,676,41],[676,42,676,46],[676,47,676,49],[676,50,676,54],[676,55,676,64],[677,1,677,16],[677,17,677,18],[677,19,677,21],[677,22,677,25],[677,26,677,30],[677,31,677,33],[677,34,677,38],[677,39,677,41],[677,42,677,46],[677,47,677,49],[677,50,677,54],[677,55,677,64],[678,0,678,21],[678,22,678,25],[678,26,678,30],[678,31,678,33],[678,34,678,38],[678,39,678,41],[678,42,678,46],[678,47,678,49],[678,50,678,54],[678,55,680,59],[678,60,680,64],[679,0,679,21],[679,22,679,25],[679,26,679,30],[679,31,679,33],[679,34,679,38],[679,39,679,41],[679,42,679,46],[679,47,679,49],[679,50,679,54],[680,0,680,21],[680,34,680,41],[680,42,680,46],[681,1,681,21],[681,55,681,59],[681,60,681,64],[683,2,683,17],[683,18,683,19],[683,20,683,22],[683,23,683,27],[683,28,683,32],[683,34,683,38],[683,54,683,64],[684,41,684,46],[684,47,684,64],[685,0,685,3],[685,4,685,11],[685,12,685,16],[685,17,685,40],[685,41,686,60],[685,61,686,64],[686,0,686,3],[686,4,686,11],[686,12,686,16],[686,17,686,20],[686,21,686,28],[686,29,686,32],[686,33,686,40],[687,0,688,0],[687,1,688,16],[687,17,687,30],[687,31,687,38],[687,39,687,46],[687,47,687,54],[687,55,688,64],[688,17,688,18],[688,19,688,21],[688,22,688,25],[688,26,688,30],[688,31,688,33],[688,34,688,38],[688,39,688,41],[688,42,688,46],[688,47,688,49],[688,50,688,54],[689,1,689,16],[689,17,689,18],[689,19,689,21],[689,22,689,25],[689,26,689,30],[689,31,689,33],[689,34,689,38],[689,39,689,41],[689,42,689,46],[689,47,689,49],[689,50,689,54],[689,55,689,64],[690,1,690,16],[690,17,690,18],[690,19,690,21],[690,22,690,25],[690,26,690,30],[690,31,690,33],[690,34,690,38],[690,39,690,41],[690,42,690,46],[690,47,690,49],[690,50,690,54],[690,55,690,64],[691,1,691,16],[691,17,691,18],[691,19,691,21],[691,22,691,25],[691,26,691,30],[691,31,691,33],[691,34,691,38],[691,39,691,41],[691,42,691,46],[691,47,691,49],[691,50,691,54],[691,55,691,64],[692,1,692,16],[692,17,692,18],[692,19,692,21],[692,22,692,25],[692,26,692,30],[692,31,692,33],[692,34,692,38],[692,39,692,41],[692,42,692,46],[692,47,692,49],[692,50,692,54],[692,55,692,64],[693,1,693,16],[693,17,693,18],[693,19,693,21],[693,22,693,25],[693,26,693,30],[693,31,693,33],[693,34,693,38],[693,39,693,41],[693,42,693,46],[693,47,693,49],[693,50,693,54],[693,55,693,64],[694,1,694,16],[694,17,694,18],[694,19,694,21],[694,22,694,25],[694,26,694,30],[694,31,694,33],[694,34,694,38],[694,39,694,41],[694,42,694,46],[694,47,694,49],[694,50,694,54],[694,55,694,64],[695,1,695,16],[695,17,695,18],[695,19,695,21],[695,22,695,25],[695,26,695,30],[695,31,695,33],[695,34,695,38],[695,39,695,41],[695,42,695,46],[695,47,695,49],[695,50,695,54],[695,55,695,64],[696,1,696,16],[696,17,696,18],[696,19,696,21],[696,22,696,25],[696,26,696,30],[696,31,696,33],[696,34,696,38],[696,39,696,41],[696,42,696,46],[696,47,696,49],[696,50,696,54],[696,55,696,64],[697,1,697,16],[697,17,697,18],[697,19,697,21],[697,22,697,25],[697,26,697,30],[697,31,697,33],[697,34,697,38],[697,39,697,41],[697,42,697,46],[697,47,697,49],[697,50,697,54],[697,55,697,64],[698,1,698,16],[698,17,698,18],[698,19,698,21],[698,22,698,25],[698,26,698,30],[698,31,698,33],[698,34,698,38],[698,39,698,41],[698,42,698,46],[698,47,698,49],[698,50,698,54],[698,55,698,64],[699,1,699,16],[699,17,699,18],[699,19,699,21],[699,22,699,25],[699,26,699,30],[699,31,699,33],[699,34,699,38],[699,39,699,41],[699,42,699,46],[699,47,699,49],[699,50,699,54],[699,55,699,64],[700,1,700,16],[700,17,700,18],[700,19,700,21],[700,22,700,25],[700,26,700,30],[700,31,700,33],[700,34,700,38],[700,39,700,41],[700,42,700,46],[700,47,700,49],[700,50,700,54],[700,55,700,64],[701,1,701,16],[701,17,701,18],[701,19,701,21],[701,22,701,25],[701,26,701,30],[701,31,701,33],[701,34,701,38],[701,39,701,41],[701,42,701,46],[701,47,701,49],[701,50,701,54],[701,55,701,64],[702,1,702,16],[702,17,702,18],[702,19,702,21],[702,22,702,25],[702,26,702,30],[702,31,702,33],[702,34,702,38],[702,39,702,41],[702,42,702,46],[702,47,702,49],[702,50,702,54],[702,55,702,64],[703,1,703,16],[703,17,703,18],[703,19,703,21],[703,22,703,25],[703,26,703,30],[703,31,703,33],[703,34,703,38],[703,39,703,41],[703,42,703,46],[703,47,703,49],[703,50,703,54],[703,55,703,64],[704,1,704,16],[704,17,704,18],[704,19,704,21],[704,22,704,25],[704,26,704,30],[704,31,704,33],[704,34,704,38],[704,39,704,41],[704,42,704,46],[704,47,704,49],[704,50,704,54],[704,55,704,64],[705,1,705,16],[705,17,705,18],[705,19,705,21],[705,22,705,25],[705,26,705,30],[705,31,705,33],[705,34,705,38],[705,39,705,41],[705,42,705,46],[705,47,705,49],[705,50,705,54],[705,55,705,64],[706,1,706,16],[706,17,706,18],[706,19,706,21],[706,22,706,25],[706,26,706,30],[706,31,706,33],[706,34,706,38],[706,39,706,41],[706,42,706,46],[706,47,706,49],[706,50,706,54],[706,55,706,64],[707,1,707,16],[707,17,707,18],[707,19,707,21],[707,22,707,25],[707,26,707,30],[707,31,707,33],[707,34,707,38],[707,39,707,41],[707,42,707,46],[707,47,707,49],[707,50,707,54],[707,55,707,64],[708,1,708,16],[708,17,708,18],[708,19,708,21],[708,22,708,25],[708,26,708,30],[708,31,708,33],[708,34,708,38],[708,39,708,41],[708,42,708,46],[708,47,708,49],[708,50,708,54],[708,55,708,64],[709,0,709,21],[709,22,709,25],[709,26,709,30],[709,31,709,33],[709,34,709,38],[709,39,709,41],[709,42,709,46],[709,47,709,49],[709,50,709,54],[709,55,711,59],[709,60,711,64],[710,0,710,21],[710,22,710,25],[710,26,710,30],[710,31,710,33],[710,34,710,38],[710,39,710,41],[710,42,710,46],[710,47,710,49],[710,50,710,54],[711,0,711,21],[711,34,711,41],[711,42,711,46],[712,1,712,21],[712,55,712,59],[712,60,712,64],[714,2,714,17],[714,18,714,19],[714,20,714,22],[714,23,714,27],[714,28,714,32],[714,34,714,38],[714,54,714,64],[715,41,715,46],[715,47,715,64],[716,0,716,3],[716,4,716,11],[716,12,716,16],[716,17,716,40],[716,41,717,60],[716,61,717,64],[717,0,717,3],[717,4,717,11],[717,12,717,16],[717,17,717,20],[717,21,717,28],[717,29,717,32],[717,33,717,40],[718,0,719,0],[718,1,719,16],[718,17,718,30],[718,31,718,38],[718,39,718,46],[718,47,718,54],[718,55,719,64],[719,17,719,18],[719,19,719,21],[719,22,719,25],[719,26,719,30],[719,31,719,33],[719,34,719,38],[719,39,719,41],[719,42,719,46],[719,47,719,49],[719,50,719,54],[720,1,720,16],[720,17,720,18],[720,19,720,21],[720,22,720,25],[720,26,720,30],[720,31,720,33],[720,34,720,38],[720,39,720,41],[720,42,720,46],[720,47,720,49],[720,50,720,54],[720,55,720,64],[721,1,721,16],[721,17,721,18],[721,19,721,21],[721,22,721,25],[721,26,721,30],[721,31,721,33],[721,34,721,38],[721,39,721,41],[721,42,721,46],[721,47,721,49],[721,50,721,54],[721,55,721,64],[722,1,722,16],[722,17,722,18],[722,19,722,21],[722,22,722,25],[722,26,722,30],[722,31,722,33],[722,34,722,38],[722,39,722,41],[722,42,722,46],[722,47,722,49],[722,50,722,54],[722,55,722,64],[723,1,723,16],[723,17,723,18],[723,19,723,21],[723,22,723,25],[723,26,723,30],[723,31,723,33],[723,34,723,38],[723,39,723,41],[723,42,723,46],[723,47,723,49],[723,50,723,54],[723,55,723,64],[724,1,724,16],[724,17,724,18],[724,19,724,21],[724,22,724,25],[724,26,724,30],[724,31,724,33],[724,34,724,38],[724,39,724,41],[724,42,724,46],[724,47,724,49],[724,50,724,54],[724,55,724,64],[725,1,725,16],[725,17,725,18],[725,19,725,21],[725,22,725,25],[725,26,725,30],[725,31,725,33],[725,34,725,38],[725,39,725,41],[725,42,725,46],[725,47,725,49],[725,50,725,54],[725,55,725,64],[726,1,726,16],[726,17,726,18],[726,19,726,21],[726,22,726,25],[726,26,726,30],[726,31,726,33],[726,34,726,38],[726,39,726,41],[726,42,726,46],[726,47,726,49],[726,50,726,54],[726,55,726,64],[727,1,727,16],[727,17,727,18],[727,19,727,21],[727,22,727,25],[727,26,727,30],[727,31,727,33],[727,34,727,38],[727,39,727,41],[727,42,727,46],[727,47,727,49],[727,50,727,54],[727,55,727,64],[728,1,728,16],[728,17,728,18],[728,19,728,21],[728,22,728,25],[728,26,728,30],[728,31,728,33],[728,34,728,38],[728,39,728,41],[728,42,728,46],[728,47,728,49],[728,50,728,54],[728,55,728,64],[729,1,729,16],[729,17,729,18],[729,19,729,21],[729,22,729,25],[729,26,729,30],[729,31,729,33],[729,34,729,38],[729,39,729,41],[729,42,729,46],[729,47,729,49],[729,50,729,54],[729,55,729,64],[730,1,730,16],[730,17,730,18],[730,19,730,21],[730,22,730,25],[730,26,730,30],[730,31,730,33],[730,34,730,38],[730,39,730,41],[730,42,730,46],[730,47,730,49],[730,50,730,54],[730,55,730,64],[731,1,731,16],[731,17,731,18],[731,19,731,21],[731,22,731,25],[731,26,731,30],[731,31,731,33],[731,34,731,38],[731,39,731,41],[731,42,731,46],[731,47,731,49],[731,50,731,54],[731,55,731,64],[732,1,732,16],[732,17,732,18],[732,19,732,21],[732,22,732,25],[732,26,732,30],[732,31,732,33],[732,34,732,38],[732,39,732,41],[732,42,732,46],[732,47,732,49],[732,50,732,54],[732,55,732,64],[733,1,733,16],[733,17,733,18],[733,19,733,21],[733,22,733,25],[733,26,733,30],[733,31,733,33],[733,34,733,38],[733,39,733,41],[733,42,733,46],[733,47,733,49],[733,50,733,54],[733,55,733,64],[734,1,734,16],[734,17,734,18],[734,19,734,21],[734,22,734,25],[734,26,734,30],[734,31,734,33],[734,34,734,38],[734,39,734,41],[734,42,734,46],[734,47,734,49],[734,50,734,54],[734,55,734,64],[735,1,735,16],[735,17,735,18],[735,19,735,21],[735,22,735,25],[735,26,735,30],[735,31,735,33],[735,34,735,38],[735,39,735,41],[735,42,735,46],[735,47,735,49],[735,50,735,54],[735,55,735,64],[736,1,736,16],[736,17,736,18],[736,19,736,21],[736,22,736,25],[736,26,736,30],[736,31,736,33],[736,34,736,38],[736,39,736,41],[736,42,736,46],[736,47,736,49],[736,50,736,54],[736,55,736,64],[737,1,737,16],[737,17,737,18],[737,19,737,21],[737,22,737,25],[737,26,737,30],[737,31,737,33],[737,34,737,38],[737,39,737,41],[737,42,737,46],[737,47,737,49],[737,50,737,54],[737,55,737,64],[738,1,738,16],[738,17,738,18],[738,19,738,21],[738,22,738,25],[738,26,738,30],[738,31,738,33],[738,34,738,38],[738,39,738,41],[738,42,738,46],[738,47,738,49],[738,50,738,54],[738,55,738,64],[739,1,739,16],[739,17,739,18],[739,19,739,21],[739,22,739,25],[739,26,739,30],[739,31,739,33],[739,34,739,38],[739,39,739,41],[739,42,739,46],[739,47,739,49],[739,50,739,54],[739,55,739,64],[740,0,740,21],[740,22,740,25],[740,26,740,30],[740,31,740,33],[740,34,740,38],[740,39,740,41],[740,42,740,46],[740,47,740,49],[740,50,740,54],[740,55,742,59],[740,60,742,64],[741,0,741,21],[741,22,741,25],[741,26,741,30],[741,31,741,33],[741,34,741,38],[741,39,741,41],[741,42,741,46],[741,47,741,49],[741,50,741,54],[742,0,742,21],[742,34,742,41],[742,42,742,46],[743,1,743,21],[743,55,743,59],[743,60,743,64],[745,2,745,17],[745,18,745,19],[745,20,745,22],[745,23,745,27],[745,28,745,32],[745,34,745,38],[745,54,745,64],[746,41,746,46],[746,47,746,64],[747,0,747,3],[747,4,747,11],[747,12,747,16],[747,17,747,40],[747,41,748,60],[747,61,748,64],[748,0,748,3],[748,4,748,11],[748,12,748,16],[748,17,748,20],[748,21,748,28],[748,29,748,32],[748,33,748,40],[749,0,750,0],[749,1,750,16],[749,17,749,30],[749,31,749,38],[749,39,749,46],[749,47,749,54],[749,55,750,64],[750,17,750,18],[750,19,750,21],[750,22,750,25],[750,26,750,30],[750,31,750,33],[750,34,750,38],[750,39,750,41],[750,42,750,46],[750,47,750,49],[750,50,750,54],[751,1,751,16],[751,17,751,18],[751,19,751,21],[751,22,751,25],[751,26,751,30],[751,31,751,33],[751,34,751,38],[751,39,751,41],[751,42,751,46],[751,47,751,49],[751,50,751,54],[751,55,751,64],[752,1,752,16],[752,17,752,18],[752,19,752,21],[752,22,752,25],[752,26,752,30],[752,31,752,33],[752,34,752,38],[752,39,752,41],[752,42,752,46],[752,47,752,49],[752,50,752,54],[752,55,752,64],[753,1,753,16],[753,17,753,18],[753,19,753,21],[753,22,753,25],[753,26,753,30],[753,31,753,33],[753,34,753,38],[753,39,753,41],[753,42,753,46],[753,47,753,49],[753,50,753,54],[753,55,753,64],[754,1,754,16],[754,17,754,18],[754,19,754,21],[754,22,754,25],[754,26,754,30],[754,31,754,33],[754,34,754,38],[754,39,754,41],[754,42,754,46],[754,47,754,49],[754,50,754,54],[754,55,754,64],[755,1,755,16],[755,17,755,18],[755,19,755,21],[755,22,755,25],[755,26,755,30],[755,31,755,33],[755,34,755,38],[755,39,755,41],[755,42,755,46],[755,47,755,49],[755,50,755,54],[755,55,755,64],[756,1,756,16],[756,17,756,18],[756,19,756,21],[756,22,756,25],[756,26,756,30],[756,31,756,33],[756,34,756,38],[756,39,756,41],[756,42,756,46],[756,47,756,49],[756,50,756,54],[756,55,756,64],[757,1,757,16],[757,17,757,18],[757,19,757,21],[757,22,757,25],[757,26,757,30],[757,31,757,33],[757,34,757,38],[757,39,757,41],[757,42,757,46],[757,47,757,49],[757,50,757,54],[757,55,757,64],[758,1,758,16],[758,17,758,18],[758,19,758,21],[758,22,758,25],[758,26,758,30],[758,31,758,33],[758,34,758,38],[758,39,758,41],[758,42,758,46],[758,47,758,49],[758,50,758,54],[758,55,758,64],[759,1,759,16],[759,17,759,18],[759,19,759,21],[759,22,759,25],[759,26,759,30],[759,31,759,33],[759,34,759,38],[759,39,759,41],[759,42,759,46],[759,47,759,49],[759,50,759,54],[759,55,759,64],[760,1,760,16],[760,17,760,18],[760,19,760,21],[760,22,760,25],[760,26,760,30],[760,31,760,33],[760,34,760,38],[760,39,760,41],[760,42,760,46],[760,47,760,49],[760,50,760,54],[760,55,760,64],[761,1,761,16],[761,17,761,18],[761,19,761,21],[761,22,761,25],[761,26,761,30],[761,31,761,33],[761,34,761,38],[761,39,761,41],[761,42,761,46],[761,47,761,49],[761,50,761,54],[761,55,761,64],[762,1,762,16],[762,17,762,18],[762,19,762,21],[762,22,762,25],[762,26,762,30],[762,31,762,33],[762,34,762,38],[762,39,762,41],[762,42,762,46],[762,47,762,49],[762,50,762,54],[762,55,762,64],[763,1,763,16],[763,17,763,18],[763,19,763,21],[763,22,763,25],[763,26,763,30],[763,31,763,33],[763,34,763,38],[763,39,763,41],[763,42,763,46],[763,47,763,49],[763,50,763,54],[763,55,763,64],[764,1,764,16],[764,17,764,18],[764,19,764,21],[764,22,764,25],[764,26,764,30],[764,31,764,33],[764,34,764,38],[764,39,764,41],[764,42,764,46],[764,47,764,49],[764,50,764,54],[764,55,764,64],[765,1,765,16],[765,17,765,18],[765,19,765,21],[765,22,765,25],[765,26,765,30],[765,31,765,33],[765,34,765,38],[765,39,765,41],[765,42,765,46],[765,47,765,49],[765,50,765,54],[765,55,765,64],[766,1,766,16],[766,17,766,18],[766,19,766,21],[766,22,766,25],[766,26,766,30],[766,31,766,33],[766,34,766,38],[766,39,766,41],[766,42,766,46],[766,47,766,49],[766,50,766,54],[766,55,766,64],[767,1,767,16],[767,17,767,18],[767,19,767,21],[767,22,767,25],[767,26,767,30],[767,31,767,33],[767,34,767,38],[767,39,767,41],[767,42,767,46],[767,47,767,49],[767,50,767,54],[767,55,767,64],[768,1,768,16],[768,17,768,18],[768,19,768,21],[768,22,768,25],[768,26,768,30],[768,31,768,33],[768,34,768,38],[768,39,768,41],[768,42,768,46],[768,47,768,49],[768,50,768,54],[768,55,768,64],[769,1,769,16],[769,17,769,18],[769,19,769,21],[769,22,769,25],[769,26,769,30],[769,31,769,33],[769,34,769,38],[769,39,769,41],[769,42,769,46],[769,47,769,49],[769,50,769,54],[769,55,769,64],[770,1,770,16],[770,17,770,18],[770,19,770,21],[770,22,770,25],[770,26,770,30],[770,31,770,33],[770,34,770,38],[770,39,770,41],[770,42,770,46],[770,47,770,49],[770,50,770,54],[770,55,770,64],[771,0,771,21],[771,22,771,25],[771,26,771,30],[771,31,771,33],[771,34,771,38],[771,39,771,41],[771,42,771,46],[771,47,771,49],[771,50,771,54],[771,55,773,59],[771,60,773,64],[772,0,772,21],[772,22,772,25],[772,26,772,30],[772,31,772,33],[772,34,772,38],[772,39,772,41],[772,42,772,46],[772,47,772,49],[772,50,772,54],[773,0,773,21],[773,34,773,41],[773,42,773,46],[774,1,774,21],[774,55,774,59],[774,60,774,64]],"merged_total":7625,"flags":["merged_cut"]}
[]
[null,null,"出　来　高　検　収　書　（第",{"$nulls":15},{"$f":"入力画面!S3:T3","v":0},null,"回）",null,null,"( 検収期間",{"$nulls":4},{"$f":"IF(入力画面!$J$4=\"\",\"\",入力画面!$J$4)","v":""},{"$nulls":4},"～",{"$f":"IF(入力画面!$Q$4=\"\",\"\",入力画面!$Q$4)","v":""},{"$nulls":4},"）",{"$nulls":14},"仙 建 工 業 株 式 会 社"]
[{"$nulls":41},"協力会社名"]
["工 事 番 号",{"$nulls":3},{"$f":"入力画面!E5:L5","v":0},{"$nulls":7},"工 事 件 名",{"$nulls":4},{"$f":"入力画面!R5:AO5","v":0},{"$nulls":23},{"$f":"IF(入力画面!AP5=\"\",\"\",入力画面!AP5)","v":""},{"$nulls":19},"　印"]
["契   約   日",{"$nulls":3},{"$f":"IF(入力画面!E6:L6=\"\",\"\",入力画面!E6:L6)","v":""},{"$nulls":7},"工         期",{"$nulls":4},"自",{"$nulls":3},{"$f":"IF(入力画面!V6:AC6=\"\",\"\",入力画面!V6:AC6)","v":""},{"$nulls":7},"至",{"$nulls":3},{"$f":"IF(入力画面!AH6:AO6=\"\",\"\",入力画面!AH6:AO6)","v":""}]
["№","工                         種",{"$nulls":15},"契       約       金       額",{"$nulls":13},"前回迄出来高累計",{"$nulls":7},"今  回  出  来  高",{"$nulls":7},"残            高",{"$nulls":7},"摘                要"]
[{"$nulls":17},"単位",null,"数 量",null,null,"単   価",{"$nulls":3},"金     額",{"$nulls":4},"数 量",null,null,"金     額",{"$nulls":4},"数 量",null,null,"金     額",{"$nulls":4},"数 量",null,null,"金     額"]
[1,{"$f":"入力画面!B11:Q11","v":0},{"$nulls":15},{"$f":"入力画面!R11:S11","v":0},null,{"$f":"IF(入力画面!$T11<>\"\",入力画面!T11:V11,\"\")","v":""},null,null,{"$f":"IF(入力画面!$T11<>\"\",入力画面!W11:Z11,\"\")","v":""},{"$nulls":3},{"$f":"IF(入力画面!$T11<>\"\",入力画面!AA11:AE11,\"\")","v":""},{"$nulls":4},{"$f":"IF(入力画面!$T11<>\"\",入力画面!AF11:AH11,\"\")","v":""},null,null,{"$f":"IF(入力画面!$T11<>\"\",入力画面!AI11:AM11,\"\")","v":""},{"$nulls":4},{"$f":"IF(入力画面!$T11<>\"\",入力画面!AN11:AP11,\"\")","v":""},null,null,{"$f":"IF(入力画面!$T11<>\"\",入力画面!AQ11:AU11,\"\")","v":""},{"$nulls":4},{"$f":"IF(入力画面!$T11<>\"\",入力画面!AV11:AX11,\"\")","v":""},null,null,{"$f":"IF(入力画面!$T11<>\"\",入力画面!AY11:BC11,\"\")","v":""},{"$nulls":4},{"$f":"入力画面!BD11:BM11","v":0}]
[2,{"$f":"入力画面!B12:Q12","v":0},{"$nulls":15},{"$f":"入力画面!R12:S12","v":0},null,{"$f":"IF(入力画面!$T12<>\"\",入力画面!T12,\"\")","v":""},null,null,{"$f":"IF(入力画面!$T12<>\"\",入力画面!W12,\"\")","v":""},{"$nulls":3},{"$f":"IF(入力画面!$T12<>\"\",入力画面!AA12:AE12,\"\")","v":""},{"$nulls":4},{"$f":"IF(入力画面!$T12<>\"\",入力画面!AF12:AH12,\"\")","v":""},null,null,{"$f":"IF(入力画面!$T12<>\"\",入力画面!AI12:AM12,\"\")","v":""},{"$nulls":4},{"$f":"IF(入力画面!$T12<>\"\",入力画面!AN12:AP12,\"\")","v":""},null,null,{"$f":"IF(入力画面!$T12<>\"\",入力画面!AQ12:AU12,\"\")","v":""},{"$nulls":4},{"$f":"IF(入力画面!$T12<>\"\",入力画面!AV12:AX12,\"\")","v":""},null,null,{"$f":"IF(入力画面!$T12<>\"\",入力画面!AY12:BC12,\"\")","v":""},{"$nulls":4},{"$f":"入力画面!BD12:BM12","v":0}]
[3,{"$f":"入力画面!B13:Q13","v":0},{"$nulls":15},{"$f":"入力画面!R13:S13","v":0},null,{"$f":"IF(入力画面!$T13<>\"\",入力画面!T13,\"\")","v":""},null,null,{"$f":"IF(入力画面!$T13<>\"\",入力画面!W13,\"\")","v":""},{"$nulls":3},{"$f":"IF(入力画面!$T13<>\"\",入力画面!AA13:AE13,\"\")","v":""},{"$nulls":4},{"$f":"IF(入力画面!$T13<>\"\",入力画面!AF13:AH13,\"\")","v":""},null,null,{"$f":"IF(入力画面!$T13<>\"\",入力画面!AI13:AM13,\"\")","v":""},{"$nulls":4},{"$f":"IF(入力画面!$T13<>\"\",入力画面!AN13:AP13,\"\")","v":""},null,null,{"$f":"IF(入力画面!$T13<>\"\",入力画面!AQ13:AU13,\"\")","v":""},{"$nulls":4},{"$f":"IF(入力画面!$T13<>\"\",入力画面!AV13:AX13,\"\")","v":""},null,null,{"$f":"IF(入力画面!$T13<>\"\",入力画面!AY13:BC13,\"\")","v":""},{"$nulls":4},{"$f":"入力画面!BD13:BM13","v":0}]
[4,{"$f":"入力画面!B14:Q14","v":0},{"$nulls":15},{"$f":"入力画面!R14:S14","v":0},null,{"$f":"IF(入力画面!$T14<>\"\",入力画面!T14,\"\")","v":""},null,null,{"$f":"IF(入力画面!$T14<>\"\",入力画面!W14,\"\")","v":""},{"$nulls":3},{"$f":"IF(入力画面!$T14<>\"\",入力画面!AA14:AE14,\"\")","v":""},{"$nulls":4},{"$f":"IF(入力画面!$T14<>\"\",入力画面!AF14:AH14,\"\")","v":""},null,null,{"$f":"IF(入力画面!$T14<>\"\",入力画面!AI14:AM14,\"\")","v":""},{"$nulls":4},{"$f":"IF(入力画面!$T14<>\"\",入力画面!AN14:AP14,\"\")","v":""},null,null,{"$f":"IF(入力画面!$T14<>\"\",入力画面!AQ14:AU14,\"\")","v":""},{"$nulls":4},{"$f":"IF(入力画面!$T14<>\"\",入力画面!AV14:AX14,\"\")","v":""},null,null,{"$f":"IF(入力画面!$T14<>\"\",入力画面!AY14:BC14,\"\")","v":""},{"$nulls":4},{"$f":"入力画面!BD14:BM14","v":0}]
[5,{"$f":"入力画面!B15:Q15","v":0},{"$nulls":15},{"$f":"入力画面!R15:S15","v":0},null,{"$f":"IF(入力画面!$T15<>\"\",入力画面!T15,\"\")","v":""},null,null,{"$f":"IF(入力画面!$T15<>\"\",入力画面!W15,\"\")","v":""},{"$nulls":3},{"$f":"IF(入力画面!$T15<>\"\",入力画面!AA15:AE15,\"\")","v":""},{"$nulls":4},{"$f":"IF(入力画面!$T15<>\"\",入力画面!AF15:AH15,\"\")","v":""},null,null,{"$f":"IF(入力画面!$T15<>\"\",入力画面!AI15:AM15,\"\")","v":""},{"$nulls":4},{"$f":"IF(入力画面!$T15<>\"\",入力画面!AN15:AP15,\"\")","v":""},null,null,{"$f":"IF(入力画面!$T15<>\"\",入力画面!AQ15:AU15,\"\")","v":""},{"$nulls":4},{"$f":"IF(入力画面!$T15<>\"\",入力画面!AV15:AX15,\"\")","v":""},null,null,{"$f":"IF(入力画面!$T15<>\"\",入力画面!AY15:BC15,\"\")","v":""},{"$nulls":4},{"$f":"入力画面!BD15:BM15","v":0}]
[6,{"$f":"入力画面!B16:Q16","v":0},{"$nulls":15},{"$f":"入力画面!R16:S16","v":0},null,{"$f":"IF(入力画面!$T16<>\"\",入力画面!T16,\"\")","v":""},null,null,{"$f":"IF(入力画面!$T16<>\"\",入力画面!W16,\"\")","v":""},{"$nulls":3},{"$f":"IF(入力画面!$T16<>\"\",入力画面!AA16:AE16,\"\")","v":""},{"$nulls":4},{"$f":"IF(入力画面!$T16<>\"\",入力画面!AF16:AH16,\"\")","v":""},null,null,{"$f":"IF(入力画面!$T16<>\"\",入力画面!AI16:AM16,\"\")","v":""},{"$nulls":4},{"$f":"IF(入力画面!$T16<>\"\",入力画面!AN16:AP16,\"\")","v":""},null,null,{"$f":"IF(入力画面!$T16<>\"\",入力画面!AQ16:AU16,\"\")","v":""},{"$nulls":4},{"$f":"IF(入力画面!$T16<>\"\",入力画面!AV16:AX16,\"\")","v":""},null,null,{"$f":"IF(入力画面!$T16<>\"\",入力画面!AY16:BC16,\"\")","v":""},{"$nulls":4},{"$f":"入力画面!BD16:BM16","v":0}]
[7,{"$f":"入力画面!B17:Q17","v":0},{"$nulls":15},{"$f":"入力画面!R17:S17","v":0},null,{"$f":"IF(入力画面!$T17<>\"\",入力画面!T17,\"\")","v":""},null,null,{"$f":"IF(入力画面!$T17<>\"\",入力画面!W17,\"\")","v":""},{"$nulls":3},{"$f":"IF(入力画面!$T17<>\"\",入力画面!AA17:AE17,\"\")","v":""},{"$nulls":4},{"$f":"IF(入力画面!$T17<>\"\",入力画面!AF17:AH17,\"\")","v":""},null,null,{"$f":"IF(入力画面!$T17<>\"\",入力画面!AI17:AM17,\"\")","v":""},{"$nulls":4},{"$f":"IF(入力画面!$T17<>\"\",入力画面!AN17:AP17,\"\")","v":""},null,null,{"$f":"IF(入力画面!$T17<>\"\",入力画面!AQ17:AU17,\"\")","v":""},{"$nulls":4},{"$f":"IF(入力画面!$T17<>\"\",入力画面!AV17:AX17,\"\")","v":""},null,null,{"$f":"IF(入力画面!$T17<>\"\",入力画面!AY17:BC17,\"\")","v":""},{"$nulls":4},{"$f":"入力画面!BD17:BM17","v":0}]
[8,{"$f":"入力画面!B18:Q18","v":0},{"$nulls":15},{"$f":"入力画面!R18:S18","v":0},null,{"$f":"IF(入力画面!$T18<>\"\",入力画面!T18,\"\")","v":""},null,null,{"$f":"IF(入力画面!$T18<>\"\",入力画面!W18,\"\")","v":""},{"$nulls":3},{"$f":"IF(入力画面!$T18<>\"\",入力画面!AA18:AE18,\"\")","v":""},{"$nulls":4},{"$f":"IF(入力画面!$T18<>\"\",入力画面!AF18:AH18,\"\")","v":""},null,null,{"$f":"IF(入力画面!$T18<>\"\",入力画面!AI18:AM18,\"\")","v":""},{"$nulls":4},{"$f":"IF(入力画面!$T18<>\"\",入力画面!AN18:AP18,\"\")","v":""},null,null,{"$f":"IF(入力画面!$T18<>\"\",入力画面!AQ18:AU18,\"\")","v":""},{"$nulls":4},{"$f":"IF(入力画面!$T18<>\"\",入力画面!AV18:AX18,\"\")","v":""},null,null,{"$f":"IF(入力画面!$T18<>\"\",入力画面!AY18:BC18,\"\")","v":""},{"$nulls":4},{"$f":"入力画面!BD18:BM18","v":0}]
[9,{"$f":"入力画面!B19:Q19","v":0},{"$nulls":15},{"$f":"入力画面!R19:S19","v":0},null,{"$f":"IF(入力画面!$T19<>\"\",入力画面!T19,\"\")","v":""},null,null,{"$f":"IF(入力画面!$T19<>\"\",入力画面!W19,\"\")","v":""},{"$nulls":3},{"$f":"IF(入力画面!$T19<>\"\",入力画面!AA19:AE19,\"\")","v":""},{"$nulls":4},{"$f":"IF(入力画面!$T19<>\"\",入力画面!AF19:AH19,\"\")","v":""},null,null,{"$f":"IF(入力画面!$T19<>\"\",入力画面!AI19:AM19,\"\")","v":""},{"$nulls":4},{"$f":"IF(入力画面!$T19<>\"\",入力画面!AN19:AP19,\"\")","v":""},null,null,{"$f":"IF(入力画面!$T19<>\"\",入力画面!AQ19:AU19,\"\")","v":""},{"$nulls":4},{"$f":"IF(入力画面!$T19<>\"\",入力画面!AV19:AX19,\"\")","v":""},null,null,{"$f":"IF(入力画面!$T19<>\"\",入力画面!AY19:BC19,\"\")","v":""},{"$nulls":4},{"$f":"入力画面!BD19:BM19","v":0}]
[10,{"$f":"入力画面!B20:Q20","v":0},{"$nulls":15},{"$f":"入力画面!R20:S20","v":0},null,{"$f":"IF(入力画面!$T20<>\"\",入力画面!T20,\"\")","v":""},null,null,{"$f":"IF(入力画面!$T20<>\"\",入力画面!W20,\"\")","v":""},{"$nulls":3},{"$f":"IF(入力画面!$T20<>\"\",入力画面!AA20:AE20,\"\")","v":""},{"$nulls":4},{"$f":"IF(入力画面!$T20<>\"\",入力画面!AF20:AH20,\"\")","v":""},null,null,{"$f":"IF(入力画面!$T20<>\"\",入力画面!AI20:AM20,\"\")","v":""},{"$nulls":4},{"$f":"IF(入力画面!$T20<>\"\",入力画面!AN20:AP20,\"\")","v":""},null,null,{"$f":"IF(入力画面!$T20<>\"\",入力画面!AQ20:AU20,\"\")","v":""},{"$nulls":4},{"$f":"IF(入力画面!$T20<>\"\",入力画面!AV20:AX20,\"\")","v":""},null,null,{"$f":"IF(入力画面!$T20<>\"\",入力画面!AY20:BC20,\"\")","v":""},{"$nulls":4},{"$f":"入力画面!BD20:BM20","v":0}]
[11,{"$f":"入力画面!B21:Q21","v":0},{"$nulls":15},{"$f":"入力画面!R21:S21","v":0},null,{"$f":"IF(入力画面!$T21<>\"\",入力画面!T21,\"\")","v":""},null,null,{"$f":"IF(入力画面!$T21<>\"\",入力画面!W21,\"\")","v":""},{"$nulls":3},{"$f":"IF(入力画面!$T21<>\"\",入力画面!AA21:AE21,\"\")","v":""},{"$nulls":4},{"$f":"IF(入力画面!$T21<>\"\",入力画面!AF21:AH21,\"\")","v":""},null,null,{"$f":"IF(入力画面!$T21<>\"\",入力画面!AI21:AM21,\"\")","v":""},{"$nulls":4},{"$f":"IF(入力画面!$T21<>\"\",入力画面!AN21:AP21,\"\")","v":""},null,null,{"$f":"IF(入力画面!$T21<>\"\",入力画面!AQ21:AU21,\"\")","v":""},{"$nulls":4},{"$f":"IF(入力画面!$T21<>\"\",入力画面!AV21:AX21,\"\")","v":""},null,null,{"$f":"IF(入力画面!$T21<>\"\",入力画面!AY21:BC21,\"\")","v":""},{"$nulls":4},{"$f":"入力画面!BD21:BM21","v":0}]
[12,{"$f":"入力画面!B22:Q22","v":0},{"$nulls":15},{"$f":"入力画面!R22:S22","v":0},null,{"$f":"IF(入力画面!$T22<>\"\",入力画面!T22,\"\")","v":""},null,null,{"$f":"IF(入力画面!$T22<>\"\",入力画面!W22,\"\")","v":""},{"$nulls":3},{"$f":"IF(入力画面!$T22<>\"\",入力画面!AA22:AE22,\"\")","v":""},{"$nulls":4},{"$f":"IF(入力画面!$T22<>\"\",入力画面!AF22:AH22,\"\")","v":""},null,null,{"$f":"IF(入力画面!$T22<>\"\",入力画面!AI22:AM22,\"\")","v":""},{"$nulls":4},{"$f":"IF(入力画面!$T22<>\"\",入力画面!AN22:AP22,\"\")","v":""},null,null,{"$f":"IF(入力画面!$T22<>\"\",入力画面!AQ22:AU22,\"\")","v":""},{"$nulls":4},{"$f":"IF(入力画面!$T22<>\"\",入力画面!AV22:AX22,\"\")","v":""},null,null,{"$f":"IF(入力画面!$T22<>\"\",入力画面!AY22:BC22,\"\")","v":""},{"$nulls":4},{"$f":"入力画面!BD22:BM22","v":0}]
[13,{"$f":"入力画面!B23:Q23","v":0},{"$nulls":15},{"$f":"入力画面!R23:S23","v":0},null,{"$f":"IF(入力画面!$T23<>\"\",入力画面!T23,\"\")","v":""},null,null,{"$f":"IF(入力画面!$T23<>\"\",入力画面!W23,\"\")","v":""},{"$nulls":3},{"$f":"IF(入力画面!$T23<>\"\",入力画面!AA23:AE23,\"\")","v":""},{"$nulls":4},{"$f":"IF(入力画面!$T23<>\"\",入力画面!AF23:AH23,\"\")","v":""},null,null,{"$f":"IF(入力画面!$T23<>\"\",入力画面!AI23:AM23,\"\")","v":""},{"$nulls":4},{"$f":"IF(入力画面!$T23<>\"\",入力画面!AN23:AP23,\"\")","v":""},null,null,{"$f":"IF(入力画面!$T23<>\"\",入力画面!AQ23:AU23,\"\")","v":""},{"$nulls":4},{"$f":"IF(入力画面!$T23<>\"\",入力画面!AV23:AX23,\"\")","v":""},null,null,{"$f":"IF(入力画面!$T23<>\"\",入力画面!AY23:BC23,\"\")","v":""},{"$nulls":4},{"$f":"入力画面!BD23:BM23","v":0}]
[14,{"$f":"入力画面!B24:Q24","v":0},{"$nulls":15},{"$f":"入力画面!R24:S24","v":0},null,{"$f":"IF(入力画面!$T24<>\"\",入力画面!T24,\"\")","v":""},null,null,{"$f":"IF(入力画面!$T24<>\"\",入力画面!W24,\"\")","v":""},{"$nulls":3},{"$f":"IF(入力画面!$T24<>\"\",入力画面!AA24:AE24,\"\")","v":""},{"$nulls":4},{"$f":"IF(入力画面!$T24<>\"\",入力画面!AF24:AH24,\"\")","v":""},null,null,{"$f":"IF(入力画面!$T24<>\"\",入力画面!AI24:AM24,\"\")","v":""},{"$nulls":4},{"$f":"IF(入力画面!$T24<>\"\",入力画面!AN24:AP24,\"\")","v":""},null,null,{"$f":"IF(入力画面!$T24<>\"\",入力画面!AQ24:AU24,\"\")","v":""},{"$nulls":4},{"$f":"IF(入力画面!$T24<>\"\",入力画面!AV24:AX24,\"\")","v":""},null,null,{"$f":"IF(入力画面!$T24<>\"\",入力画面!AY24:BC24,\"\")","v":""},{"$nulls":4},{"$f":"入力画面!BD24:BM24","v":0}]
[15,{"$f":"入力画面!B25:Q25","v":0},{"$nulls":15},{"$f":"入力画面!R25:S25","v":0},null,{"$f":"IF(入力画面!$T25<>\"\",入力画面!T25,\"\")","v":""},null,null,{"$f":"IF(入力画面!$T25<>\"\",入力画面!W25,\"\")","v":""},{"$nulls":3},{"$f":"IF(入力画面!$T25<>\"\",入力画面!AA25:AE25,\"\")","v":""},{"$nulls":4},{"$f":"IF(入力画面!$T25<>\"\",入力画面!AF25:AH25,\"\")","v":""},null,null,{"$f":"IF(入力画面!$T25<>\"\",入力画面!AI25:AM25,\"\")","v":""},{"$nulls":4},{"$f":"IF(入力画面!$T25<>\"\",入力画面!AN25:AP25,\"\")","v":""},null,null,{"$f":"IF(入力画面!$T25<>\"\",入力画面!AQ25:AU25,\"\")","v":""},{"$nulls":4},{"$f":"IF(入力画面!$T25<>\"\",入力画面!AV25:AX25,\"\")","v":""},null,null,{"$f":"IF(入力画面!$T25<>\"\",入力画面!AY25:BC25,\"\")","v":""},{"$nulls":4},{"$f":"入力画面!BD25:BM25","v":0}]
[16,{"$f":"入力画面!B26:Q26","v":0},{"$nulls":15},{"$f":"入力画面!R26:S26","v":0},null,{"$f":"IF(入力画面!$T26<>\"\",入力画面!T26,\"\")","v":""},null,null,{"$f":"IF(入力画面!$T26<>\"\",入力画面!W26,\"\")","v":""},{"$nulls":3},{"$f":"IF(入力画面!$T26<>\"\",入力画面!AA26:AE26,\"\")","v":""},{"$nulls":4},{"$f":"IF(入力画面!$T26<>\"\",入力画面!AF26:AH26,\"\")","v":""},null,null,{"$f":"IF(入力画面!$T26<>\"\",入力画面!AI26:AM26,\"\")","v":""},{"$nulls":4},{"$f":"IF(入力画面!$T26<>\"\",入力画面!AN26:AP26,\"\")","v":""},null,null,{"$f":"IF(入力画面!$T26<>\"\",入力画面!AQ26:AU26,\"\")","v":""},{"$nulls":4},{"$f":"IF(入力画面!$T26<>\"\",入力画面!AV26:AX26,\"\")","v":""},null,null,{"$f":"IF(入力画面!$T26<>\"\",入力画面!AY26:BC26,\"\")","v":""},{"$nulls":4},{"$f":"入力画面!BD26:BM26","v":0}]
[17,{"$f":"入力画面!B27:Q27","v":0},{"$nulls":15},{"$f":"入力画面!R27:S27","v":0},null,{"$f":"IF(入力画面!$T27<>\"\",入力画面!T27,\"\")","v":""},null,null,{"$f":"IF(入力画面!$T27<>\"\",入力画面!W27,\"\")","v":""},{"$nulls":3},{"$f":"IF(入力画面!$T27<>\"\",入力画面!AA27:AE27,\"\")","v":""},{"$nulls":4},{"$f":"IF(入力画面!$T27<>\"\",入力画面!AF27:AH27,\"\")","v":""},null,null,{"$f":"IF(入力画面!$T27<>\"\",入力画面!AI27:AM27,\"\")","v":""},{"$nulls":4},{"$f":"IF(入力画面!$T27<>\"\",入力画面!AN27:AP27,\"\")","v":""},null,null,{"$f":"IF(入力画面!$T27<>\"\",入力画面!AQ27:AU27,\"\")","v":""},{"$nulls":4},{"$f":"IF(入力画面!$T27<>\"\",入力画面!AV27:AX27,\"\")","v":""},null,null,{"$f":"IF(入力画面!$T27<>\"\",入力画面!AY27:BC27,\"\")","v":""},{"$nulls":4},{"$f":"入力画面!BD27:BM27","v":0}]
[18,{"$f":"入力画面!B28:Q28","v":0},{"$nulls":15},{"$f":"入力画面!R28:S28","v":0},null,{"$f":"IF(入力画面!$T28<>\"\",入力画面!T28,\"\")","v":""},null,null,{"$f":"IF(入力画面!$T28<>\"\",入力画面!W28,\"\")","v":""},{"$nulls":3},{"$f":"IF(入力画面!$T28<>\"\",入力画面!AA28:AE28,\"\")","v":""},{"$nulls":4},{"$f":"IF(入力画面!$T28<>\"\",入力画面!AF28:AH28,\"\")","v":""},null,null,{"$f":"IF(入力画面!$T28<>\"\",入力画面!AI28:AM28,\"\")","v":""},{"$nulls":4},{"$f":"IF(入力画面!$T28<>\"\",入力画面!AN28:AP28,\"\")","v":""},null,null,{"$f":"IF(入力画面!$T28<>\"\",入力画面!AQ28:AU28,\"\")","v":""},{"$nulls":4},{"$f":"IF(入力画面!$T28<>\"\",入力画面!AV28:AX28,\"\")","v":""},null,null,{"$f":"IF(入力画面!$T28<>\"\",入力画面!AY28:BC28,\"\")","v":""},{"$nulls":4},{"$f":"入力画面!BD28:BM28","v":0}]
[19,{"$f":"入力画面!B29:Q29","v":0},{"$nulls":15},{"$f":"入力画面!R29:S29","v":0},null,{"$f":"IF(入力画面!$T29<>\"\",入力画面!T29,\"\")","v":""},null,null,{"$f":"IF(入力画面!$T29<>\"\",入力画面!W29,\"\")","v":""},{"$nulls":3},{"$f":"IF(入力画面!$T29<>\"\",入力画面!AA29:AE29,\"\")","v":""},{"$nulls":4},{"$f":"IF(入力画面!$T29<>\"\",入力画面!AF29:AH29,\"\")","v":""},null,null,{"$f":"IF(入力画面!$T29<>\"\",入力画面!AI29:AM29,\"\")","v":""},{"$nulls":4},{"$f":"IF(入力画面!$T29<>\"\",入力画面!AN29:AP29,\"\")","v":""},null,null,{"$f":"IF(入力画面!$T29<>\"\",入力画面!AQ29:AU29,\"\")","v":""},{"$nulls":4},{"$f":"IF(入力画面!$T29<>\"\",入力画面!AV29:AX29,\"\")","v":""},null,null,{"$f":"IF(入力画面!$T29<>\"\",入力画面!AY29:BC29,\"\")","v":""},{"$nulls":4},{"$f":"入力画面!BD29:BM29","v":0}]
[20,{"$f":"入力画面!B30:Q30","v":0},{"$nulls":15},{"$f":"入力画面!R30:S30","v":0},null,{"$f":"IF(入力画面!$T30<>\"\",入力画面!T30,\"\")","v":""},null,null,{"$f":"IF(入力画面!$T30<>\"\",入力画面!W30,\"\")","v":""},{"$nulls":3},{"$f":"IF(入力画面!$T30<>\"\",入力画面!AA30:AE30,\"\")","v":""},{"$nulls":4},{"$f":"IF(入力画面!$T30<>\"\",入力画面!AF30:AH30,\"\")","v":""},null,null,{"$f":"IF(入力画面!$T30<>\"\",入力画面!AI30:AM30,\"\")","v":""},{"$nulls":4},{"$f":"IF(入力画面!$T30<>\"\",入力画面!AN30:AP30,\"\")","v":""},null,null,{"$f":"IF(入力画面!$T30<>\"\",入力画面!AQ30:AU30,\"\")","v":""},{"$nulls":4},{"$f":"IF(入力画面!$T30<>\"\",入力画面!AV30:AX30,\"\")","v":""},null,null,{"$f":"IF(入力画面!$T30<>\"\",入力画面!AY30:BC30,\"\")","v":""},{"$nulls":4},{"$f":"入力画面!BD30:BM30","v":0}]
["※消費税、保留金の計算は別紙、請求書で行ってください",{"$nulls":21},"小計",{"$nulls":3},{"$f":"SUM(AA8:AE27)","v":{"v":0,"d":"0 "}},{"$nulls":4},"小計",null,null,{"$f":"SUM(AI8:AM27)","v":{"v":0,"d":"0 "}},{"$nulls":4},"小計",null,null,{"$f":"SUM(AQ8:AU27)","v":{"v":0,"d":"0 "}},{"$nulls":4},"小計",null,null,{"$f":"SUM(AY8:BC27)","v":{"v":0,"d":"0 "}},{"$nulls":4},"担　当　者　　　　確　認　印",{"$nulls":4},{"$f":"IF(AA29=\"－\",\"―――――\",\"\")","v":""}]
["※完成後一括払いであっても出来高検収書を作成・添付してください",{"$nulls":21},"合計",{"$nulls":3},{"$f":"IF(AND(AA59=0,AI59=0,AQ59=0,AY59=0),AA28,\"－\")","v":{"v":0,"d":"0 "}},{"$nulls":4},"合計",null,null,{"$f":"IF($AA29<>\"－\",AI28,\"－\")","v":{"v":0,"d":"0 "}},{"$nulls":4},"合計",null,null,{"$f":"IF($AA29<>\"－\",AQ28,\"－\")","v":{"v":0,"d":"0 "}},{"$nulls":4},"合計",null,null,{"$f":"IF($AA29<>\"－\",AY28,\"－\")","v":{"v":0,"d":"0 "}}]
["※協力会社印は出力枚数の都度、押印してください",{"$nulls":33},"今回迄出来高累計",{"$nulls":7},{"$f":"IF(AA29=\"－\",\"－\",AI29+AQ29)","v":{"v":0,"d":"0 "}}]
[null,"..",{"$nulls":53},"検   収   日",{"$nulls":4},{"$f":"IF(AA29=\"－\",\"――――\",\"\")","v":""}]
[]
[null,null,"出　来　高　検　収　書　（第",{"$nulls":15},{"$f":"$S$2","v":0},null,"回）",null,null,"( 検収期間",{"$nulls":4},{"$f":"IF(入力画面!$J$4=\"\",\"\",入力画面!$J$4)","v":""},{"$nulls":4},"～",{"$f":"IF(入力画面!$Q$4=\"\",\"\",入力画面!$Q$4)","v":""},{"$nulls":4},"）",{"$nulls":14},"仙 建 工 業 株 式 会 社"]
[{"$nulls":41},"協力会社名"]
["工 事 番 号",{"$nulls":3},{"$f":"$E$4","v":0},{"$nulls":7},"工 事 件 名",{"$nulls":4},{"$f":"$R$4","v":0},{"$nulls":23},{"$f":"$AP$4","v":""},{"$nulls":19},"　印"]
["契   約   日",{"$nulls":3},{"$f":"$E$5","v":""},{"$nulls":7},"工         期",{"$nulls":4},"自",{"$nulls":3},{"$f":"$V$5","v":""},{"$nulls":7},"至",{"$nulls":3},{"$f":"$AH$5","v":""}]
["№","工                         種",{"$nulls":15},"契       約       金       額",{"$nulls":13},"前回迄出来高累計",{"$nulls":7},"今  回  出  来  高",{"$nulls":7},"残            高",{"$nulls":7},"摘                要"]
[{"$nulls":17},"単位",null,"数 量",null,null,"単   価",{"$nulls":3},"金     額",{"$nulls":4},"数 量",null,null,"金     額",{"$nulls":4},"数 量",null,null,"金     額",{"$nulls":4},"数 量",null,null,"金     額"]
[21,{"$f":"入力画面!B31:Q31","v":0},{"$nulls":15},{"$f":"入力画面!R31:S31","v":0},null,{"$f":"IF(入力画面!$T31<>\"\",入力画面!T31,\"\")","v":""},null,null,{"$f":"IF(入力画面!$T31<>\"\",入力画面!W31,\"\")","v":""},{"$nulls":3},{"$f":"IF(入力画面!$T31<>\"\",入力画面!AA31:AE31,\"\")","v":""},{"$nulls":4},{"$f":"IF(入力画面!$T31<>\"\",入力画面!AF31:AH31,\"\")","v":""},null,null,{"$f":"IF(入力画面!$T31<>\"\",入力画面!AI31:AM31,\"\")","v":""},{"$nulls":4},{"$f":"IF(入力画面!$T31<>\"\",入力画面!AN31:AP31,\"\")","v":""},null,null,{"$f":"IF(入力画面!$T31<>\"\",入力画面!AQ31:AU31,\"\")","v":""},{"$nulls":4},{"$f":"IF(入力画面!$T31<>\"\",入力画面!AV31:AX31,\"\")","v":""},null,null,{"$f":"IF(入力画面!$T31<>\"\",入力画面!AY31:BC31,\"\")","v":""},{"$nulls":4},{"$f":"入力画面!BD31:BM31","v":0}]
[22,{"$f":"入力画面!B32:Q32","v":0},{"$nulls":15},{"$f":"入力画面!R32:S32","v":0},null,{"$f":"IF(入力画面!$T32<>\"\",入力画面!T32,\"\")","v":""},null,null,{"$f":"IF(入力画面!$T32<>\"\",入力画面!W32,\"\")","v":""},{"$nulls":3},{"$f":"IF(入力画面!$T32<>\"\",入力画面!AA32:AE32,\"\")","v":""},{"$nulls":4},{"$f":"IF(入力画面!$T32<>\"\",入力画面!AF32:AH32,\"\")","v":""},null,null,{"$f":"IF(入力画面!$T32<>\"\",入力画面!AI32:AM32,\"\")","v":""},{"$nulls":4},{"$f":"IF(入力画面!$T32<>\"\",入力画面!AN32:AP32,\"\")","v":""},null,null,{"$f":"IF(入力画面!$T32<>\"\",入力画面!AQ32:AU32,\"\")","v":""},{"$nulls":4},{"$f":"IF(入力画面!$T32<>\"\",入力画面!AV32:AX32,\"\")","v":""},null,null,{"$f":"IF(入力画面!$T32<>\"\",入力画面!AY32:BC32,\"\")","v":""},{"$nulls":4},{"$f":"入力画面!BD32:BM32","v":0}]
[23,{"$f":"入力画面!B33:Q33","v":0},{"$nulls":15},{"$f":"入力画面!R33:S33","v":0},null,{"$f":"IF(入力画面!$T33<>\"\",入力画面!T33,\"\")","v":""},null,null,{"$f":"IF(入力画面!$T33<>\"\",入力画面!W33,\"\")","v":""},{"$nulls":3},{"$f":"IF(入力画面!$T33<>\"\",入力画面!AA33:AE33,\"\")","v":""},{"$nulls":4},{"$f":"IF(入力画面!$T33<>\"\",入力画面!AF33:AH33,\"\")","v":""},null,null,{"$f":"IF(入力画面!$T33<>\"\",入力画面!AI33:AM33,\"\")","v":""},{"$nulls":4},{"$f":"IF(入力画面!$T33<>\"\",入力画面!AN33:AP33,\"\")","v":""},null,null,{"$f":"IF(入力画面!$T33<>\"\",入力画面!AQ33:AU33,\"\")","v":""},{"$nulls":4},{"$f":"IF(入力画面!$T33<>\"\",入力画面!AV33:AX33,\"\")","v":""},null,null,{"$f":"IF(入力画面!$T33<>\"\",入力画面!AY33:BC33,\"\")","v":""},{"$nulls":4},{"$f":"入力画面!BD33:BM33","v":0}]
[24,{"$f":"入力画面!B34:Q34","v":0},{"$nulls":15},{"$f":"入力画面!R34:S34","v":0},null,{"$f":"IF(入力画面!$T34<>\"\",入力画面!T34,\"\")","v":""},null,null,{"$f":"IF(入力画面!$T34<>\"\",入力画面!W34,\"\")","v":""},{"$nulls":3},{"$f":"IF(入力画面!$T34<>\"\",入力画面!AA34:AE34,\"\")","v":""},{"$nulls":4},{"$f":"IF(入力画面!$T34<>\"\",入力画面!AF34:AH34,\"\")","v":""},null,null,{"$f":"IF(入力画面!$T34<>\"\",入力画面!AI34:AM34,\"\")","v":""},{"$nulls":4},{"$f":"IF(入力画面!$T34<>\"\",入力画面!AN34:AP34,\"\")","v":""},null,null,{"$f":"IF(入力画面!$T34<>\"\",入力画面!AQ34:AU34,\"\")","v":""},{"$nulls":4},{"$f":"IF(入力画面!$T34<>\"\",入力画面!AV34:AX34,\"\")","v":""},null,null,{"$f":"IF(入力画面!$T34<>\"\",入力画面!AY34:BC34,\"\")","v":""},{"$nulls":4},{"$f":"入力画面!BD34:BM34","v":0}]
[25,{"$f":"入力画面!B35:Q35","v":0},{"$nulls":15},{"$f":"入力画面!R35:S35","v":0},null,{"$f":"IF(入力画面!$T35<>\"\",入力画面!T35,\"\")","v":""},null,null,{"$f":"IF(入力画面!$T35<>\"\",入力画面!W35,\"\")","v":""},{"$nulls":3},{"$f":"IF(入力画面!$T35<>\"\",入力画面!AA35:AE35,\"\")","v":""},{"$nulls":4},{"$f":"IF(入力画面!$T35<>\"\",入力画面!AF35:AH35,\"\")","v":""},null,null,{"$f":"IF(入力画面!$T35<>\"\",入力画面!AI35:AM35,\"\")","v":""},{"$nulls":4},{"$f":"IF(入力画面!$T35<>\"\",入力画面!AN35:AP35,\"\")","v":""},null,null,{"$f":"IF(入力画面!$T35<>\"\",入力画面!AQ35:AU35,\"\")","v":""},{"$nulls":4},{"$f":"IF(入力画面!$T35<>\"\",入力画面!AV35:AX35,\"\")","v":""},null,null,{"$f":"IF(入力画面!$T35<>\"\",入力画面!AY35:BC35,\"\")","v":""},{"$nulls":4},{"$f":"入力画面!BD35:BM35","v":0}]
[26,{"$f":"入力画面!B36:Q36","v":0},{"$nulls":15},{"$f":"入力画面!R36:S36","v":0},null,{"$f":"IF(入力画面!$T36<>\"\",入力画面!T36,\"\")","v":""},null,null,{"$f":"IF(入力画面!$T36<>\"\",入力画面!W36,\"\")","v":""},{"$nulls":3},{"$f":"IF(入力画面!$T36<>\"\",入力画面!AA36:AE36,\"\")","v":""},{"$nulls":4},{"$f":"IF(入力画面!$T36<>\"\",入力画面!AF36:AH36,\"\")","v":""},null,null,{"$f":"IF(入力画面!$T36<>\"\",入力画面!AI36:AM36,\"\")","v":""},{"$nulls":4},{"$f":"IF(入力画面!$T36<>\"\",入力画面!AN36:AP36,\"\")","v":""},null,null,{"$f":"IF(入力画面!$T36<>\"\",入力画面!AQ36:AU36,\"\")","v":""},{"$nulls":4},{"$f":"IF(入力画面!$T36<>\"\",入力画面!AV36:AX36,\"\")","v":""},null,null,{"$f":"IF(入力画面!$T36<>\"\",入力画面!AY36:BC36,\"\")","v":""},{"$nulls":4},{"$f":"入力画面!BD36:BM36","v":0}]
[27,{"$f":"入力画面!B37:Q37","v":0},{"$nulls":15},{"$f":"入力画面!R37:S37","v":0},null,{"$f":"IF(入力画面!$T37<>\"\",入力画面!T37,\"\")","v":""},null,null,{"$f":"IF(入力画面!$T37<>\"\",入力画面!W37,\"\")","v":""},{"$nulls":3},{"$f":"IF(入力画面!$T37<>\"\",入力画面!AA37:AE37,\"\")","v":""},{"$nulls":4},{"$f":"IF(入力画面!$T37<>\"\",入力画面!AF37:AH37,\"\")","v":""},null,null,{"$f":"IF(入力画面!$T37<>\"\",入力画面!AI37:AM37,\"\")","v":""},{"$nulls":4},{"$f":"IF(入力画面!$T37<>\"\",入力画面!AN37:AP37,\"\")","v":""},null,null,{"$f":"IF(入力画面!$T37<>\"\",入力画面!AQ37:AU37,\"\")","v":""},{"$nulls":4},{"$f":"IF(入力画面!$T37<>\"\",入力画面!AV37:AX37,\"\")","v":""},null,null,{"$f":"IF(入力画面!$T37<>\"\",入力画面!AY37:BC37,\"\")","v":""},{"$nulls":4},{"$f":"入力画面!BD37:BM37","v":0}]
[28,{"$f":"入力画面!B38:Q38","v":0},{"$nulls":15},{"$f":"入力画面!R38:S38","v":0},null,{"$f":"IF(入力画面!$T38<>\"\",入力画面!T38,\"\")","v":""},null,null,{"$f":"IF(入力画面!$T38<>\"\",入力画面!W38,\"\")","v":""},{"$nulls":3},{"$f":"IF(入力画面!$T38<>\"\",入力画面!AA38:AE38,\"\")","v":""},{"$nulls":4},{"$f":"IF(入力画面!$T38<>\"\",入力画面!AF38:AH38,\"\")","v":""},null,null,{"$f":"IF(入力画面!$T38<>\"\",入力画面!AI38:AM38,\"\")","v":""},{"$nulls":4},{"$f":"IF(入力画面!$T38<>\"\",入力画面!AN38:AP38,\"\")","v":""},null,null,{"$f":"IF(入力画面!$T38<>\"\",入力画面!AQ38:AU38,\"\")","v":""},{"$nulls":4},{"$f":"IF(入力画面!$T38<>\"\",入力画面!AV38:AX38,\"\")","v":""},null,null,{"$f":"IF(入力画面!$T38<>\"\",入力画面!AY38:BC38,\"\")","v":""},{"$nulls":4},{"$f":"入力画面!BD38:BM38","v":0}]
[29,{"$f":"入力画面!B39:Q39","v":0},{"$nulls":15},{"$f":"入力画面!R39:S39","v":0},null,{"$f":"IF(入力画面!$T39<>\"\",入力画面!T39,\"\")","v":""},null,null,{"$f":"IF(入力画面!$T39<>\"\",入力画面!W39,\"\")","v":""},{"$nulls":3},{"$f":"IF(入力画面!$T39<>\"\",入力画面!AA39:AE39,\"\")","v":""},{"$nulls":4},{"$f":"IF(入力画面!$T39<>\"\",入力画面!AF39:AH39,\"\")","v":""},null,null,{"$f":"IF(入力画面!$T39<>\"\",入力画面!AI39:AM39,\"\")","v":""},{"$nulls":4},{"$f":"IF(入力画面!$T39<>\"\",入力画面!AN39:AP39,\"\")","v":""},null,null,{"$f":"IF(入力画面!$T39<>\"\",入力画面!AQ39:AU39,\"\")","v":""},{"$nulls":4},{"$f":"IF(入力画面!$T39<>\"\",入力画面!AV39:AX39,\"\")","v":""},null,null,{"$f":"IF(入力画面!$T39<>\"\",入力画面!AY39:BC39,\"\")","v":""},{"$nulls":4},{"$f":"入力画面!BD39:BM39","v":0}]
[30,{"$f":"入力画面!B40:Q40","v":0},{"$nulls":15},{"$f":"入力画面!R40:S40","v":0},null,{"$f":"IF(入力画面!$T40<>\"\",入力画面!T40,\"\")","v":""},null,null,{"$f":"IF(入力画面!$T40<>\"\",入力画面!W40,\"\")","v":""},{"$nulls":3},{"$f":"IF(入力画面!$T40<>\"\",入力画面!AA40:AE40,\"\")","v":""},{"$nulls":4},{"$f":"IF(入力画面!$T40<>\"\",入力画面!AF40:AH40,\"\")","v":""},null,null,{"$f":"IF(入力画面!$T40<>\"\",入力画面!AI40:AM40,\"\")","v":""},{"$nulls":4},{"$f":"IF(入力画面!$T40<>\"\",入力画面!AN40:AP40,\"\")","v":""},null,null,{"$f":"IF(入力画面!$T40<>\"\",入力画面!AQ40:AU40,\"\")","v":""},{"$nulls":4},{"$f":"IF(入力画面!$T40<>\"\",入力画面!AV40:AX40,\"\")","v":""},null,null,{"$f":"IF(入力画面!$T40<>\"\",入力画面!AY40:BC40,\"\")","v":""},{"$nulls":4},{"$f":"入力画面!BD40:BM40","v":0}]
[31,{"$f":"入力画面!B41:Q41","v":0},{"$nulls":15},{"$f":"入力画面!R41:S41","v":0},null,{"$f":"IF(入力画面!$T41<>\"\",入力画面!T41,\"\")","v":""},null,null,{"$f":"IF(入力画面!$T41<>\"\",入力画面!W41,\"\")","v":""},{"$nulls":3},{"$f":"IF(入力画面!$T41<>\"\",入力画面!AA41:AE41,\"\")","v":""},{"$nulls":4},{"$f":"IF(入力画面!$T41<>\"\",入力画面!AF41:AH41,\"\")","v":""},null,null,{"$f":"IF(入力画面!$T41<>\"\",入力画面!AI41:AM41,\"\")","v":""},{"$nulls":4},{"$f":"IF(入力画面!$T41<>\"\",入力画面!AN41:AP41,\"\")","v":""},null,null,{"$f":"IF(入力画面!$T41<>\"\",入力画面!AQ41:AU41,\"\")","v":""},{"$nulls":4},{"$f":"IF(入力画面!$T41<>\"\",入力画面!AV41:AX41,\"\")","v":""},null,null,{"$f":"IF(入力画面!$T41<>\"\",入力画面!AY41:BC41,\"\")","v":""},{"$nulls":4},{"$f":"入力画面!BD41:BM41","v":0}]
[32,{"$f":"入力画面!B42:Q42","v":0},{"$nulls":15},{"$f":"入力画面!R42:S42","v":0},null,{"$f":"IF(入力画面!$T42<>\"\",入力画面!T42,\"\")","v":""},null,null,{"$f":"IF(入力画面!$T42<>\"\",入力画面!W42,\"\")","v":""},{"$nulls":3},{"$f":"IF(入力画面!$T42<>\"\",入力画面!AA42:AE42,\"\")","v":""},{"$nulls":4},{"$f":"IF(入力画面!$T42<>\"\",入力画面!AF42:AH42,\"\")","v":""},null,null,{"$f":"IF(入力画面!$T42<>\"\",入力画面!AI42:AM42,\"\")","v":""},{"$nulls":4},{"$f":"IF(入力画面!$T42<>\"\",入力画面!AN42:AP42,\"\")","v":""},null,null,{"$f":"IF(入力画面!$T42<>\"\",入力画面!AQ42:AU42,\"\")","v":""},{"$nulls":4},{"$f":"IF(入力画面!$T42<>\"\",入力画面!AV42:AX42,\"\")","v":""},null,null,{"$f":"IF(入力画面!$T42<>\"\",入力画面!AY42:BC42,\"\")","v":""},{"$nulls":4},{"$f":"入力画面!BD42:BM42","v":0}]
[33,{"$f":"入力画面!B43:Q43","v":0},{"$nulls":15},{"$f":"入力画面!R43:S43","v":0},null,{"$f":"IF(入力画面!$T43<>\"\",入力画面!T43,\"\")","v":""},null,null,{"$f":"IF(入力画面!$T43<>\"\",入力画面!W43,\"\")","v":""},{"$nulls":3},{"$f":"IF(入力画面!$T43<>\"\",入力画面!AA43:AE43,\"\")","v":""},{"$nulls":4},{"$f":"IF(入力画面!$T43<>\"\",入力画面!AF43:AH43,\"\")","v":""},null,null,{"$f":"IF(入力画面!$T43<>\"\",入力画面!AI43:AM43,\"\")","v":""},{"$nulls":4},{"$f":"IF(入力画面!$T43<>\"\",入力画面!AN43:AP43,\"\")","v":""},null,null,{"$f":"IF(入力画面!$T43<>\"\",入力画面!AQ43:AU43,\"\")","v":""},{"$nulls":4},{"$f":"IF(入力画面!$T43<>\"\",入力画面!AV43:AX43,\"\")","v":""},null,null,{"$f":"IF(入力画面!$T43<>\"\",入力画面!AY43:BC43,\"\")","v":""},{"$nulls":4},{"$f":"入力画面!BD43:BM43","v":0}]
[34,{"$f":"入力画面!B44:Q44","v":0},{"$nulls":15},{"$f":"入力画面!R44:S44","v":0},null,{"$f":"IF(入力画面!$T44<>\"\",入力画面!T44,\"\")","v":""},null,null,{"$f":"IF(入力画面!$T44<>\"\",入力画面!W44,\"\")","v":""},{"$nulls":3},{"$f":"IF(入力画面!$T44<>\"\",入力画面!AA44:AE44,\"\")","v":""},{"$nulls":4},{"$f":"IF(入力画面!$T44<>\"\",入力画面!AF44:AH44,\"\")","v":""},null,null,{"$f":"IF(入力画面!$T44<>\"\",入力画面!AI44:AM44,\"\")","v":""},{"$nulls":4},{"$f":"IF(入力画面!$T44<>\"\",入力画面!AN44:AP44,\"\")","v":""},null,null,{"$f":"IF(入力画面!$T44<>\"\",入力画面!AQ44:AU44,\"\")","v":""},{"$nulls":4},{"$f":"IF(入力画面!$T44<>\"\",入力画面!AV44:AX44,\"\")","v":""},null,null,{"$f":"IF(入力画面!$T44<>\"\",入力画面!AY44:BC44,\"\")","v":""},{"$nulls":4},{"$f":"入力画面!BD44:BM44","v":0}]
[35,{"$f":"入力画面!B45:Q45","v":0},{"$nulls":15},{"$f":"入力画面!R45:S45","v":0},null,{"$f":"IF(入力画面!$T45<>\"\",入力画面!T45,\"\")","v":""},null,null,{"$f":"IF(入力画面!$T45<>\"\",入力画面!W45,\"\")","v":""},{"$nulls":3},{"$f":"IF(入力画面!$T45<>\"\",入力画面!AA45:AE45,\"\")","v":""},{"$nulls":4},{"$f":"IF(入力画面!$T45<>\"\",入力画面!AF45:AH45,\"\")","v":""},null,null,{"$f":"IF(入力画面!$T45<>\"\",入力画面!AI45:AM45,\"\")","v":""},{"$nulls":4},{"$f":"IF(入力画面!$T45<>\"\",入力画面!AN45:AP45,\"\")","v":""},null,null,{"$f":"IF(入力画面!$T45<>\"\",入力画面!AQ45:AU45,\"\")","v":""},{"$nulls":4},{"$f":"IF(入力画面!$T45<>\"\",入力画面!AV45:AX45,\"\")","v":""},null,null,{"$f":"IF(入力画面!$T45<>\"\",入力画面!AY45:BC45,\"\")","v":""},{"$nulls":4},{"$f":"入力画面!BD45:BM45","v":0}]
[36,{"$f":"入力画面!B46:Q46","v":0},{"$nulls":15},{"$f":"入力画面!R46:S46","v":0},null,{"$f":"IF(入力画面!$T46<>\"\",入力画面!T46,\"\")","v":""},null,null,{"$f":"IF(入力画面!$T46<>\"\",入力画面!W46,\"\")","v":""},{"$nulls":3},{"$f":"IF(入力画面!$T46<>\"\",入力画面!AA46:AE46,\"\")","v":""},{"$nulls":4},{"$f":"IF(入力画面!$T46<>\"\",入力画面!AF46:AH46,\"\")","v":""},null,null,{"$f":"IF(入力画面!$T46<>\"\",入力画面!AI46:AM46,\"\")","v":""},{"$nulls":4},{"$f":"IF(入力画面!$T46<>\"\",入力画面!AN46:AP46,\"\")","v":""},null,null,{"$f":"IF(入力画面!$T46<>\"\",入力画面!AQ46:AU46,\"\")","v":""},{"$nulls":4},{"$f":"IF(入力画面!$T46<>\"\",入力画面!AV46:AX46,\"\")","v":""},null,null,{"$f":"IF(入力画面!$T46<>\"\",入力画面!AY46:BC46,\"\")","v":""},{"$nulls":4},{"$f":"入力画面!BD46:BM46","v":0}]
[37,{"$f":"入力画面!B47:Q47","v":0},{"$nulls":15},{"$f":"入力画面!R47:S47","v":0},null,{"$f":"IF(入力画面!$T47<>\"\",入力画面!T47,\"\")","v":""},null,null,{"$f":"IF(入力画面!$T47<>\"\",入力画面!W47,\"\")","v":""},{"$nulls":3},{"$f":"IF(入力画面!$T47<>\"\",入力画面!AA47:AE47,\"\")","v":""},{"$nulls":4},{"$f":"IF(入力画面!$T47<>\"\",入力画面!AF47:AH47,\"\")","v":""},null,null,{"$f":"IF(入力画面!$T47<>\"\",入力画面!AI47:AM47,\"\")","v":""},{"$nulls":4},{"$f":"IF(入力画面!$T47<>\"\",入力画面!AN47:AP47,\"\")","v":""},null,null,{"$f":"IF(入力画面!$T47<>\"\",入力画面!AQ47:AU47,\"\")","v":""},{"$nulls":4},{"$f":"IF(入力画面!$T47<>\"\",入力画面!AV47:AX47,\"\")","v":""},null,null,{"$f":"IF(入力画面!$T47<>\"\",入力画面!AY47:BC47,\"\")","v":""},{"$nulls":4},{"$f":"入力画面!BD47:BM47","v":0}]
[38,{"$f":"入力画面!B48:Q48","v":0},{"$nulls":15},{"$f":"入力画面!R48:S48","v":0},null,{"$f":"IF(入力画面!$T48<>\"\",入力画面!T48,\"\")","v":""},null,null,{"$f":"IF(入力画面!$T48<>\"\",入力画面!W48,\"\")","v":""},{"$nulls":3},{"$f":"IF(入力画面!$T48<>\"\",入力画面!AA48:AE48,\"\")","v":""},{"$nulls":4},{"$f":"IF(入力画面!$T48<>\"\",入力画面!AF48:AH48,\"\")","v":""},null,null,{"$f":"IF(入力画面!$T48<>\"\",入力画面!AI48:AM48,\"\")","v":""},{"$nulls":4},{"$f":"IF(入力画面!$T48<>\"\",入力画面!AN48:AP48,\"\")","v":""},null,null,{"$f":"IF(入力画面!$T48<>\"\",入力画面!AQ48:AU48,\"\")","v":""},{"$nulls":4},{"$f":"IF(入力画面!$T48<>\"\",入力画面!AV48:AX48,\"\")","v":""},null,null,{"$f":"IF(入力画面!$T48<>\"\",入力画面!AY48:BC48,\"\")","v":""},{"$nulls":4},{"$f":"入力画面!BD48:BM48","v":0}]
[39,{"$f":"入力画面!B49:Q49","v":0},{"$nulls":15},{"$f":"入力画面!R49:S49","v":0},null,{"$f":"IF(入力画面!$T49<>\"\",入力画面!T49,\"\")","v":""},null,null,{"$f":"IF(入力画面!$T49<>\"\",入力画面!W49,\"\")","v":""},{"$nulls":3},{"$f":"IF(入力画面!$T49<>\"\",入力画面!AA49:AE49,\"\")","v":""},{"$nulls":4},{"$f":"IF(入力画面!$T49<>\"\",入力画面!AF49:AH49,\"\")","v":""},null,null,{"$f":"IF(入力画面!$T49<>\"\",入力画面!AI49:AM49,\"\")","v":""},{"$nulls":4},{"$f":"IF(入力画面!$T49<>\"\",入力画面!AN49:AP49,\"\")","v":""},null,null,{"$f":"IF(入力画面!$T49<>\"\",入力画面!AQ49:AU49,\"\")","v":""},{"$nulls":4},{"$f":"IF(入力画面!$T49<>\"\",入力画面!AV49:AX49,\"\")","v":""},null,null,{"$f":"IF(入力画面!$T49<>\"\",入力画面!AY49:BC49,\"\")","v":""},{"$nulls":4},{"$f":"入力画面!BD49:BM49","v":0}]
[40,{"$f":"入力画面!B50:Q50","v":0},{"$nulls":15},{"$f":"入力画面!R50:S50","v":0},null,{"$f":"IF(入力画面!$T50<>\"\",入力画面!T50,\"\")","v":""},null,null,{"$f":"IF(入力画面!$T50<>\"\",入力画面!W50,\"\")","v":""},{"$nulls":3},{"$f":"IF(入力画面!$T50<>\"\",入力画面!AA50:AE50,\"\")","v":""},{"$nulls":4},{"$f":"IF(入力画面!$T50<>\"\",入力画面!AF50:AH50,\"\")","v":""},null,null,{"$f":"IF(入力画面!$T50<>\"\",入力画面!AI50:AM50,\"\")","v":""},{"$nulls":4},{"$f":"IF(入力画面!$T50<>\"\",入力画面!AN50:AP50,\"\")","v":""},null,null,{"$f":"IF(入力画面!$T50<>\"\",入力画面!AQ50:AU50,\"\")","v":""},{"$nulls":4},{"$f":"IF(入力画面!$T50<>\"\",入力画面!AV50:AX50,\"\")","v":""},null,null,{"$f":"IF(入力画面!$T50<>\"\",入力画面!AY50:BC50,\"\")","v":""},{"$nulls":4},{"$f":"入力画面!BD50:BM50","v":0}]
["※消費税、保留金の計算は別紙、請求書で行ってください",{"$nulls":21},"小計",{"$nulls":3},{"$f":"SUM(AA39:AE58)","v":{"v":0,"d":"0 "}},{"$nulls":4},"小計",null,null,{"$f":"SUM(AI39:AM58)","v":{"v":0,"d":"0 "}},{"$nulls":4},"小計",null,null,{"$f":"SUM(AQ39:AU58)","v":{"v":0,"d":"0 "}},{"$nulls":4},"小計",null,null,{"$f":"SUM(AY39:BC58)","v":{"v":0,"d":"0 "}},{"$nulls":4},"担　当　者　　　　確　認　印",{"$nulls":4},{"$f":"IF(AA60=\"－\",\"―――――\",\"\")","v":"―――――"}]
["※完成後一括払いであっても出来高検収書を作成・添付してください",{"$nulls":21},"合計",{"$nulls":3},{"$f":"IF(AND(AA29=\"－\",AA90=0,AI90=0,AQ90=0,AY90=0),AA28+AA59,\"－\")","v":"－"},{"$nulls":4},"合計",null,null,{"$f":"IF($AA60<>\"－\",AI28+AI59,\"－\")","v":"－"},{"$nulls":4},"合計",null,null,{"$f":"IF($AA60<>\"－\",AQ28+AQ59,\"－\")","v":"－"},{"$nulls":4},"合計",null,null,{"$f":"IF($AA60<>\"－\",AY28+AY59,\"－\")","v":"－"}]
["※協力会社印は出力枚数の都度、押印してください",{"$nulls":33},"今回迄出来高累計",{"$nulls":7},{"$f":"IF(AA60=\"－\",\"－\",AI60+AQ60)","v":"－"}]
[{"$nulls":55},"検   収   日",{"$nulls":4},{"$f":"IF(AA60=\"－\",\"――――\",\"\")","v":"――――"}]
[]
[null,null,"出　来　高　検　収　書　（第",{"$nulls":15},{"$f":"$S$2","v":0},null,"回）",null,null,"( 検収期間",{"$nulls":4},{"$f":"IF(入力画面!$J$4=\"\",\"\",入力画面!$J$4)","v":""},{"$nulls":4},"～",{"$f":"IF(入力画面!$Q$4=\"\",\"\",入力画面!$Q$4)","v":""},{"$nulls":4},"）",{"$nulls":14},"仙 建 工 業 株 式 会 社"]
[{"$nulls":41},"協力会社名"]
["工 事 番 号",{"$nulls":3},{"$f":"$E$4","v":0},{"$nulls":7},"工 事 件 名",{"$nulls":4},{"$f":"$R$4","v":0},{"$nulls":23},{"$f":"$AP$4","v":""},{"$nulls":19},"　印"]
["契   約   日",{"$nulls":3},{"$f":"$E$5","v":""},{"$nulls":7},"工         期",{"$nulls":4},"自",{"$nulls":3},{"$f":"$V$5","v":""},{"$nulls":7},"至",{"$nulls":3},{"$f":"$AH$5","v":""}]
["№","工                         種",{"$nulls":15},"契       約       金       額",{"$nulls":13},"前回迄出来高累計",{"$nulls":7},"今  回  出  来  高",{"$nulls":7},"残            高",{"$nulls":7},"摘                要"]
[{"$nulls":17},"単位",null,"数 量",null,null,"単   価",{"$nulls":3},"金     額",{"$nulls":4},"数 量",null,null,"金     額",{"$nulls":4},"数 量",null,null,"金     額",{"$nulls":4},"数 量",null,null,"金     額"]
[41,{"$f":"入力画面!B51:Q51","v":0},{"$nulls":15},{"$f":"入力画面!R51:S51","v":0},null,{"$f":"IF(入力画面!$T51<>\"\",入力画面!T51,\"\")","v":""},null,null,{"$f":"IF(入力画面!$T51<>\"\",入力画面!W51,\"\")","v":""},{"$nulls":3},{"$f":"IF(入力画面!$T51<>\"\",入力画面!AA51:AE51,\"\")","v":""},{"$nulls":4},{"$f":"IF(入力画面!$T51<>\"\",入力画面!AF51:AH51,\"\")","v":""},null,null,{"$f":"IF(入力画面!$T51<>\"\",入力画面!AI51:AM51,\"\")","v":""},{"$nulls":4},{"$f":"IF(入力画面!$T51<>\"\",入力画面!AN51:AP51,\"\")","v":""},null,null,{"$f":"IF(入力画面!$T51<>\"\",入力画面!AQ51:AU51,\"\")","v":""},{"$nulls":4},{"$f":"IF(入力画面!$T51<>\"\",入力画面!AV51:AX51,\"\")","v":""},null,null,{"$f":"IF(入力画面!$T51<>\"\",入力画面!AY51:BC51,\"\")","v":""},{"$nulls":4},{"$f":"入力画面!BD51:BM51","v":0}]
[42,{"$f":"入力画面!B52:Q52","v":0},{"$nulls":15},{"$f":"入力画面!R52:S52","v":0},null,{"$f":"IF(入力画面!$T52<>\"\",入力画面!T52,\"\")","v":""},null,null,{"$f":"IF(入力画面!$T52<>\"\",入力画面!W52,\"\")","v":""},{"$nulls":3},{"$f":"IF(入力画面!$T52<>\"\",入力画面!AA52:AE52,\"\")","v":""},{"$nulls":4},{"$f":"IF(入力画面!$T52<>\"\",入力画面!AF52:AH52,\"\")","v":""},null,null,{"$f":"IF(入力画面!$T52<>\"\",入力画面!AI52:AM52,\"\")","v":""},{"$nulls":4},{"$f":"IF(入力画面!$T52<>\"\",入力画面!AN52:AP52,\"\")","v":""},null,null,{"$f":"IF(入力画面!$T52<>\"\",入力画面!AQ52:AU52,\"\")","v":""},{"$nulls":4},{"$f":"IF(入力画面!$T52<>\"\",入力画面!AV52:AX52,\"\")","v":""},null,null,{"$f":"IF(入力画面!$T52<>\"\",入力画面!AY52:BC52,\"\")","v":""},{"$nulls":4},{"$f":"入力画面!BD52:BM52","v":0}]
[43,{"$f":"入力画面!B53:Q53","v":0},{"$nulls":15},{"$f":"入力画面!R53:S53","v":0},null,{"$f":"IF(入力画面!$T53<>\"\",入力画面!T53,\"\")","v":""},null,null,{"$f":"IF(入力画面!$T53<>\"\",入力画面!W53,\"\")","v":""},{"$nulls":3},{"$f":"IF(入力画面!$T53<>\"\",入力画面!AA53:AE53,\"\")","v":""},{"$nulls":4},{"$f":"IF(入力画面!$T53<>\"\",入力画面!AF53:AH53,\"\")","v":""},null,null,{"$f":"IF(入力画面!$T53<>\"\",入力画面!AI53:AM53,\"\")","v":""},{"$nulls":4},{"$f":"IF(入力画面!$T53<>\"\",入力画面!AN53:AP53,\"\")","v":""},null,null,{"$f":"IF(入力画面!$T53<>\"\",入力画面!AQ53:AU53,\"\")","v":""},{"$nulls":4},{"$f":"IF(入力画面!$T53<>\"\",入力画面!AV53:AX53,\"\")","v":""},null,null,{"$f":"IF(入力画面!$T53<>\"\",入力画面!AY53:BC53,\"\")","v":""},{"$nulls":4},{"$f":"入力画面!BD53:BM53","v":0}]
[44,{"$f":"入力画面!B54:Q54","v":0},{"$nulls":15},{"$f":"入力画面!R54:S54","v":0},null,{"$f":"IF(入力画面!$T54<>\"\",入力画面!T54,\"\")","v":""},null,null,{"$f":"IF(入力画面!$T54<>\"\",入力画面!W54,\"\")","v":""},{"$nulls":3},{"$f":"IF(入力画面!$T54<>\"\",入力画面!AA54:AE54,\"\")","v":""},{"$nulls":4},{"$f":"IF(入力画面!$T54<>\"\",入力画面!AF54:AH54,\"\")","v":""},null,null,{"$f":"IF(入力画面!$T54<>\"\",入力画面!AI54:AM54,\"\")","v":""},{"$nulls":4},{"$f":"IF(入力画面!$T54<>\"\",入力画面!AN54:AP54,\"\")","v":""},null,null,{"$f":"IF(入力画面!$T54<>\"\",入力画面!AQ54:AU54,\"\")","v":""},{"$nulls":4},{"$f":"IF(入力画面!$T54<>\"\",入力画面!AV54:AX54,\"\")","v":""},null,null,{"$f":"IF(入力画面!$T54<>\"\",入力画面!AY54:BC54,\"\")","v":""},{"$nulls":4},{"$f":"入力画面!BD54:BM54","v":0}]
[45,{"$f":"入力画面!B55:Q55","v":0},{"$nulls":15},{"$f":"入力画面!R55:S55","v":0},null,{"$f":"IF(入力画面!$T55<>\"\",入力画面!T55,\"\")","v":""},null,null,{"$f":"IF(入力画面!$T55<>\"\",入力画面!W55,\"\")","v":""},{"$nulls":3},{"$f":"IF(入力画面!$T55<>\"\",入力画面!AA55:AE55,\"\")","v":""},{"$nulls":4},{"$f":"IF(入力画面!$T55<>\"\",入力画面!AF55:AH55,\"\")","v":""},null,null,{"$f":"IF(入力画面!$T55<>\"\",入力画面!AI55:AM55,\"\")","v":""},{"$nulls":4},{"$f":"IF(入力画面!$T55<>\"\",入力画面!AN55:AP55,\"\")","v":""},null,null,{"$f":"IF(入力画面!$T55<>\"\",入力画面!AQ55:AU55,\"\")","v":""},{"$nulls":4},{"$f":"IF(入力画面!$T55<>\"\",入力画面!AV55:AX55,\"\")","v":""},null,null,{"$f":"IF(入力画面!$T55<>\"\",入力画面!AY55:BC55,\"\")","v":""},{"$nulls":4},{"$f":"入力画面!BD55:BM55","v":0}]
[46,{"$f":"入力画面!B56:Q56","v":0},{"$nulls":15},{"$f":"入力画面!R56:S56","v":0},null,{"$f":"IF(入力画面!$T56<>\"\",入力画面!T56,\"\")","v":""},null,null,{"$f":"IF(入力画面!$T56<>\"\",入力画面!W56,\"\")","v":""},{"$nulls":3},{"$f":"IF(入力画面!$T56<>\"\",入力画面!AA56:AE56,\"\")","v":""},{"$nulls":4},{"$f":"IF(入力画面!$T56<>\"\",入力画面!AF56:AH56,\"\")","v":""},null,null,{"$f":"IF(入力画面!$T56<>\"\",入力画面!AI56:AM56,\"\")","v":""},{"$nulls":4},{"$f":"IF(入力画面!$T56<>\"\",入力画面!AN56:AP56,\"\")","v":""},null,null,{"$f":"IF(入力画面!$T56<>\"\",入力画面!AQ56:AU56,\"\")","v":""},{"$nulls":4},{"$f":"IF(入力画面!$T56<>\"\",入力画面!AV56:AX56,\"\")","v":""},null,null,{"$f":"IF(入力画面!$T56<>\"\",入力画面!AY56:BC56,\"\")","v":""},{"$nulls":4},{"$f":"入力画面!BD56:BM56","v":0}]
[47,{"$f":"入力画面!B57:Q57","v":0},{"$nulls":15},{"$f":"入力画面!R57:S57","v":0},null,{"$f":"IF(入力画面!$T57<>\"\",入力画面!T57,\"\")","v":""},null,null,{"$f":"IF(入力画面!$T57<>\"\",入力画面!W57,\"\")","v":""},{"$nulls":3},{"$f":"IF(入力画面!$T57<>\"\",入力画面!AA57:AE57,\"\")","v":""},{"$nulls":4},{"$f":"IF(入力画面!$T57<>\"\",入力画面!AF57:AH57,\"\")","v":""},null,null,{"$f":"IF(入力画面!$T57<>\"\",入力画面!AI57:AM57,\"\")","v":""},{"$nulls":4},{"$f":"IF(入力画面!$T57<>\"\",入力画面!AN57:AP57,\"\")","v":""},null,null,{"$f":"IF(入力画面!$T57<>\"\",入力画面!AQ57:AU57,\"\")","v":""},{"$nulls":4},{"$f":"IF(入力画面!$T57<>\"\",入力画面!AV57:AX57,\"\")","v":""},null,null,{"$f":"IF(入力画面!$T57<>\"\",入力画面!AY57:BC57,\"\")","v":""},{"$nulls":4},{"$f":"入力画面!BD57:BM57","v":0}]
[48,{"$f":"入力画面!B58:Q58","v":0},{"$nulls":15},{"$f":"入力画面!R58:S58","v":0},null,{"$f":"IF(入力画面!$T58<>\"\",入力画面!T58,\"\")","v":""},null,null,{"$f":"IF(入力画面!$T58<>\"\",入力画面!W58,\"\")","v":""},{"$nulls":3},{"$f":"IF(入力画面!$T58<>\"\",入力画面!AA58:AE58,\"\")","v":""},{"$nulls":4},{"$f":"IF(入力画面!$T58<>\"\",入力画面!AF58:AH58,\"\")","v":""},null,null,{"$f":"IF(入力画面!$T58<>\"\",入力画面!AI58:AM58,\"\")","v":""},{"$nulls":4},{"$f":"IF(入力画面!$T58<>\"\",入力画面!AN58:AP58,\"\")","v":""},null,null,{"$f":"IF(入力画面!$T58<>\"\",入力画面!AQ58:AU58,\"\")","v":""},{"$nulls":4},{"$f":"IF(入力画面!$T58<>\"\",入力画面!AV58:AX58,\"\")","v":""},null,null,{"$f":"IF(入力画面!$T58<>\"\",入力画面!AY58:BC58,\"\")","v":""},{"$nulls":4},{"$f":"入力画面!BD58:BM58","v":0}]
[49,{"$f":"入力画面!B59:Q59","v":0},{"$nulls":15},{"$f":"入力画面!R59:S59","v":0},null,{"$f":"IF(入力画面!$T59<>\"\",入力画面!T59,\"\")","v":""},null,null,{"$f":"IF(入力画面!$T59<>\"\",入力画面!W59,\"\")","v":""},{"$nulls":3},{"$f":"IF(入力画面!$T59<>\"\",入力画面!AA59:AE59,\"\")","v":""},{"$nulls":4},{"$f":"IF(入力画面!$T59<>\"\",入力画面!AF59:AH59,\"\")","v":""},null,null,{"$f":"IF(入力画面!$T59<>\"\",入力画面!AI59:AM59,\"\")","v":""},{"$nulls":4},{"$f":"IF(入力画面!$T59<>\"\",入力画面!AN59:AP59,\"\")","v":""},null,null,{"$f":"IF(入力画面!$T59<>\"\",入力画面!AQ59:AU59,\"\")","v":""},{"$nulls":4},{"$f":"IF(入力画面!$T59<>\"\",入力画面!AV59:AX59,\"\")","v":""},null,null,{"$f":"IF(入力画面!$T59<>\"\",入力画面!AY59:BC59,\"\")","v":""},{"$nulls":4},{"$f":"入力画面!BD59:BM59","v":0}]
[50,{"$f":"入力画面!B60:Q60","v":0},{"$nulls":15},{"$f":"入力画面!R60:S60","v":0},null,{"$f":"IF(入力画面!$T60<>\"\",入力画面!T60,\"\")","v":""},null,null,{"$f":"IF(入力画面!$T60<>\"\",入力画面!W60,\"\")","v":""},{"$nulls":3},{"$f":"IF(入力画面!$T60<>\"\",入力画面!AA60:AE60,\"\")","v":""},{"$nulls":4},{"$f":"IF(入力画面!$T60<>\"\",入力画面!AF60:AH60,\"\")","v":""},null,null,{"$f":"IF(入力画面!$T60<>\"\",入力画面!AI60:AM60,\"\")","v":""},{"$nulls":4},{"$f":"IF(入力画面!$T60<>\"\",入力画面!AN60:AP60,\"\")","v":""},null,null,{"$f":"IF(入力画面!$T60<>\"\",入力画面!AQ60:AU60,\"\")","v":""},{"$nulls":4},{"$f":"IF(入力画面!$T60<>\"\",入力画面!AV60:AX60,\"\")","v":""},null,null,{"$f":"IF(入力画面!$T60<>\"\",入力画面!AY60:BC60,\"\")","v":""},{"$nulls":4},{"$f":"入力画面!BD60:BM60","v":0}]
[51,{"$f":"入力画面!B61:Q61","v":0},{"$nulls":15},{"$f":"入力画面!R61:S61","v":0},null,{"$f":"IF(入力画面!$T61<>\"\",入力画面!T61,\"\")","v":""},null,null,{"$f":"IF(入力画面!$T61<>\"\",入力画面!W61,\"\")","v":""},{"$nulls":3},{"$f":"IF(入力画面!$T61<>\"\",入力画面!AA61:AE61,\"\")","v":""},{"$nulls":4},{"$f":"IF(入力画面!$T61<>\"\",入力画面!AF61:AH61,\"\")","v":""},null,null,{"$f":"IF(入力画面!$T61<>\"\",入力画面!AI61:AM61,\"\")","v":""},{"$nulls":4},{"$f":"IF(入力画面!$T61<>\"\",入力画面!AN61:AP61,\"\")","v":""},null,null,{"$f":"IF(入力画面!$T61<>\"\",入力画面!AQ61:AU61,\"\")","v":""},{"$nulls":4},{"$f":"IF(入力画面!$T61<>\"\",入力画面!AV61:AX61,\"\")","v":""},null,null,{"$f":"IF(入力画面!$T61<>\"\",入力画面!AY61:BC61,\"\")","v":""},{"$nulls":4},{"$f":"入力画面!BD61:BM61","v":0}]
[52,{"$f":"入力画面!B62:Q62","v":0},{"$nulls":15},{"$f":"入力画面!R62:S62","v":0},null,{"$f":"IF(入力画面!$T62<>\"\",入力画面!T62,\"\")","v":""},null,null,{"$f":"IF(入力画面!$T62<>\"\",入力画面!W62,\"\")","v":""},{"$nulls":3},{"$f":"IF(入力画面!$T62<>\"\",入力画面!AA62:AE62,\"\")","v":""},{"$nulls":4},{"$f":"IF(入力画面!$T62<>\"\",入力画面!AF62:AH62,\"\")","v":""},null,null,{"$f":"IF(入力画面!$T62<>\"\",入力画面!AI62:AM62,\"\")","v":""},{"$nulls":4},{"$f":"IF(入力画面!$T62<>\"\",入力画面!AN62:AP62,\"\")","v":""},null,null,{"$f":"IF(入力画面!$T62<>\"\",入力画面!AQ62:AU62,\"\")","v":""},{"$nulls":4},{"$f":"IF(入力画面!$T62<>\"\",入力画面!AV62:AX62,\"\")","v":""},null,null,{"$f":"IF(入力画面!$T62<>\"\",入力画面!AY62:BC62,\"\")","v":""},{"$nulls":4},{"$f":"入力画面!BD62:BM62","v":0}]
[53,{"$f":"入力画面!B63:Q63","v":0},{"$nulls":15},{"$f":"入力画面!R63:S63","v":0},null,{"$f":"IF(入力画面!$T63<>\"\",入力画面!T63,\"\")","v":""},null,null,{"$f":"IF(入力画面!$T63<>\"\",入力画面!W63,\"\")","v":""},{"$nulls":3},{"$f":"IF(入力画面!$T63<>\"\",入力画面!AA63:AE63,\"\")","v":""},{"$nulls":4},{"$f":"IF(入力画面!$T63<>\"\",入力画面!AF63:AH63,\"\")","v":""},null,null,{"$f":"IF(入力画面!$T63<>\"\",入力画面!AI63:AM63,\"\")","v":""},{"$nulls":4},{"$f":"IF(入力画面!$T63<>\"\",入力画面!AN63:AP63,\"\")","v":""},null,null,{"$f":"IF(入力画面!$T63<>\"\",入力画面!AQ63:AU63,\"\")","v":""},{"$nulls":4},{"$f":"IF(入力画面!$T63<>\"\",入力画面!AV63:AX63,\"\")","v":""},null,null,{"$f":"IF(入力画面!$T63<>\"\",入力画面!AY63:BC63,\"\")","v":""},{"$nulls":4},{"$f":"入力画面!BD63:BM63","v":0}]
[54,{"$f":"入力画面!B64:Q64","v":0},{"$nulls":15},{"$f":"入力画面!R64:S64","v":0},null,{"$f":"IF(入力画面!$T64<>\"\",入力画面!T64,\"\")","v":""},null,null,{"$f":"IF(入力画面!$T64<>\"\",入力画面!W64,\"\")","v":""},{"$nulls":3},{"$f":"IF(入力画面!$T64<>\"\",入力画面!AA64:AE64,\"\")","v":""},{"$nulls":4},{"$f":"IF(入力画面!$T64<>\"\",入力画面!AF64:AH64,\"\")","v":""},null,null,{"$f":"IF(入力画面!$T64<>\"\",入力画面!AI64:AM64,\"\")","v":""},{"$nulls":4},{"$f":"IF(入力画面!$T64<>\"\",入力画面!AN64:AP64,\"\")","v":""},null,null,{"$f":"IF(入力画面!$T64<>\"\",入力画面!AQ64:AU64,\"\")","v":""},{"$nulls":4},{"$f":"IF(入力画面!$T64<>\"\",入力画面!AV64:AX64,\"\")","v":""},null,null,{"$f":"IF(入力画面!$T64<>\"\",入力画面!AY64:BC64,\"\")","v":""},{"$nulls":4},{"$f":"入力画面!BD64:BM64","v":0}]
[55,{"$f":"入力画面!B65:Q65","v":0},{"$nulls":15},{"$f":"入力画面!R65:S65","v":0},null,{"$f":"IF(入力画面!$T65<>\"\",入力画面!T65,\"\")","v":""},null,null,{"$f":"IF(入力画面!$T65<>\"\",入力画面!W65,\"\")","v":""},{"$nulls":3},{"$f":"IF(入力画面!$T65<>\"\",入力画面!AA65:AE65,\"\")","v":""},{"$nulls":4},{"$f":"IF(入力画面!$T65<>\"\",入力画面!AF65:AH65,\"\")","v":""},null,null,{"$f":"IF(入力画面!$T65<>\"\",入力画面!AI65:AM65,\"\")","v":""},{"$nulls":4},{"$f":"IF(入力画面!$T65<>\"\",入力画面!AN65:AP65,\"\")","v":""},null,null,{"$f":"IF(入力画面!$T65<>\"\",入力画面!AQ65:AU65,\"\")","v":""},{"$nulls":4},{"$f":"IF(入力画面!$T65<>\"\",入力画面!AV65:AX65,\"\")","v":""},null,null,{"$f":"IF(入力画面!$T65<>\"\",入力画面!AY65:BC65,\"\")","v":""},{"$nulls":4},{"$f":"入力画面!BD65:BM65","v":0}]
[56,{"$f":"入力画面!B66:Q66","v":0},{"$nulls":15},{"$f":"入力画面!R66:S66","v":0},null,{"$f":"IF(入力画面!$T66<>\"\",入力画面!T66,\"\")","v":""},null,null,{"$f":"IF(入力画面!$T66<>\"\",入力画面!W66,\"\")","v":""},{"$nulls":3},{"$f":"IF(入力画面!$T66<>\"\",入力画面!AA66:AE66,\"\")","v":""},{"$nulls":4},{"$f":"IF(入力画面!$T66<>\"\",入力画面!AF66:AH66,\"\")","v":""},null,null,{"$f":"IF(入力画面!$T66<>\"\",入力画面!AI66:AM66,\"\")","v":""},{"$nulls":4},{"$f":"IF(入力画面!$T66<>\"\",入力画面!AN66:AP66,\"\")","v":""},null,null,{"$f":"IF(入力画面!$T66<>\"\",入力画面!AQ66:AU66,\"\")","v":""},{"$nulls":4},{"$f":"IF(入力画面!$T66<>\"\",入力画面!AV66:AX66,\"\")","v":""},null,null,{"$f":"IF(入力画面!$T66<>\"\",入力画面!AY66:BC66,\"\")","v":""},{"$nulls":4},{"$f":"入力画面!BD66:BM66","v":0}]
[57,{"$f":"入力画面!B67:Q67","v":0},{"$nulls":15},{"$f":"入力画面!R67:S67","v":0},null,{"$f":"IF(入力画面!$T67<>\"\",入力画面!T67,\"\")","v":""},null,null,{"$f":"IF(入力画面!$T67<>\"\",入力画面!W67,\"\")","v":""},{"$nulls":3},{"$f":"IF(入力画面!$T67<>\"\",入力画面!AA67:AE67,\"\")","v":""},{"$nulls":4},{"$f":"IF(入力画面!$T67<>\"\",入力画面!AF67:AH67,\"\")","v":""},null,null,{"$f":"IF(入力画面!$T67<>\"\",入力画面!AI67:AM67,\"\")","v":""},{"$nulls":4},{"$f":"IF(入力画面!$T67<>\"\",入力画面!AN67:AP67,\"\")","v":""},null,null,{"$f":"IF(入力画面!$T67<>\"\",入力画面!AQ67:AU67,\"\")","v":""},{"$nulls":4},{"$f":"IF(入力画面!$T67<>\"\",入力画面!AV67:AX67,\"\")","v":""},null,null,{"$f":"IF(入力画面!$T67<>\"\",入力画面!AY67:BC67,\"\")","v":""},{"$nulls":4},{"$f":"入力画面!BD67:BM67","v":0}]
[58,{"$f":"入力画面!B68:Q68","v":0},{"$nulls":15},{"$f":"入力画面!R68:S68","v":0},null,{"$f":"IF(入力画面!$T68<>\"\",入力画面!T68,\"\")","v":""},null,null,{"$f":"IF(入力画面!$T68<>\"\",入力画面!W68,\"\")","v":""},{"$nulls":3},{"$f":"IF(入力画面!$T68<>\"\",入力画面!AA68:AE68,\"\")","v":""},{"$nulls":4},{"$f":"IF(入力画面!$T68<>\"\",入力画面!AF68:AH68,\"\")","v":""},null,null,{"$f":"IF(入力画面!$T68<>\"\",入力画面!AI68:AM68,\"\")","v":""},{"$nulls":4},{"$f":"IF(入力画面!$T68<>\"\",入力画面!AN68:AP68,\"\")","v":""},null,null,{"$f":"IF(入力画面!$T68<>\"\",入力画面!AQ68:AU68,\"\")","v":""},{"$nulls":4},{"$f":"IF(入力画面!$T68<>\"\",入力画面!AV68:AX68,\"\")","v":""},null,null,{"$f":"IF(入力画面!$T68<>\"\",入力画面!AY68:BC68,\"\")","v":""},{"$nulls":4},{"$f":"入力画面!BD68:BM68","v":0}]
[59,{"$f":"入力画面!B69:Q69","v":0},{"$nulls":15},{"$f":"入力画面!R69:S69","v":0},null,{"$f":"IF(入力画面!$T69<>\"\",入力画面!T69,\"\")","v":""},null,null,{"$f":"IF(入力画面!$T69<>\"\",入力画面!W69,\"\")","v":""},{"$nulls":3},{"$f":"IF(入力画面!$T69<>\"\",入力画面!AA69:AE69,\"\")","v":""},{"$nulls":4},{"$f":"IF(入力画面!$T69<>\"\",入力画面!AF69:AH69,\"\")","v":""},null,null,{"$f":"IF(入力画面!$T69<>\"\",入力画面!AI69:AM69,\"\")","v":""},{"$nulls":4},{"$f":"IF(入力画面!$T69<>\"\",入力画面!AN69:AP69,\"\")","v":""},null,null,{"$f":"IF(入力画面!$T69<>\"\",入力画面!AQ69:AU69,\"\")","v":""},{"$nulls":4},{"$f":"IF(入力画面!$T69<>\"\",入力画面!AV69:AX69,\"\")","v":""},null,null,{"$f":"IF(入力画面!$T69<>\"\",入力画面!AY69:BC69,\"\")","v":""},{"$nulls":4},{"$f":"入力画面!BD69:BM69","v":0}]
[60,{"$f":"入力画面!B70:Q70","v":0},{"$nulls":15},{"$f":"入力画面!R70:S70","v":0},null,{"$f":"IF(入力画面!$T70<>\"\",入力画面!T70,\"\")","v":""},null,null,{"$f":"IF(入力画面!$T70<>\"\",入力画面!W70,\"\")","v":""},{"$nulls":3},{"$f":"IF(入力画面!$T70<>\"\",入力画面!AA70:AE70,\"\")","v":""},{"$nulls":4},{"$f":"IF(入力画面!$T70<>\"\",入力画面!AF70:AH70,\"\")","v":""},null,null,{"$f":"IF(入力画面!$T70<>\"\",入力画面!AI70:AM70,\"\")","v":""},{"$nulls":4},{"$f":"IF(入力画面!$T70<>\"\",入力画面!AN70:AP70,\"\")","v":""},null,null,{"$f":"IF(入力画面!$T70<>\"\",入力画面!AQ70:AU70,\"\")","v":""},{"$nulls":4},{"$f":"IF(入力画面!$T70<>\"\",入力画面!AV70:AX70,\"\")","v":""},null,null,{"$f":"IF(入力画面!$T70<>\"\",入力画面!AY70:BC70,\"\")","v":""},{"$nulls":4},{"$f":"入力画面!BD70:BM70","v":0}]
["※消費税、保留金の計算は別紙、請求書で行ってください",{"$nulls":21},"小計",{"$nulls":3},{"$f":"SUM(AA70:AE89)","v":{"v":0,"d":"0 "}},{"$nulls":4},"小計",null,null,{"$f":"SUM(AI70:AM89)","v":{"v":0,"d":"0 "}},{"$nulls":4},"小計",null,null,{"$f":"SUM(AQ70:AU89)","v":{"v":0,"d":"0 "}},{"$nulls":4},"小計",null,null,{"$f":"SUM(AY70:BC89)","v":{"v":0,"d":"0 "}},{"$nulls":4},"担　当　者　　　　確　認　印",{"$nulls":4},{"$f":"IF(AA91=\"－\",\"―――――\",\"\")","v":"―――――"}]
["※完成後一括払いであっても出来高検収書を作成・添付してください",{"$nulls":21},"合計",{"$nulls":3},{"$f":"IF(AND(OR(AA59<>0,AI59<>0,AQ59<>0,AY59<>0),AND(AA60=\"－\",AA121=0,AI121=0,AQ121=0,AY121=0)),AA28+AA59+AA90,\"－\")","v":"－"},{"$nulls":4},"合計",null,null,{"$f":"IF($AA91<>\"－\",AI28+AI59+AI90,\"－\")","v":"－"},{"$nulls":4},"合計",null,null,{"$f":"IF($AA91<>\"－\",AQ28+AQ59+AQ90,\"－\")","v":"－"},{"$nulls":4},"合計",null,null,{"$f":"IF($AA91<>\"－\",AY28+AY59+AY90,\"－\")","v":"－"}]
["※協力会社印は出力枚数の都度、押印してください",{"$nulls":33},"今回迄出来高累計",{"$nulls":7},{"$f":"IF(AA91=\"－\",\"－\",AI91+AQ91)","v":"－"}]
[{"$nulls":55},"検   収   日",{"$nulls":4},{"$f":"IF(AA91=\"－\",\"――――\",\"\")","v":"――――"}]
[]
[null,null,"出　来　高　検　収　書　（第",{"$nulls":15},{"$f":"$S$2","v":0},null,"回）",null,null,"( 検収期間",{"$nulls":4},{"$f":"IF(入力画面!$J$4=\"\",\"\",入力画面!$J$4)","v":""},{"$nulls":4},"～",{"$f":"IF(入力画面!$Q$4=\"\",\"\",入力画面!$Q$4)","v":""},{"$nulls":4},"）",{"$nulls":14},"仙 建 工 業 株 式 会 社"]
[{"$nulls":41},"協力会社名"]
["工 事 番 号",{"$nulls":3},{"$f":"$E$4","v":0},{"$nulls":7},"工 事 件 名",{"$nulls":4},{"$f":"$R$4","v":0},{"$nulls":23},{"$f":"$AP$4","v":""},{"$nulls":19},"　印"]
["契   約   日",{"$nulls":3},{"$f":"$E$5","v":""},{"$nulls":7},"工         期",{"$nulls":4},"自",{"$nulls":3},{"$f":"$V$5","v":""},{"$nulls":7},"至",{"$nulls":3},{"$f":"$AH$5","v":""}]
["№","工                         種",{"$nulls":15},"契       約       金       額",{"$nulls":13},"前回迄出来高累計",{"$nulls":7},"今  回  出  来  高",{"$nulls":7},"残            高",{"$nulls":7},"摘                要"]
[{"$nulls":17},"単位",null,"数 量",null,null,"単   価",{"$nulls":3},"金     額",{"$nulls":4},"数 量",null,null,"金     額",{"$nulls":4},"数 量",null,null,"金     額",{"$nulls":4},"数 量",null,null,"金     額"]
[61,{"$f":"入力画面!B71:Q71","v":0},{"$nulls":15},{"$f":"入力画面!R71:S71","v":0},null,{"$f":"IF(入力画面!$T71<>\"\",入力画面!T71,\"\")","v":""},null,null,{"$f":"IF(入力画面!$T71<>\"\",入力画面!W71,\"\")","v":""},{"$nulls":3},{"$f":"IF(入力画面!$T71<>\"\",入力画面!AA71:AE71,\"\")","v":""},{"$nulls":4},{"$f":"IF(入力画面!$T71<>\"\",入力画面!AF71:AH71,\"\")","v":""},null,null,{"$f":"IF(入力画面!$T71<>\"\",入力画面!AI71:AM71,\"\")","v":""},{"$nulls":4},{"$f":"IF(入力画面!$T71<>\"\",入力画面!AN71:AP71,\"\")","v":""},null,null,{"$f":"IF(入力画面!$T71<>\"\",入力画面!AQ71:AU71,\"\")","v":""},{"$nulls":4},{"$f":"IF(入力画面!$T71<>\"\",入力画面!AV71:AX71,\"\")","v":""},null,null,{"$f":"IF(入力画面!$T71<>\"\",入力画面!AY71:BC71,\"\")","v":""},{"$nulls":4},{"$f":"入力画面!BD71:BM71","v":0}]
[62,{"$f":"入力画面!B72:Q72","v":0},{"$nulls":15},{"$f":"入力画面!R72:S72","v":0},null,{"$f":"IF(入力画面!$T72<>\"\",入力画面!T72,\"\")","v":""},null,null,{"$f":"IF(入力画面!$T72<>\"\",入力画面!W72,\"\")","v":""},{"$nulls":3},{"$f":"IF(入力画面!$T72<>\"\",入力画面!AA72:AE72,\"\")","v":""},{"$nulls":4},{"$f":"IF(入力画面!$T72<>\"\",入力画面!AF72:AH72,\"\")","v":""},null,null,{"$f":"IF(入力画面!$T72<>\"\",入力画面!AI72:AM72,\"\")","v":""},{"$nulls":4},{"$f":"IF(入力画面!$T72<>\"\",入力画面!AN72:AP72,\"\")","v":""},null,null,{"$f":"IF(入力画面!$T72<>\"\",入力画面!AQ72:AU72,\"\")","v":""},{"$nulls":4},{"$f":"IF(入力画面!$T72<>\"\",入力画面!AV72:AX72,\"\")","v":""},null,null,{"$f":"IF(入力画面!$T72<>\"\",入力画面!AY72:BC72,\"\")","v":""},{"$nulls":4},{"$f":"入力画面!BD72:BM72","v":0}]
[63,{"$f":"入力画面!B73:Q73","v":0},{"$nulls":15},{"$f":"入力画面!R73:S73","v":0},null,{"$f":"IF(入力画面!$T73<>\"\",入力画面!T73,\"\")","v":""},null,null,{"$f":"IF(入力画面!$T73<>\"\",入力画面!W73,\"\")","v":""},{"$nulls":3},{"$f":"IF(入力画面!$T73<>\"\",入力画面!AA73:AE73,\"\")","v":""},{"$nulls":4},{"$f":"IF(入力画面!$T73<>\"\",入力画面!AF73:AH73,\"\")","v":""},null,null,{"$f":"IF(入力画面!$T73<>\"\",入力画面!AI73:AM73,\"\")","v":""},{"$nulls":4},{"$f":"IF(入力画面!$T73<>\"\",入力画面!AN73:AP73,\"\")","v":""},null,null,{"$f":"IF(入力画面!$T73<>\"\",入力画面!AQ73:AU73,\"\")","v":""},{"$nulls":4},{"$f":"IF(入力画面!$T73<>\"\",入力画面!AV73:AX73,\"\")","v":""},null,null,{"$f":"IF(入力画面!$T73<>\"\",入力画面!AY73:BC73,\"\")","v":""},{"$nulls":4},{"$f":"入力画面!BD73:BM73","v":0}]
[64,{"$f":"入力画面!B74:Q74","v":0},{"$nulls":15},{"$f":"入力画面!R74:S74","v":0},null,{"$f":"IF(入力画面!$T74<>\"\",入力画面!T74,\"\")","v":""},null,null,{"$f":"IF(入力画面!$T74<>\"\",入力画面!W74,\"\")","v":""},{"$nulls":3},{"$f":"IF(入力画面!$T74<>\"\",入力画面!AA74:AE74,\"\")","v":""},{"$nulls":4},{"$f":"IF(入力画面!$T74<>\"\",入力画面!AF74:AH74,\"\")","v":""},null,null,{"$f":"IF(入力画面!$T74<>\"\",入力画面!AI74:AM74,\"\")","v":""},{"$nulls":4},{"$f":"IF(入力画面!$T74<>\"\",入力画面!AN74:AP74,\"\")","v":""},null,null,{"$f":"IF(入力画面!$T74<>\"\",入力画面!AQ74:AU74,\"\")","v":""},{"$nulls":4},{"$f":"IF(入力画面!$T74<>\"\",入力画面!AV74:AX74,\"\")","v":""},null,null,{"$f":"IF(入力画面!$T74<>\"\",入力画面!AY74:BC74,\"\")","v":""},{"$nulls":4},{"$f":"入力画面!BD74:BM74","v":0}]
[65,{"$f":"入力画面!B75:Q75","v":0},{"$nulls":15},{"$f":"入力画面!R75:S75","v":0},null,{"$f":"IF(入力画面!$T75<>\"\",入力画面!T75,\"\")","v":""},null,null,{"$f":"IF(入力画面!$T75<>\"\",入力画面!W75,\"\")","v":""},{"$nulls":3},{"$f":"IF(入力画面!$T75<>\"\",入力画面!AA75:AE75,\"\")","v":""},{"$nulls":4},{"$f":"IF(入力画面!$T75<>\"\",入力画面!AF75:AH75,\"\")","v":""},null,null,{"$f":"IF(入力画面!$T75<>\"\",入力画面!AI75:AM75,\"\")","v":""},{"$nulls":4},{"$f":"IF(入力画面!$T75<>\"\",入力画面!AN75:AP75,\"\")","v":""},null,null,{"$f":"IF(入力画面!$T75<>\"\",入力画面!AQ75:AU75,\"\")","v":""},{"$nulls":4},{"$f":"IF(入力画面!$T75<>\"\",入力画面!AV75:AX75,\"\")","v":""},null,null,{"$f":"IF(入力画面!$T75<>\"\",入力画面!AY75:BC75,\"\")","v":""},{"$nulls":4},{"$f":"入力画面!BD75:BM75","v":0}]
[66,{"$f":"入力画面!B76:Q76","v":0},{"$nulls":15},{"$f":"入力画面!R76:S76","v":0},null,{"$f":"IF(入力画面!$T76<>\"\",入力画面!T76,\"\")","v":""},null,null,{"$f":"IF(入力画面!$T76<>\"\",入力画面!W76,\"\")","v":""},{"$nulls":3},{"$f":"IF(入力画面!$T76<>\"\",入力画面!AA76:AE76,\"\")","v":""},{"$nulls":4},{"$f":"IF(入力画面!$T76<>\"\",入力画面!AF76:AH76,\"\")","v":""},null,null,{"$f":"IF(入力画面!$T76<>\"\",入力画面!AI76:AM76,\"\")","v":""},{"$nulls":4},{"$f":"IF(入力画面!$T76<>\"\",入力画面!AN76:AP76,\"\")","v":""},null,null,{"$f":"IF(入力画面!$T76<>\"\",入力画面!AQ76:AU76,\"\")","v":""},{"$nulls":4},{"$f":"IF(入力画面!$T76<>\"\",入力画面!AV76:AX76,\"\")","v":""},null,null,{"$f":"IF(入力画面!$T76<>\"\",入力画面!AY76:BC76,\"\")","v":""},{"$nulls":4},{"$f":"入力画面!BD76:BM76","v":0}]
[67,{"$f":"入力画面!B77:Q77","v":0},{"$nulls":15},{"$f":"入力画面!R77:S77","v":0},null,{"$f":"IF(入力画面!$T77<>\"\",入力画面!T77,\"\")","v":""},null,null,{"$f":"IF(入力画面!$T77<>\"\",入力画面!W77,\"\")","v":""},{"$nulls":3},{"$f":"IF(入力画面!$T77<>\"\",入力画面!AA77:AE77,\"\")","v":""},{"$nulls":4},{"$f":"IF(入力画面!$T77<>\"\",入力画面!AF77:AH77,\"\")","v":""},null,null,{"$f":"IF(入力画面!$T77<>\"\",入力画面!AI77:AM77,\"\")","v":""},{"$nulls":4},{"$f":"IF(入力画面!$T77<>\"\",入力画面!AN77:AP77,\"\")","v":""},null,null,{"$f":"IF(入力画面!$T77<>\"\",入力画面!AQ77:AU77,\"\")","v":""},{"$nulls":4},{"$f":"IF(入力画面!$T77<>\"\",入力画面!AV77:AX77,\"\")","v":""},null,null,{"$f":"IF(入力画面!$T77<>\"\",入力画面!AY77:BC77,\"\")","v":""},{"$nulls":4},{"$f":"入力画面!BD77:BM77","v":0}]
[68,{"$f":"入力画面!B78:Q78","v":0},{"$nulls":15},{"$f":"入力画面!R78:S78","v":0},null,{"$f":"IF(入力画面!$T78<>\"\",入力画面!T78,\"\")","v":""},null,null,{"$f":"IF(入力画面!$T78<>\"\",入力画面!W78,\"\")","v":""},{"$nulls":3},{"$f":"IF(入力画面!$T78<>\"\",入力画面!AA78:AE78,\"\")","v":""},{"$nulls":4},{"$f":"IF(入力画面!$T78<>\"\",入力画面!AF78:AH78,\"\")","v":""},null,null,{"$f":"IF(入力画面!$T78<>\"\",入力画面!AI78:AM78,\"\")","v":""},{"$nulls":4},{"$f":"IF(入力画面!$T78<>\"\",入力画面!AN78:AP78,\"\")","v":""},null,null,{"$f":"IF(入力画面!$T78<>\"\",入力画面!AQ78:AU78,\"\")","v":""},{"$nulls":4},{"$f":"IF(入力画面!$T78<>\"\",入力画面!AV78:AX78,\"\")","v":""},null,null,{"$f":"IF(入力画面!$T78<>\"\",入力画面!AY78:BC78,\"\")","v":""},{"$nulls":4},{"$f":"入力画面!BD78:BM78","v":0}]
[69,{"$f":"入力画面!B79:Q79","v":0},{"$nulls":15},{"$f":"入力画面!R79:S79","v":0},null,{"$f":"IF(入力画面!$T79<>\"\",入力画面!T79,\"\")","v":""},null,null,{"$f":"IF(入力画面!$T79<>\"\",入力画面!W79,\"\")","v":""},{"$nulls":3},{"$f":"IF(入力画面!$T79<>\"\",入力画面!AA79:AE79,\"\")","v":""},{"$nulls":4},{"$f":"IF(入力画面!$T79<>\"\",入力画面!AF79:AH79,\"\")","v":""},null,null,{"$f":"IF(入力画面!$T79<>\"\",入力画面!AI79:AM79,\"\")","v":""},{"$nulls":4},{"$f":"IF(入力画面!$T79<>\"\",入力画面!AN79:AP79,\"\")","v":""},null,null,{"$f":"IF(入力画面!$T79<>\"\",入力画面!AQ79:AU79,\"\")","v":""},{"$nulls":4},{"$f":"IF(入力画面!$T79<>\"\",入力画面!AV79:AX79,\"\")","v":""},null,null,{"$f":"IF(入力画面!$T79<>\"\",入力画面!AY79:BC79,\"\")","v":""},{"$nulls":4},{"$f":"入力画面!BD79:BM79","v":0}]
[70,{"$f":"入力画面!B80:Q80","v":0},{"$nulls":15},{"$f":"入力画面!R80:S80","v":0},null,{"$f":"IF(入力画面!$T80<>\"\",入力画面!T80,\"\")","v":""},null,null,{"$f":"IF(入力画面!$T80<>\"\",入力画面!W80,\"\")","v":""},{"$nulls":3},{"$f":"IF(入力画面!$T80<>\"\",入力画面!AA80:AE80,\"\")","v":""},{"$nulls":4},{"$f":"IF(入力画面!$T80<>\"\",入力画面!AF80:AH80,\"\")","v":""},null,null,{"$f":"IF(入力画面!$T80<>\"\",入力画面!AI80:AM80,\"\")","v":""},{"$nulls":4},{"$f":"IF(入力画面!$T80<>\"\",入力画面!AN80:AP80,\"\")","v":""},null,null,{"$f":"IF(入力画面!$T80<>\"\",入力画面!AQ80:AU80,\"\")","v":""},{"$nulls":4},{"$f":"IF(入力画面!$T80<>\"\",入力画面!AV80:AX80,\"\")","v":""},null,null,{"$f":"IF(入力画面!$T80<>\"\",入力画面!AY80:BC80,\"\")","v":""},{"$nulls":4},{"$f":"入力画面!BD80:BM80","v":0}]
[71,{"$f":"入力画面!B81:Q81","v":0},{"$nulls":15},{"$f":"入力画面!R81:S81","v":0},null,{"$f":"IF(入力画面!$T81<>\"\",入力画面!T81,\"\")","v":""},null,null,{"$f":"IF(入力画面!$T81<>\"\",入力画面!W81,\"\")","v":""},{"$nulls":3},{"$f":"IF(入力画面!$T81<>\"\",入力画面!AA81:AE81,\"\")","v":""},{"$nulls":4},{"$f":"IF(入力画面!$T81<>\"\",入力画面!AF81:AH81,\"\")","v":""},null,null,{"$f":"IF(入力画面!$T81<>\"\",入力画面!AI81:AM81,\"\")","v":""},{"$nulls":4},{"$f":"IF(入力画面!$T81<>\"\",入力画面!AN81:AP81,\"\")","v":""},null,null,{"$f":"IF(入力画面!$T81<>\"\",入力画面!AQ81:AU81,\"\")","v":""},{"$nulls":4},{"$f":"IF(入力画面!$T81<>\"\",入力画面!AV81:AX81,\"\")","v":""},null,null,{"$f":"IF(入力画面!$T81<>\"\",入力画面!AY81:BC81,\"\")","v":""},{"$nulls":4},{"$f":"入力画面!BD81:BM81","v":0}]
[72,{"$f":"入力画面!B82:Q82","v":0},{"$nulls":15},{"$f":"入力画面!R82:S82","v":0},null,{"$f":"IF(入力画面!$T82<>\"\",入力画面!T82,\"\")","v":""},null,null,{"$f":"IF(入力画面!$T82<>\"\",入力画面!W82,\"\")","v":""},{"$nulls":3},{"$f":"IF(入力画面!$T82<>\"\",入力画面!AA82:AE82,\"\")","v":""},{"$nulls":4},{"$f":"IF(入力画面!$T82<>\"\",入力画面!AF82:AH82,\"\")","v":""},null,null,{"$f":"IF(入力画面!$T82<>\"\",入力画面!AI82:AM82,\"\")","v":""},{"$nulls":4},{"$f":"IF(入力画面!$T82<>\"\",入力画面!AN82:AP82,\"\")","v":""},null,null,{"$f":"IF(入力画面!$T82<>\"\",入力画面!AQ82:AU82,\"\")","v":""},{"$nulls":4},{"$f":"IF(入力画面!$T82<>\"\",入力画面!AV82:AX82,\"\")","v":""},null,null,{"$f":"IF(入力画面!$T82<>\"\",入力画面!AY82:BC82,\"\")","v":""},{"$nulls":4},{"$f":"入力画面!BD82:BM82","v":0}]
[73,{"$f":"入力画面!B83:Q83","v":0},{"$nulls":15},{"$f":"入力画面!R83:S83","v":0},null,{"$f":"IF(入力画面!$T83<>\"\",入力画面!T83,\"\")","v":""},null,null,{"$f":"IF(入力画面!$T83<>\"\",入力画面!W83,\"\")","v":""},{"$nulls":3},{"$f":"IF(入力画面!$T83<>\"\",入力画面!AA83:AE83,\"\")","v":""},{"$nulls":4},{"$f":"IF(入力画面!$T83<>\"\",入力画面!AF83:AH83,\"\")","v":""},null,null,{"$f":"IF(入力画面!$T83<>\"\",入力画面!AI83:AM83,\"\")","v":""},{"$nulls":4},{"$f":"IF(入力画面!$T83<>\"\",入力画面!AN83:AP83,\"\")","v":""},null,null,{"$f":"IF(入力画面!$T83<>\"\",入力画面!AQ83:AU83,\"\")","v":""},{"$nulls":4},{"$f":"IF(入力画面!$T83<>\"\",入力画面!AV83:AX83,\"\")","v":""},null,null,{"$f":"IF(入力画面!$T83<>\"\",入力画面!AY83:BC83,\"\")","v":""},{"$nulls":4},{"$f":"入力画面!BD83:BM83","v":0}]
[74,{"$f":"入力画面!B84:Q84","v":0},{"$nulls":15},{"$f":"入力画面!R84:S84","v":0},null,{"$f":"IF(入力画面!$T84<>\"\",入力画面!T84,\"\")","v":""},null,null,{"$f":"IF(入力画面!$T84<>\"\",入力画面!W84,\"\")","v":""},{"$nulls":3},{"$f":"IF(入力画面!$T84<>\"\",入力画面!AA84:AE84,\"\")","v":""},{"$nulls":4},{"$f":"IF(入力画面!$T84<>\"\",入力画面!AF84:AH84,\"\")","v":""},null,null,{"$f":"IF(入力画面!$T84<>\"\",入力画面!AI84:AM84,\"\")","v":""},{"$nulls":4},{"$f":"IF(入力画面!$T84<>\"\",入力画面!AN84:AP84,\"\")","v":""},null,null,{"$f":"IF(入力画面!$T84<>\"\",入力画面!AQ84:AU84,\"\")","v":""},{"$nulls":4},{"$f":"IF(入力画面!$T84<>\"\",入力画面!AV84:AX84,\"\")","v":""},null,null,{"$f":"IF(入力画面!$T84<>\"\",入力画面!AY84:BC84,\"\")","v":""},{"$nulls":4},{"$f":"入力画面!BD84:BM84","v":0}]
[75,{"$f":"入力画面!B85:Q85","v":0},{"$nulls":15},{"$f":"入力画面!R85:S85","v":0},null,{"$f":"IF(入力画面!$T85<>\"\",入力画面!T85,\"\")","v":""},null,null,{"$f":"IF(入力画面!$T85<>\"\",入力画面!W85,\"\")","v":""},{"$nulls":3},{"$f":"IF(入力画面!$T85<>\"\",入力画面!AA85:AE85,\"\")","v":""},{"$nulls":4},{"$f":"IF(入力画面!$T85<>\"\",入力画面!AF85:AH85,\"\")","v":""},null,null,{"$f":"IF(入力画面!$T85<>\"\",入力画面!AI85:AM85,\"\")","v":""},{"$nulls":4},{"$f":"IF(入力画面!$T85<>\"\",入力画面!AN85:AP85,\"\")","v":""},null,null,{"$f":"IF(入力画面!$T85<>\"\",入力画面!AQ85:AU85,\"\")","v":""},{"$nulls":4},{"$f":"IF(入力画面!$T85<>\"\",入力画面!AV85:AX85,\"\")","v":""},null,null,{"$f":"IF(入力画面!$T85<>\"\",入力画面!AY85:BC85,\"\")","v":""},{"$nulls":4},{"$f":"入力画面!BD85:BM85","v":0}]
[76,{"$f":"入力画面!B86:Q86","v":0},{"$nulls":15},{"$f":"入力画面!R86:S86","v":0},null,{"$f":"IF(入力画面!$T86<>\"\",入力画面!T86,\"\")","v":""},null,null,{"$f":"IF(入力画面!$T86<>\"\",入力画面!W86,\"\")","v":""},{"$nulls":3},{"$f":"IF(入力画面!$T86<>\"\",入力画面!AA86:AE86,\"\")","v":""},{"$nulls":4},{"$f":"IF(入力画面!$T86<>\"\",入力画面!AF86:AH86,\"\")","v":""},null,null,{"$f":"IF(入力画面!$T86<>\"\",入力画面!AI86:AM86,\"\")","v":""},{"$nulls":4},{"$f":"IF(入力画面!$T86<>\"\",入力画面!AN86:AP86,\"\")","v":""},null,null,{"$f":"IF(入力画面!$T86<>\"\",入力画面!AQ86:AU86,\"\")","v":""},{"$nulls":4},{"$f":"IF(入力画面!$T86<>\"\",入力画面!AV86:AX86,\"\")","v":""},null,null,{"$f":"IF(入力画面!$T86<>\"\",入力画面!AY86:BC86,\"\")","v":""},{"$nulls":4},{"$f":"入力画面!BD86:BM86","v":0}]
[77,{"$f":"入力画面!B87:Q87","v":0},{"$nulls":15},{"$f":"入力画面!R87:S87","v":0},null,{"$f":"IF(入力画面!$T87<>\"\",入力画面!T87,\"\")","v":""},null,null,{"$f":"IF(入力画面!$T87<>\"\",入力画面!W87,\"\")","v":""},{"$nulls":3},{"$f":"IF(入力画面!$T87<>\"\",入力画面!AA87:AE87,\"\")","v":""},{"$nulls":4},{"$f":"IF(入力画面!$T87<>\"\",入力画面!AF87:AH87,\"\")","v":""},null,null,{"$f":"IF(入力画面!$T87<>\"\",入力画面!AI87:AM87,\"\")","v":""},{"$nulls":4},{"$f":"IF(入力画面!$T87<>\"\",入力画面!AN87:AP87,\"\")","v":""},null,null,{"$f":"IF(入力画面!$T87<>\"\",入力画面!AQ87:AU87,\"\")","v":""},{"$nulls":4},{"$f":"IF(入力画面!$T87<>\"\",入力画面!AV87:AX87,\"\")","v":""},null,null,{"$f":"IF(入力画面!$T87<>\"\",入力画面!AY87:BC87,\"\")","v":""},{"$nulls":4},{"$f":"入力画面!BD87:BM87","v":0}]
[78,{"$f":"入力画面!B88:Q88","v":0},{"$nulls":15},{"$f":"入力画面!R88:S88","v":0},null,{"$f":"IF(入力画面!$T88<>\"\",入力画面!T88,\"\")","v":""},null,null,{"$f":"IF(入力画面!$T88<>\"\",入力画面!W88,\"\")","v":""},{"$nulls":3},{"$f":"IF(入力画面!$T88<>\"\",入力画面!AA88:AE88,\"\")","v":""},{"$nulls":4},{"$f":"IF(入力画面!$T88<>\"\",入力画面!AF88:AH88,\"\")","v":""},null,null,{"$f":"IF(入力画面!$T88<>\"\",入力画面!AI88:AM88,\"\")","v":""},{"$nulls":4},{"$f":"IF(入力画面!$T88<>\"\",入力画面!AN88:AP88,\"\")","v":""},null,null,{"$f":"IF(入力画面!$T88<>\"\",入力画面!AQ88:AU88,\"\")","v":""},{"$nulls":4},{"$f":"IF(入力画面!$T88<>\"\",入力画面!AV88:AX88,\"\")","v":""},null,null,{"$f":"IF(入力画面!$T88<>\"\",入力画面!AY88:BC88,\"\")","v":""},{"$nulls":4},{"$f":"入力画面!BD88:BM88","v":0}]
[79,{"$f":"入力画面!B89:Q89","v":0},{"$nulls":15},{"$f":"入力画面!R89:S89","v":0},null,{"$f":"IF(入力画面!$T89<>\"\",入力画面!T89,\"\")","v":""},null,null,{"$f":"IF(入力画面!$T89<>\"\",入力画面!W89,\"\")","v":""},{"$nulls":3},{"$f":"IF(入力画面!$T89<>\"\",入力画面!AA89:AE89,\"\")","v":""},{"$nulls":4},{"$f":"IF(入力画面!$T89<>\"\",入力画面!AF89:AH89,\"\")","v":""},null,null,{"$f":"IF(入力画面!$T89<>\"\",入力画面!AI89:AM89,\"\")","v":""},{"$nulls":4},{"$f":"IF(入力画面!$T89<>\"\",入力画面!AN89:AP89,\"\")","v":""},null,null,{"$f":"IF(入力画面!$T89<>\"\",入力画面!AQ89:AU89,\"\")","v":""},{"$nulls":4},{"$f":"IF(入力画面!$T89<>\"\",入力画面!AV89:AX89,\"\")","v":""},null,null,{"$f":"IF(入力画面!$T89<>\"\",入力画面!AY89:BC89,\"\")","v":""},{"$nulls":4},{"$f":"入力画面!BD89:BM89","v":0}]
[80,{"$f":"入力画面!B90:Q90","v":0},{"$nulls":15},{"$f":"入力画面!R90:S90","v":0},null,{"$f":"IF(入力画面!$T90<>\"\",入力画面!T90,\"\")","v":""},null,null,{"$f":"IF(入力画面!$T90<>\"\",入力画面!W90,\"\")","v":""},{"$nulls":3},{"$f":"IF(入力画面!$T90<>\"\",入力画面!AA90:AE90,\"\")","v":""},{"$nulls":4},{"$f":"IF(入力画面!$T90<>\"\",入力画面!AF90:AH90,\"\")","v":""},null,null,{"$f":"IF(入力画面!$T90<>\"\",入力画面!AI90:AM90,\"\")","v":""},{"$nulls":4},{"$f":"IF(入力画面!$T90<>\"\",入力画面!AN90:AP90,\"\")","v":""},null,null,{"$f":"IF(入力画面!$T90<>\"\",入力画面!AQ90:AU90,\"\")","v":""},{"$nulls":4},{"$f":"IF(入力画面!$T90<>\"\",入力画面!AV90:AX90,\"\")","v":""},null,null,{"$f":"IF(入力画面!$T90<>\"\",入力画面!AY90:BC90,\"\")","v":""},{"$nulls":4},{"$f":"入力画面!BD90:BM90","v":0}]
["※消費税、保留金の計算は別紙、請求書で行ってください",{"$nulls":21},"小計",{"$nulls":3},{"$f":"SUM(AA101:AE120)","v":{"v":0,"d":"0 "}},{"$nulls":4},"小計",null,null,{"$f":"SUM(AI101:AM120)","v":{"v":0,"d":"0 "}},{"$nulls":4},"小計",null,null,{"$f":"SUM(AQ101:AU120)","v":{"v":0,"d":"0 "}},{"$nulls":4},"小計",null,null,{"$f":"SUM(AY101:BC120)","v":{"v":0,"d":"0 "}},{"$nulls":4},"担　当　者　　　　確　認　印",{"$nulls":4},{"$f":"IF(AA122=\"－\",\"―――――\",\"\")","v":"―――――"}]
["※完成後一括払いであっても出来高検収書を作成・添付してください",{"$nulls":21},"合計",{"$nulls":3},{"$f":"IF(AND(OR(AA90<>0,AI90<>0,AQ90<>0,AY90<>0),AND(AA91=\"－\",AA152=0,AI152=0,AQ152=0,AY152=0)),AA28+AA59+AA90+AA121,\"－\")","v":"－"},{"$nulls":4},"合計",null,null,{"$f":"IF($AA122<>\"－\",AI28+AI59+AI90+AI121,\"－\")","v":"－"},{"$nulls":4},"合計",null,null,{"$f":"IF($AA122<>\"－\",AQ28+AQ59+AQ90+AQ121,\"－\")","v":"－"},{"$nulls":4},"合計",null,null,{"$f":"IF($AA122<>\"－\",AY28+AY59+AY90+AY121,\"－\")","v":"－"}]
["※協力会社印は出力枚数の都度、押印してください",{"$nulls":33},"今回迄出来高累計",{"$nulls":7},{"$f":"IF(AA122=\"－\",\"－\",AI122+AQ122)","v":"－"}]
[{"$nulls":55},"検   収   日",{"$nulls":4},{"$f":"IF(AA122=\"－\",\"――――\",\"\")","v":"――――"}]
[]
[null,null,"出　来　高　検　収　書　（第",{"$nulls":15},{"$f":"$S$2","v":0},null,"回）",null,null,"( 検収期間",{"$nulls":4},{"$f":"IF(入力画面!$J$4=\"\",\"\",入力画面!$J$4)","v":""},{"$nulls":4},"～",{"$f":"IF(入力画面!$Q$4=\"\",\"\",入力画面!$Q$4)","v":""},{"$nulls":4},"）",{"$nulls":14},"仙 建 工 業 株 式 会 社"]
[{"$nulls":41},"協力会社名"]
["工 事 番 号",{"$nulls":3},{"$f":"$E$4","v":0},{"$nulls":7},"工 事 件 名",{"$nulls":4},{"$f":"$R$4","v":0},{"$nulls":23},{"$f":"$AP$4","v":""},{"$nulls":19},"　印"]
["契   約   日",{"$nulls":3},{"$f":"$E$5","v":""},{"$nulls":7},"工         期",{"$nulls":4},"自",{"$nulls":3},{"$f":"$V$5","v":""},{"$nulls":7},"至",{"$nulls":3},{"$f":"$AH$5","v":""}]
["№","工                         種",{"$nulls":15},"契       約       金       額",{"$nulls":13},"前回迄出来高累計",{"$nulls":7},"今  回  出  来  高",{"$nulls":7},"残            高",{"$nulls":7},"摘                要"]
[{"$nulls":17},"単位",null,"数 量",null,null,"単   価",{"$nulls":3},"金     額",{"$nulls":4},"数 量",null,null,"金     額",{"$nulls":4},"数 量",null,null,"金     額",{"$nulls":4},"数 量",null,null,"金     額"]
[81,{"$f":"入力画面!B91:Q91","v":0},{"$nulls":15},{"$f":"入力画面!R91:S91","v":0},null,{"$f":"IF(入力画面!$T91<>\"\",入力画面!T91,\"\")","v":""},null,null,{"$f":"IF(入力画面!$T91<>\"\",入力画面!W91,\"\")","v":""},{"$nulls":3},{"$f":"IF(入力画面!$T91<>\"\",入力画面!AA91:AE91,\"\")","v":""},{"$nulls":4},{"$f":"IF(入力画面!$T91<>\"\",入力画面!AF91:AH91,\"\")","v":""},null,null,{"$f":"IF(入力画面!$T91<>\"\",入力画面!AI91:AM91,\"\")","v":""},{"$nulls":4},{"$f":"IF(入力画面!$T91<>\"\",入力画面!AN91:AP91,\"\")","v":""},null,null,{"$f":"IF(入力画面!$T91<>\"\",入力画面!AQ91:AU91,\"\")","v":""},{"$nulls":4},{"$f":"IF(入力画面!$T91<>\"\",入力画面!AV91:AX91,\"\")","v":""},null,null,{"$f":"IF(入力画面!$T91<>\"\",入力画面!AY91:BC91,\"\")","v":""},{"$nulls":4},{"$f":"入力画面!BD91:BM91","v":0}]
[82,{"$f":"入力画面!B92:Q92","v":0},{"$nulls":15},{"$f":"入力画面!R92:S92","v":0},null,{"$f":"IF(入力画面!$T92<>\"\",入力画面!T92,\"\")","v":""},null,null,{"$f":"IF(入力画面!$T92<>\"\",入力画面!W92,\"\")","v":""},{"$nulls":3},{"$f":"IF(入力画面!$T92<>\"\",入力画面!AA92:AE92,\"\")","v":""},{"$nulls":4},{"$f":"IF(入力画面!$T92<>\"\",入力画面!AF92:AH92,\"\")","v":""},null,null,{"$f":"IF(入力画面!$T92<>\"\",入力画面!AI92:AM92,\"\")","v":""},{"$nulls":4},{"$f":"IF(入力画面!$T92<>\"\",入力画面!AN92:AP92,\"\")","v":""},null,null,{"$f":"IF(入力画面!$T92<>\"\",入力画面!AQ92:AU92,\"\")","v":""},{"$nulls":4},{"$f":"IF(入力画面!$T92<>\"\",入力画面!AV92:AX92,\"\")","v":""},null,null,{"$f":"IF(入力画面!$T92<>\"\",入力画面!AY92:BC92,\"\")","v":""},{"$nulls":4},{"$f":"入力画面!BD92:BM92","v":0}]
[83,{"$f":"入力画面!B93:Q93","v":0},{"$nulls":15},{"$f":"入力画面!R93:S93","v":0},null,{"$f":"IF(入力画面!$T93<>\"\",入力画面!T93,\"\")","v":""},null,null,{"$f":"IF(入力画面!$T93<>\"\",入力画面!W93,\"\")","v":""},{"$nulls":3},{"$f":"IF(入力画面!$T93<>\"\",入力画面!AA93:AE93,\"\")","v":""},{"$nulls":4},{"$f":"IF(入力画面!$T93<>\"\",入力画面!AF93:AH93,\"\")","v":""},null,null,{"$f":"IF(入力画面!$T93<>\"\",入力画面!AI93:AM93,\"\")","v":""},{"$nulls":4},{"$f":"IF(入力画面!$T93<>\"\",入力画面!AN93:AP93,\"\")","v":""},null,null,{"$f":"IF(入力画面!$T93<>\"\",入力画面!AQ93:AU93,\"\")","v":""},{"$nulls":4},{"$f":"IF(入力画面!$T93<>\"\",入力画面!AV93:AX93,\"\")","v":""},null,null,{"$f":"IF(入力画面!$T93<>\"\",入力画面!AY93:BC93,\"\")","v":""},{"$nulls":4},{"$f":"入力画面!BD93:BM93","v":0}]
[84,{"$f":"入力画面!B94:Q94","v":0},{"$nulls":15},{"$f":"入力画面!R94:S94","v":0},null,{"$f":"IF(入力画面!$T94<>\"\",入力画面!T94,\"\")","v":""},null,null,{"$f":"IF(入力画面!$T94<>\"\",入力画面!W94,\"\")","v":""},{"$nulls":3},{"$f":"IF(入力画面!$T94<>\"\",入力画面!AA94:AE94,\"\")","v":""},{"$nulls":4},{"$f":"IF(入力画面!$T94<>\"\",入力画面!AF94:AH94,\"\")","v":""},null,null,{"$f":"IF(入力画面!$T94<>\"\",入力画面!AI94:AM94,\"\")","v":""},{"$nulls":4},{"$f":"IF(入力画面!$T94<>\"\",入力画面!AN94:AP94,\"\")","v":""},null,null,{"$f":"IF(入力画面!$T94<>\"\",入力画面!AQ94:AU94,\"\")","v":""},{"$nulls":4},{"$f":"IF(入力画面!$T94<>\"\",入力画面!AV94:AX94,\"\")","v":""},null,null,{"$f":"IF(入力画面!$T94<>\"\",入力画面!AY94:BC94,\"\")","v":""},{"$nulls":4},{"$f":"入力画面!BD94:BM94","v":0}]
[85,{"$f":"入力画面!B95:Q95","v":0},{"$nulls":15},{"$f":"入力画面!R95:S95","v":0},null,{"$f":"IF(入力画面!$T95<>\"\",入力画面!T95,\"\")","v":""},null,null,{"$f":"IF(入力画面!$T95<>\"\",入力画面!W95,\"\")","v":""},{"$nulls":3},{"$f":"IF(入力画面!$T95<>\"\",入力画面!AA95:AE95,\"\")","v":""},{"$nulls":4},{"$f":"IF(入力画面!$T95<>\"\",入力画面!AF95:AH95,\"\")","v":""},null,null,{"$f":"IF(入力画面!$T95<>\"\",入力画面!AI95:AM95,\"\")","v":""},{"$nulls":4},{"$f":"IF(入力画面!$T95<>\"\",入力画面!AN95:AP95,\"\")","v":""},null,null,{"$f":"IF(入力画面!$T95<>\"\",入力画面!AQ95:AU95,\"\")","v":""},{"$nulls":4},{"$f":"IF(入力画面!$T95<>\"\",入力画面!AV95:AX95,\"\")","v":""},null,null,{"$f":"IF(入力画面!$T95<>\"\",入力画面!AY95:BC95,\"\")","v":""},{"$nulls":4},{"$f":"入力画面!BD95:BM95","v":0}]
[86,{"$f":"入力画面!B96:Q96","v":0},{"$nulls":15},{"$f":"入力画面!R96:S96","v":0},null,{"$f":"IF(入力画面!$T96<>\"\",入力画面!T96,\"\")","v":""},null,null,{"$f":"IF(入力画面!$T96<>\"\",入力画面!W96,\"\")","v":""},{"$nulls":3},{"$f":"IF(入力画面!$T96<>\"\",入力画面!AA96:AE96,\"\")","v":""},{"$nulls":4},{"$f":"IF(入力画面!$T96<>\"\",入力画面!AF96:AH96,\"\")","v":""},null,null,{"$f":"IF(入力画面!$T96<>\"\",入力画面!AI96:AM96,\"\")","v":""},{"$nulls":4},{"$f":"IF(入力画面!$T96<>\"\",入力画面!AN96:AP96,\"\")","v":""},null,null,{"$f":"IF(入力画面!$T96<>\"\",入力画面!AQ96:AU96,\"\")","v":""},{"$nulls":4},{"$f":"IF(入力画面!$T96<>\"\",入力画面!AV96:AX96,\"\")","v":""},null,null,{"$f":"IF(入力画面!$T96<>\"\",入力画面!AY96:BC96,\"\")","v":""},{"$nulls":4},{"$f":"入力画面!BD96:BM96","v":0}]
[87,{"$f":"入力画面!B97:Q97","v":0},{"$nulls":15},{"$f":"入力画面!R97:S97","v":0},null,{"$f":"IF(入力画面!$T97<>\"\",入力画面!T97,\"\")","v":""},null,null,{"$f":"IF(入力画面!$T97<>\"\",入力画面!W97,\"\")","v":""},{"$nulls":3},{"$f":"IF(入力画面!$T97<>\"\",入力画面!AA97:AE97,\"\")","v":""},{"$nulls":4},{"$f":"IF(入力画面!$T97<>\"\",入力画面!AF97:AH97,\"\")","v":""},null,null,{"$f":"IF(入力画面!$T97<>\"\",入力画面!AI97:AM97,\"\")","v":""},{"$nulls":4},{"$f":"IF(入力画面!$T97<>\"\",入力画面!AN97:AP97,\"\")","v":""},null,null,{"$f":"IF(入力画面!$T97<>\"\",入力画面!AQ97:AU97,\"\")","v":""},{"$nulls":4},{"$f":"IF(入力画面!$T97<>\"\",入力画面!AV97:AX97,\"\")","v":""},null,null,{"$f":"IF(入力画面!$T97<>\"\",入力画面!AY97:BC97,\"\")","v":""},{"$nulls":4},{"$f":"入力画面!BD97:BM97","v":0}]
[88,{"$f":"入力画面!B98:Q98","v":0},{"$nulls":15},{"$f":"入力画面!R98:S98","v":0},null,{"$f":"IF(入力画面!$T98<>\"\",入力画面!T98,\"\")","v":""},null,null,{"$f":"IF(入力画面!$T98<>\"\",入力画面!W98,\"\")","v":""},{"$nulls":3},{"$f":"IF(入力画面!$T98<>\"\",入力画面!AA98:AE98,\"\")","v":""},{"$nulls":4},{"$f":"IF(入力画面!$T98<>\"\",入力画面!AF98:AH98,\"\")","v":""},null,null,{"$f":"IF(入力画面!$T98<>\"\",入力画面!AI98:AM98,\"\")","v":""},{"$nulls":4},{"$f":"IF(入力画面!$T98<>\"\",入力画面!AN98:AP98,\"\")","v":""},null,null,{"$f":"IF(入力画面!$T98<>\"\",入力画面!AQ98:AU98,\"\")","v":""},{"$nulls":4},{"$f":"IF(入力画面!$T98<>\"\",入力画面!AV98:AX98,\"\")","v":""},null,null,{"$f":"IF(入力画面!$T98<>\"\",入力画面!AY98:BC98,\"\")","v":""},{"$nulls":4},{"$f":"入力画面!BD98:BM98","v":0}]
[89,{"$f":"入力画面!B99:Q99","v":0},{"$nulls":15},{"$f":"入力画面!R99:S99","v":0},null,{"$f":"IF(入力画面!$T99<>\"\",入力画面!T99,\"\")","v":""},null,null,{"$f":"IF(入力画面!$T99<>\"\",入力画面!W99,\"\")","v":""},{"$nulls":3},{"$f":"IF(入力画面!$T99<>\"\",入力画面!AA99:AE99,\"\")","v":""},{"$nulls":4},{"$f":"IF(入力画面!$T99<>\"\",入力画面!AF99:AH99,\"\")","v":""},null,null,{"$f":"IF(入力画面!$T99<>\"\",入力画面!AI99:AM99,\"\")","v":""},{"$nulls":4},{"$f":"IF(入力画面!$T99<>\"\",入力画面!AN99:AP99,\"\")","v":""},null,null,{"$f":"IF(入力画面!$T99<>\"\",入力画面!AQ99:AU99,\"\")","v":""},{"$nulls":4},{"$f":"IF(入力画面!$T99<>\"\",入力画面!AV99:AX99,\"\")","v":""},null,null,{"$f":"IF(入力画面!$T99<>\"\",入力画面!AY99:BC99,\"\")","v":""},{"$nulls":4},{"$f":"入力画面!BD99:BM99","v":0}]
[90,{"$f":"入力画面!B100:Q100","v":0},{"$nulls":15},{"$f":"入力画面!R100:S100","v":0},null,{"$f":"IF(入力画面!$T100<>\"\",入力画面!T100,\"\")","v":""},null,null,{"$f":"IF(入力画面!$T100<>\"\",入力画面!W100,\"\")","v":""},{"$nulls":3},{"$f":"IF(入力画面!$T100<>\"\",入力画面!AA100:AE100,\"\")","v":""},{"$nulls":4},{"$f":"IF(入力画面!$T100<>\"\",入力画面!AF100:AH100,\"\")","v":""},null,null,{"$f":"IF(入力画面!$T100<>\"\",入力画面!AI100:AM100,\"\")","v":""},{"$nulls":4},{"$f":"IF(入力画面!$T100<>\"\",入力画面!AN100:AP100,\"\")","v":""},null,null,{"$f":"IF(入力画面!$T100<>\"\",入力画面!AQ100:AU100,\"\")","v":""},{"$nulls":4},{"$f":"IF(入力画面!$T100<>\"\",入力画面!AV100:AX100,\"\")","v":""},null,null,{"$f":"IF(入力画面!$T100<>\"\",入力画面!AY100:BC100,\"\")","v":""},{"$nulls":4},{"$f":"入力画面!BD100:BM100","v":0}]
[91,{"$f":"入力画面!B101:Q101","v":0},{"$nulls":15},{"$f":"入力画面!R101:S101","v":0},null,{"$f":"IF(入力画面!$T101<>\"\",入力画面!T101,\"\")","v":""},null,null,{"$f":"IF(入力画面!$T101<>\"\",入力画面!W101,\"\")","v":""},{"$nulls":3},{"$f":"IF(入力画面!$T101<>\"\",入力画面!AA101:AE101,\"\")","v":""},{"$nulls":4},{"$f":"IF(入力画面!$T101<>\"\",入力画面!AF101:AH101,\"\")","v":""},null,null,{"$f":"IF(入力画面!$T101<>\"\",入力画面!AI101:AM101,\"\")","v":""},{"$nulls":4},{"$f":"IF(入力画面!$T101<>\"\",入力画面!AN101:AP101,\"\")","v":""},null,null,{"$f":"IF(入力画面!$T101<>\"\",入力画面!AQ101:AU101,\"\")","v":""},{"$nulls":4},{"$f":"IF(入力画面!$T101<>\"\",入力画面!AV101:AX101,\"\")","v":""},null,null,{"$f":"IF(入力画面!$T101<>\"\",入力画面!AY101:BC101,\"\")","v":""},{"$nulls":4},{"$f":"入力画面!BD101:BM101","v":0}]
[92,{"$f":"入力画面!B102:Q102","v":0},{"$nulls":15},{"$f":"入力画面!R102:S102","v":0},null,{"$f":"IF(入力画面!$T102<>\"\",入力画面!T102,\"\")","v":""},null,null,{"$f":"IF(入力画面!$T102<>\"\",入力画面!W102,\"\")","v":""},{"$nulls":3},{"$f":"IF(入力画面!$T102<>\"\",入力画面!AA102:AE102,\"\")","v":""},{"$nulls":4},{"$f":"IF(入力画面!$T102<>\"\",入力画面!AF102:AH102,\"\")","v":""},null,null,{"$f":"IF(入力画面!$T102<>\"\",入力画面!AI102:AM102,\"\")","v":""},{"$nulls":4},{"$f":"IF(入力画面!$T102<>\"\",入力画面!AN102:AP102,\"\")","v":""},null,null,{"$f":"IF(入力画面!$T102<>\"\",入力画面!AQ102:AU102,\"\")","v":""},{"$nulls":4},{"$f":"IF(入力画面!$T102<>\"\",入力画面!AV102:AX102,\"\")","v":""},null,null,{"$f":"IF(入力画面!$T102<>\"\",入力画面!AY102:BC102,\"\")","v":""},{"$nulls":4},{"$f":"入力画面!BD102:BM102","v":0}]
[93,{"$f":"入力画面!B103:Q103","v":0},{"$nulls":15},{"$f":"入力画面!R103:S103","v":0},null,{"$f":"IF(入力画面!$T103<>\"\",入力画面!T103,\"\")","v":""},null,null,{"$f":"IF(入力画面!$T103<>\"\",入力画面!W103,\"\")","v":""},{"$nulls":3},{"$f":"IF(入力画面!$T103<>\"\",入力画面!AA103:AE103,\"\")","v":""},{"$nulls":4},{"$f":"IF(入力画面!$T103<>\"\",入力画面!AF103:AH103,\"\")","v":""},null,null,{"$f":"IF(入力画面!$T103<>\"\",入力画面!AI103:AM103,\"\")","v":""},{"$nulls":4},{"$f":"IF(入力画面!$T103<>\"\",入力画面!AN103:AP103,\"\")","v":""},null,null,{"$f":"IF(入力画面!$T103<>\"\",入力画面!AQ103:AU103,\"\")","v":""},{"$nulls":4},{"$f":"IF(入力画面!$T103<>\"\",入力画面!AV103:AX103,\"\")","v":""},null,null,{"$f":"IF(入力画面!$T103<>\"\",入力画面!AY103:BC103,\"\")","v":""},{"$nulls":4},{"$f":"入力画面!BD103:BM103","v":0}]
[94,{"$f":"入力画面!B104:Q104","v":0},{"$nulls":15},{"$f":"入力画面!R104:S104","v":0},null,{"$f":"IF(入力画面!$T104<>\"\",入力画面!T104,\"\")","v":""},null,null,{"$f":"IF(入力画面!$T104<>\"\",入力画面!W104,\"\")","v":""},{"$nulls":3},{"$f":"IF(入力画面!$T104<>\"\",入力画面!AA104:AE104,\"\")","v":""},{"$nulls":4},{"$f":"IF(入力画面!$T104<>\"\",入力画面!AF104:AH104,\"\")","v":""},null,null,{"$f":"IF(入力画面!$T104<>\"\",入力画面!AI104:AM104,\"\")","v":""},{"$nulls":4},{"$f":"IF(入力画面!$T104<>\"\",入力画面!AN104:AP104,\"\")","v":""},null,null,{"$f":"IF(入力画面!$T104<>\"\",入力画面!AQ104:AU104,\"\")","v":""},{"$nulls":4},{"$f":"IF(入力画面!$T104<>\"\",入力画面!AV104:AX104,\"\")","v":""},null,null,{"$f":"IF(入力画面!$T104<>\"\",入力画面!AY104:BC104,\"\")","v":""},{"$nulls":4},{"$f":"入力画面!BD104:BM104","v":0}]
[95,{"$f":"入力画面!B105:Q105","v":0},{"$nulls":15},{"$f":"入力画面!R105:S105","v":0},null,{"$f":"IF(入力画面!$T105<>\"\",入力画面!T105,\"\")","v":""},null,null,{"$f":"IF(入力画面!$T105<>\"\",入力画面!W105,\"\")","v":""},{"$nulls":3},{"$f":"IF(入力画面!$T105<>\"\",入力画面!AA105:AE105,\"\")","v":""},{"$nulls":4},{"$f":"IF(入力画面!$T105<>\"\",入力画面!AF105:AH105,\"\")","v":""},null,null,{"$f":"IF(入力画面!$T105<>\"\",入力画面!AI105:AM105,\"\")","v":""},{"$nulls":4},{"$f":"IF(入力画面!$T105<>\"\",入力画面!AN105:AP105,\"\")","v":""},null,null,{"$f":"IF(入力画面!$T105<>\"\",入力画面!AQ105:AU105,\"\")","v":""},{"$nulls":4},{"$f":"IF(入力画面!$T105<>\"\",入力画面!AV105:AX105,\"\")","v":""},null,null,{"$f":"IF(入力画面!$T105<>\"\",入力画面!AY105:BC105,\"\")","v":""},{"$nulls":4},{"$f":"入力画面!BD105:BM105","v":0}]
[96,{"$f":"入力画面!B106:Q106","v":0},{"$nulls":15},{"$f":"入力画面!R106:S106","v":0},null,{"$f":"IF(入力画面!$T106<>\"\",入力画面!T106,\"\")","v":""},null,null,{"$f":"IF(入力画面!$T106<>\"\",入力画面!W106,\"\")","v":""},{"$nulls":3},{"$f":"IF(入力画面!$T106<>\"\",入力画面!AA106:AE106,\"\")","v":""},{"$nulls":4},{"$f":"IF(入力画面!$T106<>\"\",入力画面!AF106:AH106,\"\")","v":""},null,null,{"$f":"IF(入力画面!$T106<>\"\",入力画面!AI106:AM106,\"\")","v":""},{"$nulls":4},{"$f":"IF(入力画面!$T106<>\"\",入力画面!AN106:AP106,\"\")","v":""},null,null,{"$f":"IF(入力画面!$T106<>\"\",入力画面!AQ106:AU106,\"\")","v":""},{"$nulls":4},{"$f":"IF(入力画面!$T106<>\"\",入力画面!AV106:AX106,\"\")","v":""},null,null,{"$f":"IF(入力画面!$T106<>\"\",入力画面!AY106:BC106,\"\")","v":""},{"$nulls":4},{"$f":"入力画面!BD106:BM106","v":0}]
[97,{"$f":"入力画面!B107:Q107","v":0},{"$nulls":15},{"$f":"入力画面!R107:S107","v":0},null,{"$f":"IF(入力画面!$T107<>\"\",入力画面!T107,\"\")","v":""},null,null,{"$f":"IF(入力画面!$T107<>\"\",入力画面!W107,\"\")","v":""},{"$nulls":3},{"$f":"IF(入力画面!$T107<>\"\",入力画面!AA107:AE107,\"\")","v":""},{"$nulls":4},{"$f":"IF(入力画面!$T107<>\"\",入力画面!AF107:AH107,\"\")","v":""},null,null,{"$f":"IF(入力画面!$T107<>\"\",入力画面!AI107:AM107,\"\")","v":""},{"$nulls":4},{"$f":"IF(入力画面!$T107<>\"\",入力画面!AN107:AP107,\"\")","v":""},null,null,{"$f":"IF(入力画面!$T107<>\"\",入力画面!AQ107:AU107,\"\")","v":""},{"$nulls":4},{"$f":"IF(入力画面!$T107<>\"\",入力画面!AV107:AX107,\"\")","v":""},null,null,{"$f":"IF(入力画面!$T107<>\"\",入力画面!AY107:BC107,\"\")","v":""},{"$nulls":4},{"$f":"入力画面!BD107:BM107","v":0}]
[98,{"$f":"入力画面!B108:Q108","v":0},{"$nulls":15},{"$f":"入力画面!R108:S108","v":0},null,{"$f":"IF(入力画面!$T108<>\"\",入力画面!T108,\"\")","v":""},null,null,{"$f":"IF(入力画面!$T108<>\"\",入力画面!W108,\"\")","v":""},{"$nulls":3},{"$f":"IF(入力画面!$T108<>\"\",入力画面!AA108:AE108,\"\")","v":""},{"$nulls":4},{"$f":"IF(入力画面!$T108<>\"\",入力画面!AF108:AH108,\"\")","v":""},null,null,{"$f":"IF(入力画面!$T108<>\"\",入力画面!AI108:AM108,\"\")","v":""},{"$nulls":4},{"$f":"IF(入力画面!$T108<>\"\",入力画面!AN108:AP108,\"\")","v":""},null,null,{"$f":"IF(入力画面!$T108<>\"\",入力画面!AQ108:AU108,\"\")","v":""},{"$nulls":4},{"$f":"IF(入力画面!$T108<>\"\",入力画面!AV108:AX108,\"\")","v":""},null,null,{"$f":"IF(入力画面!$T108<>\"\",入力画面!AY108:BC108,\"\")","v":""},{"$nulls":4},{"$f":"入力画面!BD108:BM108","v":0}]
[99,{"$f":"入力画面!B109:Q109","v":0},{"$nulls":15},{"$f":"入力画面!R109:S109","v":0},null,{"$f":"IF(入力画面!$T109<>\"\",入力画面!T109,\"\")","v":""},null,null,{"$f":"IF(入力画面!$T109<>\"\",入力画面!W109,\"\")","v":""},{"$nulls":3},{"$f":"IF(入力画面!$T109<>\"\",入力画面!AA109:AE109,\"\")","v":""},{"$nulls":4},{"$f":"IF(入力画面!$T109<>\"\",入力画面!AF109:AH109,\"\")","v":""},null,null,{"$f":"IF(入力画面!$T109<>\"\",入力画面!AI109:AM109,\"\")","v":""},{"$nulls":4},{"$f":"IF(入力画面!$T109<>\"\",入力画面!AN109:AP109,\"\")","v":""},null,null,{"$f":"IF(入力画面!$T109<>\"\",入力画面!AQ109:AU109,\"\")","v":""},{"$nulls":4},{"$f":"IF(入力画面!$T109<>\"\",入力画面!AV109:AX109,\"\")","v":""},null,null,{"$f":"IF(入力画面!$T109<>\"\",入力画面!AY109:BC109,\"\")","v":""},{"$nulls":4},{"$f":"入力画面!BD109:BM109","v":0}]
[100,{"$f":"入力画面!B110:Q110","v":0},{"$nulls":15},{"$f":"入力画面!R110:S110","v":0},null,{"$f":"IF(入力画面!$T110<>\"\",入力画面!T110,\"\")","v":""},null,null,{"$f":"IF(入力画面!$T110<>\"\",入力画面!W110,\"\")","v":""},{"$nulls":3},{"$f":"IF(入力画面!$T110<>\"\",入力画面!AA110:AE110,\"\")","v":""},{"$nulls":4},{"$f":"IF(入力画面!$T110<>\"\",入力画面!AF110:AH110,\"\")","v":""},null,null,{"$f":"IF(入力画面!$T110<>\"\",入力画面!AI110:AM110,\"\")","v":""},{"$nulls":4},{"$f":"IF(入力画面!$T110<>\"\",入力画面!AN110:AP110,\"\")","v":""},null,null,{"$f":"IF(入力画面!$T110<>\"\",入力画面!AQ110:AU110,\"\")","v":""},{"$nulls":4},{"$f":"IF(入力画面!$T110<>\"\",入力画面!AV110:AX110,\"\")","v":""},null,null,{"$f":"IF(入力画面!$T110<>\"\",入力画面!AY110:BC110,\"\")","v":""},{"$nulls":4},{"$f":"入力画面!BD110:BM110","v":0}]
["※消費税、保留金の計算は別紙、請求書で行ってください",{"$nulls":21},"小計",{"$nulls":3},{"$f":"SUM(AA132:AE151)","v":{"v":0,"d":"0 "}},{"$nulls":4},"小計",null,null,{"$f":"SUM(AI132:AM151)","v":{"v":0,"d":"0 "}},{"$nulls":4},"小計",null,null,{"$f":"SUM(AQ132:AU151)","v":{"v":0,"d":"0 "}},{"$nulls":4},"小計",null,null,{"$f":"SUM(AY132:BC151)","v":{"v":0,"d":"0 "}},{"$nulls":4},"担　当　者　　　　確　認　印",{"$nulls":4},{"$f":"IF(AA153=\"－\",\"―――――\",\"\")","v":"―――――"}]
["※完成後一括払いであっても出来高検収書を作成・添付してください",{"$nulls":21},"合計",{"$nulls":3},{"$f":"IF(AND(OR(AA121<>0,AI121<>0,AQ121<>0,AY121<>0),AND(AA122=\"－\",AA183=0,AI183=0,AQ183=0,AY183=0)),AA28+AA59+AA90+AA121+AA152,\"－\")","v":"－"},{"$nulls":4},"合計",null,null,{"$f":"IF($AA153<>\"－\",AI28+AI59+AI90+AI121+AI152,\"－\")","v":"－"},{"$nulls":4},"合計",null,null,{"$f":"IF($AA153<>\"－\",AQ28+AQ59+AQ90+AQ121+AQ152,\"－\")","v":"－"},{"$nulls":4},"合計",null,null,{"$f":"IF($AA153<>\"－\",AY28+AY59+AY90+AY121+AY152,\"－\")","v":"－"}]
["※協力会社印は出力枚数の都度、押印してください",{"$nulls":33},"今回迄出来高累計",{"$nulls":7},{"$f":"IF(AA153=\"－\",\"－\",AI153+AQ153)","v":"－"}]
[{"$nulls":55},"検   収   日",{"$nulls":4},{"$f":"IF(AA153=\"－\",\"――――\",\"\")","v":"――――"}]
[]
[null,null,"出　来　高　検　収　書　（第",{"$nulls":15},{"$f":"$S$2","v":0},null,"回）",null,null,"( 検収期間",{"$nulls":4},{"$f":"IF(入力画面!$J$4=\"\",\"\",入力画面!$J$4)","v":""},{"$nulls":4},"～",{"$f":"IF(入力画面!$Q$4=\"\",\"\",入力画面!$Q$4)","v":""},{"$nulls":4},"）",{"$nulls":14},"仙 建 工 業 株 式 会 社"]
[{"$nulls":41},"協力会社名"]
["工 事 番 号",{"$nulls":3},{"$f":"$E$4","v":0},{"$nulls":7},"工 事 件 名",{"$nulls":4},{"$f":"$R$4","v":0},{"$nulls":23},{"$f":"$AP$4","v":""},{"$nulls":19},"　印"]
["契   約   日",{"$nulls":3},{"$f":"$E$5","v":""},{"$nulls":7},"工         期",{"$nulls":4},"自",{"$nulls":3},{"$f":"$V$5","v":""},{"$nulls":7},"至",{"$nulls":3},{"$f":"$AH$5","v":""}]
["№","工                         種",{"$nulls":15},"契       約       金       額",{"$nulls":13},"前回迄出来高累計",{"$nulls":7},"今  回  出  来  高",{"$nulls":7},"残            高",{"$nulls":7},"摘                要"]
[{"$nulls":17},"単位",null,"数 量",null,null,"単   価",{"$nulls":3},"金     額",{"$nulls":4},"数 量",null,null,"金     額",{"$nulls":4},"数 量",null,null,"金     額",{"$nulls":4},"数 量",null,null,"金     額"]
[101,{"$f":"入力画面!B111:Q111","v":0},{"$nulls":15},{"$f":"入力画面!R111:S111","v":0},null,{"$f":"IF(入力画面!$T111<>\"\",入力画面!T111,\"\")","v":""},null,null,{"$f":"IF(入力画面!$T111<>\"\",入力画面!W111,\"\")","v":""},{"$nulls":3},{"$f":"IF(入力画面!$T111<>\"\",入力画面!AA111:AE111,\"\")","v":""},{"$nulls":4},{"$f":"IF(入力画面!$T111<>\"\",入力画面!AF111:AH111,\"\")","v":""},null,null,{"$f":"IF(入力画面!$T111<>\"\",入力画面!AI111:AM111,\"\")","v":""},{"$nulls":4},{"$f":"IF(入力画面!$T111<>\"\",入力画面!AN111:AP111,\"\")","v":""},null,null,{"$f":"IF(入力画面!$T111<>\"\",入力画面!AQ111:AU111,\"\")","v":""},{"$nulls":4},{"$f":"IF(入力画面!$T111<>\"\",入力画面!AV111:AX111,\"\")","v":""},null,null,{"$f":"IF(入力画面!$T111<>\"\",入力画面!AY111:BC111,\"\")","v":""},{"$nulls":4},{"$f":"入力画面!BD111:BM111","v":0}]
[102,{"$f":"入力画面!B112:Q112","v":0},{"$nulls":15},{"$f":"入力画面!R112:S112","v":0},null,{"$f":"IF(入力画面!$T112<>\"\",入力画面!T112,\"\")","v":""},null,null,{"$f":"IF(入力画面!$T112<>\"\",入力画面!W112,\"\")","v":""},{"$nulls":3},{"$f":"IF(入力画面!$T112<>\"\",入力画面!AA112:AE112,\"\")","v":""},{"$nulls":4},{"$f":"IF(入力画面!$T112<>\"\",入力画面!AF112:AH112,\"\")","v":""},null,null,{"$f":"IF(入力画面!$T112<>\"\",入力画面!AI112:AM112,\"\")","v":""},{"$nulls":4},{"$f":"IF(入力画面!$T112<>\"\",入力画面!AN112:AP112,\"\")","v":""},null,null,{"$f":"IF(入力画面!$T112<>\"\",入力画面!AQ112:AU112,\"\")","v":""},{"$nulls":4},{"$f":"IF(入力画面!$T112<>\"\",入力画面!AV112:AX112,\"\")","v":""},null,null,{"$f":"IF(入力画面!$T112<>\"\",入力画面!AY112:BC112,\"\")","v":""},{"$nulls":4},{"$f":"入力画面!BD112:BM112","v":0}]
[103,{"$f":"入力画面!B113:Q113","v":0},{"$nulls":15},{"$f":"入力画面!R113:S113","v":0},null,{"$f":"IF(入力画面!$T113<>\"\",入力画面!T113,\"\")","v":""},null,null,{"$f":"IF(入力画面!$T113<>\"\",入力画面!W113,\"\")","v":""},{"$nulls":3},{"$f":"IF(入力画面!$T113<>\"\",入力画面!AA113:AE113,\"\")","v":""},{"$nulls":4},{"$f":"IF(入力画面!$T113<>\"\",入力画面!AF113:AH113,\"\")","v":""},null,null,{"$f":"IF(入力画面!$T113<>\"\",入力画面!AI113:AM113,\"\")","v":""},{"$nulls":4},{"$f":"IF(入力画面!$T113<>\"\",入力画面!AN113:AP113,\"\")","v":""},null,null,{"$f":"IF(入力画面!$T113<>\"\",入力画面!AQ113:AU113,\"\")","v":""},{"$nulls":4},{"$f":"IF(入力画面!$T113<>\"\",入力画面!AV113:AX113,\"\")","v":""},null,null,{"$f":"IF(入力画面!$T113<>\"\",入力画面!AY113:BC113,\"\")","v":""},{"$nulls":4},{"$f":"入力画面!BD113:BM113","v":0}]
[104,{"$f":"入力画面!B114:Q114","v":0},{"$nulls":15},{"$f":"入力画面!R114:S114","v":0},null,{"$f":"IF(入力画面!$T114<>\"\",入力画面!T114,\"\")","v":""},null,null,{"$f":"IF(入力画面!$T114<>\"\",入力画面!W114,\"\")","v":""},{"$nulls":3},{"$f":"IF(入力画面!$T114<>\"\",入力画面!AA114:AE114,\"\")","v":""},{"$nulls":4},{"$f":"IF(入力画面!$T114<>\"\",入力画面!AF114:AH114,\"\")","v":""},null,null,{"$f":"IF(入力画面!$T114<>\"\",入力画面!AI114:AM114,\"\")","v":""},{"$nulls":4},{"$f":"IF(入力画面!$T114<>\"\",入力画面!AN114:AP114,\"\")","v":""},null,null,{"$f":"IF(入力画面!$T114<>\"\",入力画面!AQ114:AU114,\"\")","v":""},{"$nulls":4},{"$f":"IF(入力画面!$T114<>\"\",入力画面!AV114:AX114,\"\")","v":""},null,null,{"$f":"IF(入力画面!$T114<>\"\",入力画面!AY114:BC114,\"\")","v":""},{"$nulls":4},{"$f":"入力画面!BD114:BM114","v":0}]
[105,{"$f":"入力画面!B115:Q115","v":0},{"$nulls":15},{"$f":"入力画面!R115:S115","v":0},null,{"$f":"IF(入力画面!$T115<>\"\",入力画面!T115,\"\")","v":""},null,null,{"$f":"IF(入力画面!$T115<>\"\",入力画面!W115,\"\")","v":""},{"$nulls":3},{"$f":"IF(入力画面!$T115<>\"\",入力画面!AA115:AE115,\"\")","v":""},{"$nulls":4},{"$f":"IF(入力画面!$T115<>\"\",入力画面!AF115:AH115,\"\")","v":""},null,null,{"$f":"IF(入力画面!$T115<>\"\",入力画面!AI115:AM115,\"\")","v":""},{"$nulls":4},{"$f":"IF(入力画面!$T115<>\"\",入力画面!AN115:AP115,\"\")","v":""},null,null,{"$f":"IF(入力画面!$T115<>\"\",入力画面!AQ115:AU115,\"\")","v":""},{"$nulls":4},{"$f":"IF(入力画面!$T115<>\"\",入力画面!AV115:AX115,\"\")","v":""},null,null,{"$f":"IF(入力画面!$T115<>\"\",入力画面!AY115:BC115,\"\")","v":""},{"$nulls":4},{"$f":"入力画面!BD115:BM115","v":0}]
[106,{"$f":"入力画面!B116:Q116","v":0},{"$nulls":15},{"$f":"入力画面!R116:S116","v":0},null,{"$f":"IF(入力画面!$T116<>\"\",入力画面!T116,\"\")","v":""},null,null,{"$f":"IF(入力画面!$T116<>\"\",入力画面!W116,\"\")","v":""},{"$nulls":3},{"$f":"IF(入力画面!$T116<>\"\",入力画面!AA116:AE116,\"\")","v":""},{"$nulls":4},{"$f":"IF(入力画面!$T116<>\"\",入力画面!AF116:AH116,\"\")","v":""},null,null,{"$f":"IF(入力画面!$T116<>\"\",入力画面!AI116:AM116,\"\")","v":""},{"$nulls":4},{"$f":"IF(入力画面!$T116<>\"\",入力画面!AN116:AP116,\"\")","v":""},null,null,{"$f":"IF(入力画面!$T116<>\"\",入力画面!AQ116:AU116,\"\")","v":""},{"$nulls":4},{"$f":"IF(入力画面!$T116<>\"\",入力画面!AV116:AX116,\"\")","v":""},null,null,{"$f":"IF(入力画面!$T116<>\"\",入力画面!AY116:BC116,\"\")","v":""},{"$nulls":4},{"$f":"入力画面!BD116:BM116","v":0}]
[107,{"$f":"入力画面!B117:Q117","v":0},{"$nulls":15},{"$f":"入力画面!R117:S117","v":0},null,{"$f":"IF(入力画面!$T117<>\"\",入力画面!T117,\"\")","v":""},null,null,{"$f":"IF(入力画面!$T117<>\"\",入力画面!W117,\"\")","v":""},{"$nulls":3},{"$f":"IF(入力画面!$T117<>\"\",入力画面!AA117:AE117,\"\")","v":""},{"$nulls":4},{"$f":"IF(入力画面!$T117<>\"\",入力画面!AF117:AH117,\"\")","v":""},null,null,{"$f":"IF(入力画面!$T117<>\"\",入力画面!AI117:AM117,\"\")","v":""},{"$nulls":4},{"$f":"IF(入力画面!$T117<>\"\",入力画面!AN117:AP117,\"\")","v":""},null,null,{"$f":"IF(入力画面!$T117<>\"\",入力画面!AQ117:AU117,\"\")","v":""},{"$nulls":4},{"$f":"IF(入力画面!$T117<>\"\",入力画面!AV117:AX117,\"\")","v":""},null,null,{"$f":"IF(入力画面!$T117<>\"\",入力画面!AY117:BC117,\"\")","v":""},{"$nulls":4},{"$f":"入力画面!BD117:BM117","v":0}]
[108,{"$f":"入力画面!B118:Q118","v":0},{"$nulls":15},{"$f":"入力画面!R118:S118","v":0},null,{"$f":"IF(入力画面!$T118<>\"\",入力画面!T118,\"\")","v":""},null,null,{"$f":"IF(入力画面!$T118<>\"\",入力画面!W118,\"\")","v":""},{"$nulls":3},{"$f":"IF(入力画面!$T118<>\"\",入力画面!AA118:AE118,\"\")","v":""},{"$nulls":4},{"$f":"IF(入力画面!$T118<>\"\",入力画面!AF118:AH118,\"\")","v":""},null,null,{"$f":"IF(入力画面!$T118<>\"\",入力画面!AI118:AM118,\"\")","v":""},{"$nulls":4},{"$f":"IF(入力画面!$T118<>\"\",入力画面!AN118:AP118,\"\")","v":""},null,null,{"$f":"IF(入力画面!$T118<>\"\",入力画面!AQ118:AU118,\"\")","v":""},{"$nulls":4},{"$f":"IF(入力画面!$T118<>\"\",入力画面!AV118:AX118,\"\")","v":""},null,null,{"$f":"IF(入力画面!$T118<>\"\",入力画面!AY118:BC118,\"\")","v":""},{"$nulls":4},{"$f":"入力画面!BD118:BM118","v":0}]
[109,{"$f":"入力画面!B119:Q119","v":0},{"$nulls":15},{"$f":"入力画面!R119:S119","v":0},null,{"$f":"IF(入力画面!$T119<>\"\",入力画面!T119,\"\")","v":""},null,null,{"$f":"IF(入力画面!$T119<>\"\",入力画面!W119,\"\")","v":""},{"$nulls":3},{"$f":"IF(入力画面!$T119<>\"\",入力画面!AA119:AE119,\"\")","v":""},{"$nulls":4},{"$f":"IF(入力画面!$T119<>\"\",入力画面!AF119:AH119,\"\")","v":""},null,null,{"$f":"IF(入力画面!$T119<>\"\",入力画面!AI119:AM119,\"\")","v":""},{"$nulls":4},{"$f":"IF(入力画面!$T119<>\"\",入力画面!AN119:AP119,\"\")","v":""},null,null,{"$f":"IF(入力画面!$T119<>\"\",入力画面!AQ119:AU119,\"\")","v":""},{"$nulls":4},{"$f":"IF(入力画面!$T119<>\"\",入力画面!AV119:AX119,\"\")","v":""},null,null,{"$f":"IF(入力画面!$T119<>\"\",入力画面!AY119:BC119,\"\")","v":""},{"$nulls":4},{"$f":"入力画面!BD119:BM119","v":0}]
[110,{"$f":"入力画面!B120:Q120","v":0},{"$nulls":15},{"$f":"入力画面!R120:S120","v":0},null,{"$f":"IF(入力画面!$T120<>\"\",入力画面!T120,\"\")","v":""},null,null,{"$f":"IF(入力画面!$T120<>\"\",入力画面!W120,\"\")","v":""},{"$nulls":3},{"$f":"IF(入力画面!$T120<>\"\",入力画面!AA120:AE120,\"\")","v":""},{"$nulls":4},{"$f":"IF(入力画面!$T120<>\"\",入力画面!AF120:AH120,\"\")","v":""},null,null,{"$f":"IF(入力画面!$T120<>\"\",入力画面!AI120:AM120,\"\")","v":""},{"$nulls":4},{"$f":"IF(入力画面!$T120<>\"\",入力画面!AN120:AP120,\"\")","v":""},null,null,{"$f":"IF(入力画面!$T120<>\"\",入力画面!AQ120:AU120,\"\")","v":""},{"$nulls":4},{"$f":"IF(入力画面!$T120<>\"\",入力画面!AV120:AX120,\"\")","v":""},null,null,{"$f":"IF(入力画面!$T120<>\"\",入力画面!AY120:BC120,\"\")","v":""},{"$nulls":4},{"$f":"入力画面!BD120:BM120","v":0}]
[111,{"$f":"入力画面!B121:Q121","v":0},{"$nulls":15},{"$f":"入力画面!R121:S121","v":0},null,{"$f":"IF(入力画面!$T121<>\"\",入力画面!T121,\"\")","v":""},null,null,{"$f":"IF(入力画面!$T121<>\"\",入力画面!W121,\"\")","v":""},{"$nulls":3},{"$f":"IF(入力画面!$T121<>\"\",入力画面!AA121:AE121,\"\")","v":""},{"$nulls":4},{"$f":"IF(入力画面!$T121<>\"\",入力画面!AF121:AH121,\"\")","v":""},null,null,{"$f":"IF(入力画面!$T121<>\"\",入力画面!AI121:AM121,\"\")","v":""},{"$nulls":4},{"$f":"IF(入力画面!$T121<>\"\",入力画面!AN121:AP121,\"\")","v":""},null,null,{"$f":"IF(入力画面!$T121<>\"\",入力画面!AQ121:AU121,\"\")","v":""},{"$nulls":4},{"$f":"IF(入力画面!$T121<>\"\",入力画面!AV121:AX121,\"\")","v":""},null,null,{"$f":"IF(入力画面!$T121<>\"\",入力画面!AY121:BC121,\"\")","v":""},{"$nulls":4},{"$f":"入力画面!BD121:BM121","v":0}]
[112,{"$f":"入力画面!B122:Q122","v":0},{"$nulls":15},{"$f":"入力画面!R122:S122","v":0},null,{"$f":"IF(入力画面!$T122<>\"\",入力画面!T122,\"\")","v":""},null,null,{"$f":"IF(入力画面!$T122<>\"\",入力画面!W122,\"\")","v":""},{"$nulls":3},{"$f":"IF(入力画面!$T122<>\"\",入力画面!AA122:AE122,\"\")","v":""},{"$nulls":4},{"$f":"IF(入力画面!$T122<>\"\",入力画面!AF122:AH122,\"\")","v":""},null,null,{"$f":"IF(入力画面!$T122<>\"\",入力画面!AI122:AM122,\"\")","v":""},{"$nulls":4},{"$f":"IF(入力画面!$T122<>\"\",入力画面!AN122:AP122,\"\")","v":""},null,null,{"$f":"IF(入力画面!$T122<>\"\",入力画面!AQ122:AU122,\"\")","v":""},{"$nulls":4},{"$f":"IF(入力画面!$T122<>\"\",入力画面!AV122:AX122,\"\")","v":""},null,null,{"$f":"IF(入力画面!$T122<>\"\",入力画面!AY122:BC122,\"\")","v":""},{"$nulls":4},{"$f":"入力画面!BD122:BM122","v":0}]
[113,{"$f":"入力画面!B123:Q123","v":0},{"$nulls":15},{"$f":"入力画面!R123:S123","v":0},null,{"$f":"IF(入力画面!$T123<>\"\",入力画面!T123,\"\")","v":""},null,null,{"$f":"IF(入力画面!$T123<>\"\",入力画面!W123,\"\")","v":""},{"$nulls":3},{"$f":"IF(入力画面!$T123<>\"\",入力画面!AA123:AE123,\"\")","v":""},{"$nulls":4},{"$f":"IF(入力画面!$T123<>\"\",入力画面!AF123:AH123,\"\")","v":""},null,null,{"$f":"IF(入力画面!$T123<>\"\",入力画面!AI123:AM123,\"\")","v":""},{"$nulls":4},{"$f":"IF(入力画面!$T123<>\"\",入力画面!AN123:AP123,\"\")","v":""},null,null,{"$f":"IF(入力画面!$T123<>\"\",入力画面!AQ123:AU123,\"\")","v":""},{"$nulls":4},{"$f":"IF(入力画面!$T123<>\"\",入力画面!AV123:AX123,\"\")","v":""},null,null,{"$f":"IF(入力画面!$T123<>\"\",入力画面!AY123:BC123,\"\")","v":""},{"$nulls":4},{"$f":"入力画面!BD123:BM123","v":0}]
[114,{"$f":"入力画面!B124:Q124","v":0},{"$nulls":15},{"$f":"入力画面!R124:S124","v":0},null,{"$f":"IF(入力画面!$T124<>\"\",入力画面!T124,\"\")","v":""},null,null,{"$f":"IF(入力画面!$T124<>\"\",入力画面!W124,\"\")","v":""},{"$nulls":3},{"$f":"IF(入力画面!$T124<>\"\",入力画面!AA124:AE124,\"\")","v":""},{"$nulls":4},{"$f":"IF(入力画面!$T124<>\"\",入力画面!AF124:AH124,\"\")","v":""},null,null,{"$f":"IF(入力画面!$T124<>\"\",入力画面!AI124:AM124,\"\")","v":""},{"$nulls":4},{"$f":"IF(入力画面!$T124<>\"\",入力画面!AN124:AP124,\"\")","v":""},null,null,{"$f":"IF(入力画面!$T124<>\"\",入力画面!AQ124:AU124,\"\")","v":""},{"$nulls":4},{"$f":"IF(入力画面!$T124<>\"\",入力画面!AV124:AX124,\"\")","v":""},null,null,{"$f":"IF(入力画面!$T124<>\"\",入力画面!AY124:BC124,\"\")","v":""},{"$nulls":4},{"$f":"入力画面!BD124:BM124","v":0}]
[115,{"$f":"入力画面!B125:Q125","v":0},{"$nulls":15},{"$f":"入力画面!R125:S125","v":0},null,{"$f":"IF(入力画面!$T125<>\"\",入力画面!T125,\"\")","v":""},null,null,{"$f":"IF(入力画面!$T125<>\"\",入力画面!W125,\"\")","v":""},{"$nulls":3},{"$f":"IF(入力画面!$T125<>\"\",入力画面!AA125:AE125,\"\")","v":""},{"$nulls":4},{"$f":"IF(入力画面!$T125<>\"\",入力画面!AF125:AH125,\"\")","v":""},null,null,{"$f":"IF(入力画面!$T125<>\"\",入力画面!AI125:AM125,\"\")","v":""},{"$nulls":4},{"$f":"IF(入力画面!$T125<>\"\",入力画面!AN125:AP125,\"\")","v":""},null,null,{"$f":"IF(入力画面!$T125<>\"\",入力画面!AQ125:AU125,\"\")","v":""},{"$nulls":4},{"$f":"IF(入力画面!$T125<>\"\",入力画面!AV125:AX125,\"\")","v":""},null,null,{"$f":"IF(入力画面!$T125<>\"\",入力画面!AY125:BC125,\"\")","v":""},{"$nulls":4},{"$f":"入力画面!BD125:BM125","v":0}]
[116,{"$f":"入力画面!B126:Q126","v":0},{"$nulls":15},{"$f":"入力画面!R126:S126","v":0},null,{"$f":"IF(入力画面!$T126<>\"\",入力画面!T126,\"\")","v":""},null,null,{"$f":"IF(入力画面!$T126<>\"\",入力画面!W126,\"\")","v":""},{"$nulls":3},{"$f":"IF(入力画面!$T126<>\"\",入力画面!AA126:AE126,\"\")","v":""},{"$nulls":4},{"$f":"IF(入力画面!$T126<>\"\",入力画面!AF126:AH126,\"\")","v":""},null,null,{"$f":"IF(入力画面!$T126<>\"\",入力画面!AI126:AM126,\"\")","v":""},{"$nulls":4},{"$f":"IF(入力画面!$T126<>\"\",入力画面!AN126:AP126,\"\")","v":""},null,null,{"$f":"IF(入力画面!$T126<>\"\",入力画面!AQ126:AU126,\"\")","v":""},{"$nulls":4},{"$f":"IF(入力画面!$T126<>\"\",入力画面!AV126:AX126,\"\")","v":""},null,null,{"$f":"IF(入力画面!$T126<>\"\",入力画面!AY126:BC126,\"\")","v":""},{"$nulls":4},{"$f":"入力画面!BD126:BM126","v":0}]
[117,{"$f":"入力画面!B127:Q127","v":0},{"$nulls":15},{"$f":"入力画面!R127:S127","v":0},null,{"$f":"IF(入力画面!$T127<>\"\",入力画面!T127,\"\")","v":""},null,null,{"$f":"IF(入力画面!$T127<>\"\",入力画面!W127,\"\")","v":""},{"$nulls":3},{"$f":"IF(入力画面!$T127<>\"\",入力画面!AA127:AE127,\"\")","v":""},{"$nulls":4},{"$f":"IF(入力画面!$T127<>\"\",入力画面!AF127:AH127,\"\")","v":""},null,null,{"$f":"IF(入力画面!$T127<>\"\",入力画面!AI127:AM127,\"\")","v":""},{"$nulls":4},{"$f":"IF(入力画面!$T127<>\"\",入力画面!AN127:AP127,\"\")","v":""},null,null,{"$f":"IF(入力画面!$T127<>\"\",入力画面!AQ127:AU127,\"\")","v":""},{"$nulls":4},{"$f":"IF(入力画面!$T127<>\"\",入力画面!AV127:AX127,\"\")","v":""},null,null,{"$f":"IF(入力画面!$T127<>\"\",入力画面!AY127:BC127,\"\")","v":""},{"$nulls":4},{"$f":"入力画面!BD127:BM127","v":0}]
[118,{"$f":"入力画面!B128:Q128","v":0},{"$nulls":15},{"$f":"入力画面!R128:S128","v":0},null,{"$f":"IF(入力画面!$T128<>\"\",入力画面!T128,\"\")","v":""},null,null,{"$f":"IF(入力画面!$T128<>\"\",入力画面!W128,\"\")","v":""},{"$nulls":3},{"$f":"IF(入力画面!$T128<>\"\",入力画面!AA128:AE128,\"\")","v":""},{"$nulls":4},{"$f":"IF(入力画面!$T128<>\"\",入力画面!AF128:AH128,\"\")","v":""},null,null,{"$f":"IF(入力画面!$T128<>\"\",入力画面!AI128:AM128,\"\")","v":""},{"$nulls":4},{"$f":"IF(入力画面!$T128<>\"\",入力画面!AN128:AP128,\"\")","v":""},null,null,{"$f":"IF(入力画面!$T128<>\"\",入力画面!AQ128:AU128,\"\")","v":""},{"$nulls":4},{"$f":"IF(入力画面!$T128<>\"\",入力画面!AV128:AX128,\"\")","v":""},null,null,{"$f":"IF(入力画面!$T128<>\"\",入力画面!AY128:BC128,\"\")","v":""},{"$nulls":4},{"$f":"入力画面!BD128:BM128","v":0}]
[119,{"$f":"入力画面!B129:Q129","v":0},{"$nulls":15},{"$f":"入力画面!R129:S129","v":0},null,{"$f":"IF(入力画面!$T129<>\"\",入力画面!T129,\"\")","v":""},null,null,{"$f":"IF(入力画面!$T129<>\"\",入力画面!W129,\"\")","v":""},{"$nulls":3},{"$f":"IF(入力画面!$T129<>\"\",入力画面!AA129:AE129,\"\")","v":""},{"$nulls":4},{"$f":"IF(入力画面!$T129<>\"\",入力画面!AF129:AH129,\"\")","v":""},null,null,{"$f":"IF(入力画面!$T129<>\"\",入力画面!AI129:AM129,\"\")","v":""},{"$nulls":4},{"$f":"IF(入力画面!$T129<>\"\",入力画面!AN129:AP129,\"\")","v":""},null,null,{"$f":"IF(入力画面!$T129<>\"\",入力画面!AQ129:AU129,\"\")","v":""},{"$nulls":4},{"$f":"IF(入力画面!$T129<>\"\",入力画面!AV129:AX129,\"\")","v":""},null,null,{"$f":"IF(入力画面!$T129<>\"\",入力画面!AY129:BC129,\"\")","v":""},{"$nulls":4},{"$f":"入力画面!BD129:BM129","v":0}]
[120,{"$f":"入力画面!B130:Q130","v":0},{"$nulls":15},{"$f":"入力画面!R130:S130","v":0},null,{"$f":"IF(入力画面!$T130<>\"\",入力画面!T130,\"\")","v":""},null,null,{"$f":"IF(入力画面!$T130<>\"\",入力画面!W130,\"\")","v":""},{"$nulls":3},{"$f":"IF(入力画面!$T130<>\"\",入力画面!AA130:AE130,\"\")","v":""},{"$nulls":4},{"$f":"IF(入力画面!$T130<>\"\",入力画面!AF130:AH130,\"\")","v":""},null,null,{"$f":"IF(入力画面!$T130<>\"\",入力画面!AI130:AM130,\"\")","v":""},{"$nulls":4},{"$f":"IF(入力画面!$T130<>\"\",入力画面!AN130:AP130,\"\")","v":""},null,null,{"$f":"IF(入力画面!$T130<>\"\",入力画面!AQ130:AU130,\"\")","v":""},{"$nulls":4},{"$f":"IF(入力画面!$T130<>\"\",入力画面!AV130:AX130,\"\")","v":""},null,null,{"$f":"IF(入力画面!$T130<>\"\",入力画面!AY130:BC130,\"\")","v":""},{"$nulls":4},{"$f":"入力画面!BD130:BM130","v":0}]
["※消費税、保留金の計算は別紙、請求書で行ってください",{"$nulls":21},"小計",{"$nulls":3},{"$f":"SUM(AA163:AE182)","v":{"v":0,"d":"0 "}},{"$nulls":4},"小計",null,null,{"$f":"SUM(AI163:AM182)","v":{"v":0,"d":"0 "}},{"$nulls":4},"小計",null,null,{"$f":"SUM(AQ163:AU182)","v":{"v":0,"d":"0 "}},{"$nulls":4},"小計",null,null,{"$f":"SUM(AY163:BC182)","v":{"v":0,"d":"0 "}},{"$nulls":4},"担　当　者　　　　確　認　印",{"$nulls":4},{"$f":"IF(AA184=\"－\",\"―――――\",\"\")","v":"―――――"}]
["※完成後一括払いであっても出来高検収書を作成・添付してください",{"$nulls":21},"合計",{"$nulls":3},{"$f":"IF(AND(OR(AA152<>0,AI152<>0,AQ152<>0,AY152<>0),AND(AA153=\"－\",AA214=0,AI214=0,AQ214=0,AY214=0)),AA28+AA59+AA90+AA121+AA152+AA183,\"－\")","v":"－"},{"$nulls":4},"合計",null,null,{"$f":"IF($AA184<>\"－\",AI28+AI59+AI90+AI121+AI152+AI183,\"－\")","v":"－"},{"$nulls":4},"合計",null,null,{"$f":"IF($AA184<>\"－\",AQ28+AQ59+AQ90+AQ121+AQ152+AQ183,\"－\")","v":"－"},{"$nulls":4},"合計",null,null,{"$f":"IF($AA184<>\"－\",AY28+AY59+AY90+AY121+AY152+AY183,\"－\")","v":"－"}]
["※協力会社印は出力枚数の都度、押印してください",{"$nulls":33},"今回迄出来高累計",{"$nulls":7},{"$f":"IF(AA184=\"－\",\"－\",AI184+AQ184)","v":"－"}]
[{"$nulls":55},"検   収   日",{"$nulls":4},{"$f":"IF(AA184=\"－\",\"――――\",\"\")","v":"――――"}]
[]
[null,null,"出　来　高　検　収　書　（第",{"$nulls":15},{"$f":"$S$2","v":0},null,"回）",null,null,"( 検収期間",{"$nulls":4},{"$f":"IF(入力画面!$J$4=\"\",\"\",入力画面!$J$4)","v":""},{"$nulls":4},"～",{"$f":"IF(入力画面!$Q$4=\"\",\"\",入力画面!$Q$4)","v":""},{"$nulls":4},"）",{"$nulls":14},"仙 建 工 業 株 式 会 社"]
[{"$nulls":41},"協力会社名"]
["工 事 番 号",{"$nulls":3},{"$f":"$E$4","v":0},{"$nulls":7},"工 事 件 名",{"$nulls":4},{"$f":"$R$4","v":0},{"$nulls":23},{"$f":"$AP$4","v":""},{"$nulls":19},"　印"]
["契   約   日",{"$nulls":3},{"$f":"$E$5","v":""},{"$nulls":7},"工         期",{"$nulls":4},"自",{"$nulls":3},{"$f":"$V$5","v":""},{"$nulls":7},"至",{"$nulls":3},{"$f":"$AH$5","v":""}]
["№","工                         種",{"$nulls":15},"契       約       金       額",{"$nulls":13},"前回迄出来高累計",{"$nulls":7},"今  回  出  来  高",{"$nulls":7},"残            高",{"$nulls":7},"摘                要"]
[{"$nulls":17},"単位",null,"数 量",null,null,"単   価",{"$nulls":3},"金     額",{"$nulls":4},"数 量",null,null,"金     額",{"$nulls":4},"数 量",null,null,"金     額",{"$nulls":4},"数 量",null,null,"金     額"]
[121,{"$f":"入力画面!B131:Q131","v":0},{"$nulls":15},{"$f":"入力画面!R131:S131","v":0},null,{"$f":"IF(入力画面!$T131<>\"\",入力画面!T131,\"\")","v":""},null,null,{"$f":"IF(入力画面!$T131<>\"\",入力画面!W131,\"\")","v":""},{"$nulls":3},{"$f":"IF(入力画面!$T131<>\"\",入力画面!AA131:AE131,\"\")","v":""},{"$nulls":4},{"$f":"IF(入力画面!$T131<>\"\",入力画面!AF131:AH131,\"\")","v":""},null,null,{"$f":"IF(入力画面!$T131<>\"\",入力画面!AI131:AM131,\"\")","v":""},{"$nulls":4},{"$f":"IF(入力画面!$T131<>\"\",入力画面!AN131:AP131,\"\")","v":""},null,null,{"$f":"IF(入力画面!$T131<>\"\",入力画面!AQ131:AU131,\"\")","v":""},{"$nulls":4},{"$f":"IF(入力画面!$T131<>\"\",入力画面!AV131:AX131,\"\")","v":""},null,null,{"$f":"IF(入力画面!$T131<>\"\",入力画面!AY131:BC131,\"\")","v":""},{"$nulls":4},{"$f":"入力画面!BD131:BM131","v":0}]
[122,{"$f":"入力画面!B132:Q132","v":0},{"$nulls":15},{"$f":"入力画面!R132:S132","v":0},null,{"$f":"IF(入力画面!$T132<>\"\",入力画面!T132,\"\")","v":""},null,null,{"$f":"IF(入力画面!$T132<>\"\",入力画面!W132,\"\")","v":""},{"$nulls":3},{"$f":"IF(入力画面!$T132<>\"\",入力画面!AA132:AE132,\"\")","v":""},{"$nulls":4},{"$f":"IF(入力画面!$T132<>\"\",入力画面!AF132:AH132,\"\")","v":""},null,null,{"$f":"IF(入力画面!$T132<>\"\",入力画面!AI132:AM132,\"\")","v":""},{"$nulls":4},{"$f":"IF(入力画面!$T132<>\"\",入力画面!AN132:AP132,\"\")","v":""},null,null,{"$f":"IF(入力画面!$T132<>\"\",入力画面!AQ132:AU132,\"\")","v":""},{"$nulls":4},{"$f":"IF(入力画面!$T132<>\"\",入力画面!AV132:AX132,\"\")","v":""},null,null,{"$f":"IF(入力画面!$T132<>\"\",入力画面!AY132:BC132,\"\")","v":""},{"$nulls":4},{"$f":"入力画面!BD132:BM132","v":0}]
[123,{"$f":"入力画面!B133:Q133","v":0},{"$nulls":15},{"$f":"入力画面!R133:S133","v":0},null,{"$f":"IF(入力画面!$T133<>\"\",入力画面!T133,\"\")","v":""},null,null,{"$f":"IF(入力画面!$T133<>\"\",入力画面!W133,\"\")","v":""},{"$nulls":3},{"$f":"IF(入力画面!$T133<>\"\",入力画面!AA133:AE133,\"\")","v":""},{"$nulls":4},{"$f":"IF(入力画面!$T133<>\"\",入力画面!AF133:AH133,\"\")","v":""},null,null,{"$f":"IF(入力画面!$T133<>\"\",入力画面!AI133:AM133,\"\")","v":""},{"$nulls":4},{"$f":"IF(入力画面!$T133<>\"\",入力画面!AN133:AP133,\"\")","v":""},null,null,{"$f":"IF(入力画面!$T133<>\"\",入力画面!AQ133:AU133,\"\")","v":""},{"$nulls":4},{"$f":"IF(入力画面!$T133<>\"\",入力画面!AV133:AX133,\"\")","v":""},null,null,{"$f":"IF(入力画面!$T133<>\"\",入力画面!AY133:BC133,\"\")","v":""},{"$nulls":4},{"$f":"入力画面!BD133:BM133","v":0}]
[124,{"$f":"入力画面!B134:Q134","v":0},{"$nulls":15},{"$f":"入力画面!R134:S134","v":0},null,{"$f":"IF(入力画面!$T134<>\"\",入力画面!T134,\"\")","v":""},null,null,{"$f":"IF(入力画面!$T134<>\"\",入力画面!W134,\"\")","v":""},{"$nulls":3},{"$f":"IF(入力画面!$T134<>\"\",入力画面!AA134:AE134,\"\")","v":""},{"$nulls":4},{"$f":"IF(入力画面!$T134<>\"\",入力画面!AF134:AH134,\"\")","v":""},null,null,{"$f":"IF(入力画面!$T134<>\"\",入力画面!AI134:AM134,\"\")","v":""},{"$nulls":4},{"$f":"IF(入力画面!$T134<>\"\",入力画面!AN134:AP134,\"\")","v":""},null,null,{"$f":"IF(入力画面!$T134<>\"\",入力画面!AQ134:AU134,\"\")","v":""},{"$nulls":4},{"$f":"IF(入力画面!$T134<>\"\",入力画面!AV134:AX134,\"\")","v":""},null,null,{"$f":"IF(入力画面!$T134<>\"\",入力画面!AY134:BC134,\"\")","v":""},{"$nulls":4},{"$f":"入力画面!BD134:BM134","v":0}]
[125,{"$f":"入力画面!B135:Q135","v":0},{"$nulls":15},{"$f":"入力画面!R135:S135","v":0},null,{"$f":"IF(入力画面!$T135<>\"\",入力画面!T135,\"\")","v":""},null,null,{"$f":"IF(入力画面!$T135<>\"\",入力画面!W135,\"\")","v":""},{"$nulls":3},{"$f":"IF(入力画面!$T135<>\"\",入力画面!AA135:AE135,\"\")","v":""},{"$nulls":4},{"$f":"IF(入力画面!$T135<>\"\",入力画面!AF135:AH135,\"\")","v":""},null,null,{"$f":"IF(入力画面!$T135<>\"\",入力画面!AI135:AM135,\"\")","v":""},{"$nulls":4},{"$f":"IF(入力画面!$T135<>\"\",入力画面!AN135:AP135,\"\")","v":""},null,null,{"$f":"IF(入力画面!$T135<>\"\",入力画面!AQ135:AU135,\"\")","v":""},{"$nulls":4},{"$f":"IF(入力画面!$T135<>\"\",入力画面!AV135:AX135,\"\")","v":""},null,null,{"$f":"IF(入力画面!$T135<>\"\",入力画面!AY135:BC135,\"\")","v":""},{"$nulls":4},{"$f":"入力画面!BD135:BM135","v":0}]
[126,{"$f":"入力画面!B136:Q136","v":0},{"$nulls":15},{"$f":"入力画面!R136:S136","v":0},null,{"$f":"IF(入力画面!$T136<>\"\",入力画面!T136,\"\")","v":""},null,null,{"$f":"IF(入力画面!$T136<>\"\",入力画面!W136,\"\")","v":""},{"$nulls":3},{"$f":"IF(入力画面!$T136<>\"\",入力画面!AA136:AE136,\"\")","v":""},{"$nulls":4},{"$f":"IF(入力画面!$T136<>\"\",入力画面!AF136:AH136,\"\")","v":""},null,null,{"$f":"IF(入力画面!$T136<>\"\",入力画面!AI136:AM136,\"\")","v":""},{"$nulls":4},{"$f":"IF(入力画面!$T136<>\"\",入力画面!AN136:AP136,\"\")","v":""},null,null,{"$f":"IF(入力画面!$T136<>\"\",入力画面!AQ136:AU136,\"\")","v":""},{"$nulls":4},{"$f":"IF(入力画面!$T136<>\"\",入力画面!AV136:AX136,\"\")","v":""},null,null,{"$f":"IF(入力画面!$T136<>\"\",入力画面!AY136:BC136,\"\")","v":""},{"$nulls":4},{"$f":"入力画面!BD136:BM136","v":0}]
[127,{"$f":"入力画面!B137:Q137","v":0},{"$nulls":15},{"$f":"入力画面!R137:S137","v":0},null,{"$f":"IF(入力画面!$T137<>\"\",入力画面!T137,\"\")","v":""},null,null,{"$f":"IF(入力画面!$T137<>\"\",入力画面!W137,\"\")","v":""},{"$nulls":3},{"$f":"IF(入力画面!$T137<>\"\",入力画面!AA137:AE137,\"\")","v":""},{"$nulls":4},{"$f":"IF(入力画面!$T137<>\"\",入力画面!AF137:AH137,\"\")","v":""},null,null,{"$f":"IF(入力画面!$T137<>\"\",入力画面!AI137:AM137,\"\")","v":""},{"$nulls":4},{"$f":"IF(入力画面!$T137<>\"\",入力画面!AN137:AP137,\"\")","v":""},null,null,{"$f":"IF(入力画面!$T137<>\"\",入力画面!AQ137:AU137,\"\")","v":""},{"$nulls":4},{"$f":"IF(入力画面!$T137<>\"\",入力画面!AV137:AX137,\"\")","v":""},null,null,{"$f":"IF(入力画面!$T137<>\"\",入力画面!AY137:BC137,\"\")","v":""},{"$nulls":4},{"$f":"入力画面!BD137:BM137","v":0}]
[128,{"$f":"入力画面!B138:Q138","v":0},{"$nulls":15},{"$f":"入力画面!R138:S138","v":0},null,{"$f":"IF(入力画面!$T138<>\"\",入力画面!T138,\"\")","v":""},null,null,{"$f":"IF(入力画面!$T138<>\"\",入力画面!W138,\"\")","v":""},{"$nulls":3},{"$f":"IF(入力画面!$T138<>\"\",入力画面!AA138:AE138,\"\")","v":""},{"$nulls":4},{"$f":"IF(入力画面!$T138<>\"\",入力画面!AF138:AH138,\"\")","v":""},null,null,{"$f":"IF(入力画面!$T138<>\"\",入力画面!AI138:AM138,\"\")","v":""},{"$nulls":4},{"$f":"IF(入力画面!$T138<>\"\",入力画面!AN138:AP138,\"\")","v":""},null,null,{"$f":"IF(入力画面!$T138<>\"\",入力画面!AQ138:AU138,\"\")","v":""},{"$nulls":4},{"$f":"IF(入力画面!$T138<>\"\",入力画面!AV138:AX138,\"\")","v":""},null,null,{"$f":"IF(入力画面!$T138<>\"\",入力画面!AY138:BC138,\"\")","v":""},{"$nulls":4},{"$f":"入力画面!BD138:BM138","v":0}]
[129,{"$f":"入力画面!B139:Q139","v":0},{"$nulls":15},{"$f":"入力画面!R139:S139","v":0},null,{"$f":"IF(入力画面!$T139<>\"\",入力画面!T139,\"\")","v":""},null,null,{"$f":"IF(入力画面!$T139<>\"\",入力画面!W139,\"\")","v":""},{"$nulls":3},{"$f":"IF(入力画面!$T139<>\"\",入力画面!AA139:AE139,\"\")","v":""},{"$nulls":4},{"$f":"IF(入力画面!$T139<>\"\",入力画面!AF139:AH139,\"\")","v":""},null,null,{"$f":"IF(入力画面!$T139<>\"\",入力画面!AI139:AM139,\"\")","v":""},{"$nulls":4},{"$f":"IF(入力画面!$T139<>\"\",入力画面!AN139:AP139,\"\")","v":""},null,null,{"$f":"IF(入力画面!$T139<>\"\",入力画面!AQ139:AU139,\"\")","v":""},{"$nulls":4},{"$f":"IF(入力画面!$T139<>\"\",入力画面!AV139:AX139,\"\")","v":""},null,null,{"$f":"IF(入力画面!$T139<>\"\",入力画面!AY139:BC139,\"\")","v":""},{"$nulls":4},{"$f":"入力画面!BD139:BM139","v":0}]
[130,{"$f":"入力画面!B140:Q140","v":0},{"$nulls":15},{"$f":"入力画面!R140:S140","v":0},null,{"$f":"IF(入力画面!$T140<>\"\",入力画面!T140,\"\")","v":""},null,null,{"$f":"IF(入力画面!$T140<>\"\",入力画面!W140,\"\")","v":""},{"$nulls":3},{"$f":"IF(入力画面!$T140<>\"\",入力画面!AA140:AE140,\"\")","v":""},{"$nulls":4},{"$f":"IF(入力画面!$T140<>\"\",入力画面!AF140:AH140,\"\")","v":""},null,null,{"$f":"IF(入力画面!$T140<>\"\",入力画面!AI140:AM140,\"\")","v":""},{"$nulls":4},{"$f":"IF(入力画面!$T140<>\"\",入力画面!AN140:AP140,\"\")","v":""},null,null,{"$f":"IF(入力画面!$T140<>\"\",入力画面!AQ140:AU140,\"\")","v":""},{"$nulls":4},{"$f":"IF(入力画面!$T140<>\"\",入力画面!AV140:AX140,\"\")","v":""},null,null,{"$f":"IF(入力画面!$T140<>\"\",入力画面!AY140:BC140,\"\")","v":""},{"$nulls":4},{"$f":"入力画面!BD140:BM140","v":0}]
[131,{"$f":"入力画面!B141:Q141","v":0},{"$nulls":15},{"$f":"入力画面!R141:S141","v":0},null,{"$f":"IF(入力画面!$T141<>\"\",入力画面!T141,\"\")","v":""},null,null,{"$f":"IF(入力画面!$T141<>\"\",入力画面!W141,\"\")","v":""},{"$nulls":3},{"$f":"IF(入力画面!$T141<>\"\",入力画面!AA141:AE141,\"\")","v":""},{"$nulls":4},{"$f":"IF(入力画面!$T141<>\"\",入力画面!AF141:AH141,\"\")","v":""},null,null,{"$f":"IF(入力画面!$T141<>\"\",入力画面!AI141:AM141,\"\")","v":""},{"$nulls":4},{"$f":"IF(入力画面!$T141<>\"\",入力画面!AN141:AP141,\"\")","v":""},null,null,{"$f":"IF(入力画面!$T141<>\"\",入力画面!AQ141:AU141,\"\")","v":""},{"$nulls":4},{"$f":"IF(入力画面!$T141<>\"\",入力画面!AV141:AX141,\"\")","v":""},null,null,{"$f":"IF(入力画面!$T141<>\"\",入力画面!AY141:BC141,\"\")","v":""},{"$nulls":4},{"$f":"入力画面!BD141:BM141","v":0}]
[132,{"$f":"入力画面!B142:Q142","v":0},{"$nulls":15},{"$f":"入力画面!R142:S142","v":0},null,{"$f":"IF(入力画面!$T142<>\"\",入力画面!T142,\"\")","v":""},null,null,{"$f":"IF(入力画面!$T142<>\"\",入力画面!W142,\"\")","v":""},{"$nulls":3},{"$f":"IF(入力画面!$T142<>\"\",入力画面!AA142:AE142,\"\")","v":""},{"$nulls":4},{"$f":"IF(入力画面!$T142<>\"\",入力画面!AF142:AH142,\"\")","v":""},null,null,{"$f":"IF(入力画面!$T142<>\"\",入力画面!AI142:AM142,\"\")","v":""},{"$nulls":4},{"$f":"IF(入力画面!$T142<>\"\",入力画面!AN142:AP142,\"\")","v":""},null,null,{"$f":"IF(入力画面!$T142<>\"\",入力画面!AQ142:AU142,\"\")","v":""},{"$nulls":4},{"$f":"IF(入力画面!$T142<>\"\",入力画面!AV142:AX142,\"\")","v":""},null,null,{"$f":"IF(入力画面!$T142<>\"\",入力画面!AY142:BC142,\"\")","v":""},{"$nulls":4},{"$f":"入力画面!BD142:BM142","v":0}]
[133,{"$f":"入力画面!B143:Q143","v":0},{"$nulls":15},{"$f":"入力画面!R143:S143","v":0},null,{"$f":"IF(入力画面!$T143<>\"\",入力画面!T143,\"\")","v":""},null,null,{"$f":"IF(入力画面!$T143<>\"\",入力画面!W143,\"\")","v":""},{"$nulls":3},{"$f":"IF(入力画面!$T143<>\"\",入力画面!AA143:AE143,\"\")","v":""},{"$nulls":4},{"$f":"IF(入力画面!$T143<>\"\",入力画面!AF143:AH143,\"\")","v":""},null,null,{"$f":"IF(入力画面!$T143<>\"\",入力画面!AI143:AM143,\"\")","v":""},{"$nulls":4},{"$f":"IF(入力画面!$T143<>\"\",入力画面!AN143:AP143,\"\")","v":""},null,null,{"$f":"IF(入力画面!$T143<>\"\",入力画面!AQ143:AU143,\"\")","v":""},{"$nulls":4},{"$f":"IF(入力画面!$T143<>\"\",入力画面!AV143:AX143,\"\")","v":""},null,null,{"$f":"IF(入力画面!$T143<>\"\",入力画面!AY143:BC143,\"\")","v":""},{"$nulls":4},{"$f":"入力画面!BD143:BM143","v":0}]
[134,{"$f":"入力画面!B144:Q144","v":0},{"$nulls":15},{"$f":"入力画面!R144:S144","v":0},null,{"$f":"IF(入力画面!$T144<>\"\",入力画面!T144,\"\")","v":""},null,null,{"$f":"IF(入力画面!$T144<>\"\",入力画面!W144,\"\")","v":""},{"$nulls":3},{"$f":"IF(入力画面!$T144<>\"\",入力画面!AA144:AE144,\"\")","v":""},{"$nulls":4},{"$f":"IF(入力画面!$T144<>\"\",入力画面!AF144:AH144,\"\")","v":""},null,null,{"$f":"IF(入力画面!$T144<>\"\",入力画面!AI144:AM144,\"\")","v":""},{"$nulls":4},{"$f":"IF(入力画面!$T144<>\"\",入力画面!AN144:AP144,\"\")","v":""},null,null,{"$f":"IF(入力画面!$T144<>\"\",入力画面!AQ144:AU144,\"\")","v":""},{"$nulls":4},{"$f":"IF(入力画面!$T144<>\"\",入力画面!AV144:AX144,\"\")","v":""},null,null,{"$f":"IF(入力画面!$T144<>\"\",入力画面!AY144:BC144,\"\")","v":""},{"$nulls":4},{"$f":"入力画面!BD144:BM144","v":0}]
[135,{"$f":"入力画面!B145:Q145","v":0},{"$nulls":15},{"$f":"入力画面!R145:S145","v":0},null,{"$f":"IF(入力画面!$T145<>\"\",入力画面!T145,\"\")","v":""},null,null,{"$f":"IF(入力画面!$T145<>\"\",入力画面!W145,\"\")","v":""},{"$nulls":3},{"$f":"IF(入力画面!$T145<>\"\",入力画面!AA145:AE145,\"\")","v":""},{"$nulls":4},{"$f":"IF(入力画面!$T145<>\"\",入力画面!AF145:AH145,\"\")","v":""},null,null,{"$f":"IF(入力画面!$T145<>\"\",入力画面!AI145:AM145,\"\")","v":""},{"$nulls":4},{"$f":"IF(入力画面!$T145<>\"\",入力画面!AN145:AP145,\"\")","v":""},null,null,{"$f":"IF(入力画面!$T145<>\"\",入力画面!AQ145:AU145,\"\")","v":""},{"$nulls":4},{"$f":"IF(入力画面!$T145<>\"\",入力画面!AV145:AX145,\"\")","v":""},null,null,{"$f":"IF(入力画面!$T145<>\"\",入力画面!AY145:BC145,\"\")","v":""},{"$nulls":4},{"$f":"入力画面!BD145:BM145","v":0}]
[136,{"$f":"入力画面!B146:Q146","v":0},{"$nulls":15},{"$f":"入力画面!R146:S146","v":0},null,{"$f":"IF(入力画面!$T146<>\"\",入力画面!T146,\"\")","v":""},null,null,{"$f":"IF(入力画面!$T146<>\"\",入力画面!W146,\"\")","v":""},{"$nulls":3},{"$f":"IF(入力画面!$T146<>\"\",入力画面!AA146:AE146,\"\")","v":""},{"$nulls":4},{"$f":"IF(入力画面!$T146<>\"\",入力画面!AF146:AH146,\"\")","v":""},null,null,{"$f":"IF(入力画面!$T146<>\"\",入力画面!AI146:AM146,\"\")","v":""},{"$nulls":4},{"$f":"IF(入力画面!$T146<>\"\",入力画面!AN146:AP146,\"\")","v":""},null,null,{"$f":"IF(入力画面!$T146<>\"\",入力画面!AQ146:AU146,\"\")","v":""},{"$nulls":4},{"$f":"IF(入力画面!$T146<>\"\",入力画面!AV146:AX146,\"\")","v":""},null,null,{"$f":"IF(入力画面!$T146<>\"\",入力画面!AY146:BC146,\"\")","v":""},{"$nulls":4},{"$f":"入力画面!BD146:BM146","v":0}]
[137,{"$f":"入力画面!B147:Q147","v":0},{"$nulls":15},{"$f":"入力画面!R147:S147","v":0},null,{"$f":"IF(入力画面!$T147<>\"\",入力画面!T147,\"\")","v":""},null,null,{"$f":"IF(入力画面!$T147<>\"\",入力画面!W147,\"\")","v":""},{"$nulls":3},{"$f":"IF(入力画面!$T147<>\"\",入力画面!AA147:AE147,\"\")","v":""},{"$nulls":4},{"$f":"IF(入力画面!$T147<>\"\",入力画面!AF147:AH147,\"\")","v":""},null,null,{"$f":"IF(入力画面!$T147<>\"\",入力画面!AI147:AM147,\"\")","v":""},{"$nulls":4},{"$f":"IF(入力画面!$T147<>\"\",入力画面!AN147:AP147,\"\")","v":""},null,null,{"$f":"IF(入力画面!$T147<>\"\",入力画面!AQ147:AU147,\"\")","v":""},{"$nulls":4},{"$f":"IF(入力画面!$T147<>\"\",入力画面!AV147:AX147,\"\")","v":""},null,null,{"$f":"IF(入力画面!$T147<>\"\",入力画面!AY147:BC147,\"\")","v":""},{"$nulls":4},{"$f":"入力画面!BD147:BM147","v":0}]
[138,{"$f":"入力画面!B148:Q148","v":0},{"$nulls":15},{"$f":"入力画面!R148:S148","v":0},null,{"$f":"IF(入力画面!$T148<>\"\",入力画面!T148,\"\")","v":""},null,null,{"$f":"IF(入力画面!$T148<>\"\",入力画面!W148,\"\")","v":""},{"$nulls":3},{"$f":"IF(入力画面!$T148<>\"\",入力画面!AA148:AE148,\"\")","v":""},{"$nulls":4},{"$f":"IF(入力画面!$T148<>\"\",入力画面!AF148:AH148,\"\")","v":""},null,null,{"$f":"IF(入力画面!$T148<>\"\",入力画面!AI148:AM148,\"\")","v":""},{"$nulls":4},{"$f":"IF(入力画面!$T148<>\"\",入力画面!AN148:AP148,\"\")","v":""},null,null,{"$f":"IF(入力画面!$T148<>\"\",入力画面!AQ148:AU148,\"\")","v":""},{"$nulls":4},{"$f":"IF(入力画面!$T148<>\"\",入力画面!AV148:AX148,\"\")","v":""},null,null,{"$f":"IF(入力画面!$T148<>\"\",入力画面!AY148:BC148,\"\")","v":""},{"$nulls":4},{"$f":"入力画面!BD148:BM148","v":0}]
[139,{"$f":"入力画面!B149:Q149","v":0},{"$nulls":15},{"$f":"入力画面!R149:S149","v":0},null,{"$f":"IF(入力画面!$T149<>\"\",入力画面!T149,\"\")","v":""},null,null,{"$f":"IF(入力画面!$T149<>\"\",入力画面!W149,\"\")","v":""},{"$nulls":3},{"$f":"IF(入力画面!$T149<>\"\",入力画面!AA149:AE149,\"\")","v":""},{"$nulls":4},{"$f":"IF(入力画面!$T149<>\"\",入力画面!AF149:AH149,\"\")","v":""},null,null,{"$f":"IF(入力画面!$T149<>\"\",入力画面!AI149:AM149,\"\")","v":""},{"$nulls":4},{"$f":"IF(入力画面!$T149<>\"\",入力画面!AN149:AP149,\"\")","v":""},null,null,{"$f":"IF(入力画面!$T149<>\"\",入力画面!AQ149:AU149,\"\")","v":""},{"$nulls":4},{"$f":"IF(入力画面!$T149<>\"\",入力画面!AV149:AX149,\"\")","v":""},null,null,{"$f":"IF(入力画面!$T149<>\"\",入力画面!AY149:BC149,\"\")","v":""},{"$nulls":4},{"$f":"入力画面!BD149:BM149","v":0}]
[140,{"$f":"入力画面!B150:Q150","v":0},{"$nulls":15},{"$f":"入力画面!R150:S150","v":0},null,{"$f":"IF(入力画面!$T150<>\"\",入力画面!T150,\"\")","v":""},null,null,{"$f":"IF(入力画面!$T150<>\"\",入力画面!W150,\"\")","v":""},{"$nulls":3},{"$f":"IF(入力画面!$T150<>\"\",入力画面!AA150:AE150,\"\")","v":""},{"$nulls":4},{"$f":"IF(入力画面!$T150<>\"\",入力画面!AF150:AH150,\"\")","v":""},null,null,{"$f":"IF(入力画面!$T150<>\"\",入力画面!AI150:AM150,\"\")","v":""},{"$nulls":4},{"$f":"IF(入力画面!$T150<>\"\",入力画面!AN150:AP150,\"\")","v":""},null,null,{"$f":"IF(入力画面!$T150<>\"\",入力画面!AQ150:AU150,\"\")","v":""},{"$nulls":4},{"$f":"IF(入力画面!$T150<>\"\",入力画面!AV150:AX150,\"\")","v":""},null,null,{"$f":"IF(入力画面!$T150<>\"\",入力画面!AY150:BC150,\"\")","v":""},{"$nulls":4},{"$f":"入力画面!BD150:BM150","v":0}]
["※消費税、保留金の計算は別紙、請求書で行ってください",{"$nulls":21},"小計",{"$nulls":3},{"$f":"SUM(AA194:AE213)","v":{"v":0,"d":"0 "}},{"$nulls":4},"小計",null,null,{"$f":"SUM(AI194:AM213)","v":{"v":0,"d":"0 "}},{"$nulls":4},"小計",null,null,{"$f":"SUM(AQ194:AU213)","v":{"v":0,"d":"0 "}},{"$nulls":4},"小計",null,null,{"$f":"SUM(AY194:BC213)","v":{"v":0,"d":"0 "}},{"$nulls":4},"担　当　者　　　　確　認　印",{"$nulls":4},{"$f":"IF(AA215=\"－\",\"―――――\",\"\")","v":"―――――"}]
["※完成後一括払いであっても出来高検収書を作成・添付してください",{"$nulls":21},"合計",{"$nulls":3},{"$f":"IF(AND(OR(AA183<>0,AI183<>0,AQ183<>0,AY183<>0),AND(AA184=\"－\",AA245=0,AI245=0,AQ245=0,AY245=0)),AA28+AA59+AA90+AA121+AA152+AA183+AA214,\"－\")","v":"－"},{"$nulls":4},"合計",null,null,{"$f":"IF($AA215<>\"－\",AI28+AI59+AI90+AI121+AI152+AI183+AI214,\"－\")","v":"－"},{"$nulls":4},"合計",null,null,{"$f":"IF($AA215<>\"－\",AQ28+AQ59+AQ90+AQ121+AQ152+AQ183+AQ214,\"－\")","v":"－"},{"$nulls":4},"合計",null,null,{"$f":"IF($AA215<>\"－\",AY28+AY59+AY90+AY121+AY152+AY183+AY214,\"－\")","v":"－"}]
["※協力会社印は出力枚数の都度、押印してください",{"$nulls":33},"今回迄出来高累計",{"$nulls":7},{"$f":"IF(AA215=\"－\",\"－\",AI215+AQ215)","v":"－"}]
[{"$nulls":55},"検   収   日",{"$nulls":4},{"$f":"IF(AA215=\"－\",\"――――\",\"\")","v":"――――"}]
[]
[null,null,"出　来　高　検　収　書　（第",{"$nulls":15},{"$f":"$S$2","v":0},null,"回）",null,null,"( 検収期間",{"$nulls":4},{"$f":"IF(入力画面!$J$4=\"\",\"\",入力画面!$J$4)","v":""},{"$nulls":4},"～",{"$f":"IF(入力画面!$Q$4=\"\",\"\",入力画面!$Q$4)","v":""},{"$nulls":4},"）",{"$nulls":14},"仙 建 工 業 株 式 会 社"]
[{"$nulls":41},"協力会社名"]
["工 事 番 号",{"$nulls":3},{"$f":"$E$4","v":0},{"$nulls":7},"工 事 件 名",{"$nulls":4},{"$f":"$R$4","v":0},{"$nulls":23},{"$f":"$AP$4","v":""},{"$nulls":19},"　印"]
["契   約   日",{"$nulls":3},{"$f":"$E$5","v":""},{"$nulls":7},"工         期",{"$nulls":4},"自",{"$nulls":3},{"$f":"$V$5","v":""},{"$nulls":7},"至",{"$nulls":3},{"$f":"$AH$5","v":""}]
["№","工                         種",{"$nulls":15},"契       約       金       額",{"$nulls":13},"前回迄出来高累計",{"$nulls":7},"今  回  出  来  高",{"$nulls":7},"残            高",{"$nulls":7},"摘                要"]
[{"$nulls":17},"単位",null,"数 量",null,null,"単   価",{"$nulls":3},"金     額",{"$nulls":4},"数 量",null,null,"金     額",{"$nulls":4},"数 量",null,null,"金     額",{"$nulls":4},"数 量",null,null,"金     額"]
[141,{"$f":"入力画面!B151:Q151","v":0},{"$nulls":15},{"$f":"入力画面!R151:S151","v":0},null,{"$f":"IF(入力画面!$T151<>\"\",入力画面!T151,\"\")","v":""},null,null,{"$f":"IF(入力画面!$T151<>\"\",入力画面!W151,\"\")","v":""},{"$nulls":3},{"$f":"IF(入力画面!$T151<>\"\",入力画面!AA151:AE151,\"\")","v":""},{"$nulls":4},{"$f":"IF(入力画面!$T151<>\"\",入力画面!AF151:AH151,\"\")","v":""},null,null,{"$f":"IF(入力画面!$T151<>\"\",入力画面!AI151:AM151,\"\")","v":""},{"$nulls":4},{"$f":"IF(入力画面!$T151<>\"\",入力画面!AN151:AP151,\"\")","v":""},null,null,{"$f":"IF(入力画面!$T151<>\"\",入力画面!AQ151:AU151,\"\")","v":""},{"$nulls":4},{"$f":"IF(入力画面!$T151<>\"\",入力画面!AV151:AX151,\"\")","v":""},null,null,{"$f":"IF(入力画面!$T151<>\"\",入力画面!AY151:BC151,\"\")","v":""},{"$nulls":4},{"$f":"入力画面!BD151:BM151","v":0}]
[142,{"$f":"入力画面!B152:Q152","v":0},{"$nulls":15},{"$f":"入力画面!R152:S152","v":0},null,{"$f":"IF(入力画面!$T152<>\"\",入力画面!T152,\"\")","v":""},null,null,{"$f":"IF(入力画面!$T152<>\"\",入力画面!W152,\"\")","v":""},{"$nulls":3},{"$f":"IF(入力画面!$T152<>\"\",入力画面!AA152:AE152,\"\")","v":""},{"$nulls":4},{"$f":"IF(入力画面!$T152<>\"\",入力画面!AF152:AH152,\"\")","v":""},null,null,{"$f":"IF(入力画面!$T152<>\"\",入力画面!AI152:AM152,\"\")","v":""},{"$nulls":4},{"$f":"IF(入力画面!$T152<>\"\",入力画面!AN152:AP152,\"\")","v":""},null,null,{"$f":"IF(入力画面!$T152<>\"\",入力画面!AQ152:AU152,\"\")","v":""},{"$nulls":4},{"$f":"IF(入力画面!$T152<>\"\",入力画面!AV152:AX152,\"\")","v":""},null,null,{"$f":"IF(入力画面!$T152<>\"\",入力画面!AY152:BC152,\"\")","v":""},{"$nulls":4},{"$f":"入力画面!BD152:BM152","v":0}]
[143,{"$f":"入力画面!B153:Q153","v":0},{"$nulls":15},{"$f":"入力画面!R153:S153","v":0},null,{"$f":"IF(入力画面!$T153<>\"\",入力画面!T153,\"\")","v":""},null,null,{"$f":"IF(入力画面!$T153<>\"\",入力画面!W153,\"\")","v":""},{"$nulls":3},{"$f":"IF(入力画面!$T153<>\"\",入力画面!AA153:AE153,\"\")","v":""},{"$nulls":4},{"$f":"IF(入力画面!$T153<>\"\",入力画面!AF153:AH153,\"\")","v":""},null,null,{"$f":"IF(入力画面!$T153<>\"\",入力画面!AI153:AM153,\"\")","v":""},{"$nulls":4},{"$f":"IF(入力画面!$T153<>\"\",入力画面!AN153:AP153,\"\")","v":""},null,null,{"$f":"IF(入力画面!$T153<>\"\",入力画面!AQ153:AU153,\"\")","v":""},{"$nulls":4},{"$f":"IF(入力画面!$T153<>\"\",入力画面!AV153:AX153,\"\")","v":""},null,null,{"$f":"IF(入力画面!$T153<>\"\",入力画面!AY153:BC153,\"\")","v":""},{"$nulls":4},{"$f":"入力画面!BD153:BM153","v":0}]
[144,{"$f":"入力画面!B154:Q154","v":0},{"$nulls":15},{"$f":"入力画面!R154:S154","v":0},null,{"$f":"IF(入力画面!$T154<>\"\",入力画面!T154,\"\")","v":""},null,null,{"$f":"IF(入力画面!$T154<>\"\",入力画面!W154,\"\")","v":""},{"$nulls":3},{"$f":"IF(入力画面!$T154<>\"\",入力画面!AA154:AE154,\"\")","v":""},{"$nulls":4},{"$f":"IF(入力画面!$T154<>\"\",入力画面!AF154:AH154,\"\")","v":""},null,null,{"$f":"IF(入力画面!$T154<>\"\",入力画面!AI154:AM154,\"\")","v":""},{"$nulls":4},{"$f":"IF(入力画面!$T154<>\"\",入力画面!AN154:AP154,\"\")","v":""},null,null,{"$f":"IF(入力画面!$T154<>\"\",入力画面!AQ154:AU154,\"\")","v":""},{"$nulls":4},{"$f":"IF(入力画面!$T154<>\"\",入力画面!AV154:AX154,\"\")","v":""},null,null,{"$f":"IF(入力画面!$T154<>\"\",入力画面!AY154:BC154,\"\")","v":""},{"$nulls":4},{"$f":"入力画面!BD154:BM154","v":0}]
[145,{"$f":"入力画面!B155:Q155","v":0},{"$nulls":15},{"$f":"入力画面!R155:S155","v":0},null,{"$f":"IF(入力画面!$T155<>\"\",入力画面!T155,\"\")","v":""},null,null,{"$f":"IF(入力画面!$T155<>\"\",入力画面!W155,\"\")","v":""},{"$nulls":3},{"$f":"IF(入力画面!$T155<>\"\",入力画面!AA155:AE155,\"\")","v":""},{"$nulls":4},{"$f":"IF(入力画面!$T155<>\"\",入力画面!AF155:AH155,\"\")","v":""},null,null,{"$f":"IF(入力画面!$T155<>\"\",入力画面!AI155:AM155,\"\")","v":""},{"$nulls":4},{"$f":"IF(入力画面!$T155<>\"\",入力画面!AN155:AP155,\"\")","v":""},null,null,{"$f":"IF(入力画面!$T155<>\"\",入力画面!AQ155:AU155,\"\")","v":""},{"$nulls":4},{"$f":"IF(入力画面!$T155<>\"\",入力画面!AV155:AX155,\"\")","v":""},null,null,{"$f":"IF(入力画面!$T155<>\"\",入力画面!AY155:BC155,\"\")","v":""},{"$nulls":4},{"$f":"入力画面!BD155:BM155","v":0}]
[146,{"$f":"入力画面!B156:Q156","v":0},{"$nulls":15},{"$f":"入力画面!R156:S156","v":0},null,{"$f":"IF(入力画面!$T156<>\"\",入力画面!T156,\"\")","v":""},null,null,{"$f":"IF(入力画面!$T156<>\"\",入力画面!W156,\"\")","v":""},{"$nulls":3},{"$f":"IF(入力画面!$T156<>\"\",入力画面!AA156:AE156,\"\")","v":""},{"$nulls":4},{"$f":"IF(入力画面!$T156<>\"\",入力画面!AF156:AH156,\"\")","v":""},null,null,{"$f":"IF(入力画面!$T156<>\"\",入力画面!AI156:AM156,\"\")","v":""},{"$nulls":4},{"$f":"IF(入力画面!$T156<>\"\",入力画面!AN156:AP156,\"\")","v":""},null,null,{"$f":"IF(入力画面!$T156<>\"\",入力画面!AQ156:AU156,\"\")","v":""},{"$nulls":4},{"$f":"IF(入力画面!$T156<>\"\",入力画面!AV156:AX156,\"\")","v":""},null,null,{"$f":"IF(入力画面!$T156<>\"\",入力画面!AY156:BC156,\"\")","v":""},{"$nulls":4},{"$f":"入力画面!BD156:BM156","v":0}]
[147,{"$f":"入力画面!B157:Q157","v":0},{"$nulls":15},{"$f":"入力画面!R157:S157","v":0},null,{"$f":"IF(入力画面!$T157<>\"\",入力画面!T157,\"\")","v":""},null,null,{"$f":"IF(入力画面!$T157<>\"\",入力画面!W157,\"\")","v":""},{"$nulls":3},{"$f":"IF(入力画面!$T157<>\"\",入力画面!AA157:AE157,\"\")","v":""},{"$nulls":4},{"$f":"IF(入力画面!$T157<>\"\",入力画面!AF157:AH157,\"\")","v":""},null,null,{"$f":"IF(入力画面!$T157<>\"\",入力画面!AI157:AM157,\"\")","v":""},{"$nulls":4},{"$f":"IF(入力画面!$T157<>\"\",入力画面!AN157:AP157,\"\")","v":""},null,null,{"$f":"IF(入力画面!$T157<>\"\",入力画面!AQ157:AU157,\"\")","v":""},{"$nulls":4},{"$f":"IF(入力画面!$T157<>\"\",入力画面!AV157:AX157,\"\")","v":""},null,null,{"$f":"IF(入力画面!$T157<>\"\",入力画面!AY157:BC157,\"\")","v":""},{"$nulls":4},{"$f":"入力画面!BD157:BM157","v":0}]
[148,{"$f":"入力画面!B158:Q158","v":0},{"$nulls":15},{"$f":"入力画面!R158:S158","v":0},null,{"$f":"IF(入力画面!$T158<>\"\",入力画面!T158,\"\")","v":""},null,null,{"$f":"IF(入力画面!$T158<>\"\",入力画面!W158,\"\")","v":""},{"$nulls":3},{"$f":"IF(入力画面!$T158<>\"\",入力画面!AA158:AE158,\"\")","v":""},{"$nulls":4},{"$f":"IF(入力画面!$T158<>\"\",入力画面!AF158:AH158,\"\")","v":""},null,null,{"$f":"IF(入力画面!$T158<>\"\",入力画面!AI158:AM158,\"\")","v":""},{"$nulls":4},{"$f":"IF(入力画面!$T158<>\"\",入力画面!AN158:AP158,\"\")","v":""},null,null,{"$f":"IF(入力画面!$T158<>\"\",入力画面!AQ158:AU158,\"\")","v":""},{"$nulls":4},{"$f":"IF(入力画面!$T158<>\"\",入力画面!AV158:AX158,\"\")","v":""},null,null,{"$f":"IF(入力画面!$T158<>\"\",入力画面!AY158:BC158,\"\")","v":""},{"$nulls":4},{"$f":"入力画面!BD158:BM158","v":0}]
[149,{"$f":"入力画面!B159:Q159","v":0},{"$nulls":15},{"$f":"入力画面!R159:S159","v":0},null,{"$f":"IF(入力画面!$T159<>\"\",入力画面!T159,\"\")","v":""},null,null,{"$f":"IF(入力画面!$T159<>\"\",入力画面!W159,\"\")","v":""},{"$nulls":3},{"$f":"IF(入力画面!$T159<>\"\",入力画面!AA159:AE159,\"\")","v":""},{"$nulls":4},{"$f":"IF(入力画面!$T159<>\"\",入力画面!AF159:AH159,\"\")","v":""},null,null,{"$f":"IF(入力画面!$T159<>\"\",入力画面!AI159:AM159,\"\")","v":""},{"$nulls":4},{"$f":"IF(入力画面!$T159<>\"\",入力画面!AN159:AP159,\"\")","v":""},null,null,{"$f":"IF(入力画面!$T159<>\"\",入力画面!AQ159:AU159,\"\")","v":""},{"$nulls":4},{"$f":"IF(入力画面!$T159<>\"\",入力画面!AV159:AX159,\"\")","v":""},null,null,{"$f":"IF(入力画面!$T159<>\"\",入力画面!AY159:BC159,\"\")","v":""},{"$nulls":4},{"$f":"入力画面!BD159:BM159","v":0}]
[150,{"$f":"入力画面!B160:Q160","v":0},{"$nulls":15},{"$f":"入力画面!R160:S160","v":0},null,{"$f":"IF(入力画面!$T160<>\"\",入力画面!T160,\"\")","v":""},null,null,{"$f":"IF(入力画面!$T160<>\"\",入力画面!W160,\"\")","v":""},{"$nulls":3},{"$f":"IF(入力画面!$T160<>\"\",入力画面!AA160:AE160,\"\")","v":""},{"$nulls":4},{"$f":"IF(入力画面!$T160<>\"\",入力画面!AF160:AH160,\"\")","v":""},null,null,{"$f":"IF(入力画面!$T160<>\"\",入力画面!AI160:AM160,\"\")","v":""},{"$nulls":4},{"$f":"IF(入力画面!$T160<>\"\",入力画面!AN160:AP160,\"\")","v":""},null,null,{"$f":"IF(入力画面!$T160<>\"\",入力画面!AQ160:AU160,\"\")","v":""},{"$nulls":4},{"$f":"IF(入力画面!$T160<>\"\",入力画面!AV160:AX160,\"\")","v":""},null,null,{"$f":"IF(入力画面!$T160<>\"\",入力画面!AY160:BC160,\"\")","v":""},{"$nulls":4},{"$f":"入力画面!BD160:BM160","v":0}]
[151,{"$f":"入力画面!B161:Q161","v":0},{"$nulls":15},{"$f":"入力画面!R161:S161","v":0},null,{"$f":"IF(入力画面!$T161<>\"\",入力画面!T161,\"\")","v":""},null,null,{"$f":"IF(入力画面!$T161<>\"\",入力画面!W161,\"\")","v":""},{"$nulls":3},{"$f":"IF(入力画面!$T161<>\"\",入力画面!AA161:AE161,\"\")","v":""},{"$nulls":4},{"$f":"IF(入力画面!$T161<>\"\",入力画面!AF161:AH161,\"\")","v":""},null,null,{"$f":"IF(入力画面!$T161<>\"\",入力画面!AI161:AM161,\"\")","v":""},{"$nulls":4},{"$f":"IF(入力画面!$T161<>\"\",入力画面!AN161:AP161,\"\")","v":""},null,null,{"$f":"IF(入力画面!$T161<>\"\",入力画面!AQ161:AU161,\"\")","v":""},{"$nulls":4},{"$f":"IF(入力画面!$T161<>\"\",入力画面!AV161:AX161,\"\")","v":""},null,null,{"$f":"IF(入力画面!$T161<>\"\",入力画面!AY161:BC161,\"\")","v":""},{"$nulls":4},{"$f":"入力画面!BD161:BM161","v":0}]
[152,{"$f":"入力画面!B162:Q162","v":0},{"$nulls":15},{"$f":"入力画面!R162:S162","v":0},null,{"$f":"IF(入力画面!$T162<>\"\",入力画面!T162,\"\")","v":""},null,null,{"$f":"IF(入力画面!$T162<>\"\",入力画面!W162,\"\")","v":""},{"$nulls":3},{"$f":"IF(入力画面!$T162<>\"\",入力画面!AA162:AE162,\"\")","v":""},{"$nulls":4},{"$f":"IF(入力画面!$T162<>\"\",入力画面!AF162:AH162,\"\")","v":""},null,null,{"$f":"IF(入力画面!$T162<>\"\",入力画面!AI162:AM162,\"\")","v":""},{"$nulls":4},{"$f":"IF(入力画面!$T162<>\"\",入力画面!AN162:AP162,\"\")","v":""},null,null,{"$f":"IF(入力画面!$T162<>\"\",入力画面!AQ162:AU162,\"\")","v":""},{"$nulls":4},{"$f":"IF(入力画面!$T162<>\"\",入力画面!AV162:AX162,\"\")","v":""},null,null,{"$f":"IF(入力画面!$T162<>\"\",入力画面!AY162:BC162,\"\")","v":""},{"$nulls":4},{"$f":"入力画面!BD162:BM162","v":0}]
[153,{"$f":"入力画面!B163:Q163","v":0},{"$nulls":15},{"$f":"入力画面!R163:S163","v":0},null,{"$f":"IF(入力画面!$T163<>\"\",入力画面!T163,\"\")","v":""},null,null,{"$f":"IF(入力画面!$T163<>\"\",入力画面!W163,\"\")","v":""},{"$nulls":3},{"$f":"IF(入力画面!$T163<>\"\",入力画面!AA163:AE163,\"\")","v":""},{"$nulls":4},{"$f":"IF(入力画面!$T163<>\"\",入力画面!AF163:AH163,\"\")","v":""},null,null,{"$f":"IF(入力画面!$T163<>\"\",入力画面!AI163:AM163,\"\")","v":""},{"$nulls":4},{"$f":"IF(入力画面!$T163<>\"\",入力画面!AN163:AP163,\"\")","v":""},null,null,{"$f":"IF(入力画面!$T163<>\"\",入力画面!AQ163:AU163,\"\")","v":""},{"$nulls":4},{"$f":"IF(入力画面!$T163<>\"\",入力画面!AV163:AX163,\"\")","v":""},null,null,{"$f":"IF(入力画面!$T163<>\"\",入力画面!AY163:BC163,\"\")","v":""},{"$nulls":4},{"$f":"入力画面!BD163:BM163","v":0}]
[154,{"$f":"入力画面!B164:Q164","v":0},{"$nulls":15},{"$f":"入力画面!R164:S164","v":0},null,{"$f":"IF(入力画面!$T164<>\"\",入力画面!T164,\"\")","v":""},null,null,{"$f":"IF(入力画面!$T164<>\"\",入力画面!W164,\"\")","v":""},{"$nulls":3},{"$f":"IF(入力画面!$T164<>\"\",入力画面!AA164:AE164,\"\")","v":""},{"$nulls":4},{"$f":"IF(入力画面!$T164<>\"\",入力画面!AF164:AH164,\"\")","v":""},null,null,{"$f":"IF(入力画面!$T164<>\"\",入力画面!AI164:AM164,\"\")","v":""},{"$nulls":4},{"$f":"IF(入力画面!$T164<>\"\",入力画面!AN164:AP164,\"\")","v":""},null,null,{"$f":"IF(入力画面!$T164<>\"\",入力画面!AQ164:AU164,\"\")","v":""},{"$nulls":4},{"$f":"IF(入力画面!$T164<>\"\",入力画面!AV164:AX164,\"\")","v":""},null,null,{"$f":"IF(入力画面!$T164<>\"\",入力画面!AY164:BC164,\"\")","v":""},{"$nulls":4},{"$f":"入力画面!BD164:BM164","v":0}]
[155,{"$f":"入力画面!B165:Q165","v":0},{"$nulls":15},{"$f":"入力画面!R165:S165","v":0},null,{"$f":"IF(入力画面!$T165<>\"\",入力画面!T165,\"\")","v":""},null,null,{"$f":"IF(入力画面!$T165<>\"\",入力画面!W165,\"\")","v":""},{"$nulls":3},{"$f":"IF(入力画面!$T165<>\"\",入力画面!AA165:AE165,\"\")","v":""},{"$nulls":4},{"$f":"IF(入力画面!$T165<>\"\",入力画面!AF165:AH165,\"\")","v":""},null,null,{"$f":"IF(入力画面!$T165<>\"\",入力画面!AI165:AM165,\"\")","v":""},{"$nulls":4},{"$f":"IF(入力画面!$T165<>\"\",入力画面!AN165:AP165,\"\")","v":""},null,null,{"$f":"IF(入力画面!$T165<>\"\",入力画面!AQ165:AU165,\"\")","v":""},{"$nulls":4},{"$f":"IF(入力画面!$T165<>\"\",入力画面!AV165:AX165,\"\")","v":""},null,null,{"$f":"IF(入力画面!$T165<>\"\",入力画面!AY165:BC165,\"\")","v":""},{"$nulls":4},{"$f":"入力画面!BD165:BM165","v":0}]
[156,{"$f":"入力画面!B166:Q166","v":0},{"$nulls":15},{"$f":"入力画面!R166:S166","v":0},null,{"$f":"IF(入力画面!$T166<>\"\",入力画面!T166,\"\")","v":""},null,null,{"$f":"IF(入力画面!$T166<>\"\",入力画面!W166,\"\")","v":""},{"$nulls":3},{"$f":"IF(入力画面!$T166<>\"\",入力画面!AA166:AE166,\"\")","v":""},{"$nulls":4},{"$f":"IF(入力画面!$T166<>\"\",入力画面!AF166:AH166,\"\")","v":""},null,null,{"$f":"IF(入力画面!$T166<>\"\",入力画面!AI166:AM166,\"\")","v":""},{"$nulls":4},{"$f":"IF(入力画面!$T166<>\"\",入力画面!AN166:AP166,\"\")","v":""},null,null,{"$f":"IF(入力画面!$T166<>\"\",入力画面!AQ166:AU166,\"\")","v":""},{"$nulls":4},{"$f":"IF(入力画面!$T166<>\"\",入力画面!AV166:AX166,\"\")","v":""},null,null,{"$f":"IF(入力画面!$T166<>\"\",入力画面!AY166:BC166,\"\")","v":""},{"$nulls":4},{"$f":"入力画面!BD166:BM166","v":0}]
[157,{"$f":"入力画面!B167:Q167","v":0},{"$nulls":15},{"$f":"入力画面!R167:S167","v":0},null,{"$f":"IF(入力画面!$T167<>\"\",入力画面!T167,\"\")","v":""},null,null,{"$f":"IF(入力画面!$T167<>\"\",入力画面!W167,\"\")","v":""},{"$nulls":3},{"$f":"IF(入力画面!$T167<>\"\",入力画面!AA167:AE167,\"\")","v":""},{"$nulls":4},{"$f":"IF(入力画面!$T167<>\"\",入力画面!AF167:AH167,\"\")","v":""},null,null,{"$f":"IF(入力画面!$T167<>\"\",入力画面!AI167:AM167,\"\")","v":""},{"$nulls":4},{"$f":"IF(入力画面!$T167<>\"\",入力画面!AN167:AP167,\"\")","v":""},null,null,{"$f":"IF(入力画面!$T167<>\"\",入力画面!AQ167:AU167,\"\")","v":""},{"$nulls":4},{"$f":"IF(入力画面!$T167<>\"\",入力画面!AV167:AX167,\"\")","v":""},null,null,{"$f":"IF(入力画面!$T167<>\"\",入力画面!AY167:BC167,\"\")","v":""},{"$nulls":4},{"$f":"入力画面!BD167:BM167","v":0}]
[158,{"$f":"入力画面!B168:Q168","v":0},{"$nulls":15},{"$f":"入力画面!R168:S168","v":0},null,{"$f":"IF(入力画面!$T168<>\"\",入力画面!T168,\"\")","v":""},null,null,{"$f":"IF(入力画面!$T168<>\"\",入力画面!W168,\"\")","v":""},{"$nulls":3},{"$f":"IF(入力画面!$T168<>\"\",入力画面!AA168:AE168,\"\")","v":""},{"$nulls":4},{"$f":"IF(入力画面!$T168<>\"\",入力画面!AF168:AH168,\"\")","v":""},null,null,{"$f":"IF(入力画面!$T168<>\"\",入力画面!AI168:AM168,\"\")","v":""},{"$nulls":4},{"$f":"IF(入力画面!$T168<>\"\",入力画面!AN168:AP168,\"\")","v":""},null,null,{"$f":"IF(入力画面!$T168<>\"\",入力画面!AQ168:AU168,\"\")","v":""},{"$nulls":4},{"$f":"IF(入力画面!$T168<>\"\",入力画面!AV168:AX168,\"\")","v":""},null,null,{"$f":"IF(入力画面!$T168<>\"\",入力画面!AY168:BC168,\"\")","v":""},{"$nulls":4},{"$f":"入力画面!BD168:BM168","v":0}]
[159,{"$f":"入力画面!B169:Q169","v":0},{"$nulls":15},{"$f":"入力画面!R169:S169","v":0},null,{"$f":"IF(入力画面!$T169<>\"\",入力画面!T169,\"\")","v":""},null,null,{"$f":"IF(入力画面!$T169<>\"\",入力画面!W169,\"\")","v":""},{"$nulls":3},{"$f":"IF(入力画面!$T169<>\"\",入力画面!AA169:AE169,\"\")","v":""},{"$nulls":4},{"$f":"IF(入力画面!$T169<>\"\",入力画面!AF169:AH169,\"\")","v":""},null,null,{"$f":"IF(入力画面!$T169<>\"\",入力画面!AI169:AM169,\"\")","v":""},{"$nulls":4},{"$f":"IF(入力画面!$T169<>\"\",入力画面!AN169:AP169,\"\")","v":""},null,null,{"$f":"IF(入力画面!$T169<>\"\",入力画面!AQ169:AU169,\"\")","v":""},{"$nulls":4},{"$f":"IF(入力画面!$T169<>\"\",入力画面!AV169:AX169,\"\")","v":""},null,null,{"$f":"IF(入力画面!$T169<>\"\",入力画面!AY169:BC169,\"\")","v":""},{"$nulls":4},{"$f":"入力画面!BD169:BM169","v":0}]
[160,{"$f":"入力画面!B170:Q170","v":0},{"$nulls":15},{"$f":"入力画面!R170:S170","v":0},null,{"$f":"IF(入力画面!$T170<>\"\",入力画面!T170,\"\")","v":""},null,null,{"$f":"IF(入力画面!$T170<>\"\",入力画面!W170,\"\")","v":""},{"$nulls":3},{"$f":"IF(入力画面!$T170<>\"\",入力画面!AA170:AE170,\"\")","v":""},{"$nulls":4},{"$f":"IF(入力画面!$T170<>\"\",入力画面!AF170:AH170,\"\")","v":""},null,null,{"$f":"IF(入力画面!$T170<>\"\",入力画面!AI170:AM170,\"\")","v":""},{"$nulls":4},{"$f":"IF(入力画面!$T170<>\"\",入力画面!AN170:AP170,\"\")","v":""},null,null,{"$f":"IF(入力画面!$T170<>\"\",入力画面!AQ170:AU170,\"\")","v":""},{"$nulls":4},{"$f":"IF(入力画面!$T170<>\"\",入力画面!AV170:AX170,\"\")","v":""},null,null,{"$f":"IF(入力画面!$T170<>\"\",入力画面!AY170:BC170,\"\")","v":""},{"$nulls":4},{"$f":"入力画面!BD170:BM170","v":0}]
["※消費税、保留金の計算は別紙、請求書で行ってください",{"$nulls":21},"小計",{"$nulls":3},{"$f":"SUM(AA225:AE244)","v":{"v":0,"d":"0 "}},{"$nulls":4},"小計",null,null,{"$f":"SUM(AI225:AM244)","v":{"v":0,"d":"0 "}},{"$nulls":4},"小計",null,null,{"$f":"SUM(AQ225:AU244)","v":{"v":0,"d":"0 "}},{"$nulls":4},"小計",null,null,{"$f":"SUM(AY225:BC244)","v":{"v":0,"d":"0 "}},{"$nulls":4},"担　当　者　　　　確　認　印",{"$nulls":4},{"$f":"IF(AA246=\"－\",\"―――――\",\"\")","v":"―――――"}]
["※完成後一括払いであっても出来高検収書を作成・添付してください",{"$nulls":21},"合計",{"$nulls":3},{"$f":"IF(AND(OR(AA214<>0,AI214<>0,AQ214<>0,AY214<>0),AND(AA215=\"－\",AA276=0,AI276=0,AQ276=0,AY276=0)),AA28+AA59+AA90+AA121+AA152+AA183+AA214+AA245,\"－\")","v":"－"},{"$nulls":4},"合計",null,null,{"$f":"IF($AA246<>\"－\",AI28+AI59+AI90+AI121+AI152+AI183+AI214+AI245,\"－\")","v":"－"},{"$nulls":4},"合計",null,null,{"$f":"IF($AA246<>\"－\",AQ28+AQ59+AQ90+AQ121+AQ152+AQ183+AQ214+AQ245,\"－\")","v":"－"},{"$nulls":4},"合計",null,null,{"$f":"IF($AA246<>\"－\",AY28+AY59+AY90+AY121+AY152+AY183+AY214+AY245,\"－\")","v":"－"}]
["※協力会社印は出力枚数の都度、押印してください",{"$nulls":33},"今回迄出来高累計",{"$nulls":7},{"$f":"IF(AA246=\"－\",\"－\",AI246+AQ246)","v":"－"}]
[{"$nulls":55},"検   収   日",{"$nulls":4},{"$f":"IF(AA246=\"－\",\"――――\",\"\")","v":"――――"}]
[]
[null,null,"出　来　高　検　収　書　（第",{"$nulls":15},{"$f":"$S$2","v":0},null,"回）",null,null,"( 検収期間",{"$nulls":4},{"$f":"IF(入力画面!$J$4=\"\",\"\",入力画面!$J$4)","v":""},{"$nulls":4},"～",{"$f":"IF(入力画面!$Q$4=\"\",\"\",入力画面!$Q$4)","v":""},{"$nulls":4},"）",{"$nulls":14},"仙 建 工 業 株 式 会 社"]
[{"$nulls":41},"協力会社名"]
["工 事 番 号",{"$nulls":3},{"$f":"$E$4","v":0},{"$nulls":7},"工 事 件 名",{"$nulls":4},{"$f":"$R$4","v":0},{"$nulls":23},{"$f":"$AP$4","v":""},{"$nulls":19},"　印"]
["契   約   日",{"$nulls":3},{"$f":"$E$5","v":""},{"$nulls":7},"工         期",{"$nulls":4},"自",{"$nulls":3},{"$f":"$V$5","v":""},{"$nulls":7},"至",{"$nulls":3},{"$f":"$AH$5","v":""}]
["№","工                         種",{"$nulls":15},"契       約       金       額",{"$nulls":13},"前回迄出来高累計",{"$nulls":7},"今  回  出  来  高",{"$nulls":7},"残            高",{"$nulls":7},"摘                要"]
[{"$nulls":17},"単位",null,"数 量",null,null,"単   価",{"$nulls":3},"金     額",{"$nulls":4},"数 量",null,null,"金     額",{"$nulls":4},"数 量",null,null,"金     額",{"$nulls":4},"数 量",null,null,"金     額"]
[161,{"$f":"入力画面!B171:Q171","v":0},{"$nulls":15},{"$f":"入力画面!R171:S171","v":0},null,{"$f":"IF(入力画面!$T171<>\"\",入力画面!T171,\"\")","v":""},null,null,{"$f":"IF(入力画面!$T171<>\"\",入力画面!W171,\"\")","v":""},{"$nulls":3},{"$f":"IF(入力画面!$T171<>\"\",入力画面!AA171:AE171,\"\")","v":""},{"$nulls":4},{"$f":"IF(入力画面!$T171<>\"\",入力画面!AF171:AH171,\"\")","v":""},null,null,{"$f":"IF(入力画面!$T171<>\"\",入力画面!AI171:AM171,\"\")","v":""},{"$nulls":4},{"$f":"IF(入力画面!$T171<>\"\",入力画面!AN171:AP171,\"\")","v":""},null,null,{"$f":"IF(入力画面!$T171<>\"\",入力画面!AQ171:AU171,\"\")","v":""},{"$nulls":4},{"$f":"IF(入力画面!$T171<>\"\",入力画面!AV171:AX171,\"\")","v":""},null,null,{"$f":"IF(入力画面!$T171<>\"\",入力画面!AY171:BC171,\"\")","v":""},{"$nulls":4},{"$f":"入力画面!BD171:BM171","v":0}]
[162,{"$f":"入力画面!B172:Q172","v":0},{"$nulls":15},{"$f":"入力画面!R172:S172","v":0},null,{"$f":"IF(入力画面!$T172<>\"\",入力画面!T172,\"\")","v":""},null,null,{"$f":"IF(入力画面!$T172<>\"\",入力画面!W172,\"\")","v":""},{"$nulls":3},{"$f":"IF(入力画面!$T172<>\"\",入力画面!AA172:AE172,\"\")","v":""},{"$nulls":4},{"$f":"IF(入力画面!$T172<>\"\",入力画面!AF172:AH172,\"\")","v":""},null,null,{"$f":"IF(入力画面!$T172<>\"\",入力画面!AI172:AM172,\"\")","v":""},{"$nulls":4},{"$f":"IF(入力画面!$T172<>\"\",入力画面!AN172:AP172,\"\")","v":""},null,null,{"$f":"IF(入力画面!$T172<>\"\",入力画面!AQ172:AU172,\"\")","v":""},{"$nulls":4},{"$f":"IF(入力画面!$T172<>\"\",入力画面!AV172:AX172,\"\")","v":""},null,null,{"$f":"IF(入力画面!$T172<>\"\",入力画面!AY172:BC172,\"\")","v":""},{"$nulls":4},{"$f":"入力画面!BD172:BM172","v":0}]
[163,{"$f":"入力画面!B173:Q173","v":0},{"$nulls":15},{"$f":"入力画面!R173:S173","v":0},null,{"$f":"IF(入力画面!$T173<>\"\",入力画面!T173,\"\")","v":""},null,null,{"$f":"IF(入力画面!$T173<>\"\",入力画面!W173,\"\")","v":""},{"$nulls":3},{"$f":"IF(入力画面!$T173<>\"\",入力画面!AA173:AE173,\"\")","v":""},{"$nulls":4},{"$f":"IF(入力画面!$T173<>\"\",入力画面!AF173:AH173,\"\")","v":""},null,null,{"$f":"IF(入力画面!$T173<>\"\",入力画面!AI173:AM173,\"\")","v":""},{"$nulls":4},{"$f":"IF(入力画面!$T173<>\"\",入力画面!AN173:AP173,\"\")","v":""},null,null,{"$f":"IF(入力画面!$T173<>\"\",入力画面!AQ173:AU173,\"\")","v":""},{"$nulls":4},{"$f":"IF(入力画面!$T173<>\"\",入力画面!AV173:AX173,\"\")","v":""},null,null,{"$f":"IF(入力画面!$T173<>\"\",入力画面!AY173:BC173,\"\")","v":""},{"$nulls":4},{"$f":"入力画面!BD173:BM173","v":0}]
[164,{"$f":"入力画面!B174:Q174","v":0},{"$nulls":15},{"$f":"入力画面!R174:S174","v":0},null,{"$f":"IF(入力画面!$T174<>\"\",入力画面!T174,\"\")","v":""},null,null,{"$f":"IF(入力画面!$T174<>\"\",入力画面!W174,\"\")","v":""},{"$nulls":3},{"$f":"IF(入力画面!$T174<>\"\",入力画面!AA174:AE174,\"\")","v":""},{"$nulls":4},{"$f":"IF(入力画面!$T174<>\"\",入力画面!AF174:AH174,\"\")","v":""},null,null,{"$f":"IF(入力画面!$T174<>\"\",入力画面!AI174:AM174,\"\")","v":""},{"$nulls":4},{"$f":"IF(入力画面!$T174<>\"\",入力画面!AN174:AP174,\"\")","v":""},null,null,{"$f":"IF(入力画面!$T174<>\"\",入力画面!AQ174:AU174,\"\")","v":""},{"$nulls":4},{"$f":"IF(入力画面!$T174<>\"\",入力画面!AV174:AX174,\"\")","v":""},null,null,{"$f":"IF(入力画面!$T174<>\"\",入力画面!AY174:BC174,\"\")","v":""},{"$nulls":4},{"$f":"入力画面!BD174:BM174","v":0}]
[165,{"$f":"入力画面!B175:Q175","v":0},{"$nulls":15},{"$f":"入力画面!R175:S175","v":0},null,{"$f":"IF(入力画面!$T175<>\"\",入力画面!T175,\"\")","v":""},null,null,{"$f":"IF(入力画面!$T175<>\"\",入力画面!W175,\"\")","v":""},{"$nulls":3},{"$f":"IF(入力画面!$T175<>\"\",入力画面!AA175:AE175,\"\")","v":""},{"$nulls":4},{"$f":"IF(入力画面!$T175<>\"\",入力画面!AF175:AH175,\"\")","v":""},null,null,{"$f":"IF(入力画面!$T175<>\"\",入力画面!AI175:AM175,\"\")","v":""},{"$nulls":4},{"$f":"IF(入力画面!$T175<>\"\",入力画面!AN175:AP175,\"\")","v":""},null,null,{"$f":"IF(入力画面!$T175<>\"\",入力画面!AQ175:AU175,\"\")","v":""},{"$nulls":4},{"$f":"IF(入力画面!$T175<>\"\",入力画面!AV175:AX175,\"\")","v":""},null,null,{"$f":"IF(入力画面!$T175<>\"\",入力画面!AY175:BC175,\"\")","v":""},{"$nulls":4},{"$f":"入力画面!BD175:BM175","v":0}]
[166,{"$f":"入力画面!B176:Q176","v":0},{"$nulls":15},{"$f":"入力画面!R176:S176","v":0},null,{"$f":"IF(入力画面!$T176<>\"\",入力画面!T176,\"\")","v":""},null,null,{"$f":"IF(入力画面!$T176<>\"\",入力画面!W176,\"\")","v":""},{"$nulls":3},{"$f":"IF(入力画面!$T176<>\"\",入力画面!AA176:AE176,\"\")","v":""},{"$nulls":4},{"$f":"IF(入力画面!$T176<>\"\",入力画面!AF176:AH176,\"\")","v":""},null,null,{"$f":"IF(入力画面!$T176<>\"\",入力画面!AI176:AM176,\"\")","v":""},{"$nulls":4},{"$f":"IF(入力画面!$T176<>\"\",入力画面!AN176:AP176,\"\")","v":""},null,null,{"$f":"IF(入力画面!$T176<>\"\",入力画面!AQ176:AU176,\"\")","v":""},{"$nulls":4},{"$f":"IF(入力画面!$T176<>\"\",入力画面!AV176:AX176,\"\")","v":""},null,null,{"$f":"IF(入力画面!$T176<>\"\",入力画面!AY176:BC176,\"\")","v":""},{"$nulls":4},{"$f":"入力画面!BD176:BM176","v":0}]
[167,{"$f":"入力画面!B177:Q177","v":0},{"$nulls":15},{"$f":"入力画面!R177:S177","v":0},null,{"$f":"IF(入力画面!$T177<>\"\",入力画面!T177,\"\")","v":""},null,null,{"$f":"IF(入力画面!$T177<>\"\",入力画面!W177,\"\")","v":""},{"$nulls":3},{"$f":"IF(入力画面!$T177<>\"\",入力画面!AA177:AE177,\"\")","v":""},{"$nulls":4},{"$f":"IF(入力画面!$T177<>\"\",入力画面!AF177:AH177,\"\")","v":""},null,null,{"$f":"IF(入力画面!$T177<>\"\",入力画面!AI177:AM177,\"\")","v":""},{"$nulls":4},{"$f":"IF(入力画面!$T177<>\"\",入力画面!AN177:AP177,\"\")","v":""},null,null,{"$f":"IF(入力画面!$T177<>\"\",入力画面!AQ177:AU177,\"\")","v":""},{"$nulls":4},{"$f":"IF(入力画面!$T177<>\"\",入力画面!AV177:AX177,\"\")","v":""},null,null,{"$f":"IF(入力画面!$T177<>\"\",入力画面!AY177:BC177,\"\")","v":""},{"$nulls":4},{"$f":"入力画面!BD177:BM177","v":0}]
[168,{"$f":"入力画面!B178:Q178","v":0},{"$nulls":15},{"$f":"入力画面!R178:S178","v":0},null,{"$f":"IF(入力画面!$T178<>\"\",入力画面!T178,\"\")","v":""},null,null,{"$f":"IF(入力画面!$T178<>\"\",入力画面!W178,\"\")","v":""},{"$nulls":3},{"$f":"IF(入力画面!$T178<>\"\",入力画面!AA178:AE178,\"\")","v":""},{"$nulls":4},{"$f":"IF(入力画面!$T178<>\"\",入力画面!AF178:AH178,\"\")","v":""},null,null,{"$f":"IF(入力画面!$T178<>\"\",入力画面!AI178:AM178,\"\")","v":""},{"$nulls":4},{"$f":"IF(入力画面!$T178<>\"\",入力画面!AN178:AP178,\"\")","v":""},null,null,{"$f":"IF(入力画面!$T178<>\"\",入力画面!AQ178:AU178,\"\")","v":""},{"$nulls":4},{"$f":"IF(入力画面!$T178<>\"\",入力画面!AV178:AX178,\"\")","v":""},null,null,{"$f":"IF(入力画面!$T178<>\"\",入力画面!AY178:BC178,\"\")","v":""},{"$nulls":4},{"$f":"入力画面!BD178:BM178","v":0}]
[169,{"$f":"入力画面!B179:Q179","v":0},{"$nulls":15},{"$f":"入力画面!R179:S179","v":0},null,{"$f":"IF(入力画面!$T179<>\"\",入力画面!T179,\"\")","v":""},null,null,{"$f":"IF(入力画面!$T179<>\"\",入力画面!W179,\"\")","v":""},{"$nulls":3},{"$f":"IF(入力画面!$T179<>\"\",入力画面!AA179:AE179,\"\")","v":""},{"$nulls":4},{"$f":"IF(入力画面!$T179<>\"\",入力画面!AF179:AH179,\"\")","v":""},null,null,{"$f":"IF(入力画面!$T179<>\"\",入力画面!AI179:AM179,\"\")","v":""},{"$nulls":4},{"$f":"IF(入力画面!$T179<>\"\",入力画面!AN179:AP179,\"\")","v":""},null,null,{"$f":"IF(入力画面!$T179<>\"\",入力画面!AQ179:AU179,\"\")","v":""},{"$nulls":4},{"$f":"IF(入力画面!$T179<>\"\",入力画面!AV179:AX179,\"\")","v":""},null,null,{"$f":"IF(入力画面!$T179<>\"\",入力画面!AY179:BC179,\"\")","v":""},{"$nulls":4},{"$f":"入力画面!BD179:BM179","v":0}]
[170,{"$f":"入力画面!B180:Q180","v":0},{"$nulls":15},{"$f":"入力画面!R180:S180","v":0},null,{"$f":"IF(入力画面!$T180<>\"\",入力画面!T180,\"\")","v":""},null,null,{"$f":"IF(入力画面!$T180<>\"\",入力画面!W180,\"\")","v":""},{"$nulls":3},{"$f":"IF(入力画面!$T180<>\"\",入力画面!AA180:AE180,\"\")","v":""},{"$nulls":4},{"$f":"IF(入力画面!$T180<>\"\",入力画面!AF180:AH180,\"\")","v":""},null,null,{"$f":"IF(入力画面!$T180<>\"\",入力画面!AI180:AM180,\"\")","v":""},{"$nulls":4},{"$f":"IF(入力画面!$T180<>\"\",入力画面!AN180:AP180,\"\")","v":""},null,null,{"$f":"IF(入力画面!$T180<>\"\",入力画面!AQ180:AU180,\"\")","v":""},{"$nulls":4},{"$f":"IF(入力画面!$T180<>\"\",入力画面!AV180:AX180,\"\")","v":""},null,null,{"$f":"IF(入力画面!$T180<>\"\",入力画面!AY180:BC180,\"\")","v":""},{"$nulls":4},{"$f":"入力画面!BD180:BM180","v":0}]
[171,{"$f":"入力画面!B181:Q181","v":0},{"$nulls":15},{"$f":"入力画面!R181:S181","v":0},null,{"$f":"IF(入力画面!$T181<>\"\",入力画面!T181,\"\")","v":""},null,null,{"$f":"IF(入力画面!$T181<>\"\",入力画面!W181,\"\")","v":""},{"$nulls":3},{"$f":"IF(入力画面!$T181<>\"\",入力画面!AA181:AE181,\"\")","v":""},{"$nulls":4},{"$f":"IF(入力画面!$T181<>\"\",入力画面!AF181:AH181,\"\")","v":""},null,null,{"$f":"IF(入力画面!$T181<>\"\",入力画面!AI181:AM181,\"\")","v":""},{"$nulls":4},{"$f":"IF(入力画面!$T181<>\"\",入力画面!AN181:AP181,\"\")","v":""},null,null,{"$f":"IF(入力画面!$T181<>\"\",入力画面!AQ181:AU181,\"\")","v":""},{"$nulls":4},{"$f":"IF(入力画面!$T181<>\"\",入力画面!AV181:AX181,\"\")","v":""},null,null,{"$f":"IF(入力画面!$T181<>\"\",入力画面!AY181:BC181,\"\")","v":""},{"$nulls":4},{"$f":"入力画面!BD181:BM181","v":0}]
[172,{"$f":"入力画面!B182:Q182","v":0},{"$nulls":15},{"$f":"入力画面!R182:S182","v":0},null,{"$f":"IF(入力画面!$T182<>\"\",入力画面!T182,\"\")","v":""},null,null,{"$f":"IF(入力画面!$T182<>\"\",入力画面!W182,\"\")","v":""},{"$nulls":3},{"$f":"IF(入力画面!$T182<>\"\",入力画面!AA182:AE182,\"\")","v":""},{"$nulls":4},{"$f":"IF(入力画面!$T182<>\"\",入力画面!AF182:AH182,\"\")","v":""},null,null,{"$f":"IF(入力画面!$T182<>\"\",入力画面!AI182:AM182,\"\")","v":""},{"$nulls":4},{"$f":"IF(入力画面!$T182<>\"\",入力画面!AN182:AP182,\"\")","v":""},null,null,{"$f":"IF(入力画面!$T182<>\"\",入力画面!AQ182:AU182,\"\")","v":""},{"$nulls":4},{"$f":"IF(入力画面!$T182<>\"\",入力画面!AV182:AX182,\"\")","v":""},null,null,{"$f":"IF(入力画面!$T182<>\"\",入力画面!AY182:BC182,\"\")","v":""},{"$nulls":4},{"$f":"入力画面!BD182:BM182","v":0}]
[173,{"$f":"入力画面!B183:Q183","v":0},{"$nulls":15},{"$f":"入力画面!R183:S183","v":0},null,{"$f":"IF(入力画面!$T183<>\"\",入力画面!T183,\"\")","v":""},null,null,{"$f":"IF(入力画面!$T183<>\"\",入力画面!W183,\"\")","v":""},{"$nulls":3},{"$f":"IF(入力画面!$T183<>\"\",入力画面!AA183:AE183,\"\")","v":""},{"$nulls":4},{"$f":"IF(入力画面!$T183<>\"\",入力画面!AF183:AH183,\"\")","v":""},null,null,{"$f":"IF(入力画面!$T183<>\"\",入力画面!AI183:AM183,\"\")","v":""},{"$nulls":4},{"$f":"IF(入力画面!$T183<>\"\",入力画面!AN183:AP183,\"\")","v":""},null,null,{"$f":"IF(入力画面!$T183<>\"\",入力画面!AQ183:AU183,\"\")","v":""},{"$nulls":4},{"$f":"IF(入力画面!$T183<>\"\",入力画面!AV183:AX183,\"\")","v":""},null,null,{"$f":"IF(入力画面!$T183<>\"\",入力画面!AY183:BC183,\"\")","v":""},{"$nulls":4},{"$f":"入力画面!BD183:BM183","v":0}]
[174,{"$f":"入力画面!B184:Q184","v":0},{"$nulls":15},{"$f":"入力画面!R184:S184","v":0},null,{"$f":"IF(入力画面!$T184<>\"\",入力画面!T184,\"\")","v":""},null,null,{"$f":"IF(入力画面!$T184<>\"\",入力画面!W184,\"\")","v":""},{"$nulls":3},{"$f":"IF(入力画面!$T184<>\"\",入力画面!AA184:AE184,\"\")","v":""},{"$nulls":4},{"$f":"IF(入力画面!$T184<>\"\",入力画面!AF184:AH184,\"\")","v":""},null,null,{"$f":"IF(入力画面!$T184<>\"\",入力画面!AI184:AM184,\"\")","v":""},{"$nulls":4},{"$f":"IF(入力画面!$T184<>\"\",入力画面!AN184:AP184,\"\")","v":""},null,null,{"$f":"IF(入力画面!$T184<>\"\",入力画面!AQ184:AU184,\"\")","v":""},{"$nulls":4},{"$f":"IF(入力画面!$T184<>\"\",入力画面!AV184:AX184,\"\")","v":""},null,null,{"$f":"IF(入力画面!$T184<>\"\",入力画面!AY184:BC184,\"\")","v":""},{"$nulls":4},{"$f":"入力画面!BD184:BM184","v":0}]
[175,{"$f":"入力画面!B185:Q185","v":0},{"$nulls":15},{"$f":"入力画面!R185:S185","v":0},null,{"$f":"IF(入力画面!$T185<>\"\",入力画面!T185,\"\")","v":""},null,null,{"$f":"IF(入力画面!$T185<>\"\",入力画面!W185,\"\")","v":""},{"$nulls":3},{"$f":"IF(入力画面!$T185<>\"\",入力画面!AA185:AE185,\"\")","v":""},{"$nulls":4},{"$f":"IF(入力画面!$T185<>\"\",入力画面!AF185:AH185,\"\")","v":""},null,null,{"$f":"IF(入力画面!$T185<>\"\",入力画面!AI185:AM185,\"\")","v":""},{"$nulls":4},{"$f":"IF(入力画面!$T185<>\"\",入力画面!AN185:AP185,\"\")","v":""},null,null,{"$f":"IF(入力画面!$T185<>\"\",入力画面!AQ185:AU185,\"\")","v":""},{"$nulls":4},{"$f":"IF(入力画面!$T185<>\"\",入力画面!AV185:AX185,\"\")","v":""},null,null,{"$f":"IF(入力画面!$T185<>\"\",入力画面!AY185:BC185,\"\")","v":""},{"$nulls":4},{"$f":"入力画面!BD185:BM185","v":0}]
[176,{"$f":"入力画面!B186:Q186","v":0},{"$nulls":15},{"$f":"入力画面!R186:S186","v":0},null,{"$f":"IF(入力画面!$T186<>\"\",入力画面!T186,\"\")","v":""},null,null,{"$f":"IF(入力画面!$T186<>\"\",入力画面!W186,\"\")","v":""},{"$nulls":3},{"$f":"IF(入力画面!$T186<>\"\",入力画面!AA186:AE186,\"\")","v":""},{"$nulls":4},{"$f":"IF(入力画面!$T186<>\"\",入力画面!AF186:AH186,\"\")","v":""},null,null,{"$f":"IF(入力画面!$T186<>\"\",入力画面!AI186:AM186,\"\")","v":""},{"$nulls":4},{"$f":"IF(入力画面!$T186<>\"\",入力画面!AN186:AP186,\"\")","v":""},null,null,{"$f":"IF(入力画面!$T186<>\"\",入力画面!AQ186:AU186,\"\")","v":""},{"$nulls":4},{"$f":"IF(入力画面!$T186<>\"\",入力画面!AV186:AX186,\"\")","v":""},null,null,{"$f":"IF(入力画面!$T186<>\"\",入力画面!AY186:BC186,\"\")","v":""},{"$nulls":4},{"$f":"入力画面!BD186:BM186","v":0}]
[177,{"$f":"入力画面!B187:Q187","v":0},{"$nulls":15},{"$f":"入力画面!R187:S187","v":0},null,{"$f":"IF(入力画面!$T187<>\"\",入力画面!T187,\"\")","v":""},null,null,{"$f":"IF(入力画面!$T187<>\"\",入力画面!W187,\"\")","v":""},{"$nulls":3},{"$f":"IF(入力画面!$T187<>\"\",入力画面!AA187:AE187,\"\")","v":""},{"$nulls":4},{"$f":"IF(入力画面!$T187<>\"\",入力画面!AF187:AH187,\"\")","v":""},null,null,{"$f":"IF(入力画面!$T187<>\"\",入力画面!AI187:AM187,\"\")","v":""},{"$nulls":4},{"$f":"IF(入力画面!$T187<>\"\",入力画面!AN187:AP187,\"\")","v":""},null,null,{"$f":"IF(入力画面!$T187<>\"\",入力画面!AQ187:AU187,\"\")","v":""},{"$nulls":4},{"$f":"IF(入力画面!$T187<>\"\",入力画面!AV187:AX187,\"\")","v":""},null,null,{"$f":"IF(入力画面!$T187<>\"\",入力画面!AY187:BC187,\"\")","v":""},{"$nulls":4},{"$f":"入力画面!BD187:BM187","v":0}]
[178,{"$f":"入力画面!B188:Q188","v":0},{"$nulls":15},{"$f":"入力画面!R188:S188","v":0},null,{"$f":"IF(入力画面!$T188<>\"\",入力画面!T188,\"\")","v":""},null,null,{"$f":"IF(入力画面!$T188<>\"\",入力画面!W188,\"\")","v":""},{"$nulls":3},{"$f":"IF(入力画面!$T188<>\"\",入力画面!AA188:AE188,\"\")","v":""},{"$nulls":4},{"$f":"IF(入力画面!$T188<>\"\",入力画面!AF188:AH188,\"\")","v":""},null,null,{"$f":"IF(入力画面!$T188<>\"\",入力画面!AI188:AM188,\"\")","v":""},{"$nulls":4},{"$f":"IF(入力画面!$T188<>\"\",入力画面!AN188:AP188,\"\")","v":""},null,null,{"$f":"IF(入力画面!$T188<>\"\",入力画面!AQ188:AU188,\"\")","v":""},{"$nulls":4},{"$f":"IF(入力画面!$T188<>\"\",入力画面!AV188:AX188,\"\")","v":""},null,null,{"$f":"IF(入力画面!$T188<>\"\",入力画面!AY188:BC188,\"\")","v":""},{"$nulls":4},{"$f":"入力画面!BD188:BM188","v":0}]
[179,{"$f":"入力画面!B189:Q189","v":0},{"$nulls":15},{"$f":"入力画面!R189:S189","v":0},null,{"$f":"IF(入力画面!$T189<>\"\",入力画面!T189,\"\")","v":""},null,null,{"$f":"IF(入力画面!$T189<>\"\",入力画面!W189,\"\")","v":""},{"$nulls":3},{"$f":"IF(入力画面!$T189<>\"\",入力画面!AA189:AE189,\"\")","v":""},{"$nulls":4},{"$f":"IF(入力画面!$T189<>\"\",入力画面!AF189:AH189,\"\")","v":""},null,null,{"$f":"IF(入力画面!$T189<>\"\",入力画面!AI189:AM189,\"\")","v":""},{"$nulls":4},{"$f":"IF(入力画面!$T189<>\"\",入力画面!AN189:AP189,\"\")","v":""},null,null,{"$f":"IF(入力画面!$T189<>\"\",入力画面!AQ189:AU189,\"\")","v":""},{"$nulls":4},{"$f":"IF(入力画面!$T189<>\"\",入力画面!AV189:AX189,\"\")","v":""},null,null,{"$f":"IF(入力画面!$T189<>\"\",入力画面!AY189:BC189,\"\")","v":""},{"$nulls":4},{"$f":"入力画面!BD189:BM189","v":0}]
[180,{"$f":"入力画面!B190:Q190","v":0},{"$nulls":15},{"$f":"入力画面!R190:S190","v":0},null,{"$f":"IF(入力画面!$T190<>\"\",入力画面!T190,\"\")","v":""},null,null,{"$f":"IF(入力画面!$T190<>\"\",入力画面!W190,\"\")","v":""},{"$nulls":3},{"$f":"IF(入力画面!$T190<>\"\",入力画面!AA190:AE190,\"\")","v":""},{"$nulls":4},{"$f":"IF(入力画面!$T190<>\"\",入力画面!AF190:AH190,\"\")","v":""},null,null,{"$f":"IF(入力画面!$T190<>\"\",入力画面!AI190:AM190,\"\")","v":""},{"$nulls":4},{"$f":"IF(入力画面!$T190<>\"\",入力画面!AN190:AP190,\"\")","v":""},null,null,{"$f":"IF(入力画面!$T190<>\"\",入力画面!AQ190:AU190,\"\")","v":""},{"$nulls":4},{"$f":"IF(入力画面!$T190<>\"\",入力画面!AV190:AX190,\"\")","v":""},null,null,{"$f":"IF(入力画面!$T190<>\"\",入力画面!AY190:BC190,\"\")","v":""},{"$nulls":4},{"$f":"入力画面!BD190:BM190","v":0}]
["※消費税、保留金の計算は別紙、請求書で行ってください",{"$nulls":21},"小計",{"$nulls":3},{"$f":"SUM(AA256:AE275)","v":{"v":0,"d":"0 "}},{"$nulls":4},"小計",null,null,{"$f":"SUM(AI256:AM275)","v":{"v":0,"d":"0 "}},{"$nulls":4},"小計",null,null,{"$f":"SUM(AQ256:AU275)","v":{"v":0,"d":"0 "}},{"$nulls":4},"小計",null,null,{"$f":"SUM(AY256:BC275)","v":{"v":0,"d":"0 "}},{"$nulls":4},"担　当　者　　　　確　認　印",{"$nulls":4},{"$f":"IF(AA277=\"－\",\"―――――\",\"\")","v":"―――――"}]
["※完成後一括払いであっても出来高検収書を作成・添付してください",{"$nulls":21},"合計",{"$nulls":3},{"$f":"IF(AND(OR(AA245<>0,AI245<>0,AQ245<>0,AY245<>0),AND(AA246=\"－\",AA307=0,AI307=0,AQ307=0,AY307=0)),AA28+AA59+AA90+AA121+AA152+AA183+AA214+AA245+AA276,\"－\")","v":"－"},{"$nulls":4},"合計",null,null,{"$f":"IF($AA277<>\"－\",AI28+AI59+AI90+AI121+AI152+AI183+AI214+AI245+AI276,\"－\")","v":"－"},{"$nulls":4},"合計",null,null,{"$f":"IF($AA277<>\"－\",AQ28+AQ59+AQ90+AQ121+AQ152+AQ183+AQ214+AQ245+AQ276,\"－\")","v":"－"},{"$nulls":4},"合計",null,null,{"$f":"IF($AA277<>\"－\",AY28+AY59+AY90+AY121+AY152+AY183+AY214+AY245+AY276,\"－\")","v":"－"}]
["※協力会社印は出力枚数の都度、押印してください",{"$nulls":33},"今回迄出来高累計",{"$nulls":7},{"$f":"IF(AA277=\"－\",\"－\",AI277+AQ277)","v":"－"}]
[{"$nulls":55},"検   収   日",{"$nulls":4},{"$f":"IF(AA277=\"－\",\"――――\",\"\")","v":"――――"}]
[]
[null,null,"出　来　高　検　収　書　（第",{"$nulls":15},{"$f":"$S$2","v":0},null,"回）",null,null,"( 検収期間",{"$nulls":4},{"$f":"IF(入力画面!$J$4=\"\",\"\",入力画面!$J$4)","v":""},{"$nulls":4},"～",{"$f":"IF(入力画面!$Q$4=\"\",\"\",入力画面!$Q$4)","v":""},{"$nulls":4},"）",{"$nulls":14},"仙 建 工 業 株 式 会 社"]
[{"$nulls":41},"協力会社名"]
["工 事 番 号",{"$nulls":3},{"$f":"$E$4","v":0},{"$nulls":7},"工 事 件 名",{"$nulls":4},{"$f":"$R$4","v":0},{"$nulls":23},{"$f":"$AP$4","v":""},{"$nulls":19},"　印"]
["契   約   日",{"$nulls":3},{"$f":"$E$5","v":""},{"$nulls":7},"工         期",{"$nulls":4},"自",{"$nulls":3},{"$f":"$V$5","v":""},{"$nulls":7},"至",{"$nulls":3},{"$f":"$AH$5","v":""}]
["№","工                         種",{"$nulls":15},"契       約       金       額",{"$nulls":13},"前回迄出来高累計",{"$nulls":7},"今  回  出  来  高",{"$nulls":7},"残            高",{"$nulls":7},"摘                要"]
[{"$nulls":17},"単位",null,"数 量",null,null,"単   価",{"$nulls":3},"金     額",{"$nulls":4},"数 量",null,null,"金     額",{"$nulls":4},"数 量",null,null,"金     額",{"$nulls":4},"数 量",null,null,"金     額"]
[181,{"$f":"入力画面!B191:Q191","v":0},{"$nulls":15},{"$f":"入力画面!R191:S191","v":0},null,{"$f":"IF(入力画面!$T191<>\"\",入力画面!T191,\"\")","v":""},null,null,{"$f":"IF(入力画面!$T191<>\"\",入力画面!W191,\"\")","v":""},{"$nulls":3},{"$f":"IF(入力画面!$T191<>\"\",入力画面!AA191:AE191,\"\")","v":""},{"$nulls":4},{"$f":"IF(入力画面!$T191<>\"\",入力画面!AF191:AH191,\"\")","v":""},null,null,{"$f":"IF(入力画面!$T191<>\"\",入力画面!AI191:AM191,\"\")","v":""},{"$nulls":4},{"$f":"IF(入力画面!$T191<>\"\",入力画面!AN191:AP191,\"\")","v":""},null,null,{"$f":"IF(入力画面!$T191<>\"\",入力画面!AQ191:AU191,\"\")","v":""},{"$nulls":4},{"$f":"IF(入力画面!$T191<>\"\",入力画面!AV191:AX191,\"\")","v":""},null,null,{"$f":"IF(入力画面!$T191<>\"\",入力画面!AY191:BC191,\"\")","v":""},{"$nulls":4},{"$f":"入力画面!BD191:BM191","v":0}]
[182,{"$f":"入力画面!B192:Q192","v":0},{"$nulls":15},{"$f":"入力画面!R192:S192","v":0},null,{"$f":"IF(入力画面!$T192<>\"\",入力画面!T192,\"\")","v":""},null,null,{"$f":"IF(入力画面!$T192<>\"\",入力画面!W192,\"\")","v":""},{"$nulls":3},{"$f":"IF(入力画面!$T192<>\"\",入力画面!AA192:AE192,\"\")","v":""},{"$nulls":4},{"$f":"IF(入力画面!$T192<>\"\",入力画面!AF192:AH192,\"\")","v":""},null,null,{"$f":"IF(入力画面!$T192<>\"\",入力画面!AI192:AM192,\"\")","v":""},{"$nulls":4},{"$f":"IF(入力画面!$T192<>\"\",入力画面!AN192:AP192,\"\")","v":""},null,null,{"$f":"IF(入力画面!$T192<>\"\",入力画面!AQ192:AU192,\"\")","v":""},{"$nulls":4},{"$f":"IF(入力画面!$T192<>\"\",入力画面!AV192:AX192,\"\")","v":""},null,null,{"$f":"IF(入力画面!$T192<>\"\",入力画面!AY192:BC192,\"\")","v":""},{"$nulls":4},{"$f":"入力画面!BD192:BM192","v":0}]
[183,{"$f":"入力画面!B193:Q193","v":0},{"$nulls":15},{"$f":"入力画面!R193:S193","v":0},null,{"$f":"IF(入力画面!$T193<>\"\",入力画面!T193,\"\")","v":""},null,null,{"$f":"IF(入力画面!$T193<>\"\",入力画面!W193,\"\")","v":""},{"$nulls":3},{"$f":"IF(入力画面!$T193<>\"\",入力画面!AA193:AE193,\"\")","v":""},{"$nulls":4},{"$f":"IF(入力画面!$T193<>\"\",入力画面!AF193:AH193,\"\")","v":""},null,null,{"$f":"IF(入力画面!$T193<>\"\",入力画面!AI193:AM193,\"\")","v":""},{"$nulls":4},{"$f":"IF(入力画面!$T193<>\"\",入力画面!AN193:AP193,\"\")","v":""},null,null,{"$f":"IF(入力画面!$T193<>\"\",入力画面!AQ193:AU193,\"\")","v":""},{"$nulls":4},{"$f":"IF(入力画面!$T193<>\"\",入力画面!AV193:AX193,\"\")","v":""},null,null,{"$f":"IF(入力画面!$T193<>\"\",入力画面!AY193:BC193,\"\")","v":""},{"$nulls":4},{"$f":"入力画面!BD193:BM193","v":0}]
[184,{"$f":"入力画面!B194:Q194","v":0},{"$nulls":15},{"$f":"入力画面!R194:S194","v":0},null,{"$f":"IF(入力画面!$T194<>\"\",入力画面!T194,\"\")","v":""},null,null,{"$f":"IF(入力画面!$T194<>\"\",入力画面!W194,\"\")","v":""},{"$nulls":3},{"$f":"IF(入力画面!$T194<>\"\",入力画面!AA194:AE194,\"\")","v":""},{"$nulls":4},{"$f":"IF(入力画面!$T194<>\"\",入力画面!AF194:AH194,\"\")","v":""},null,null,{"$f":"IF(入力画面!$T194<>\"\",入力画面!AI194:AM194,\"\")","v":""},{"$nulls":4},{"$f":"IF(入力画面!$T194<>\"\",入力画面!AN194:AP194,\"\")","v":""},null,null,{"$f":"IF(入力画面!$T194<>\"\",入力画面!AQ194:AU194,\"\")","v":""},{"$nulls":4},{"$f":"IF(入力画面!$T194<>\"\",入力画面!AV194:AX194,\"\")","v":""},null,null,{"$f":"IF(入力画面!$T194<>\"\",入力画面!AY194:BC194,\"\")","v":""},{"$nulls":4},{"$f":"入力画面!BD194:BM194","v":0}]
[185,{"$f":"入力画面!B195:Q195","v":0},{"$nulls":15},{"$f":"入力画面!R195:S195","v":0},null,{"$f":"IF(入力画面!$T195<>\"\",入力画面!T195,\"\")","v":""},null,null,{"$f":"IF(入力画面!$T195<>\"\",入力画面!W195,\"\")","v":""},{"$nulls":3},{"$f":"IF(入力画面!$T195<>\"\",入力画面!AA195:AE195,\"\")","v":""},{"$nulls":4},{"$f":"IF(入力画面!$T195<>\"\",入力画面!AF195:AH195,\"\")","v":""},null,null,{"$f":"IF(入力画面!$T195<>\"\",入力画面!AI195:AM195,\"\")","v":""},{"$nulls":4},{"$f":"IF(入力画面!$T195<>\"\",入力画面!AN195:AP195,\"\")","v":""},null,null,{"$f":"IF(入力画面!$T195<>\"\",入力画面!AQ195:AU195,\"\")","v":""},{"$nulls":4},{"$f":"IF(入力画面!$T195<>\"\",入力画面!AV195:AX195,\"\")","v":""},null,null,{"$f":"IF(入力画面!$T195<>\"\",入力画面!AY195:BC195,\"\")","v":""},{"$nulls":4},{"$f":"入力画面!BD195:BM195","v":0}]
[186,{"$f":"入力画面!B196:Q196","v":0},{"$nulls":15},{"$f":"入力画面!R196:S196","v":0},null,{"$f":"IF(入力画面!$T196<>\"\",入力画面!T196,\"\")","v":""},null,null,{"$f":"IF(入力画面!$T196<>\"\",入力画面!W196,\"\")","v":""},{"$nulls":3},{"$f":"IF(入力画面!$T196<>\"\",入力画面!AA196:AE196,\"\")","v":""},{"$nulls":4},{"$f":"IF(入力画面!$T196<>\"\",入力画面!AF196:AH196,\"\")","v":""},null,null,{"$f":"IF(入力画面!$T196<>\"\",入力画面!AI196:AM196,\"\")","v":""},{"$nulls":4},{"$f":"IF(入力画面!$T196<>\"\",入力画面!AN196:AP196,\"\")","v":""},null,null,{"$f":"IF(入力画面!$T196<>\"\",入力画面!AQ196:AU196,\"\")","v":""},{"$nulls":4},{"$f":"IF(入力画面!$T196<>\"\",入力画面!AV196:AX196,\"\")","v":""},null,null,{"$f":"IF(入力画面!$T196<>\"\",入力画面!AY196:BC196,\"\")","v":""},{"$nulls":4},{"$f":"入力画面!BD196:BM196","v":0}]
[187,{"$f":"入力画面!B197:Q197","v":0},{"$nulls":15},{"$f":"入力画面!R197:S197","v":0},null,{"$f":"IF(入力画面!$T197<>\"\",入力画面!T197,\"\")","v":""},null,null,{"$f":"IF(入力画面!$T197<>\"\",入力画面!W197,\"\")","v":""},{"$nulls":3},{"$f":"IF(入力画面!$T197<>\"\",入力画面!AA197:AE197,\"\")","v":""},{"$nulls":4},{"$f":"IF(入力画面!$T197<>\"\",入力画面!AF197:AH197,\"\")","v":""},null,null,{"$f":"IF(入力画面!$T197<>\"\",入力画面!AI197:AM197,\"\")","v":""},{"$nulls":4},{"$f":"IF(入力画面!$T197<>\"\",入力画面!AN197:AP197,\"\")","v":""},null,null,{"$f":"IF(入力画面!$T197<>\"\",入力画面!AQ197:AU197,\"\")","v":""},{"$nulls":4},{"$f":"IF(入力画面!$T197<>\"\",入力画面!AV197:AX197,\"\")","v":""},null,null,{"$f":"IF(入力画面!$T197<>\"\",入力画面!AY197:BC197,\"\")","v":""},{"$nulls":4},{"$f":"入力画面!BD197:BM197","v":0}]
[188,{"$f":"入力画面!B198:Q198","v":0},{"$nulls":15},{"$f":"入力画面!R198:S198","v":0},null,{"$f":"IF(入力画面!$T198<>\"\",入力画面!T198,\"\")","v":""},null,null,{"$f":"IF(入力画面!$T198<>\"\",入力画面!W198,\"\")","v":""},{"$nulls":3},{"$f":"IF(入力画面!$T198<>\"\",入力画面!AA198:AE198,\"\")","v":""},{"$nulls":4},{"$f":"IF(入力画面!$T198<>\"\",入力画面!AF198:AH198,\"\")","v":""},null,null,{"$f":"IF(入力画面!$T198<>\"\",入力画面!AI198:AM198,\"\")","v":""},{"$nulls":4},{"$f":"IF(入力画面!$T198<>\"\",入力画面!AN198:AP198,\"\")","v":""},null,null,{"$f":"IF(入力画面!$T198<>\"\",入力画面!AQ198:AU198,\"\")","v":""},{"$nulls":4},{"$f":"IF(入力画面!$T198<>\"\",入力画面!AV198:AX198,\"\")","v":""},null,null,{"$f":"IF(入力画面!$T198<>\"\",入力画面!AY198:BC198,\"\")","v":""},{"$nulls":4},{"$f":"入力画面!BD198:BM198","v":0}]
[189,{"$f":"入力画面!B199:Q199","v":0},{"$nulls":15},{"$f":"入力画面!R199:S199","v":0},null,{"$f":"IF(入力画面!$T199<>\"\",入力画面!T199,\"\")","v":""},null,null,{"$f":"IF(入力画面!$T199<>\"\",入力画面!W199,\"\")","v":""},{"$nulls":3},{"$f":"IF(入力画面!$T199<>\"\",入力画面!AA199:AE199,\"\")","v":""},{"$nulls":4},{"$f":"IF(入力画面!$T199<>\"\",入力画面!AF199:AH199,\"\")","v":""},null,null,{"$f":"IF(入力画面!$T199<>\"\",入力画面!AI199:AM199,\"\")","v":""},{"$nulls":4},{"$f":"IF(入力画面!$T199<>\"\",入力画面!AN199:AP199,\"\")","v":""},null,null,{"$f":"IF(入力画面!$T199<>\"\",入力画面!AQ199:AU199,\"\")","v":""},{"$nulls":4},{"$f":"IF(入力画面!$T199<>\"\",入力画面!AV199:AX199,\"\")","v":""},null,null,{"$f":"IF(入力画面!$T199<>\"\",入力画面!AY199:BC199,\"\")","v":""},{"$nulls":4},{"$f":"入力画面!BD199:BM199","v":0}]
[190,{"$f":"入力画面!B200:Q200","v":0},{"$nulls":15},{"$f":"入力画面!R200:S200","v":0},null,{"$f":"IF(入力画面!$T200<>\"\",入力画面!T200,\"\")","v":""},null,null,{"$f":"IF(入力画面!$T200<>\"\",入力画面!W200,\"\")","v":""},{"$nulls":3},{"$f":"IF(入力画面!$T200<>\"\",入力画面!AA200:AE200,\"\")","v":""},{"$nulls":4},{"$f":"IF(入力画面!$T200<>\"\",入力画面!AF200:AH200,\"\")","v":""},null,null,{"$f":"IF(入力画面!$T200<>\"\",入力画面!AI200:AM200,\"\")","v":""},{"$nulls":4},{"$f":"IF(入力画面!$T200<>\"\",入力画面!AN200:AP200,\"\")","v":""},null,null,{"$f":"IF(入力画面!$T200<>\"\",入力画面!AQ200:AU200,\"\")","v":""},{"$nulls":4},{"$f":"IF(入力画面!$T200<>\"\",入力画面!AV200:AX200,\"\")","v":""},null,null,{"$f":"IF(入力画面!$T200<>\"\",入力画面!AY200:BC200,\"\")","v":""},{"$nulls":4},{"$f":"入力画面!BD200:BM200","v":0}]
[191,{"$f":"入力画面!B201:Q201","v":0},{"$nulls":15},{"$f":"入力画面!R201:S201","v":0},null,{"$f":"IF(入力画面!$T201<>\"\",入力画面!T201,\"\")","v":""},null,null,{"$f":"IF(入力画面!$T201<>\"\",入力画面!W201,\"\")","v":""},{"$nulls":3},{"$f":"IF(入力画面!$T201<>\"\",入力画面!AA201:AE201,\"\")","v":""},{"$nulls":4},{"$f":"IF(入力画面!$T201<>\"\",入力画面!AF201:AH201,\"\")","v":""},null,null,{"$f":"IF(入力画面!$T201<>\"\",入力画面!AI201:AM201,\"\")","v":""},{"$nulls":4},{"$f":"IF(入力画面!$T201<>\"\",入力画面!AN201:AP201,\"\")","v":""},null,null,{"$f":"IF(入力画面!$T201<>\"\",入力画面!AQ201:AU201,\"\")","v":""},{"$nulls":4},{"$f":"IF(入力画面!$T201<>\"\",入力画面!AV201:AX201,\"\")","v":""},null,null,{"$f":"IF(入力画面!$T201<>\"\",入力画面!AY201:BC201,\"\")","v":""},{"$nulls":4},{"$f":"入力画面!BD201:BM201","v":0}]
[192,{"$f":"入力画面!B202:Q202","v":0},{"$nulls":15},{"$f":"入力画面!R202:S202","v":0},null,{"$f":"IF(入力画面!$T202<>\"\",入力画面!T202,\"\")","v":""},null,null,{"$f":"IF(入力画面!$T202<>\"\",入力画面!W202,\"\")","v":""},{"$nulls":3},{"$f":"IF(入力画面!$T202<>\"\",入力画面!AA202:AE202,\"\")","v":""},{"$nulls":4},{"$f":"IF(入力画面!$T202<>\"\",入力画面!AF202:AH202,\"\")","v":""},null,null,{"$f":"IF(入力画面!$T202<>\"\",入力画面!AI202:AM202,\"\")","v":""},{"$nulls":4},{"$f":"IF(入力画面!$T202<>\"\",入力画面!AN202:AP202,\"\")","v":""},null,null,{"$f":"IF(入力画面!$T202<>\"\",入力画面!AQ202:AU202,\"\")","v":""},{"$nulls":4},{"$f":"IF(入力画面!$T202<>\"\",入力画面!AV202:AX202,\"\")","v":""},null,null,{"$f":"IF(入力画面!$T202<>\"\",入力画面!AY202:BC202,\"\")","v":""},{"$nulls":4},{"$f":"入力画面!BD202:BM202","v":0}]
[193,{"$f":"入力画面!B203:Q203","v":0},{"$nulls":15},{"$f":"入力画面!R203:S203","v":0},null,{"$f":"IF(入力画面!$T203<>\"\",入力画面!T203,\"\")","v":""},null,null,{"$f":"IF(入力画面!$T203<>\"\",入力画面!W203,\"\")","v":""},{"$nulls":3},{"$f":"IF(入力画面!$T203<>\"\",入力画面!AA203:AE203,\"\")","v":""},{"$nulls":4},{"$f":"IF(入力画面!$T203<>\"\",入力画面!AF203:AH203,\"\")","v":""},null,null,{"$f":"IF(入力画面!$T203<>\"\",入力画面!AI203:AM203,\"\")","v":""},{"$nulls":4},{"$f":"IF(入力画面!$T203<>\"\",入力画面!AN203:AP203,\"\")","v":""},null,null,{"$f":"IF(入力画面!$T203<>\"\",入力画面!AQ203:AU203,\"\")","v":""},{"$nulls":4},{"$f":"IF(入力画面!$T203<>\"\",入力画面!AV203:AX203,\"\")","v":""},null,null,{"$f":"IF(入力画面!$T203<>\"\",入力画面!AY203:BC203,\"\")","v":""},{"$nulls":4},{"$f":"入力画面!BD203:BM203","v":0}]
[194,{"$f":"入力画面!B204:Q204","v":0},{"$nulls":15},{"$f":"入力画面!R204:S204","v":0},null,{"$f":"IF(入力画面!$T204<>\"\",入力画面!T204,\"\")","v":""},null,null,{"$f":"IF(入力画面!$T204<>\"\",入力画面!W204,\"\")","v":""},{"$nulls":3},{"$f":"IF(入力画面!$T204<>\"\",入力画面!AA204:AE204,\"\")","v":""},{"$nulls":4},{"$f":"IF(入力画面!$T204<>\"\",入力画面!AF204:AH204,\"\")","v":""},null,null,{"$f":"IF(入力画面!$T204<>\"\",入力画面!AI204:AM204,\"\")","v":""},{"$nulls":4},{"$f":"IF(入力画面!$T204<>\"\",入力画面!AN204:AP204,\"\")","v":""},null,null,{"$f":"IF(入力画面!$T204<>\"\",入力画面!AQ204:AU204,\"\")","v":""},{"$nulls":4},{"$f":"IF(入力画面!$T204<>\"\",入力画面!AV204:AX204,\"\")","v":""},null,null,{"$f":"IF(入力画面!$T204<>\"\",入力画面!AY204:BC204,\"\")","v":""},{"$nulls":4},{"$f":"入力画面!BD204:BM204","v":0}]
[195,{"$f":"入力画面!B205:Q205","v":0},{"$nulls":15},{"$f":"入力画面!R205:S205","v":0},null,{"$f":"IF(入力画面!$T205<>\"\",入力画面!T205,\"\")","v":""},null,null,{"$f":"IF(入力画面!$T205<>\"\",入力画面!W205,\"\")","v":""},{"$nulls":3},{"$f":"IF(入力画面!$T205<>\"\",入力画面!AA205:AE205,\"\")","v":""},{"$nulls":4},{"$f":"IF(入力画面!$T205<>\"\",入力画面!AF205:AH205,\"\")","v":""},null,null,{"$f":"IF(入力画面!$T205<>\"\",入力画面!AI205:AM205,\"\")","v":""},{"$nulls":4},{"$f":"IF(入力画面!$T205<>\"\",入力画面!AN205:AP205,\"\")","v":""},null,null,{"$f":"IF(入力画面!$T205<>\"\",入力画面!AQ205:AU205,\"\")","v":""},{"$nulls":4},{"$f":"IF(入力画面!$T205<>\"\",入力画面!AV205:AX205,\"\")","v":""},null,null,{"$f":"IF(入力画面!$T205<>\"\",入力画面!AY205:BC205,\"\")","v":""},{"$nulls":4},{"$f":"入力画面!BD205:BM205","v":0}]
[196,{"$f":"入力画面!B206:Q206","v":0},{"$nulls":15},{"$f":"入力画面!R206:S206","v":0},null,{"$f":"IF(入力画面!$T206<>\"\",入力画面!T206,\"\")","v":""},null,null,{"$f":"IF(入力画面!$T206<>\"\",入力画面!W206,\"\")","v":""},{"$nulls":3},{"$f":"IF(入力画面!$T206<>\"\",入力画面!AA206:AE206,\"\")","v":""},{"$nulls":4},{"$f":"IF(入力画面!$T206<>\"\",入力画面!AF206:AH206,\"\")","v":""},null,null,{"$f":"IF(入力画面!$T206<>\"\",入力画面!AI206:AM206,\"\")","v":""},{"$nulls":4},{"$f":"IF(入力画面!$T206<>\"\",入力画面!AN206:AP206,\"\")","v":""},null,null,{"$f":"IF(入力画面!$T206<>\"\",入力画面!AQ206:AU206,\"\")","v":""},{"$nulls":4},{"$f":"IF(入力画面!$T206<>\"\",入力画面!AV206:AX206,\"\")","v":""},null,null,{"$f":"IF(入力画面!$T206<>\"\",入力画面!AY206:BC206,\"\")","v":""},{"$nulls":4},{"$f":"入力画面!BD206:BM206","v":0}]
[197,{"$f":"入力画面!B207:Q207","v":0},{"$nulls":15},{"$f":"入力画面!R207:S207","v":0},null,{"$f":"IF(入力画面!$T207<>\"\",入力画面!T207,\"\")","v":""},null,null,{"$f":"IF(入力画面!$T207<>\"\",入力画面!W207,\"\")","v":""},{"$nulls":3},{"$f":"IF(入力画面!$T207<>\"\",入力画面!AA207:AE207,\"\")","v":""},{"$nulls":4},{"$f":"IF(入力画面!$T207<>\"\",入力画面!AF207:AH207,\"\")","v":""},null,null,{"$f":"IF(入力画面!$T207<>\"\",入力画面!AI207:AM207,\"\")","v":""},{"$nulls":4},{"$f":"IF(入力画面!$T207<>\"\",入力画面!AN207:AP207,\"\")","v":""},null,null,{"$f":"IF(入力画面!$T207<>\"\",入力画面!AQ207:AU207,\"\")","v":""},{"$nulls":4},{"$f":"IF(入力画面!$T207<>\"\",入力画面!AV207:AX207,\"\")","v":""},null,null,{"$f":"IF(入力画面!$T207<>\"\",入力画面!AY207:BC207,\"\")","v":""},{"$nulls":4},{"$f":"入力画面!BD207:BM207","v":0}]
[198,{"$f":"入力画面!B208:Q208","v":0},{"$nulls":15},{"$f":"入力画面!R208:S208","v":0},null,{"$f":"IF(入力画面!$T208<>\"\",入力画面!T208,\"\")","v":""},null,null,{"$f":"IF(入力画面!$T208<>\"\",入力画面!W208,\"\")","v":""},{"$nulls":3},{"$f":"IF(入力画面!$T208<>\"\",入力画面!AA208:AE208,\"\")","v":""},{"$nulls":4},{"$f":"IF(入力画面!$T208<>\"\",入力画面!AF208:AH208,\"\")","v":""},null,null,{"$f":"IF(入力画面!$T208<>\"\",入力画面!AI208:AM208,\"\")","v":""},{"$nulls":4},{"$f":"IF(入力画面!$T208<>\"\",入力画面!AN208:AP208,\"\")","v":""},null,null,{"$f":"IF(入力画面!$T208<>\"\",入力画面!AQ208:AU208,\"\")","v":""},{"$nulls":4},{"$f":"IF(入力画面!$T208<>\"\",入力画面!AV208:AX208,\"\")","v":""},null,null,{"$f":"IF(入力画面!$T208<>\"\",入力画面!AY208:BC208,\"\")","v":""},{"$nulls":4},{"$f":"入力画面!BD208:BM208","v":0}]
[199,{"$f":"入力画面!B209:Q209","v":0},{"$nulls":15},{"$f":"入力画面!R209:S209","v":0},null,{"$f":"IF(入力画面!$T209<>\"\",入力画面!T209,\"\")","v":""},null,null,{"$f":"IF(入力画面!$T209<>\"\",入力画面!W209,\"\")","v":""},{"$nulls":3},{"$f":"IF(入力画面!$T209<>\"\",入力画面!AA209:AE209,\"\")","v":""},{"$nulls":4},{"$f":"IF(入力画面!$T209<>\"\",入力画面!AF209:AH209,\"\")","v":""},null,null,{"$f":"IF(入力画面!$T209<>\"\",入力画面!AI209:AM209,\"\")","v":""},{"$nulls":4},{"$f":"IF(入力画面!$T209<>\"\",入力画面!AN209:AP209,\"\")","v":""},null,null,{"$f":"IF(入力画面!$T209<>\"\",入力画面!AQ209:AU209,\"\")","v":""},{"$nulls":4},{"$f":"IF(入力画面!$T209<>\"\",入力画面!AV209:AX209,\"\")","v":""},null,null,{"$f":"IF(入力画面!$T209<>\"\",入力画面!AY209:BC209,\"\")","v":""},{"$nulls":4},{"$f":"入力画面!BD209:BM209","v":0}]
[200,{"$f":"入力画面!B210:Q210","v":0},{"$nulls":15},{"$f":"入力画面!R210:S210","v":0},null,{"$f":"IF(入力画面!$T210<>\"\",入力画面!T210,\"\")","v":""},null,null,{"$f":"IF(入力画面!$T210<>\"\",入力画面!W210,\"\")","v":""},{"$nulls":3},{"$f":"IF(入力画面!$T210<>\"\",入力画面!AA210:AE210,\"\")","v":""},{"$nulls":4},{"$f":"IF(入力画面!$T210<>\"\",入力画面!AF210:AH210,\"\")","v":""},null,null,{"$f":"IF(入力画面!$T210<>\"\",入力画面!AI210:AM210,\"\")","v":""},{"$nulls":4},{"$f":"IF(入力画面!$T210<>\"\",入力画面!AN210:AP210,\"\")","v":""},null,null,{"$f":"IF(入力画面!$T210<>\"\",入力画面!AQ210:AU210,\"\")","v":""},{"$nulls":4},{"$f":"IF(入力画面!$T210<>\"\",入力画面!AV210:AX210,\"\")","v":""},null,null,{"$f":"IF(入力画面!$T210<>\"\",入力画面!AY210:BC210,\"\")","v":""},{"$nulls":4},{"$f":"入力画面!BD210:BM210","v":0}]
["※消費税、保留金の計算は別紙、請求書で行ってください",{"$nulls":21},"小計",{"$nulls":3},{"$f":"SUM(AA287:AE306)","v":{"v":0,"d":"0 "}},{"$nulls":4},"小計",null,null,{"$f":"SUM(AI287:AM306)","v":{"v":0,"d":"0 "}},{"$nulls":4},"小計",null,null,{"$f":"SUM(AQ287:AU306)","v":{"v":0,"d":"0 "}},{"$nulls":4},"小計",null,null,{"$f":"SUM(AY287:BC306)","v":{"v":0,"d":"0 "}},{"$nulls":4},"担　当　者　　　　確　認　印",{"$nulls":4},{"$f":"IF(AA308=\"－\",\"―――――\",\"\")","v":"―――――"}]
["※完成後一括払いであっても出来高検収書を作成・添付してください",{"$nulls":21},"合計",{"$nulls":3},{"$f":"IF(AND(OR(AA276<>0,AI276<>0,AQ276<>0,AY276<>0),AND(AA277=\"－\",AA338=0,AI338=0,AQ338=0,AY338=0)),AA28+AA59+AA90+AA121+AA152+AA183+AA214+AA245+AA276+AA307,\"－\")","v":"－"},{"$nulls":4},"合計",null,null,{"$f":"IF($AA308<>\"－\",AI28+AI59+AI90+AI121+AI152+AI183+AI214+AI245+AI276+AI307,\"－\")","v":"－"},{"$nulls":4},"合計",null,null,{"$f":"IF($AA308<>\"－\",AQ28+AQ59+AQ90+AQ121+AQ152+AQ183+AQ214+AQ245+AQ276+AQ307,\"－\")","v":"－"},{"$nulls":4},"合計",null,null,{"$f":"IF($AA308<>\"－\",AY28+AY59+AY90+AY121+AY152+AY183+AY214+AY245+AY276+AY307,\"－\")","v":"－"}]
["※協力会社印は出力枚数の都度、押印してください",{"$nulls":33},"今回迄出来高累計",{"$nulls":7},{"$f":"IF(AA308=\"－\",\"－\",AI308+AQ308)","v":"－"}]
[{"$nulls":55},"検   収   日",{"$nulls":4},{"$f":"IF(AA308=\"－\",\"――――\",\"\")","v":"――――"}]
[]
[null,null,"出　来　高　検　収　書　（第",{"$nulls":15},{"$f":"$S$2","v":0},null,"回）",null,null,"( 検収期間",{"$nulls":4},{"$f":"IF(入力画面!$J$4=\"\",\"\",入力画面!$J$4)","v":""},{"$nulls":4},"～",{"$f":"IF(入力画面!$Q$4=\"\",\"\",入力画面!$Q$4)","v":""},{"$nulls":4},"）",{"$nulls":14},"仙 建 工 業 株 式 会 社"]
[{"$nulls":41},"協力会社名"]
["工 事 番 号",{"$nulls":3},{"$f":"$E$4","v":0},{"$nulls":7},"工 事 件 名",{"$nulls":4},{"$f":"$R$4","v":0},{"$nulls":23},{"$f":"$AP$4","v":""},{"$nulls":19},"　印"]
["契   約   日",{"$nulls":3},{"$f":"$E$5","v":""},{"$nulls":7},"工         期",{"$nulls":4},"自",{"$nulls":3},{"$f":"$V$5","v":""},{"$nulls":7},"至",{"$nulls":3},{"$f":"$AH$5","v":""}]
["№","工                         種",{"$nulls":15},"契       約       金       額",{"$nulls":13},"前回迄出来高累計",{"$nulls":7},"今  回  出  来  高",{"$nulls":7},"残            高",{"$nulls":7},"摘                要"]
[{"$nulls":17},"単位",null,"数 量",null,null,"単   価",{"$nulls":3},"金     額",{"$nulls":4},"数 量",null,null,"金     額",{"$nulls":4},"数 量",null,null,"金     額",{"$nulls":4},"数 量",null,null,"金     額"]
[201,{"$f":"入力画面!B211:Q211","v":0},{"$nulls":15},{"$f":"入力画面!R211:S211","v":0},null,{"$f":"IF(入力画面!$T211<>\"\",入力画面!T211,\"\")","v":""},null,null,{"$f":"IF(入力画面!$T211<>\"\",入力画面!W211,\"\")","v":""},{"$nulls":3},{"$f":"IF(入力画面!$T211<>\"\",入力画面!AA211:AE211,\"\")","v":""},{"$nulls":4},{"$f":"IF(入力画面!$T211<>\"\",入力画面!AF211:AH211,\"\")","v":""},null,null,{"$f":"IF(入力画面!$T211<>\"\",入力画面!AI211:AM211,\"\")","v":""},{"$nulls":4},{"$f":"IF(入力画面!$T211<>\"\",入力画面!AN211:AP211,\"\")","v":""},null,null,{"$f":"IF(入力画面!$T211<>\"\",入力画面!AQ211:AU211,\"\")","v":""},{"$nulls":4},{"$f":"IF(入力画面!$T211<>\"\",入力画面!AV211:AX211,\"\")","v":""},null,null,{"$f":"IF(入力画面!$T211<>\"\",入力画面!AY211:BC211,\"\")","v":""},{"$nulls":4},{"$f":"入力画面!BD211:BM211","v":0}]
[202,{"$f":"入力画面!B212:Q212","v":0},{"$nulls":15},{"$f":"入力画面!R212:S212","v":0},null,{"$f":"IF(入力画面!$T212<>\"\",入力画面!T212,\"\")","v":""},null,null,{"$f":"IF(入力画面!$T212<>\"\",入力画面!W212,\"\")","v":""},{"$nulls":3},{"$f":"IF(入力画面!$T212<>\"\",入力画面!AA212:AE212,\"\")","v":""},{"$nulls":4},{"$f":"IF(入力画面!$T212<>\"\",入力画面!AF212:AH212,\"\")","v":""},null,null,{"$f":"IF(入力画面!$T212<>\"\",入力画面!AI212:AM212,\"\")","v":""},{"$nulls":4},{"$f":"IF(入力画面!$T212<>\"\",入力画面!AN212:AP212,\"\")","v":""},null,null,{"$f":"IF(入力画面!$T212<>\"\",入力画面!AQ212:AU212,\"\")","v":""},{"$nulls":4},{"$f":"IF(入力画面!$T212<>\"\",入力画面!AV212:AX212,\"\")","v":""},null,null,{"$f":"IF(入力画面!$T212<>\"\",入力画面!AY212:BC212,\"\")","v":""},{"$nulls":4},{"$f":"入力画面!BD223:BM223","v":0}]
[203,{"$f":"入力画面!B213:Q213","v":0},{"$nulls":15},{"$f":"入力画面!R213:S213","v":0},null,{"$f":"IF(入力画面!$T213<>\"\",入力画面!T213,\"\")","v":""},null,null,{"$f":"IF(入力画面!$T213<>\"\",入力画面!W213,\"\")","v":""},{"$nulls":3},{"$f":"IF(入力画面!$T213<>\"\",入力画面!AA213:AE213,\"\")","v":""},{"$nulls":4},{"$f":"IF(入力画面!$T213<>\"\",入力画面!AF213:AH213,\"\")","v":""},null,null,{"$f":"IF(入力画面!$T213<>\"\",入力画面!AI213:AM213,\"\")","v":""},{"$nulls":4},{"$f":"IF(入力画面!$T213<>\"\",入力画面!AN213:AP213,\"\")","v":""},null,null,{"$f":"IF(入力画面!$T213<>\"\",入力画面!AQ213:AU213,\"\")","v":""},{"$nulls":4},{"$f":"IF(入力画面!$T213<>\"\",入力画面!AV213:AX213,\"\")","v":""},null,null,{"$f":"IF(入力画面!$T213<>\"\",入力画面!AY213:BC213,\"\")","v":""},{"$nulls":4},{"$f":"入力画面!BD224:BM224","v":0}]
[204,{"$f":"入力画面!B214:Q214","v":0},{"$nulls":15},{"$f":"入力画面!R214:S214","v":0},null,{"$f":"IF(入力画面!$T214<>\"\",入力画面!T214,\"\")","v":""},null,null,{"$f":"IF(入力画面!$T214<>\"\",入力画面!W214,\"\")","v":""},{"$nulls":3},{"$f":"IF(入力画面!$T214<>\"\",入力画面!AA214:AE214,\"\")","v":""},{"$nulls":4},{"$f":"IF(入力画面!$T214<>\"\",入力画面!AF214:AH214,\"\")","v":""},null,null,{"$f":"IF(入力画面!$T214<>\"\",入力画面!AI214:AM214,\"\")","v":""},{"$nulls":4},{"$f":"IF(入力画面!$T214<>\"\",入力画面!AN214:AP214,\"\")","v":""},null,null,{"$f":"IF(入力画面!$T214<>\"\",入力画面!AQ214:AU214,\"\")","v":""},{"$nulls":4},{"$f":"IF(入力画面!$T214<>\"\",入力画面!AV214:AX214,\"\")","v":""},null,null,{"$f":"IF(入力画面!$T214<>\"\",入力画面!AY214:BC214,\"\")","v":""},{"$nulls":4},{"$f":"入力画面!BD225:BM225","v":0}]
[205,{"$f":"入力画面!B215:Q215","v":0},{"$nulls":15},{"$f":"入力画面!R215:S215","v":0},null,{"$f":"IF(入力画面!$T215<>\"\",入力画面!T215,\"\")","v":""},null,null,{"$f":"IF(入力画面!$T215<>\"\",入力画面!W215,\"\")","v":""},{"$nulls":3},{"$f":"IF(入力画面!$T215<>\"\",入力画面!AA215:AE215,\"\")","v":""},{"$nulls":4},{"$f":"IF(入力画面!$T215<>\"\",入力画面!AF215:AH215,\"\")","v":""},null,null,{"$f":"IF(入力画面!$T215<>\"\",入力画面!AI215:AM215,\"\")","v":""},{"$nulls":4},{"$f":"IF(入力画面!$T215<>\"\",入力画面!AN215:AP215,\"\")","v":""},null,null,{"$f":"IF(入力画面!$T215<>\"\",入力画面!AQ215:AU215,\"\")","v":""},{"$nulls":4},{"$f":"IF(入力画面!$T215<>\"\",入力画面!AV215:AX215,\"\")","v":""},null,null,{"$f":"IF(入力画面!$T215<>\"\",入力画面!AY215:BC215,\"\")","v":""},{"$nulls":4},{"$f":"入力画面!BD226:BM226","v":0}]
[206,{"$f":"入力画面!B216:Q216","v":0},{"$nulls":15},{"$f":"入力画面!R216:S216","v":0},null,{"$f":"IF(入力画面!$T216<>\"\",入力画面!T216,\"\")","v":""},null,null,{"$f":"IF(入力画面!$T216<>\"\",入力画面!W216,\"\")","v":""},{"$nulls":3},{"$f":"IF(入力画面!$T216<>\"\",入力画面!AA216:AE216,\"\")","v":""},{"$nulls":4},{"$f":"IF(入力画面!$T216<>\"\",入力画面!AF216:AH216,\"\")","v":""},null,null,{"$f":"IF(入力画面!$T216<>\"\",入力画面!AI216:AM216,\"\")","v":""},{"$nulls":4},{"$f":"IF(入力画面!$T216<>\"\",入力画面!AN216:AP216,\"\")","v":""},null,null,{"$f":"IF(入力画面!$T216<>\"\",入力画面!AQ216:AU216,\"\")","v":""},{"$nulls":4},{"$f":"IF(入力画面!$T216<>\"\",入力画面!AV216:AX216,\"\")","v":""},null,null,{"$f":"IF(入力画面!$T216<>\"\",入力画面!AY216:BC216,\"\")","v":""},{"$nulls":4},{"$f":"入力画面!BD227:BM227","v":0}]
[207,{"$f":"入力画面!B217:Q217","v":0},{"$nulls":15},{"$f":"入力画面!R217:S217","v":0},null,{"$f":"IF(入力画面!$T217<>\"\",入力画面!T217,\"\")","v":""},null,null,{"$f":"IF(入力画面!$T217<>\"\",入力画面!W217,\"\")","v":""},{"$nulls":3},{"$f":"IF(入力画面!$T217<>\"\",入力画面!AA217:AE217,\"\")","v":""},{"$nulls":4},{"$f":"IF(入力画面!$T217<>\"\",入力画面!AF217:AH217,\"\")","v":""},null,null,{"$f":"IF(入力画面!$T217<>\"\",入力画面!AI217:AM217,\"\")","v":""},{"$nulls":4},{"$f":"IF(入力画面!$T217<>\"\",入力画面!AN217:AP217,\"\")","v":""},null,null,{"$f":"IF(入力画面!$T217<>\"\",入力画面!AQ217:AU217,\"\")","v":""},{"$nulls":4},{"$f":"IF(入力画面!$T217<>\"\",入力画面!AV217:AX217,\"\")","v":""},null,null,{"$f":"IF(入力画面!$T217<>\"\",入力画面!AY217:BC217,\"\")","v":""},{"$nulls":4},{"$f":"入力画面!BD228:BM228","v":0}]
[208,{"$f":"入力画面!B218:Q218","v":0},{"$nulls":15},{"$f":"入力画面!R218:S218","v":0},null,{"$f":"IF(入力画面!$T218<>\"\",入力画面!T218,\"\")","v":""},null,null,{"$f":"IF(入力画面!$T218<>\"\",入力画面!W218,\"\")","v":""},{"$nulls":3},{"$f":"IF(入力画面!$T218<>\"\",入力画面!AA218:AE218,\"\")","v":""},{"$nulls":4},{"$f":"IF(入力画面!$T218<>\"\",入力画面!AF218:AH218,\"\")","v":""},null,null,{"$f":"IF(入力画面!$T218<>\"\",入力画面!AI218:AM218,\"\")","v":""},{"$nulls":4},{"$f":"IF(入力画面!$T218<>\"\",入力画面!AN218:AP218,\"\")","v":""},null,null,{"$f":"IF(入力画面!$T218<>\"\",入力画面!AQ218:AU218,\"\")","v":""},{"$nulls":4},{"$f":"IF(入力画面!$T218<>\"\",入力画面!AV218:AX218,\"\")","v":""},null,null,{"$f":"IF(入力画面!$T218<>\"\",入力画面!AY218:BC218,\"\")","v":""},{"$nulls":4},{"$f":"入力画面!BD229:BM229","v":0}]
[209,{"$f":"入力画面!B219:Q219","v":0},{"$nulls":15},{"$f":"入力画面!R219:S219","v":0},null,{"$f":"IF(入力画面!$T219<>\"\",入力画面!T219,\"\")","v":""},null,null,{"$f":"IF(入力画面!$T219<>\"\",入力画面!W219,\"\")","v":""},{"$nulls":3},{"$f":"IF(入力画面!$T219<>\"\",入力画面!AA219:AE219,\"\")","v":""},{"$nulls":4},{"$f":"IF(入力画面!$T219<>\"\",入力画面!AF219:AH219,\"\")","v":""},null,null,{"$f":"IF(入力画面!$T219<>\"\",入力画面!AI219:AM219,\"\")","v":""},{"$nulls":4},{"$f":"IF(入力画面!$T219<>\"\",入力画面!AN219:AP219,\"\")","v":""},null,null,{"$f":"IF(入力画面!$T219<>\"\",入力画面!AQ219:AU219,\"\")","v":""},{"$nulls":4},{"$f":"IF(入力画面!$T219<>\"\",入力画面!AV219:AX219,\"\")","v":""},null,null,{"$f":"IF(入力画面!$T219<>\"\",入力画面!AY219:BC219,\"\")","v":""},{"$nulls":4},{"$f":"入力画面!BD230:BM230","v":0}]
[210,{"$f":"入力画面!B220:Q220","v":0},{"$nulls":15},{"$f":"入力画面!R220:S220","v":0},null,{"$f":"IF(入力画面!$T220<>\"\",入力画面!T220,\"\")","v":""},null,null,{"$f":"IF(入力画面!$T220<>\"\",入力画面!W220,\"\")","v":""},{"$nulls":3},{"$f":"IF(入力画面!$T220<>\"\",入力画面!AA220:AE220,\"\")","v":""},{"$nulls":4},{"$f":"IF(入力画面!$T220<>\"\",入力画面!AF220:AH220,\"\")","v":""},null,null,{"$f":"IF(入力画面!$T220<>\"\",入力画面!AI220:AM220,\"\")","v":""},{"$nulls":4},{"$f":"IF(入力画面!$T220<>\"\",入力画面!AN220:AP220,\"\")","v":""},null,null,{"$f":"IF(入力画面!$T220<>\"\",入力画面!AQ220:AU220,\"\")","v":""},{"$nulls":4},{"$f":"IF(入力画面!$T220<>\"\",入力画面!AV220:AX220,\"\")","v":""},null,null,{"$f":"IF(入力画面!$T220<>\"\",入力画面!AY220:BC220,\"\")","v":""},{"$nulls":4},{"$f":"入力画面!BD231:BM231","v":0}]
[211,{"$f":"入力画面!B221:Q221","v":0},{"$nulls":15},{"$f":"入力画面!R221:S221","v":0},null,{"$f":"IF(入力画面!$T221<>\"\",入力画面!T221,\"\")","v":""},null,null,{"$f":"IF(入力画面!$T221<>\"\",入力画面!W221,\"\")","v":""},{"$nulls":3},{"$f":"IF(入力画面!$T221<>\"\",入力画面!AA221:AE221,\"\")","v":""},{"$nulls":4},{"$f":"IF(入力画面!$T221<>\"\",入力画面!AF221:AH221,\"\")","v":""},null,null,{"$f":"IF(入力画面!$T221<>\"\",入力画面!AI221:AM221,\"\")","v":""},{"$nulls":4},{"$f":"IF(入力画面!$T221<>\"\",入力画面!AN221:AP221,\"\")","v":""},null,null,{"$f":"IF(入力画面!$T221<>\"\",入力画面!AQ221:AU221,\"\")","v":""},{"$nulls":4},{"$f":"IF(入力画面!$T221<>\"\",入力画面!AV221:AX221,\"\")","v":""},null,null,{"$f":"IF(入力画面!$T221<>\"\",入力画面!AY221:BC221,\"\")","v":""},{"$nulls":4},{"$f":"入力画面!BD232:BM232","v":0}]
[212,{"$f":"入力画面!B222:Q222","v":0},{"$nulls":15},{"$f":"入力画面!R222:S222","v":0},null,{"$f":"IF(入力画面!$T222<>\"\",入力画面!T222,\"\")","v":""},null,null,{"$f":"IF(入力画面!$T222<>\"\",入力画面!W222,\"\")","v":""},{"$nulls":3},{"$f":"IF(入力画面!$T222<>\"\",入力画面!AA222:AE222,\"\")","v":""},{"$nulls":4},{"$f":"IF(入力画面!$T222<>\"\",入力画面!AF222:AH222,\"\")","v":""},null,null,{"$f":"IF(入力画面!$T222<>\"\",入力画面!AI222:AM222,\"\")","v":""},{"$nulls":4},{"$f":"IF(入力画面!$T222<>\"\",入力画面!AN222:AP222,\"\")","v":""},null,null,{"$f":"IF(入力画面!$T222<>\"\",入力画面!AQ222:AU222,\"\")","v":""},{"$nulls":4},{"$f":"IF(入力画面!$T222<>\"\",入力画面!AV222:AX222,\"\")","v":""},null,null,{"$f":"IF(入力画面!$T222<>\"\",入力画面!AY222:BC222,\"\")","v":""},{"$nulls":4},{"$f":"入力画面!BD233:BM233","v":0}]
[213,{"$f":"入力画面!B223:Q223","v":0},{"$nulls":15},{"$f":"入力画面!R223:S223","v":0},null,{"$f":"IF(入力画面!$T223<>\"\",入力画面!T223,\"\")","v":""},null,null,{"$f":"IF(入力画面!$T223<>\"\",入力画面!W223,\"\")","v":""},{"$nulls":3},{"$f":"IF(入力画面!$T223<>\"\",入力画面!AA223:AE223,\"\")","v":""},{"$nulls":4},{"$f":"IF(入力画面!$T223<>\"\",入力画面!AF223:AH223,\"\")","v":""},null,null,{"$f":"IF(入力画面!$T223<>\"\",入力画面!AI223:AM223,\"\")","v":""},{"$nulls":4},{"$f":"IF(入力画面!$T223<>\"\",入力画面!AN223:AP223,\"\")","v":""},null,null,{"$f":"IF(入力画面!$T223<>\"\",入力画面!AQ223:AU223,\"\")","v":""},{"$nulls":4},{"$f":"IF(入力画面!$T223<>\"\",入力画面!AV223:AX223,\"\")","v":""},null,null,{"$f":"IF(入力画面!$T223<>\"\",入力画面!AY223:BC223,\"\")","v":""},{"$nulls":4},{"$f":"入力画面!BD234:BM234","v":0}]
[214,{"$f":"入力画面!B224:Q224","v":0},{"$nulls":15},{"$f":"入力画面!R224:S224","v":0},null,{"$f":"IF(入力画面!$T224<>\"\",入力画面!T224,\"\")","v":""},null,null,{"$f":"IF(入力画面!$T224<>\"\",入力画面!W224,\"\")","v":""},{"$nulls":3},{"$f":"IF(入力画面!$T224<>\"\",入力画面!AA224:AE224,\"\")","v":""},{"$nulls":4},{"$f":"IF(入力画面!$T224<>\"\",入力画面!AF224:AH224,\"\")","v":""},null,null,{"$f":"IF(入力画面!$T224<>\"\",入力画面!AI224:AM224,\"\")","v":""},{"$nulls":4},{"$f":"IF(入力画面!$T224<>\"\",入力画面!AN224:AP224,\"\")","v":""},null,null,{"$f":"IF(入力画面!$T224<>\"\",入力画面!AQ224:AU224,\"\")","v":""},{"$nulls":4},{"$f":"IF(入力画面!$T224<>\"\",入力画面!AV224:AX224,\"\")","v":""},null,null,{"$f":"IF(入力画面!$T224<>\"\",入力画面!AY224:BC224,\"\")","v":""},{"$nulls":4},{"$f":"入力画面!BD235:BM235","v":0}]
[215,{"$f":"入力画面!B225:Q225","v":0},{"$nulls":15},{"$f":"入力画面!R225:S225","v":0},null,{"$f":"IF(入力画面!$T225<>\"\",入力画面!T225,\"\")","v":""},null,null,{"$f":"IF(入力画面!$T225<>\"\",入力画面!W225,\"\")","v":""},{"$nulls":3},{"$f":"IF(入力画面!$T225<>\"\",入力画面!AA225:AE225,\"\")","v":""},{"$nulls":4},{"$f":"IF(入力画面!$T225<>\"\",入力画面!AF225:AH225,\"\")","v":""},null,null,{"$f":"IF(入力画面!$T225<>\"\",入力画面!AI225:AM225,\"\")","v":""},{"$nulls":4},{"$f":"IF(入力画面!$T225<>\"\",入力画面!AN225:AP225,\"\")","v":""},null,null,{"$f":"IF(入力画面!$T225<>\"\",入力画面!AQ225:AU225,\"\")","v":""},{"$nulls":4},{"$f":"IF(入力画面!$T225<>\"\",入力画面!AV225:AX225,\"\")","v":""},null,null,{"$f":"IF(入力画面!$T225<>\"\",入力画面!AY225:BC225,\"\")","v":""},{"$nulls":4},{"$f":"入力画面!BD236:BM236","v":0}]
[216,{"$f":"入力画面!B226:Q226","v":0},{"$nulls":15},{"$f":"入力画面!R226:S226","v":0},null,{"$f":"IF(入力画面!$T226<>\"\",入力画面!T226,\"\")","v":""},null,null,{"$f":"IF(入力画面!$T226<>\"\",入力画面!W226,\"\")","v":""},{"$nulls":3},{"$f":"IF(入力画面!$T226<>\"\",入力画面!AA226:AE226,\"\")","v":""},{"$nulls":4},{"$f":"IF(入力画面!$T226<>\"\",入力画面!AF226:AH226,\"\")","v":""},null,null,{"$f":"IF(入力画面!$T226<>\"\",入力画面!AI226:AM226,\"\")","v":""},{"$nulls":4},{"$f":"IF(入力画面!$T226<>\"\",入力画面!AN226:AP226,\"\")","v":""},null,null,{"$f":"IF(入力画面!$T226<>\"\",入力画面!AQ226:AU226,\"\")","v":""},{"$nulls":4},{"$f":"IF(入力画面!$T226<>\"\",入力画面!AV226:AX226,\"\")","v":""},null,null,{"$f":"IF(入力画面!$T226<>\"\",入力画面!AY226:BC226,\"\")","v":""},{"$nulls":4},{"$f":"入力画面!BD237:BM237","v":0}]
[217,{"$f":"入力画面!B227:Q227","v":0},{"$nulls":15},{"$f":"入力画面!R227:S227","v":0},null,{"$f":"IF(入力画面!$T227<>\"\",入力画面!T227,\"\")","v":""},null,null,{"$f":"IF(入力画面!$T227<>\"\",入力画面!W227,\"\")","v":""},{"$nulls":3},{"$f":"IF(入力画面!$T227<>\"\",入力画面!AA227:AE227,\"\")","v":""},{"$nulls":4},{"$f":"IF(入力画面!$T227<>\"\",入力画面!AF227:AH227,\"\")","v":""},null,null,{"$f":"IF(入力画面!$T227<>\"\",入力画面!AI227:AM227,\"\")","v":""},{"$nulls":4},{"$f":"IF(入力画面!$T227<>\"\",入力画面!AN227:AP227,\"\")","v":""},null,null,{"$f":"IF(入力画面!$T227<>\"\",入力画面!AQ227:AU227,\"\")","v":""},{"$nulls":4},{"$f":"IF(入力画面!$T227<>\"\",入力画面!AV227:AX227,\"\")","v":""},null,null,{"$f":"IF(入力画面!$T227<>\"\",入力画面!AY227:BC227,\"\")","v":""},{"$nulls":4},{"$f":"入力画面!BD238:BM238","v":0}]
[218,{"$f":"入力画面!B228:Q228","v":0},{"$nulls":15},{"$f":"入力画面!R228:S228","v":0},null,{"$f":"IF(入力画面!$T228<>\"\",入力画面!T228,\"\")","v":""},null,null,{"$f":"IF(入力画面!$T228<>\"\",入力画面!W228,\"\")","v":""},{"$nulls":3},{"$f":"IF(入力画面!$T228<>\"\",入力画面!AA228:AE228,\"\")","v":""},{"$nulls":4},{"$f":"IF(入力画面!$T228<>\"\",入力画面!AF228:AH228,\"\")","v":""},null,null,{"$f":"IF(入力画面!$T228<>\"\",入力画面!AI228:AM228,\"\")","v":""},{"$nulls":4},{"$f":"IF(入力画面!$T228<>\"\",入力画面!AN228:AP228,\"\")","v":""},null,null,{"$f":"IF(入力画面!$T228<>\"\",入力画面!AQ228:AU228,\"\")","v":""},{"$nulls":4},{"$f":"IF(入力画面!$T228<>\"\",入力画面!AV228:AX228,\"\")","v":""},null,null,{"$f":"IF(入力画面!$T228<>\"\",入力画面!AY228:BC228,\"\")","v":""},{"$nulls":4},{"$f":"入力画面!BD239:BM239","v":0}]
[219,{"$f":"入力画面!B229:Q229","v":0},{"$nulls":15},{"$f":"入力画面!R229:S229","v":0},null,{"$f":"IF(入力画面!$T229<>\"\",入力画面!T229,\"\")","v":""},null,null,{"$f":"IF(入力画面!$T229<>\"\",入力画面!W229,\"\")","v":""},{"$nulls":3},{"$f":"IF(入力画面!$T229<>\"\",入力画面!AA229:AE229,\"\")","v":""},{"$nulls":4},{"$f":"IF(入力画面!$T229<>\"\",入力画面!AF229:AH229,\"\")","v":""},null,null,{"$f":"IF(入力画面!$T229<>\"\",入力画面!AI229:AM229,\"\")","v":""},{"$nulls":4},{"$f":"IF(入力画面!$T229<>\"\",入力画面!AN229:AP229,\"\")","v":""},null,null,{"$f":"IF(入力画面!$T229<>\"\",入力画面!AQ229:AU229,\"\")","v":""},{"$nulls":4},{"$f":"IF(入力画面!$T229<>\"\",入力画面!AV229:AX229,\"\")","v":""},null,null,{"$f":"IF(入力画面!$T229<>\"\",入力画面!AY229:BC229,\"\")","v":""},{"$nulls":4},{"$f":"入力画面!BD240:BM240","v":0}]
[220,{"$f":"入力画面!B230:Q230","v":0},{"$nulls":15},{"$f":"入力画面!R230:S230","v":0},null,{"$f":"IF(入力画面!$T230<>\"\",入力画面!T230,\"\")","v":""},null,null,{"$f":"IF(入力画面!$T230<>\"\",入力画面!W230,\"\")","v":""},{"$nulls":3},{"$f":"IF(入力画面!$T230<>\"\",入力画面!AA230:AE230,\"\")","v":""},{"$nulls":4},{"$f":"IF(入力画面!$T230<>\"\",入力画面!AF230:AH230,\"\")","v":""},null,null,{"$f":"IF(入力画面!$T230<>\"\",入力画面!AI230:AM230,\"\")","v":""},{"$nulls":4},{"$f":"IF(入力画面!$T230<>\"\",入力画面!AN230:AP230,\"\")","v":""},null,null,{"$f":"IF(入力画面!$T230<>\"\",入力画面!AQ230:AU230,\"\")","v":""},{"$nulls":4},{"$f":"IF(入力画面!$T230<>\"\",入力画面!AV230:AX230,\"\")","v":""},null,null,{"$f":"IF(入力画面!$T230<>\"\",入力画面!AY230:BC230,\"\")","v":""},{"$nulls":4},{"$f":"入力画面!BD241:BM241","v":0}]
["※消費税、保留金の計算は別紙、請求書で行ってください",{"$nulls":21},"小計",{"$nulls":3},{"$f":"SUM(AA318:AE337)","v":{"v":0,"d":"0 "}},{"$nulls":4},"小計",null,null,{"$f":"SUM(AI318:AM337)","v":{"v":0,"d":"0 "}},{"$nulls":4},"小計",null,null,{"$f":"SUM(AQ318:AU337)","v":{"v":0,"d":"0 "}},{"$nulls":4},"小計",null,null,{"$f":"SUM(AY318:BC337)","v":{"v":0,"d":"0 "}},{"$nulls":4},"担　当　者　　　　確　認　印",{"$nulls":4},{"$f":"IF(AA339=\"－\",\"―――――\",\"\")","v":"―――――"}]
["※完成後一括払いであっても出来高検収書を作成・添付してください",{"$nulls":21},"合計",{"$nulls":3},{"$f":"IF(AND(OR(AA307<>0,AI307<>0,AQ307<>0,AY307<>0),AND(AA308=\"－\",AA369=0,AI369=0,AQ369=0,AY369=0)),AA28+AA59+AA90+AA121+AA152+AA183+AA214+AA245+AA276+AA307+AA338,\"－\")","v":"－"},{"$nulls":4},"合計",null,null,{"$f":"IF($AA339<>\"－\",AI28+AI59+AI90+AI121+AI152+AI183+AI214+AI245+AI276+AI307+AI338,\"－\")","v":"－"},{"$nulls":4},"合計",null,null,{"$f":"IF($AA339<>\"－\",AQ28+AQ59+AQ90+AQ121+AQ152+AQ183+AQ214+AQ245+AQ276+AQ307+AQ338,\"－\")","v":"－"},{"$nulls":4},"合計",null,null,{"$f":"IF($AA339<>\"－\",AY28+AY59+AY90+AY121+AY152+AY183+AY214+AY245+AY276+AY307+AY338,\"－\")","v":"－"}]
["※協力会社印は出力枚数の都度、押印してください",{"$nulls":33},"今回迄出来高累計",{"$nulls":7},{"$f":"IF(AA339=\"－\",\"－\",AI339+AQ339)","v":"－"}]
[{"$nulls":55},"検   収   日",{"$nulls":4},{"$f":"IF(AA339=\"－\",\"――――\",\"\")","v":"――――"}]
[]
[null,null,"出　来　高　検　収　書　（第",{"$nulls":15},{"$f":"$S$2","v":0},null,"回）",null,null,"( 検収期間",{"$nulls":4},{"$f":"IF(入力画面!$J$4=\"\",\"\",入力画面!$J$4)","v":""},{"$nulls":4},"～",{"$f":"IF(入力画面!$Q$4=\"\",\"\",入力画面!$Q$4)","v":""},{"$nulls":4},"）",{"$nulls":14},"仙 建 工 業 株 式 会 社"]
[{"$nulls":41},"協力会社名"]
["工 事 番 号",{"$nulls":3},{"$f":"$E$4","v":0},{"$nulls":7},"工 事 件 名",{"$nulls":4},{"$f":"$R$4","v":0},{"$nulls":23},{"$f":"$AP$4","v":""},{"$nulls":19},"　印"]
["契   約   日",{"$nulls":3},{"$f":"$E$5","v":""},{"$nulls":7},"工         期",{"$nulls":4},"自",{"$nulls":3},{"$f":"$V$5","v":""},{"$nulls":7},"至",{"$nulls":3},{"$f":"$AH$5","v":""}]
["№","工                         種",{"$nulls":15},"契       約       金       額",{"$nulls":13},"前回迄出来高累計",{"$nulls":7},"今  回  出  来  高",{"$nulls":7},"残            高",{"$nulls":7},"摘                要"]
[{"$nulls":17},"単位",null,"数 量",null,null,"単   価",{"$nulls":3},"金     額",{"$nulls":4},"数 量",null,null,"金     額",{"$nulls":4},"数 量",null,null,"金     額",{"$nulls":4},"数 量",null,null,"金     額"]
[221,{"$f":"入力画面!B231:Q231","v":0},{"$nulls":15},{"$f":"入力画面!R231:S231","v":0},null,{"$f":"IF(入力画面!$T231<>\"\",入力画面!T231,\"\")","v":""},null,null,{"$f":"IF(入力画面!$T231<>\"\",入力画面!W231,\"\")","v":""},{"$nulls":3},{"$f":"IF(入力画面!$T231<>\"\",入力画面!AA231:AE231,\"\")","v":""},{"$nulls":4},{"$f":"IF(入力画面!$T231<>\"\",入力画面!AF231:AH231,\"\")","v":""},null,null,{"$f":"IF(入力画面!$T231<>\"\",入力画面!AI231:AM231,\"\")","v":""},{"$nulls":4},{"$f":"IF(入力画面!$T231<>\"\",入力画面!AN231:AP231,\"\")","v":""},null,null,{"$f":"IF(入力画面!$T231<>\"\",入力画面!AQ231:AU231,\"\")","v":""},{"$nulls":4},{"$f":"IF(入力画面!$T231<>\"\",入力画面!AV231:AX231,\"\")","v":""},null,null,{"$f":"IF(入力画面!$T231<>\"\",入力画面!AY231:BC231,\"\")","v":""},{"$nulls":4},{"$f":"入力画面!BD231:BM231","v":0}]
[222,{"$f":"入力画面!B232:Q232","v":0},{"$nulls":15},{"$f":"入力画面!R232:S232","v":0},null,{"$f":"IF(入力画面!$T232<>\"\",入力画面!T232,\"\")","v":""},null,null,{"$f":"IF(入力画面!$T232<>\"\",入力画面!W232,\"\")","v":""},{"$nulls":3},{"$f":"IF(入力画面!$T232<>\"\",入力画面!AA232:AE232,\"\")","v":""},{"$nulls":4},{"$f":"IF(入力画面!$T232<>\"\",入力画面!AF232:AH232,\"\")","v":""},null,null,{"$f":"IF(入力画面!$T232<>\"\",入力画面!AI232:AM232,\"\")","v":""},{"$nulls":4},{"$f":"IF(入力画面!$T232<>\"\",入力画面!AN232:AP232,\"\")","v":""},null,null,{"$f":"IF(入力画面!$T232<>\"\",入力画面!AQ232:AU232,\"\")","v":""},{"$nulls":4},{"$f":"IF(入力画面!$T232<>\"\",入力画面!AV232:AX232,\"\")","v":""},null,null,{"$f":"IF(入力画面!$T232<>\"\",入力画面!AY232:BC232,\"\")","v":""},{"$nulls":4},{"$f":"入力画面!BD232:BM232","v":0}]
[223,{"$f":"入力画面!B233:Q233","v":0},{"$nulls":15},{"$f":"入力画面!R233:S233","v":0},null,{"$f":"IF(入力画面!$T233<>\"\",入力画面!T233,\"\")","v":""},null,null,{"$f":"IF(入力画面!$T233<>\"\",入力画面!W233,\"\")","v":""},{"$nulls":3},{"$f":"IF(入力画面!$T233<>\"\",入力画面!AA233:AE233,\"\")","v":""},{"$nulls":4},{"$f":"IF(入力画面!$T233<>\"\",入力画面!AF233:AH233,\"\")","v":""},null,null,{"$f":"IF(入力画面!$T233<>\"\",入力画面!AI233:AM233,\"\")","v":""},{"$nulls":4},{"$f":"IF(入力画面!$T233<>\"\",入力画面!AN233:AP233,\"\")","v":""},null,null,{"$f":"IF(入力画面!$T233<>\"\",入力画面!AQ233:AU233,\"\")","v":""},{"$nulls":4},{"$f":"IF(入力画面!$T233<>\"\",入力画面!AV233:AX233,\"\")","v":""},null,null,{"$f":"IF(入力画面!$T233<>\"\",入力画面!AY233:BC233,\"\")","v":""},{"$nulls":4},{"$f":"入力画面!BD233:BM233","v":0}]
[224,{"$f":"入力画面!B234:Q234","v":0},{"$nulls":15},{"$f":"入力画面!R234:S234","v":0},null,{"$f":"IF(入力画面!$T234<>\"\",入力画面!T234,\"\")","v":""},null,null,{"$f":"IF(入力画面!$T234<>\"\",入力画面!W234,\"\")","v":""},{"$nulls":3},{"$f":"IF(入力画面!$T234<>\"\",入力画面!AA234:AE234,\"\")","v":""},{"$nulls":4},{"$f":"IF(入力画面!$T234<>\"\",入力画面!AF234:AH234,\"\")","v":""},null,null,{"$f":"IF(入力画面!$T234<>\"\",入力画面!AI234:AM234,\"\")","v":""},{"$nulls":4},{"$f":"IF(入力画面!$T234<>\"\",入力画面!AN234:AP234,\"\")","v":""},null,null,{"$f":"IF(入力画面!$T234<>\"\",入力画面!AQ234:AU234,\"\")","v":""},{"$nulls":4},{"$f":"IF(入力画面!$T234<>\"\",入力画面!AV234:AX234,\"\")","v":""},null,null,{"$f":"IF(入力画面!$T234<>\"\",入力画面!AY234:BC234,\"\")","v":""},{"$nulls":4},{"$f":"入力画面!BD234:BM234","v":0}]
[225,{"$f":"入力画面!B235:Q235","v":0},{"$nulls":15},{"$f":"入力画面!R235:S235","v":0},null,{"$f":"IF(入力画面!$T235<>\"\",入力画面!T235,\"\")","v":""},null,null,{"$f":"IF(入力画面!$T235<>\"\",入力画面!W235,\"\")","v":""},{"$nulls":3},{"$f":"IF(入力画面!$T235<>\"\",入力画面!AA235:AE235,\"\")","v":""},{"$nulls":4},{"$f":"IF(入力画面!$T235<>\"\",入力画面!AF235:AH235,\"\")","v":""},null,null,{"$f":"IF(入力画面!$T235<>\"\",入力画面!AI235:AM235,\"\")","v":""},{"$nulls":4},{"$f":"IF(入力画面!$T235<>\"\",入力画面!AN235:AP235,\"\")","v":""},null,null,{"$f":"IF(入力画面!$T235<>\"\",入力画面!AQ235:AU235,\"\")","v":""},{"$nulls":4},{"$f":"IF(入力画面!$T235<>\"\",入力画面!AV235:AX235,\"\")","v":""},null,null,{"$f":"IF(入力画面!$T235<>\"\",入力画面!AY235:BC235,\"\")","v":""},{"$nulls":4},{"$f":"入力画面!BD235:BM235","v":0}]
[226,{"$f":"入力画面!B236:Q236","v":0},{"$nulls":15},{"$f":"入力画面!R236:S236","v":0},null,{"$f":"IF(入力画面!$T236<>\"\",入力画面!T236,\"\")","v":""},null,null,{"$f":"IF(入力画面!$T236<>\"\",入力画面!W236,\"\")","v":""},{"$nulls":3},{"$f":"IF(入力画面!$T236<>\"\",入力画面!AA236:AE236,\"\")","v":""},{"$nulls":4},{"$f":"IF(入力画面!$T236<>\"\",入力画面!AF236:AH236,\"\")","v":""},null,null,{"$f":"IF(入力画面!$T236<>\"\",入力画面!AI236:AM236,\"\")","v":""},{"$nulls":4},{"$f":"IF(入力画面!$T236<>\"\",入力画面!AN236:AP236,\"\")","v":""},null,null,{"$f":"IF(入力画面!$T236<>\"\",入力画面!AQ236:AU236,\"\")","v":""},{"$nulls":4},{"$f":"IF(入力画面!$T236<>\"\",入力画面!AV236:AX236,\"\")","v":""},null,null,{"$f":"IF(入力画面!$T236<>\"\",入力画面!AY236:BC236,\"\")","v":""},{"$nulls":4},{"$f":"入力画面!BD236:BM236","v":0}]
[227,{"$f":"入力画面!B237:Q237","v":0},{"$nulls":15},{"$f":"入力画面!R237:S237","v":0},null,{"$f":"IF(入力画面!$T237<>\"\",入力画面!T237,\"\")","v":""},null,null,{"$f":"IF(入力画面!$T237<>\"\",入力画面!W237,\"\")","v":""},{"$nulls":3},{"$f":"IF(入力画面!$T237<>\"\",入力画面!AA237:AE237,\"\")","v":""},{"$nulls":4},{"$f":"IF(入力画面!$T237<>\"\",入力画面!AF237:AH237,\"\")","v":""},null,null,{"$f":"IF(入力画面!$T237<>\"\",入力画面!AI237:AM237,\"\")","v":""},{"$nulls":4},{"$f":"IF(入力画面!$T237<>\"\",入力画面!AN237:AP237,\"\")","v":""},null,null,{"$f":"IF(入力画面!$T237<>\"\",入力画面!AQ237:AU237,\"\")","v":""},{"$nulls":4},{"$f":"IF(入力画面!$T237<>\"\",入力画面!AV237:AX237,\"\")","v":""},null,null,{"$f":"IF(入力画面!$T237<>\"\",入力画面!AY237:BC237,\"\")","v":""},{"$nulls":4},{"$f":"入力画面!BD237:BM237","v":0}]
[228,{"$f":"入力画面!B238:Q238","v":0},{"$nulls":15},{"$f":"入力画面!R238:S238","v":0},null,{"$f":"IF(入力画面!$T238<>\"\",入力画面!T238,\"\")","v":""},null,null,{"$f":"IF(入力画面!$T238<>\"\",入力画面!W238,\"\")","v":""},{"$nulls":3},{"$f":"IF(入力画面!$T238<>\"\",入力画面!AA238:AE238,\"\")","v":""},{"$nulls":4},{"$f":"IF(入力画面!$T238<>\"\",入力画面!AF238:AH238,\"\")","v":""},null,null,{"$f":"IF(入力画面!$T238<>\"\",入力画面!AI238:AM238,\"\")","v":""},{"$nulls":4},{"$f":"IF(入力画面!$T238<>\"\",入力画面!AN238:AP238,\"\")","v":""},null,null,{"$f":"IF(入力画面!$T238<>\"\",入力画面!AQ238:AU238,\"\")","v":""},{"$nulls":4},{"$f":"IF(入力画面!$T238<>\"\",入力画面!AV238:AX238,\"\")","v":""},null,null,{"$f":"IF(入力画面!$T238<>\"\",入力画面!AY238:BC238,\"\")","v":""},{"$nulls":4},{"$f":"入力画面!BD238:BM238","v":0}]
[229,{"$f":"入力画面!B239:Q239","v":0},{"$nulls":15},{"$f":"入力画面!R239:S239","v":0},null,{"$f":"IF(入力画面!$T239<>\"\",入力画面!T239,\"\")","v":""},null,null,{"$f":"IF(入力画面!$T239<>\"\",入力画面!W239,\"\")","v":""},{"$nulls":3},{"$f":"IF(入力画面!$T239<>\"\",入力画面!AA239:AE239,\"\")","v":""},{"$nulls":4},{"$f":"IF(入力画面!$T239<>\"\",入力画面!AF239:AH239,\"\")","v":""},null,null,{"$f":"IF(入力画面!$T239<>\"\",入力画面!AI239:AM239,\"\")","v":""},{"$nulls":4},{"$f":"IF(入力画面!$T239<>\"\",入力画面!AN239:AP239,\"\")","v":""},null,null,{"$f":"IF(入力画面!$T239<>\"\",入力画面!AQ239:AU239,\"\")","v":""},{"$nulls":4},{"$f":"IF(入力画面!$T239<>\"\",入力画面!AV239:AX239,\"\")","v":""},null,null,{"$f":"IF(入力画面!$T239<>\"\",入力画面!AY239:BC239,\"\")","v":""},{"$nulls":4},{"$f":"入力画面!BD239:BM239","v":0}]
[230,{"$f":"入力画面!B240:Q240","v":0},{"$nulls":15},{"$f":"入力画面!R240:S240","v":0},null,{"$f":"IF(入力画面!$T240<>\"\",入力画面!T240,\"\")","v":""},null,null,{"$f":"IF(入力画面!$T240<>\"\",入力画面!W240,\"\")","v":""},{"$nulls":3},{"$f":"IF(入力画面!$T240<>\"\",入力画面!AA240:AE240,\"\")","v":""},{"$nulls":4},{"$f":"IF(入力画面!$T240<>\"\",入力画面!AF240:AH240,\"\")","v":""},null,null,{"$f":"IF(入力画面!$T240<>\"\",入力画面!AI240:AM240,\"\")","v":""},{"$nulls":4},{"$f":"IF(入力画面!$T240<>\"\",入力画面!AN240:AP240,\"\")","v":""},null,null,{"$f":"IF(入力画面!$T240<>\"\",入力画面!AQ240:AU240,\"\")","v":""},{"$nulls":4},{"$f":"IF(入力画面!$T240<>\"\",入力画面!AV240:AX240,\"\")","v":""},null,null,{"$f":"IF(入力画面!$T240<>\"\",入力画面!AY240:BC240,\"\")","v":""},{"$nulls":4},{"$f":"入力画面!BD240:BM240","v":0}]
[231,{"$f":"入力画面!B241:Q241","v":0},{"$nulls":15},{"$f":"入力画面!R241:S241","v":0},null,{"$f":"IF(入力画面!$T241<>\"\",入力画面!T241,\"\")","v":""},null,null,{"$f":"IF(入力画面!$T241<>\"\",入力画面!W241,\"\")","v":""},{"$nulls":3},{"$f":"IF(入力画面!$T241<>\"\",入力画面!AA241:AE241,\"\")","v":""},{"$nulls":4},{"$f":"IF(入力画面!$T241<>\"\",入力画面!AF241:AH241,\"\")","v":""},null,null,{"$f":"IF(入力画面!$T241<>\"\",入力画面!AI241:AM241,\"\")","v":""},{"$nulls":4},{"$f":"IF(入力画面!$T241<>\"\",入力画面!AN241:AP241,\"\")","v":""},null,null,{"$f":"IF(入力画面!$T241<>\"\",入力画面!AQ241:AU241,\"\")","v":""},{"$nulls":4},{"$f":"IF(入力画面!$T241<>\"\",入力画面!AV241:AX241,\"\")","v":""},null,null,{"$f":"IF(入力画面!$T241<>\"\",入力画面!AY241:BC241,\"\")","v":""},{"$nulls":4},{"$f":"入力画面!BD241:BM241","v":0}]
[232,{"$f":"入力画面!B242:Q242","v":0},{"$nulls":15},{"$f":"入力画面!R242:S242","v":0},null,{"$f":"IF(入力画面!$T242<>\"\",入力画面!T242,\"\")","v":""},null,null,{"$f":"IF(入力画面!$T242<>\"\",入力画面!W242,\"\")","v":""},{"$nulls":3},{"$f":"IF(入力画面!$T242<>\"\",入力画面!AA242:AE242,\"\")","v":""},{"$nulls":4},{"$f":"IF(入力画面!$T242<>\"\",入力画面!AF242:AH242,\"\")","v":""},null,null,{"$f":"IF(入力画面!$T242<>\"\",入力画面!AI242:AM242,\"\")","v":""},{"$nulls":4},{"$f":"IF(入力画面!$T242<>\"\",入力画面!AN242:AP242,\"\")","v":""},null,null,{"$f":"IF(入力画面!$T242<>\"\",入力画面!AQ242:AU242,\"\")","v":""},{"$nulls":4},{"$f":"IF(入力画面!$T242<>\"\",入力画面!AV242:AX242,\"\")","v":""},null,null,{"$f":"IF(入力画面!$T242<>\"\",入力画面!AY242:BC242,\"\")","v":""},{"$nulls":4},{"$f":"入力画面!BD242:BM242","v":0}]
[233,{"$f":"入力画面!B243:Q243","v":0},{"$nulls":15},{"$f":"入力画面!R243:S243","v":0},null,{"$f":"IF(入力画面!$T243<>\"\",入力画面!T243,\"\")","v":""},null,null,{"$f":"IF(入力画面!$T243<>\"\",入力画面!W243,\"\")","v":""},{"$nulls":3},{"$f":"IF(入力画面!$T243<>\"\",入力画面!AA243:AE243,\"\")","v":""},{"$nulls":4},{"$f":"IF(入力画面!$T243<>\"\",入力画面!AF243:AH243,\"\")","v":""},null,null,{"$f":"IF(入力画面!$T243<>\"\",入力画面!AI243:AM243,\"\")","v":""},{"$nulls":4},{"$f":"IF(入力画面!$T243<>\"\",入力画面!AN243:AP243,\"\")","v":""},null,null,{"$f":"IF(入力画面!$T243<>\"\",入力画面!AQ243:AU243,\"\")","v":""},{"$nulls":4},{"$f":"IF(入力画面!$T243<>\"\",入力画面!AV243:AX243,\"\")","v":""},null,null,{"$f":"IF(入力画面!$T243<>\"\",入力画面!AY243:BC243,\"\")","v":""},{"$nulls":4},{"$f":"入力画面!BD243:BM243","v":0}]
[234,{"$f":"入力画面!B244:Q244","v":0},{"$nulls":15},{"$f":"入力画面!R244:S244","v":0},null,{"$f":"IF(入力画面!$T244<>\"\",入力画面!T244,\"\")","v":""},null,null,{"$f":"IF(入力画面!$T244<>\"\",入力画面!W244,\"\")","v":""},{"$nulls":3},{"$f":"IF(入力画面!$T244<>\"\",入力画面!AA244:AE244,\"\")","v":""},{"$nulls":4},{"$f":"IF(入力画面!$T244<>\"\",入力画面!AF244:AH244,\"\")","v":""},null,null,{"$f":"IF(入力画面!$T244<>\"\",入力画面!AI244:AM244,\"\")","v":""},{"$nulls":4},{"$f":"IF(入力画面!$T244<>\"\",入力画面!AN244:AP244,\"\")","v":""},null,null,{"$f":"IF(入力画面!$T244<>\"\",入力画面!AQ244:AU244,\"\")","v":""},{"$nulls":4},{"$f":"IF(入力画面!$T244<>\"\",入力画面!AV244:AX244,\"\")","v":""},null,null,{"$f":"IF(入力画面!$T244<>\"\",入力画面!AY244:BC244,\"\")","v":""},{"$nulls":4},{"$f":"入力画面!BD244:BM244","v":0}]
[235,{"$f":"入力画面!B245:Q245","v":0},{"$nulls":15},{"$f":"入力画面!R245:S245","v":0},null,{"$f":"IF(入力画面!$T245<>\"\",入力画面!T245,\"\")","v":""},null,null,{"$f":"IF(入力画面!$T245<>\"\",入力画面!W245,\"\")","v":""},{"$nulls":3},{"$f":"IF(入力画面!$T245<>\"\",入力画面!AA245:AE245,\"\")","v":""},{"$nulls":4},{"$f":"IF(入力画面!$T245<>\"\",入力画面!AF245:AH245,\"\")","v":""},null,null,{"$f":"IF(入力画面!$T245<>\"\",入力画面!AI245:AM245,\"\")","v":""},{"$nulls":4},{"$f":"IF(入力画面!$T245<>\"\",入力画面!AN245:AP245,\"\")","v":""},null,null,{"$f":"IF(入力画面!$T245<>\"\",入力画面!AQ245:AU245,\"\")","v":""},{"$nulls":4},{"$f":"IF(入力画面!$T245<>\"\",入力画面!AV245:AX245,\"\")","v":""},null,null,{"$f":"IF(入力画面!$T245<>\"\",入力画面!AY245:BC245,\"\")","v":""},{"$nulls":4},{"$f":"入力画面!BD245:BM245","v":0}]
[236,{"$f":"入力画面!B246:Q246","v":0},{"$nulls":15},{"$f":"入力画面!R246:S246","v":0},null,{"$f":"IF(入力画面!$T246<>\"\",入力画面!T246,\"\")","v":""},null,null,{"$f":"IF(入力画面!$T246<>\"\",入力画面!W246,\"\")","v":""},{"$nulls":3},{"$f":"IF(入力画面!$T246<>\"\",入力画面!AA246:AE246,\"\")","v":""},{"$nulls":4},{"$f":"IF(入力画面!$T246<>\"\",入力画面!AF246:AH246,\"\")","v":""},null,null,{"$f":"IF(入力画面!$T246<>\"\",入力画面!AI246:AM246,\"\")","v":""},{"$nulls":4},{"$f":"IF(入力画面!$T246<>\"\",入力画面!AN246:AP246,\"\")","v":""},null,null,{"$f":"IF(入力画面!$T246<>\"\",入力画面!AQ246:AU246,\"\")","v":""},{"$nulls":4},{"$f":"IF(入力画面!$T246<>\"\",入力画面!AV246:AX246,\"\")","v":""},null,null,{"$f":"IF(入力画面!$T246<>\"\",入力画面!AY246:BC246,\"\")","v":""},{"$nulls":4},{"$f":"入力画面!BD246:BM246","v":0}]
[237,{"$f":"入力画面!B247:Q247","v":0},{"$nulls":15},{"$f":"入力画面!R247:S247","v":0},null,{"$f":"IF(入力画面!$T247<>\"\",入力画面!T247,\"\")","v":""},null,null,{"$f":"IF(入力画面!$T247<>\"\",入力画面!W247,\"\")","v":""},{"$nulls":3},{"$f":"IF(入力画面!$T247<>\"\",入力画面!AA247:AE247,\"\")","v":""},{"$nulls":4},{"$f":"IF(入力画面!$T247<>\"\",入力画面!AF247:AH247,\"\")","v":""},null,null,{"$f":"IF(入力画面!$T247<>\"\",入力画面!AI247:AM247,\"\")","v":""},{"$nulls":4},{"$f":"IF(入力画面!$T247<>\"\",入力画面!AN247:AP247,\"\")","v":""},null,null,{"$f":"IF(入力画面!$T247<>\"\",入力画面!AQ247:AU247,\"\")","v":""},{"$nulls":4},{"$f":"IF(入力画面!$T247<>\"\",入力画面!AV247:AX247,\"\")","v":""},null,null,{"$f":"IF(入力画面!$T247<>\"\",入力画面!AY247:BC247,\"\")","v":""},{"$nulls":4},{"$f":"入力画面!BD247:BM247","v":0}]
[238,{"$f":"入力画面!B248:Q248","v":0},{"$nulls":15},{"$f":"入力画面!R248:S248","v":0},null,{"$f":"IF(入力画面!$T248<>\"\",入力画面!T248,\"\")","v":""},null,null,{"$f":"IF(入力画面!$T248<>\"\",入力画面!W248,\"\")","v":""},{"$nulls":3},{"$f":"IF(入力画面!$T248<>\"\",入力画面!AA248:AE248,\"\")","v":""},{"$nulls":4},{"$f":"IF(入力画面!$T248<>\"\",入力画面!AF248:AH248,\"\")","v":""},null,null,{"$f":"IF(入力画面!$T248<>\"\",入力画面!AI248:AM248,\"\")","v":""},{"$nulls":4},{"$f":"IF(入力画面!$T248<>\"\",入力画面!AN248:AP248,\"\")","v":""},null,null,{"$f":"IF(入力画面!$T248<>\"\",入力画面!AQ248:AU248,\"\")","v":""},{"$nulls":4},{"$f":"IF(入力画面!$T248<>\"\",入力画面!AV248:AX248,\"\")","v":""},null,null,{"$f":"IF(入力画面!$T248<>\"\",入力画面!AY248:BC248,\"\")","v":""},{"$nulls":4},{"$f":"入力画面!BD248:BM248","v":0}]
[239,{"$f":"入力画面!B249:Q249","v":0},{"$nulls":15},{"$f":"入力画面!R249:S249","v":0},null,{"$f":"IF(入力画面!$T249<>\"\",入力画面!T249,\"\")","v":""},null,null,{"$f":"IF(入力画面!$T249<>\"\",入力画面!W249,\"\")","v":""},{"$nulls":3},{"$f":"IF(入力画面!$T249<>\"\",入力画面!AA249:AE249,\"\")","v":""},{"$nulls":4},{"$f":"IF(入力画面!$T249<>\"\",入力画面!AF249:AH249,\"\")","v":""},null,null,{"$f":"IF(入力画面!$T249<>\"\",入力画面!AI249:AM249,\"\")","v":""},{"$nulls":4},{"$f":"IF(入力画面!$T249<>\"\",入力画面!AN249:AP249,\"\")","v":""},null,null,{"$f":"IF(入力画面!$T249<>\"\",入力画面!AQ249:AU249,\"\")","v":""},{"$nulls":4},{"$f":"IF(入力画面!$T249<>\"\",入力画面!AV249:AX249,\"\")","v":""},null,null,{"$f":"IF(入力画面!$T249<>\"\",入力画面!AY249:BC249,\"\")","v":""},{"$nulls":4},{"$f":"入力画面!BD249:BM249","v":0}]
[240,{"$f":"入力画面!B250:Q250","v":0},{"$nulls":15},{"$f":"入力画面!R250:S250","v":0},null,{"$f":"IF(入力画面!$T250<>\"\",入力画面!T250,\"\")","v":""},null,null,{"$f":"IF(入力画面!$T250<>\"\",入力画面!W250,\"\")","v":""},{"$nulls":3},{"$f":"IF(入力画面!$T250<>\"\",入力画面!AA250:AE250,\"\")","v":""},{"$nulls":4},{"$f":"IF(入力画面!$T250<>\"\",入力画面!AF250:AH250,\"\")","v":""},null,null,{"$f":"IF(入力画面!$T250<>\"\",入力画面!AI250:AM250,\"\")","v":""},{"$nulls":4},{"$f":"IF(入力画面!$T250<>\"\",入力画面!AN250:AP250,\"\")","v":""},null,null,{"$f":"IF(入力画面!$T250<>\"\",入力画面!AQ250:AU250,\"\")","v":""},{"$nulls":4},{"$f":"IF(入力画面!$T250<>\"\",入力画面!AV250:AX250,\"\")","v":""},null,null,{"$f":"IF(入力画面!$T250<>\"\",入力画面!AY250:BC250,\"\")","v":""},{"$nulls":4},{"$f":"入力画面!BD250:BM250","v":0}]
["※消費税、保留金の計算は別紙、請求書で行ってください",{"$nulls":21},"小計",{"$nulls":3},{"$f":"SUM(AA349:AE368)","v":{"v":0,"d":"0 "}},{"$nulls":4},"小計",null,null,{"$f":"SUM(AI349:AM368)","v":{"v":0,"d":"0 "}},{"$nulls":4},"小計",null,null,{"$f":"SUM(AQ349:AU368)","v":{"v":0,"d":"0 "}},{"$nulls":4},"小計",null,null,{"$f":"SUM(AY349:BC368)","v":{"v":0,"d":"0 "}},{"$nulls":4},"担　当　者　　　　確　認　印",{"$nulls":4},{"$f":"IF(AA370=\"－\",\"―――――\",\"\")","v":"―――――"}]
["※完成後一括払いであっても出来高検収書を作成・添付してください",{"$nulls":21},"合計",{"$nulls":3},{"$f":"IF(AND(OR(AA338<>0,AI338<>0,AQ338<>0,AY338<>0),AND(AA339=\"－\",AA400=0,AI400=0,AQ400=0,AY400=0)),AA28+AA59+AA90+AA121+AA152+AA183+AA214+AA245+AA276+AA307+AA338+AA369,\"－\")","v":"－"},{"$nulls":4},"合計",null,null,{"$f":"IF($AA370<>\"－\",AI28+AI59+AI90+AI121+AI152+AI183+AI214+AI245+AI276+AI307+AI338+AI369,\"－\")","v":"－"},{"$nulls":4},"合計",null,null,{"$f":"IF($AA370<>\"－\",AQ28+AQ59+AQ90+AQ121+AQ152+AQ183+AQ214+AQ245+AQ276+AQ307+AQ338+AQ369,\"－\")","v":"－"},{"$nulls":4},"合計",null,null,{"$f":"IF($AA370<>\"－\",AY28+AY59+AY90+AY121+AY152+AY183+AY214+AY245+AY276+AY307+AY338+AY369,\"－\")","v":"－"}]
["※協力会社印は出力枚数の都度、押印してください",{"$nulls":33},"今回迄出来高累計",{"$nulls":7},{"$f":"IF(AA370=\"－\",\"－\",AI370+AQ370)","v":"－"}]
[{"$nulls":55},"検   収   日",{"$nulls":4},{"$f":"IF(AA370=\"－\",\"――――\",\"\")","v":"――――"}]
[]
[null,null,"出　来　高　検　収　書　（第",{"$nulls":15},{"$f":"$S$2","v":0},null,"回）",null,null,"( 検収期間",{"$nulls":4},{"$f":"IF(入力画面!$J$4=\"\",\"\",入力画面!$J$4)","v":""},{"$nulls":4},"～",{"$f":"IF(入力画面!$Q$4=\"\",\"\",入力画面!$Q$4)","v":""},{"$nulls":4},"）",{"$nulls":14},"仙 建 工 業 株 式 会 社"]
[{"$nulls":41},"協力会社名"]
["工 事 番 号",{"$nulls":3},{"$f":"$E$4","v":0},{"$nulls":7},"工 事 件 名",{"$nulls":4},{"$f":"$R$4","v":0},{"$nulls":23},{"$f":"$AP$4","v":""},{"$nulls":19},"　印"]
["契   約   日",{"$nulls":3},{"$f":"$E$5","v":""},{"$nulls":7},"工         期",{"$nulls":4},"自",{"$nulls":3},{"$f":"$V$5","v":""},{"$nulls":7},"至",{"$nulls":3},{"$f":"$AH$5","v":""}]
["№","工                         種",{"$nulls":15},"契       約       金       額",{"$nulls":13},"前回迄出来高累計",{"$nulls":7},"今  回  出  来  高",{"$nulls":7},"残            高",{"$nulls":7},"摘                要"]
[{"$nulls":17},"単位",null,"数 量",null,null,"単   価",{"$nulls":3},"金     額",{"$nulls":4},"数 量",null,null,"金     額",{"$nulls":4},"数 量",null,null,"金     額",{"$nulls":4},"数 量",null,null,"金     額"]
[241,{"$f":"入力画面!B251:Q251","v":0},{"$nulls":15},{"$f":"入力画面!R251:S251","v":0},null,{"$f":"IF(入力画面!$T251<>\"\",入力画面!T251,\"\")","v":""},null,null,{"$f":"IF(入力画面!$T251<>\"\",入力画面!W251,\"\")","v":""},{"$nulls":3},{"$f":"IF(入力画面!$T251<>\"\",入力画面!AA251:AE251,\"\")","v":""},{"$nulls":4},{"$f":"IF(入力画面!$T251<>\"\",入力画面!AF251:AH251,\"\")","v":""},null,null,{"$f":"IF(入力画面!$T251<>\"\",入力画面!AI251:AM251,\"\")","v":""},{"$nulls":4},{"$f":"IF(入力画面!$T251<>\"\",入力画面!AN251:AP251,\"\")","v":""},null,null,{"$f":"IF(入力画面!$T251<>\"\",入力画面!AQ251:AU251,\"\")","v":""},{"$nulls":4},{"$f":"IF(入力画面!$T251<>\"\",入力画面!AV251:AX251,\"\")","v":""},null,null,{"$f":"IF(入力画面!$T251<>\"\",入力画面!AY251:BC251,\"\")","v":""},{"$nulls":4},{"$f":"入力画面!BD251:BM251","v":0}]
[242,{"$f":"入力画面!B252:Q252","v":0},{"$nulls":15},{"$f":"入力画面!R252:S252","v":0},null,{"$f":"IF(入力画面!$T252<>\"\",入力画面!T252,\"\")","v":""},null,null,{"$f":"IF(入力画面!$T252<>\"\",入力画面!W252,\"\")","v":""},{"$nulls":3},{"$f":"IF(入力画面!$T252<>\"\",入力画面!AA252:AE252,\"\")","v":""},{"$nulls":4},{"$f":"IF(入力画面!$T252<>\"\",入力画面!AF252:AH252,\"\")","v":""},null,null,{"$f":"IF(入力画面!$T252<>\"\",入力画面!AI252:AM252,\"\")","v":""},{"$nulls":4},{"$f":"IF(入力画面!$T252<>\"\",入力画面!AN252:AP252,\"\")","v":""},null,null,{"$f":"IF(入力画面!$T252<>\"\",入力画面!AQ252:AU252,\"\")","v":""},{"$nulls":4},{"$f":"IF(入力画面!$T252<>\"\",入力画面!AV252:AX252,\"\")","v":""},null,null,{"$f":"IF(入力画面!$T252<>\"\",入力画面!AY252:BC252,\"\")","v":""},{"$nulls":4},{"$f":"入力画面!BD252:BM252","v":0}]
[243,{"$f":"入力画面!B253:Q253","v":0},{"$nulls":15},{"$f":"入力画面!R253:S253","v":0},null,{"$f":"IF(入力画面!$T253<>\"\",入力画面!T253,\"\")","v":""},null,null,{"$f":"IF(入力画面!$T253<>\"\",入力画面!W253,\"\")","v":""},{"$nulls":3},{"$f":"IF(入力画面!$T253<>\"\",入力画面!AA253:AE253,\"\")","v":""},{"$nulls":4},{"$f":"IF(入力画面!$T253<>\"\",入力画面!AF253:AH253,\"\")","v":""},null,null,{"$f":"IF(入力画面!$T253<>\"\",入力画面!AI253:AM253,\"\")","v":""},{"$nulls":4},{"$f":"IF(入力画面!$T253<>\"\",入力画面!AN253:AP253,\"\")","v":""},null,null,{"$f":"IF(入力画面!$T253<>\"\",入力画面!AQ253:AU253,\"\")","v":""},{"$nulls":4},{"$f":"IF(入力画面!$T253<>\"\",入力画面!AV253:AX253,\"\")","v":""},null,null,{"$f":"IF(入力画面!$T253<>\"\",入力画面!AY253:BC253,\"\")","v":""},{"$nulls":4},{"$f":"入力画面!BD253:BM253","v":0}]
[244,{"$f":"入力画面!B254:Q254","v":0},{"$nulls":15},{"$f":"入力画面!R254:S254","v":0},null,{"$f":"IF(入力画面!$T254<>\"\",入力画面!T254,\"\")","v":""},null,null,{"$f":"IF(入力画面!$T254<>\"\",入力画面!W254,\"\")","v":""},{"$nulls":3},{"$f":"IF(入力画面!$T254<>\"\",入力画面!AA254:AE254,\"\")","v":""},{"$nulls":4},{"$f":"IF(入力画面!$T254<>\"\",入力画面!AF254:AH254,\"\")","v":""},null,null,{"$f":"IF(入力画面!$T254<>\"\",入力画面!AI254:AM254,\"\")","v":""},{"$nulls":4},{"$f":"IF(入力画面!$T254<>\"\",入力画面!AN254:AP254,\"\")","v":""},null,null,{"$f":"IF(入力画面!$T254<>\"\",入力画面!AQ254:AU254,\"\")","v":""},{"$nulls":4},{"$f":"IF(入力画面!$T254<>\"\",入力画面!AV254:AX254,\"\")","v":""},null,null,{"$f":"IF(入力画面!$T254<>\"\",入力画面!AY254:BC254,\"\")","v":""},{"$nulls":4},{"$f":"入力画面!BD254:BM254","v":0}]
[245,{"$f":"入力画面!B255:Q255","v":0},{"$nulls":15},{"$f":"入力画面!R255:S255","v":0},null,{"$f":"IF(入力画面!$T255<>\"\",入力画面!T255,\"\")","v":""},null,null,{"$f":"IF(入力画面!$T255<>\"\",入力画面!W255,\"\")","v":""},{"$nulls":3},{"$f":"IF(入力画面!$T255<>\"\",入力画面!AA255:AE255,\"\")","v":""},{"$nulls":4},{"$f":"IF(入力画面!$T255<>\"\",入力画面!AF255:AH255,\"\")","v":""},null,null,{"$f":"IF(入力画面!$T255<>\"\",入力画面!AI255:AM255,\"\")","v":""},{"$nulls":4},{"$f":"IF(入力画面!$T255<>\"\",入力画面!AN255:AP255,\"\")","v":""},null,null,{"$f":"IF(入力画面!$T255<>\"\",入力画面!AQ255:AU255,\"\")","v":""},{"$nulls":4},{"$f":"IF(入力画面!$T255<>\"\",入力画面!AV255:AX255,\"\")","v":""},null,null,{"$f":"IF(入力画面!$T255<>\"\",入力画面!AY255:BC255,\"\")","v":""},{"$nulls":4},{"$f":"入力画面!BD255:BM255","v":0}]
[246,{"$f":"入力画面!B256:Q256","v":0},{"$nulls":15},{"$f":"入力画面!R256:S256","v":0},null,{"$f":"IF(入力画面!$T256<>\"\",入力画面!T256,\"\")","v":""},null,null,{"$f":"IF(入力画面!$T256<>\"\",入力画面!W256,\"\")","v":""},{"$nulls":3},{"$f":"IF(入力画面!$T256<>\"\",入力画面!AA256:AE256,\"\")","v":""},{"$nulls":4},{"$f":"IF(入力画面!$T256<>\"\",入力画面!AF256:AH256,\"\")","v":""},null,null,{"$f":"IF(入力画面!$T256<>\"\",入力画面!AI256:AM256,\"\")","v":""},{"$nulls":4},{"$f":"IF(入力画面!$T256<>\"\",入力画面!AN256:AP256,\"\")","v":""},null,null,{"$f":"IF(入力画面!$T256<>\"\",入力画面!AQ256:AU256,\"\")","v":""},{"$nulls":4},{"$f":"IF(入力画面!$T256<>\"\",入力画面!AV256:AX256,\"\")","v":""},null,null,{"$f":"IF(入力画面!$T256<>\"\",入力画面!AY256:BC256,\"\")","v":""},{"$nulls":4},{"$f":"入力画面!BD256:BM256","v":0}]
[247,{"$f":"入力画面!B257:Q257","v":0},{"$nulls":15},{"$f":"入力画面!R257:S257","v":0},null,{"$f":"IF(入力画面!$T257<>\"\",入力画面!T257,\"\")","v":""},null,null,{"$f":"IF(入力画面!$T257<>\"\",入力画面!W257,\"\")","v":""},{"$nulls":3},{"$f":"IF(入力画面!$T257<>\"\",入力画面!AA257:AE257,\"\")","v":""},{"$nulls":4},{"$f":"IF(入力画面!$T257<>\"\",入力画面!AF257:AH257,\"\")","v":""},null,null,{"$f":"IF(入力画面!$T257<>\"\",入力画面!AI257:AM257,\"\")","v":""},{"$nulls":4},{"$f":"IF(入力画面!$T257<>\"\",入力画面!AN257:AP257,\"\")","v":""},null,null,{"$f":"IF(入力画面!$T257<>\"\",入力画面!AQ257:AU257,\"\")","v":""},{"$nulls":4},{"$f":"IF(入力画面!$T257<>\"\",入力画面!AV257:AX257,\"\")","v":""},null,null,{"$f":"IF(入力画面!$T257<>\"\",入力画面!AY257:BC257,\"\")","v":""},{"$nulls":4},{"$f":"入力画面!BD257:BM257","v":0}]
[248,{"$f":"入力画面!B258:Q258","v":0},{"$nulls":15},{"$f":"入力画面!R258:S258","v":0},null,{"$f":"IF(入力画面!$T258<>\"\",入力画面!T258,\"\")","v":""},null,null,{"$f":"IF(入力画面!$T258<>\"\",入力画面!W258,\"\")","v":""},{"$nulls":3},{"$f":"IF(入力画面!$T258<>\"\",入力画面!AA258:AE258,\"\")","v":""},{"$nulls":4},{"$f":"IF(入力画面!$T258<>\"\",入力画面!AF258:AH258,\"\")","v":""},null,null,{"$f":"IF(入力画面!$T258<>\"\",入力画面!AI258:AM258,\"\")","v":""},{"$nulls":4},{"$f":"IF(入力画面!$T258<>\"\",入力画面!AN258:AP258,\"\")","v":""},null,null,{"$f":"IF(入力画面!$T258<>\"\",入力画面!AQ258:AU258,\"\")","v":""},{"$nulls":4},{"$f":"IF(入力画面!$T258<>\"\",入力画面!AV258:AX258,\"\")","v":""},null,null,{"$f":"IF(入力画面!$T258<>\"\",入力画面!AY258:BC258,\"\")","v":""},{"$nulls":4},{"$f":"入力画面!BD258:BM258","v":0}]
[249,{"$f":"入力画面!B259:Q259","v":0},{"$nulls":15},{"$f":"入力画面!R259:S259","v":0},null,{"$f":"IF(入力画面!$T259<>\"\",入力画面!T259,\"\")","v":""},null,null,{"$f":"IF(入力画面!$T259<>\"\",入力画面!W259,\"\")","v":""},{"$nulls":3},{"$f":"IF(入力画面!$T259<>\"\",入力画面!AA259:AE259,\"\")","v":""},{"$nulls":4},{"$f":"IF(入力画面!$T259<>\"\",入力画面!AF259:AH259,\"\")","v":""},null,null,{"$f":"IF(入力画面!$T259<>\"\",入力画面!AI259:AM259,\"\")","v":""},{"$nulls":4},{"$f":"IF(入力画面!$T259<>\"\",入力画面!AN259:AP259,\"\")","v":""},null,null,{"$f":"IF(入力画面!$T259<>\"\",入力画面!AQ259:AU259,\"\")","v":""},{"$nulls":4},{"$f":"IF(入力画面!$T259<>\"\",入力画面!AV259:AX259,\"\")","v":""},null,null,{"$f":"IF(入力画面!$T259<>\"\",入力画面!AY259:BC259,\"\")","v":""},{"$nulls":4},{"$f":"入力画面!BD259:BM259","v":0}]
[250,{"$f":"入力画面!B260:Q260","v":0},{"$nulls":15},{"$f":"入力画面!R260:S260","v":0},null,{"$f":"IF(入力画面!$T260<>\"\",入力画面!T260,\"\")","v":""},null,null,{"$f":"IF(入力画面!$T260<>\"\",入力画面!W260,\"\")","v":""},{"$nulls":3},{"$f":"IF(入力画面!$T260<>\"\",入力画面!AA260:AE260,\"\")","v":""},{"$nulls":4},{"$f":"IF(入力画面!$T260<>\"\",入力画面!AF260:AH260,\"\")","v":""},null,null,{"$f":"IF(入力画面!$T260<>\"\",入力画面!AI260:AM260,\"\")","v":""},{"$nulls":4},{"$f":"IF(入力画面!$T260<>\"\",入力画面!AN260:AP260,\"\")","v":""},null,null,{"$f":"IF(入力画面!$T260<>\"\",入力画面!AQ260:AU260,\"\")","v":""},{"$nulls":4},{"$f":"IF(入力画面!$T260<>\"\",入力画面!AV260:AX260,\"\")","v":""},null,null,{"$f":"IF(入力画面!$T260<>\"\",入力画面!AY260:BC260,\"\")","v":""},{"$nulls":4},{"$f":"入力画面!BD260:BM260","v":0}]
[251,{"$f":"入力画面!B261:Q261","v":0},{"$nulls":15},{"$f":"入力画面!R261:S261","v":0},null,{"$f":"IF(入力画面!$T261<>\"\",入力画面!T261,\"\")","v":""},null,null,{"$f":"IF(入力画面!$T261<>\"\",入力画面!W261,\"\")","v":""},{"$nulls":3},{"$f":"IF(入力画面!$T261<>\"\",入力画面!AA261:AE261,\"\")","v":""},{"$nulls":4},{"$f":"IF(入力画面!$T261<>\"\",入力画面!AF261:AH261,\"\")","v":""},null,null,{"$f":"IF(入力画面!$T261<>\"\",入力画面!AI261:AM261,\"\")","v":""},{"$nulls":4},{"$f":"IF(入力画面!$T261<>\"\",入力画面!AN261:AP261,\"\")","v":""},null,null,{"$f":"IF(入力画面!$T261<>\"\",入力画面!AQ261:AU261,\"\")","v":""},{"$nulls":4},{"$f":"IF(入力画面!$T261<>\"\",入力画面!AV261:AX261,\"\")","v":""},null,null,{"$f":"IF(入力画面!$T261<>\"\",入力画面!AY261:BC261,\"\")","v":""},{"$nulls":4},{"$f":"入力画面!BD261:BM261","v":0}]
[252,{"$f":"入力画面!B262:Q262","v":0},{"$nulls":15},{"$f":"入力画面!R262:S262","v":0},null,{"$f":"IF(入力画面!$T262<>\"\",入力画面!T262,\"\")","v":""},null,null,{"$f":"IF(入力画面!$T262<>\"\",入力画面!W262,\"\")","v":""},{"$nulls":3},{"$f":"IF(入力画面!$T262<>\"\",入力画面!AA262:AE262,\"\")","v":""},{"$nulls":4},{"$f":"IF(入力画面!$T262<>\"\",入力画面!AF262:AH262,\"\")","v":""},null,null,{"$f":"IF(入力画面!$T262<>\"\",入力画面!AI262:AM262,\"\")","v":""},{"$nulls":4},{"$f":"IF(入力画面!$T262<>\"\",入力画面!AN262:AP262,\"\")","v":""},null,null,{"$f":"IF(入力画面!$T262<>\"\",入力画面!AQ262:AU262,\"\")","v":""},{"$nulls":4},{"$f":"IF(入力画面!$T262<>\"\",入力画面!AV262:AX262,\"\")","v":""},null,null,{"$f":"IF(入力画面!$T262<>\"\",入力画面!AY262:BC262,\"\")","v":""},{"$nulls":4},{"$f":"入力画面!BD262:BM262","v":0}]
[253,{"$f":"入力画面!B263:Q263","v":0},{"$nulls":15},{"$f":"入力画面!R263:S263","v":0},null,{"$f":"IF(入力画面!$T263<>\"\",入力画面!T263,\"\")","v":""},null,null,{"$f":"IF(入力画面!$T263<>\"\",入力画面!W263,\"\")","v":""},{"$nulls":3},{"$f":"IF(入力画面!$T263<>\"\",入力画面!AA263:AE263,\"\")","v":""},{"$nulls":4},{"$f":"IF(入力画面!$T263<>\"\",入力画面!AF263:AH263,\"\")","v":""},null,null,{"$f":"IF(入力画面!$T263<>\"\",入力画面!AI263:AM263,\"\")","v":""},{"$nulls":4},{"$f":"IF(入力画面!$T263<>\"\",入力画面!AN263:AP263,\"\")","v":""},null,null,{"$f":"IF(入力画面!$T263<>\"\",入力画面!AQ263:AU263,\"\")","v":""},{"$nulls":4},{"$f":"IF(入力画面!$T263<>\"\",入力画面!AV263:AX263,\"\")","v":""},null,null,{"$f":"IF(入力画面!$T263<>\"\",入力画面!AY263:BC263,\"\")","v":""},{"$nulls":4},{"$f":"入力画面!BD263:BM263","v":0}]
[254,{"$f":"入力画面!B264:Q264","v":0},{"$nulls":15},{"$f":"入力画面!R264:S264","v":0},null,{"$f":"IF(入力画面!$T264<>\"\",入力画面!T264,\"\")","v":""},null,null,{"$f":"IF(入力画面!$T264<>\"\",入力画面!W264,\"\")","v":""},{"$nulls":3},{"$f":"IF(入力画面!$T264<>\"\",入力画面!AA264:AE264,\"\")","v":""},{"$nulls":4},{"$f":"IF(入力画面!$T264<>\"\",入力画面!AF264:AH264,\"\")","v":""},null,null,{"$f":"IF(入力画面!$T264<>\"\",入力画面!AI264:AM264,\"\")","v":""},{"$nulls":4},{"$f":"IF(入力画面!$T264<>\"\",入力画面!AN264:AP264,\"\")","v":""},null,null,{"$f":"IF(入力画面!$T264<>\"\",入力画面!AQ264:AU264,\"\")","v":""},{"$nulls":4},{"$f":"IF(入力画面!$T264<>\"\",入力画面!AV264:AX264,\"\")","v":""},null,null,{"$f":"IF(入力画面!$T264<>\"\",入力画面!AY264:BC264,\"\")","v":""},{"$nulls":4},{"$f":"入力画面!BD264:BM264","v":0}]
[255,{"$f":"入力画面!B265:Q265","v":0},{"$nulls":15},{"$f":"入力画面!R265:S265","v":0},null,{"$f":"IF(入力画面!$T265<>\"\",入力画面!T265,\"\")","v":""},null,null,{"$f":"IF(入力画面!$T265<>\"\",入力画面!W265,\"\")","v":""},{"$nulls":3},{"$f":"IF(入力画面!$T265<>\"\",入力画面!AA265:AE265,\"\")","v":""},{"$nulls":4},{"$f":"IF(入力画面!$T265<>\"\",入力画面!AF265:AH265,\"\")","v":""},null,null,{"$f":"IF(入力画面!$T265<>\"\",入力画面!AI265:AM265,\"\")","v":""},{"$nulls":4},{"$f":"IF(入力画面!$T265<>\"\",入力画面!AN265:AP265,\"\")","v":""},null,null,{"$f":"IF(入力画面!$T265<>\"\",入力画面!AQ265:AU265,\"\")","v":""},{"$nulls":4},{"$f":"IF(入力画面!$T265<>\"\",入力画面!AV265:AX265,\"\")","v":""},null,null,{"$f":"IF(入力画面!$T265<>\"\",入力画面!AY265:BC265,\"\")","v":""},{"$nulls":4},{"$f":"入力画面!BD265:BM265","v":0}]
[256,{"$f":"入力画面!B266:Q266","v":0},{"$nulls":15},{"$f":"入力画面!R266:S266","v":0},null,{"$f":"IF(入力画面!$T266<>\"\",入力画面!T266,\"\")","v":""},null,null,{"$f":"IF(入力画面!$T266<>\"\",入力画面!W266,\"\")","v":""},{"$nulls":3},{"$f":"IF(入力画面!$T266<>\"\",入力画面!AA266:AE266,\"\")","v":""},{"$nulls":4},{"$f":"IF(入力画面!$T266<>\"\",入力画面!AF266:AH266,\"\")","v":""},null,null,{"$f":"IF(入力画面!$T266<>\"\",入力画面!AI266:AM266,\"\")","v":""},{"$nulls":4},{"$f":"IF(入力画面!$T266<>\"\",入力画面!AN266:AP266,\"\")","v":""},null,null,{"$f":"IF(入力画面!$T266<>\"\",入力画面!AQ266:AU266,\"\")","v":""},{"$nulls":4},{"$f":"IF(入力画面!$T266<>\"\",入力画面!AV266:AX266,\"\")","v":""},null,null,{"$f":"IF(入力画面!$T266<>\"\",入力画面!AY266:BC266,\"\")","v":""},{"$nulls":4},{"$f":"入力画面!BD266:BM266","v":0}]
[257,{"$f":"入力画面!B267:Q267","v":0},{"$nulls":15},{"$f":"入力画面!R267:S267","v":0},null,{"$f":"IF(入力画面!$T267<>\"\",入力画面!T267,\"\")","v":""},null,null,{"$f":"IF(入力画面!$T267<>\"\",入力画面!W267,\"\")","v":""},{"$nulls":3},{"$f":"IF(入力画面!$T267<>\"\",入力画面!AA267:AE267,\"\")","v":""},{"$nulls":4},{"$f":"IF(入力画面!$T267<>\"\",入力画面!AF267:AH267,\"\")","v":""},null,null,{"$f":"IF(入力画面!$T267<>\"\",入力画面!AI267:AM267,\"\")","v":""},{"$nulls":4},{"$f":"IF(入力画面!$T267<>\"\",入力画面!AN267:AP267,\"\")","v":""},null,null,{"$f":"IF(入力画面!$T267<>\"\",入力画面!AQ267:AU267,\"\")","v":""},{"$nulls":4},{"$f":"IF(入力画面!$T267<>\"\",入力画面!AV267:AX267,\"\")","v":""},null,null,{"$f":"IF(入力画面!$T267<>\"\",入力画面!AY267:BC267,\"\")","v":""},{"$nulls":4},{"$f":"入力画面!BD267:BM267","v":0}]
[258,{"$f":"入力画面!B268:Q268","v":0},{"$nulls":15},{"$f":"入力画面!R268:S268","v":0},null,{"$f":"IF(入力画面!$T268<>\"\",入力画面!T268,\"\")","v":""},null,null,{"$f":"IF(入力画面!$T268<>\"\",入力画面!W268,\"\")","v":""},{"$nulls":3},{"$f":"IF(入力画面!$T268<>\"\",入力画面!AA268:AE268,\"\")","v":""},{"$nulls":4},{"$f":"IF(入力画面!$T268<>\"\",入力画面!AF268:AH268,\"\")","v":""},null,null,{"$f":"IF(入力画面!$T268<>\"\",入力画面!AI268:AM268,\"\")","v":""},{"$nulls":4},{"$f":"IF(入力画面!$T268<>\"\",入力画面!AN268:AP268,\"\")","v":""},null,null,{"$f":"IF(入力画面!$T268<>\"\",入力画面!AQ268:AU268,\"\")","v":""},{"$nulls":4},{"$f":"IF(入力画面!$T268<>\"\",入力画面!AV268:AX268,\"\")","v":""},null,null,{"$f":"IF(入力画面!$T268<>\"\",入力画面!AY268:BC268,\"\")","v":""},{"$nulls":4},{"$f":"入力画面!BD268:BM268","v":0}]
[259,{"$f":"入力画面!B269:Q269","v":0},{"$nulls":15},{"$f":"入力画面!R269:S269","v":0},null,{"$f":"IF(入力画面!$T269<>\"\",入力画面!T269,\"\")","v":""},null,null,{"$f":"IF(入力画面!$T269<>\"\",入力画面!W269,\"\")","v":""},{"$nulls":3},{"$f":"IF(入力画面!$T269<>\"\",入力画面!AA269:AE269,\"\")","v":""},{"$nulls":4},{"$f":"IF(入力画面!$T269<>\"\",入力画面!AF269:AH269,\"\")","v":""},null,null,{"$f":"IF(入力画面!$T269<>\"\",入力画面!AI269:AM269,\"\")","v":""},{"$nulls":4},{"$f":"IF(入力画面!$T269<>\"\",入力画面!AN269:AP269,\"\")","v":""},null,null,{"$f":"IF(入力画面!$T269<>\"\",入力画面!AQ269:AU269,\"\")","v":""},{"$nulls":4},{"$f":"IF(入力画面!$T269<>\"\",入力画面!AV269:AX269,\"\")","v":""},null,null,{"$f":"IF(入力画面!$T269<>\"\",入力画面!AY269:BC269,\"\")","v":""},{"$nulls":4},{"$f":"入力画面!BD269:BM269","v":0}]
[260,{"$f":"入力画面!B270:Q270","v":0},{"$nulls":15},{"$f":"入力画面!R270:S270","v":0},null,{"$f":"IF(入力画面!$T270<>\"\",入力画面!T270,\"\")","v":""},null,null,{"$f":"IF(入力画面!$T270<>\"\",入力画面!W270,\"\")","v":""},{"$nulls":3},{"$f":"IF(入力画面!$T270<>\"\",入力画面!AA270:AE270,\"\")","v":""},{"$nulls":4},{"$f":"IF(入力画面!$T270<>\"\",入力画面!AF270:AH270,\"\")","v":""},null,null,{"$f":"IF(入力画面!$T270<>\"\",入力画面!AI270:AM270,\"\")","v":""},{"$nulls":4},{"$f":"IF(入力画面!$T270<>\"\",入力画面!AN270:AP270,\"\")","v":""},null,null,{"$f":"IF(入力画面!$T270<>\"\",入力画面!AQ270:AU270,\"\")","v":""},{"$nulls":4},{"$f":"IF(入力画面!$T270<>\"\",入力画面!AV270:AX270,\"\")","v":""},null,null,{"$f":"IF(入力画面!$T270<>\"\",入力画面!AY270:BC270,\"\")","v":""},{"$nulls":4},{"$f":"入力画面!BD270:BM270","v":0}]
["※消費税、保留金の計算は別紙、請求書で行ってください",{"$nulls":21},"小計",{"$nulls":3},{"$f":"SUM(AA380:AE399)","v":{"v":0,"d":"0 "}},{"$nulls":4},"小計",null,null,{"$f":"SUM(AI380:AM399)","v":{"v":0,"d":"0 "}},{"$nulls":4},"小計",null,null,{"$f":"SUM(AQ380:AU399)","v":{"v":0,"d":"0 "}},{"$nulls":4},"小計",null,null,{"$f":"SUM(AY380:BC399)","v":{"v":0,"d":"0 "}},{"$nulls":4},"担　当　者　　　　確　認　印",{"$nulls":4},{"$f":"IF(AA401=\"－\",\"―――――\",\"\")","v":"―――――"}]
["※完成後一括払いであっても出来高検収書を作成・添付してください",{"$nulls":21},"合計",{"$nulls":3},{"$f":"IF(AND(OR(AA369<>0,AI369<>0,AQ369<>0,AY369<>0),AND(AA370=\"－\",AA431=0,AI431=0,AQ431=0,AY431=0)),AA28+AA59+AA90+AA121+AA152+AA183+AA214+AA245+AA276+AA307+AA338+AA369+AA400,\"－\")","v":"－"},{"$nulls":4},"合計",null,null,{"$f":"IF($AA401<>\"－\",AI28+AI59+AI90+AI121+AI152+AI183+AI214+AI245+AI276+AI307+AI338+AI369+AI400,\"－\")","v":"－"},{"$nulls":4},"合計",null,null,{"$f":"IF($AA401<>\"－\",AQ28+AQ59+AQ90+AQ121+AQ152+AQ183+AQ214+AQ245+AQ276+AQ307+AQ338+AQ369+AQ400,\"－\")","v":"－"},{"$nulls":4},"合計",null,null,{"$f":"IF($AA401<>\"－\",AY28+AY59+AY90+AY121+AY152+AY183+AY214+AY245+AY276+AY307+AY338+AY369+AY400,\"－\")","v":"－"}]
["※協力会社印は出力枚数の都度、押印してください",{"$nulls":33},"今回迄出来高累計",{"$nulls":7},{"$f":"IF(AA401=\"－\",\"－\",AI401+AQ401)","v":"－"}]
[{"$nulls":55},"検   収   日",{"$nulls":4},{"$f":"IF(AA401=\"－\",\"――――\",\"\")","v":"――――"}]
[]
[null,null,"出　来　高　検　収　書　（第",{"$nulls":15},{"$f":"$S$2","v":0},null,"回）",null,null,"( 検収期間",{"$nulls":4},{"$f":"IF(入力画面!$J$4=\"\",\"\",入力画面!$J$4)","v":""},{"$nulls":4},"～",{"$f":"IF(入力画面!$Q$4=\"\",\"\",入力画面!$Q$4)","v":""},{"$nulls":4},"）",{"$nulls":14},"仙 建 工 業 株 式 会 社"]
[{"$nulls":41},"協力会社名"]
["工 事 番 号",{"$nulls":3},{"$f":"$E$4","v":0},{"$nulls":7},"工 事 件 名",{"$nulls":4},{"$f":"$R$4","v":0},{"$nulls":23},{"$f":"$AP$4","v":""},{"$nulls":19},"　印"]
["契   約   日",{"$nulls":3},{"$f":"$E$5","v":""},{"$nulls":7},"工         期",{"$nulls":4},"自",{"$nulls":3},{"$f":"$V$5","v":""},{"$nulls":7},"至",{"$nulls":3},{"$f":"$AH$5","v":""}]
["№","工                         種",{"$nulls":15},"契       約       金       額",{"$nulls":13},"前回迄出来高累計",{"$nulls":7},"今  回  出  来  高",{"$nulls":7},"残            高",{"$nulls":7},"摘                要"]
[{"$nulls":17},"単位",null,"数 量",null,null,"単   価",{"$nulls":3},"金     額",{"$nulls":4},"数 量",null,null,"金     額",{"$nulls":4},"数 量",null,null,"金     額",{"$nulls":4},"数 量",null,null,"金     額"]
[261,{"$f":"入力画面!B271:Q271","v":0},{"$nulls":15},{"$f":"入力画面!R271:S271","v":0},null,{"$f":"IF(入力画面!$T271<>\"\",入力画面!T271,\"\")","v":""},null,null,{"$f":"IF(入力画面!$T271<>\"\",入力画面!W271,\"\")","v":""},{"$nulls":3},{"$f":"IF(入力画面!$T271<>\"\",入力画面!AA271:AE271,\"\")","v":""},{"$nulls":4},{"$f":"IF(入力画面!$T271<>\"\",入力画面!AF271:AH271,\"\")","v":""},null,null,{"$f":"IF(入力画面!$T271<>\"\",入力画面!AI271:AM271,\"\")","v":""},{"$nulls":4},{"$f":"IF(入力画面!$T271<>\"\",入力画面!AN271:AP271,\"\")","v":""},null,null,{"$f":"IF(入力画面!$T271<>\"\",入力画面!AQ271:AU271,\"\")","v":""},{"$nulls":4},{"$f":"IF(入力画面!$T271<>\"\",入力画面!AV271:AX271,\"\")","v":""},null,null,{"$f":"IF(入力画面!$T271<>\"\",入力画面!AY271:BC271,\"\")","v":""},{"$nulls":4},{"$f":"入力画面!BD271:BM271","v":0}]
[262,{"$f":"入力画面!B272:Q272","v":0},{"$nulls":15},{"$f":"入力画面!R272:S272","v":0},null,{"$f":"IF(入力画面!$T272<>\"\",入力画面!T272,\"\")","v":""},null,null,{"$f":"IF(入力画面!$T272<>\"\",入力画面!W272,\"\")","v":""},{"$nulls":3},{"$f":"IF(入力画面!$T272<>\"\",入力画面!AA272:AE272,\"\")","v":""},{"$nulls":4},{"$f":"IF(入力画面!$T272<>\"\",入力画面!AF272:AH272,\"\")","v":""},null,null,{"$f":"IF(入力画面!$T272<>\"\",入力画面!AI272:AM272,\"\")","v":""},{"$nulls":4},{"$f":"IF(入力画面!$T272<>\"\",入力画面!AN272:AP272,\"\")","v":""},null,null,{"$f":"IF(入力画面!$T272<>\"\",入力画面!AQ272:AU272,\"\")","v":""},{"$nulls":4},{"$f":"IF(入力画面!$T272<>\"\",入力画面!AV272:AX272,\"\")","v":""},null,null,{"$f":"IF(入力画面!$T272<>\"\",入力画面!AY272:BC272,\"\")","v":""},{"$nulls":4},{"$f":"入力画面!BD272:BM272","v":0}]
[263,{"$f":"入力画面!B273:Q273","v":0},{"$nulls":15},{"$f":"入力画面!R273:S273","v":0},null,{"$f":"IF(入力画面!$T273<>\"\",入力画面!T273,\"\")","v":""},null,null,{"$f":"IF(入力画面!$T273<>\"\",入力画面!W273,\"\")","v":""},{"$nulls":3},{"$f":"IF(入力画面!$T273<>\"\",入力画面!AA273:AE273,\"\")","v":""},{"$nulls":4},{"$f":"IF(入力画面!$T273<>\"\",入力画面!AF273:AH273,\"\")","v":""},null,null,{"$f":"IF(入力画面!$T273<>\"\",入力画面!AI273:AM273,\"\")","v":""},{"$nulls":4},{"$f":"IF(入力画面!$T273<>\"\",入力画面!AN273:AP273,\"\")","v":""},null,null,{"$f":"IF(入力画面!$T273<>\"\",入力画面!AQ273:AU273,\"\")","v":""},{"$nulls":4},{"$f":"IF(入力画面!$T273<>\"\",入力画面!AV273:AX273,\"\")","v":""},null,null,{"$f":"IF(入力画面!$T273<>\"\",入力画面!AY273:BC273,\"\")","v":""},{"$nulls":4},{"$f":"入力画面!BD273:BM273","v":0}]
[264,{"$f":"入力画面!B274:Q274","v":0},{"$nulls":15},{"$f":"入力画面!R274:S274","v":0},null,{"$f":"IF(入力画面!$T274<>\"\",入力画面!T274,\"\")","v":""},null,null,{"$f":"IF(入力画面!$T274<>\"\",入力画面!W274,\"\")","v":""},{"$nulls":3},{"$f":"IF(入力画面!$T274<>\"\",入力画面!AA274:AE274,\"\")","v":""},{"$nulls":4},{"$f":"IF(入力画面!$T274<>\"\",入力画面!AF274:AH274,\"\")","v":""},null,null,{"$f":"IF(入力画面!$T274<>\"\",入力画面!AI274:AM274,\"\")","v":""},{"$nulls":4},{"$f":"IF(入力画面!$T274<>\"\",入力画面!AN274:AP274,\"\")","v":""},null,null,{"$f":"IF(入力画面!$T274<>\"\",入力画面!AQ274:AU274,\"\")","v":""},{"$nulls":4},{"$f":"IF(入力画面!$T274<>\"\",入力画面!AV274:AX274,\"\")","v":""},null,null,{"$f":"IF(入力画面!$T274<>\"\",入力画面!AY274:BC274,\"\")","v":""},{"$nulls":4},{"$f":"入力画面!BD274:BM274","v":0}]
[265,{"$f":"入力画面!B275:Q275","v":0},{"$nulls":15},{"$f":"入力画面!R275:S275","v":0},null,{"$f":"IF(入力画面!$T275<>\"\",入力画面!T275,\"\")","v":""},null,null,{"$f":"IF(入力画面!$T275<>\"\",入力画面!W275,\"\")","v":""},{"$nulls":3},{"$f":"IF(入力画面!$T275<>\"\",入力画面!AA275:AE275,\"\")","v":""},{"$nulls":4},{"$f":"IF(入力画面!$T275<>\"\",入力画面!AF275:AH275,\"\")","v":""},null,null,{"$f":"IF(入力画面!$T275<>\"\",入力画面!AI275:AM275,\"\")","v":""},{"$nulls":4},{"$f":"IF(入力画面!$T275<>\"\",入力画面!AN275:AP275,\"\")","v":""},null,null,{"$f":"IF(入力画面!$T275<>\"\",入力画面!AQ275:AU275,\"\")","v":""},{"$nulls":4},{"$f":"IF(入力画面!$T275<>\"\",入力画面!AV275:AX275,\"\")","v":""},null,null,{"$f":"IF(入力画面!$T275<>\"\",入力画面!AY275:BC275,\"\")","v":""},{"$nulls":4},{"$f":"入力画面!BD275:BM275","v":0}]
[266,{"$f":"入力画面!B276:Q276","v":0},{"$nulls":15},{"$f":"入力画面!R276:S276","v":0},null,{"$f":"IF(入力画面!$T276<>\"\",入力画面!T276,\"\")","v":""},null,null,{"$f":"IF(入力画面!$T276<>\"\",入力画面!W276,\"\")","v":""},{"$nulls":3},{"$f":"IF(入力画面!$T276<>\"\",入力画面!AA276:AE276,\"\")","v":""},{"$nulls":4},{"$f":"IF(入力画面!$T276<>\"\",入力画面!AF276:AH276,\"\")","v":""},null,null,{"$f":"IF(入力画面!$T276<>\"\",入力画面!AI276:AM276,\"\")","v":""},{"$nulls":4},{"$f":"IF(入力画面!$T276<>\"\",入力画面!AN276:AP276,\"\")","v":""},null,null,{"$f":"IF(入力画面!$T276<>\"\",入力画面!AQ276:AU276,\"\")","v":""},{"$nulls":4},{"$f":"IF(入力画面!$T276<>\"\",入力画面!AV276:AX276,\"\")","v":""},null,null,{"$f":"IF(入力画面!$T276<>\"\",入力画面!AY276:BC276,\"\")","v":""},{"$nulls":4},{"$f":"入力画面!BD276:BM276","v":0}]
[267,{"$f":"入力画面!B277:Q277","v":0},{"$nulls":15},{"$f":"入力画面!R277:S277","v":0},null,{"$f":"IF(入力画面!$T277<>\"\",入力画面!T277,\"\")","v":""},null,null,{"$f":"IF(入力画面!$T277<>\"\",入力画面!W277,\"\")","v":""},{"$nulls":3},{"$f":"IF(入力画面!$T277<>\"\",入力画面!AA277:AE277,\"\")","v":""},{"$nulls":4},{"$f":"IF(入力画面!$T277<>\"\",入力画面!AF277:AH277,\"\")","v":""},null,null,{"$f":"IF(入力画面!$T277<>\"\",入力画面!AI277:AM277,\"\")","v":""},{"$nulls":4},{"$f":"IF(入力画面!$T277<>\"\",入力画面!AN277:AP277,\"\")","v":""},null,null,{"$f":"IF(入力画面!$T277<>\"\",入力画面!AQ277:AU277,\"\")","v":""},{"$nulls":4},{"$f":"IF(入力画面!$T277<>\"\",入力画面!AV277:AX277,\"\")","v":""},null,null,{"$f":"IF(入力画面!$T277<>\"\",入力画面!AY277:BC277,\"\")","v":""},{"$nulls":4},{"$f":"入力画面!BD277:BM277","v":0}]
[268,{"$f":"入力画面!B278:Q278","v":0},{"$nulls":15},{"$f":"入力画面!R278:S278","v":0},null,{"$f":"IF(入力画面!$T278<>\"\",入力画面!T278,\"\")","v":""},null,null,{"$f":"IF(入力画面!$T278<>\"\",入力画面!W278,\"\")","v":""},{"$nulls":3},{"$f":"IF(入力画面!$T278<>\"\",入力画面!AA278:AE278,\"\")","v":""},{"$nulls":4},{"$f":"IF(入力画面!$T278<>\"\",入力画面!AF278:AH278,\"\")","v":""},null,null,{"$f":"IF(入力画面!$T278<>\"\",入力画面!AI278:AM278,\"\")","v":""},{"$nulls":4},{"$f":"IF(入力画面!$T278<>\"\",入力画面!AN278:AP278,\"\")","v":""},null,null,{"$f":"IF(入力画面!$T278<>\"\",入力画面!AQ278:AU278,\"\")","v":""},{"$nulls":4},{"$f":"IF(入力画面!$T278<>\"\",入力画面!AV278:AX278,\"\")","v":""},null,null,{"$f":"IF(入力画面!$T278<>\"\",入力画面!AY278:BC278,\"\")","v":""},{"$nulls":4},{"$f":"入力画面!BD278:BM278","v":0}]
[269,{"$f":"入力画面!B279:Q279","v":0},{"$nulls":15},{"$f":"入力画面!R279:S279","v":0},null,{"$f":"IF(入力画面!$T279<>\"\",入力画面!T279,\"\")","v":""},null,null,{"$f":"IF(入力画面!$T279<>\"\",入力画面!W279,\"\")","v":""},{"$nulls":3},{"$f":"IF(入力画面!$T279<>\"\",入力画面!AA279:AE279,\"\")","v":""},{"$nulls":4},{"$f":"IF(入力画面!$T279<>\"\",入力画面!AF279:AH279,\"\")","v":""},null,null,{"$f":"IF(入力画面!$T279<>\"\",入力画面!AI279:AM279,\"\")","v":""},{"$nulls":4},{"$f":"IF(入力画面!$T279<>\"\",入力画面!AN279:AP279,\"\")","v":""},null,null,{"$f":"IF(入力画面!$T279<>\"\",入力画面!AQ279:AU279,\"\")","v":""},{"$nulls":4},{"$f":"IF(入力画面!$T279<>\"\",入力画面!AV279:AX279,\"\")","v":""},null,null,{"$f":"IF(入力画面!$T279<>\"\",入力画面!AY279:BC279,\"\")","v":""},{"$nulls":4},{"$f":"入力画面!BD279:BM279","v":0}]
[270,{"$f":"入力画面!B280:Q280","v":0},{"$nulls":15},{"$f":"入力画面!R280:S280","v":0},null,{"$f":"IF(入力画面!$T280<>\"\",入力画面!T280,\"\")","v":""},null,null,{"$f":"IF(入力画面!$T280<>\"\",入力画面!W280,\"\")","v":""},{"$nulls":3},{"$f":"IF(入力画面!$T280<>\"\",入力画面!AA280:AE280,\"\")","v":""},{"$nulls":4},{"$f":"IF(入力画面!$T280<>\"\",入力画面!AF280:AH280,\"\")","v":""},null,null,{"$f":"IF(入力画面!$T280<>\"\",入力画面!AI280:AM280,\"\")","v":""},{"$nulls":4},{"$f":"IF(入力画面!$T280<>\"\",入力画面!AN280:AP280,\"\")","v":""},null,null,{"$f":"IF(入力画面!$T280<>\"\",入力画面!AQ280:AU280,\"\")","v":""},{"$nulls":4},{"$f":"IF(入力画面!$T280<>\"\",入力画面!AV280:AX280,\"\")","v":""},null,null,{"$f":"IF(入力画面!$T280<>\"\",入力画面!AY280:BC280,\"\")","v":""},{"$nulls":4},{"$f":"入力画面!BD280:BM280","v":0}]
[271,{"$f":"入力画面!B281:Q281","v":0},{"$nulls":15},{"$f":"入力画面!R281:S281","v":0},null,{"$f":"IF(入力画面!$T281<>\"\",入力画面!T281,\"\")","v":""},null,null,{"$f":"IF(入力画面!$T281<>\"\",入力画面!W281,\"\")","v":""},{"$nulls":3},{"$f":"IF(入力画面!$T281<>\"\",入力画面!AA281:AE281,\"\")","v":""},{"$nulls":4},{"$f":"IF(入力画面!$T281<>\"\",入力画面!AF281:AH281,\"\")","v":""},null,null,{"$f":"IF(入力画面!$T281<>\"\",入力画面!AI281:AM281,\"\")","v":""},{"$nulls":4},{"$f":"IF(入力画面!$T281<>\"\",入力画面!AN281:AP281,\"\")","v":""},null,null,{"$f":"IF(入力画面!$T281<>\"\",入力画面!AQ281:AU281,\"\")","v":""},{"$nulls":4},{"$f":"IF(入力画面!$T281<>\"\",入力画面!AV281:AX281,\"\")","v":""},null,null,{"$f":"IF(入力画面!$T281<>\"\",入力画面!AY281:BC281,\"\")","v":""},{"$nulls":4},{"$f":"入力画面!BD281:BM281","v":0}]
[272,{"$f":"入力画面!B282:Q282","v":0},{"$nulls":15},{"$f":"入力画面!R282:S282","v":0},null,{"$f":"IF(入力画面!$T282<>\"\",入力画面!T282,\"\")","v":""},null,null,{"$f":"IF(入力画面!$T282<>\"\",入力画面!W282,\"\")","v":""},{"$nulls":3},{"$f":"IF(入力画面!$T282<>\"\",入力画面!AA282:AE282,\"\")","v":""},{"$nulls":4},{"$f":"IF(入力画面!$T282<>\"\",入力画面!AF282:AH282,\"\")","v":""},null,null,{"$f":"IF(入力画面!$T282<>\"\",入力画面!AI282:AM282,\"\")","v":""},{"$nulls":4},{"$f":"IF(入力画面!$T282<>\"\",入力画面!AN282:AP282,\"\")","v":""},null,null,{"$f":"IF(入力画面!$T282<>\"\",入力画面!AQ282:AU282,\"\")","v":""},{"$nulls":4},{"$f":"IF(入力画面!$T282<>\"\",入力画面!AV282:AX282,\"\")","v":""},null,null,{"$f":"IF(入力画面!$T282<>\"\",入力画面!AY282:BC282,\"\")","v":""},{"$nulls":4},{"$f":"入力画面!BD282:BM282","v":0}]
[273,{"$f":"入力画面!B283:Q283","v":0},{"$nulls":15},{"$f":"入力画面!R283:S283","v":0},null,{"$f":"IF(入力画面!$T283<>\"\",入力画面!T283,\"\")","v":""},null,null,{"$f":"IF(入力画面!$T283<>\"\",入力画面!W283,\"\")","v":""},{"$nulls":3},{"$f":"IF(入力画面!$T283<>\"\",入力画面!AA283:AE283,\"\")","v":""},{"$nulls":4},{"$f":"IF(入力画面!$T283<>\"\",入力画面!AF283:AH283,\"\")","v":""},null,null,{"$f":"IF(入力画面!$T283<>\"\",入力画面!AI283:AM283,\"\")","v":""},{"$nulls":4},{"$f":"IF(入力画面!$T283<>\"\",入力画面!AN283:AP283,\"\")","v":""},null,null,{"$f":"IF(入力画面!$T283<>\"\",入力画面!AQ283:AU283,\"\")","v":""},{"$nulls":4},{"$f":"IF(入力画面!$T283<>\"\",入力画面!AV283:AX283,\"\")","v":""},null,null,{"$f":"IF(入力画面!$T283<>\"\",入力画面!AY283:BC283,\"\")","v":""},{"$nulls":4},{"$f":"入力画面!BD283:BM283","v":0}]
[274,{"$f":"入力画面!B284:Q284","v":0},{"$nulls":15},{"$f":"入力画面!R284:S284","v":0},null,{"$f":"IF(入力画面!$T284<>\"\",入力画面!T284,\"\")","v":""},null,null,{"$f":"IF(入力画面!$T284<>\"\",入力画面!W284,\"\")","v":""},{"$nulls":3},{"$f":"IF(入力画面!$T284<>\"\",入力画面!AA284:AE284,\"\")","v":""},{"$nulls":4},{"$f":"IF(入力画面!$T284<>\"\",入力画面!AF284:AH284,\"\")","v":""},null,null,{"$f":"IF(入力画面!$T284<>\"\",入力画面!AI284:AM284,\"\")","v":""},{"$nulls":4},{"$f":"IF(入力画面!$T284<>\"\",入力画面!AN284:AP284,\"\")","v":""},null,null,{"$f":"IF(入力画面!$T284<>\"\",入力画面!AQ284:AU284,\"\")","v":""},{"$nulls":4},{"$f":"IF(入力画面!$T284<>\"\",入力画面!AV284:AX284,\"\")","v":""},null,null,{"$f":"IF(入力画面!$T284<>\"\",入力画面!AY284:BC284,\"\")","v":""},{"$nulls":4},{"$f":"入力画面!BD284:BM284","v":0}]
[275,{"$f":"入力画面!B285:Q285","v":0},{"$nulls":15},{"$f":"入力画面!R285:S285","v":0},null,{"$f":"IF(入力画面!$T285<>\"\",入力画面!T285,\"\")","v":""},null,null,{"$f":"IF(入力画面!$T285<>\"\",入力画面!W285,\"\")","v":""},{"$nulls":3},{"$f":"IF(入力画面!$T285<>\"\",入力画面!AA285:AE285,\"\")","v":""},{"$nulls":4},{"$f":"IF(入力画面!$T285<>\"\",入力画面!AF285:AH285,\"\")","v":""},null,null,{"$f":"IF(入力画面!$T285<>\"\",入力画面!AI285:AM285,\"\")","v":""},{"$nulls":4},{"$f":"IF(入力画面!$T285<>\"\",入力画面!AN285:AP285,\"\")","v":""},null,null,{"$f":"IF(入力画面!$T285<>\"\",入力画面!AQ285:AU285,\"\")","v":""},{"$nulls":4},{"$f":"IF(入力画面!$T285<>\"\",入力画面!AV285:AX285,\"\")","v":""},null,null,{"$f":"IF(入力画面!$T285<>\"\",入力画面!AY285:BC285,\"\")","v":""},{"$nulls":4},{"$f":"入力画面!BD285:BM285","v":0}]
[276,{"$f":"入力画面!B286:Q286","v":0},{"$nulls":15},{"$f":"入力画面!R286:S286","v":0},null,{"$f":"IF(入力画面!$T286<>\"\",入力画面!T286,\"\")","v":""},null,null,{"$f":"IF(入力画面!$T286<>\"\",入力画面!W286,\"\")","v":""},{"$nulls":3},{"$f":"IF(入力画面!$T286<>\"\",入力画面!AA286:AE286,\"\")","v":""},{"$nulls":4},{"$f":"IF(入力画面!$T286<>\"\",入力画面!AF286:AH286,\"\")","v":""},null,null,{"$f":"IF(入力画面!$T286<>\"\",入力画面!AI286:AM286,\"\")","v":""},{"$nulls":4},{"$f":"IF(入力画面!$T286<>\"\",入力画面!AN286:AP286,\"\")","v":""},null,null,{"$f":"IF(入力画面!$T286<>\"\",入力画面!AQ286:AU286,\"\")","v":""},{"$nulls":4},{"$f":"IF(入力画面!$T286<>\"\",入力画面!AV286:AX286,\"\")","v":""},null,null,{"$f":"IF(入力画面!$T286<>\"\",入力画面!AY286:BC286,\"\")","v":""},{"$nulls":4},{"$f":"入力画面!BD286:BM286","v":0}]
[277,{"$f":"入力画面!B287:Q287","v":0},{"$nulls":15},{"$f":"入力画面!R287:S287","v":0},null,{"$f":"IF(入力画面!$T287<>\"\",入力画面!T287,\"\")","v":""},null,null,{"$f":"IF(入力画面!$T287<>\"\",入力画面!W287,\"\")","v":""},{"$nulls":3},{"$f":"IF(入力画面!$T287<>\"\",入力画面!AA287:AE287,\"\")","v":""},{"$nulls":4},{"$f":"IF(入力画面!$T287<>\"\",入力画面!AF287:AH287,\"\")","v":""},null,null,{"$f":"IF(入力画面!$T287<>\"\",入力画面!AI287:AM287,\"\")","v":""},{"$nulls":4},{"$f":"IF(入力画面!$T287<>\"\",入力画面!AN287:AP287,\"\")","v":""},null,null,{"$f":"IF(入力画面!$T287<>\"\",入力画面!AQ287:AU287,\"\")","v":""},{"$nulls":4},{"$f":"IF(入力画面!$T287<>\"\",入力画面!AV287:AX287,\"\")","v":""},null,null,{"$f":"IF(入力画面!$T287<>\"\",入力画面!AY287:BC287,\"\")","v":""},{"$nulls":4},{"$f":"入力画面!BD287:BM287","v":0}]
[278,{"$f":"入力画面!B288:Q288","v":0},{"$nulls":15},{"$f":"入力画面!R288:S288","v":0},null,{"$f":"IF(入力画面!$T288<>\"\",入力画面!T288,\"\")","v":""},null,null,{"$f":"IF(入力画面!$T288<>\"\",入力画面!W288,\"\")","v":""},{"$nulls":3},{"$f":"IF(入力画面!$T288<>\"\",入力画面!AA288:AE288,\"\")","v":""},{"$nulls":4},{"$f":"IF(入力画面!$T288<>\"\",入力画面!AF288:AH288,\"\")","v":""},null,null,{"$f":"IF(入力画面!$T288<>\"\",入力画面!AI288:AM288,\"\")","v":""},{"$nulls":4},{"$f":"IF(入力画面!$T288<>\"\",入力画面!AN288:AP288,\"\")","v":""},null,null,{"$f":"IF(入力画面!$T288<>\"\",入力画面!AQ288:AU288,\"\")","v":""},{"$nulls":4},{"$f":"IF(入力画面!$T288<>\"\",入力画面!AV288:AX288,\"\")","v":""},null,null,{"$f":"IF(入力画面!$T288<>\"\",入力画面!AY288:BC288,\"\")","v":""},{"$nulls":4},{"$f":"入力画面!BD288:BM288","v":0}]
[279,{"$f":"入力画面!B289:Q289","v":0},{"$nulls":15},{"$f":"入力画面!R289:S289","v":0},null,{"$f":"IF(入力画面!$T289<>\"\",入力画面!T289,\"\")","v":""},null,null,{"$f":"IF(入力画面!$T289<>\"\",入力画面!W289,\"\")","v":""},{"$nulls":3},{"$f":"IF(入力画面!$T289<>\"\",入力画面!AA289:AE289,\"\")","v":""},{"$nulls":4},{"$f":"IF(入力画面!$T289<>\"\",入力画面!AF289:AH289,\"\")","v":""},null,null,{"$f":"IF(入力画面!$T289<>\"\",入力画面!AI289:AM289,\"\")","v":""},{"$nulls":4},{"$f":"IF(入力画面!$T289<>\"\",入力画面!AN289:AP289,\"\")","v":""},null,null,{"$f":"IF(入力画面!$T289<>\"\",入力画面!AQ289:AU289,\"\")","v":""},{"$nulls":4},{"$f":"IF(入力画面!$T289<>\"\",入力画面!AV289:AX289,\"\")","v":""},null,null,{"$f":"IF(入力画面!$T289<>\"\",入力画面!AY289:BC289,\"\")","v":""},{"$nulls":4},{"$f":"入力画面!BD289:BM289","v":0}]
[280,{"$f":"入力画面!B290:Q290","v":0},{"$nulls":15},{"$f":"入力画面!R290:S290","v":0},null,{"$f":"IF(入力画面!$T290<>\"\",入力画面!T290,\"\")","v":""},null,null,{"$f":"IF(入力画面!$T290<>\"\",入力画面!W290,\"\")","v":""},{"$nulls":3},{"$f":"IF(入力画面!$T290<>\"\",入力画面!AA290:AE290,\"\")","v":""},{"$nulls":4},{"$f":"IF(入力画面!$T290<>\"\",入力画面!AF290:AH290,\"\")","v":""},null,null,{"$f":"IF(入力画面!$T290<>\"\",入力画面!AI290:AM290,\"\")","v":""},{"$nulls":4},{"$f":"IF(入力画面!$T290<>\"\",入力画面!AN290:AP290,\"\")","v":""},null,null,{"$f":"IF(入力画面!$T290<>\"\",入力画面!AQ290:AU290,\"\")","v":""},{"$nulls":4},{"$f":"IF(入力画面!$T290<>\"\",入力画面!AV290:AX290,\"\")","v":""},null,null,{"$f":"IF(入力画面!$T290<>\"\",入力画面!AY290:BC290,\"\")","v":""},{"$nulls":4},{"$f":"入力画面!BD290:BM290","v":0}]
["※消費税、保留金の計算は別紙、請求書で行ってください",{"$nulls":21},"小計",{"$nulls":3},{"$f":"SUM(AA411:AE430)","v":{"v":0,"d":"0 "}},{"$nulls":4},"小計",null,null,{"$f":"SUM(AI411:AM430)","v":{"v":0,"d":"0 "}},{"$nulls":4},"小計",null,null,{"$f":"SUM(AQ411:AU430)","v":{"v":0,"d":"0 "}},{"$nulls":4},"小計",null,null,{"$f":"SUM(AY411:BC430)","v":{"v":0,"d":"0 "}},{"$nulls":4},"担　当　者　　　　確　認　印",{"$nulls":4},{"$f":"IF(AA432=\"－\",\"―――――\",\"\")","v":"―――――"}]
["※完成後一括払いであっても出来高検収書を作成・添付してください",{"$nulls":21},"合計",{"$nulls":3},{"$f":"IF(AND(OR(AA400<>0,AI400<>0,AQ400<>0,AY400<>0),AND(AA401=\"－\",AA462=0,AI462=0,AQ462=0,AY462=0)),AA28+AA59+AA90+AA121+AA152+AA183+AA214+AA245+AA276+AA307+AA338+AA369+AA400+AA431,\"－\")","v":"－"},{"$nulls":4},"合計",null,null,{"$f":"IF($AA432<>\"－\",AI28+AI59+AI90+AI121+AI152+AI183+AI214+AI245+AI276+AI307+AI338+AI369+AI400+AI431,\"－\")","v":"－"},{"$nulls":4},"合計",null,null,{"$f":"IF($AA432<>\"－\",AQ28+AQ59+AQ90+AQ121+AQ152+AQ183+AQ214+AQ245+AQ276+AQ307+AQ338+AQ369+AQ400+AQ431,\"－\")","v":"－"},{"$nulls":4},"合計",null,null,{"$f":"IF($AA432<>\"－\",AY28+AY59+AY90+AY121+AY152+AY183+AY214+AY245+AY276+AY307+AY338+AY369+AY400+AY431,\"－\")","v":"－"}]
["※協力会社印は出力枚数の都度、押印してください",{"$nulls":33},"今回迄出来高累計",{"$nulls":7},{"$f":"IF(AA432=\"－\",\"－\",AI432+AQ432)","v":"－"}]
[{"$nulls":55},"検   収   日",{"$nulls":4},{"$f":"IF(AA432=\"－\",\"――――\",\"\")","v":"――――"}]
[]
[null,null,"出　来　高　検　収　書　（第",{"$nulls":15},{"$f":"$S$2","v":0},null,"回）",null,null,"( 検収期間",{"$nulls":4},{"$f":"IF(入力画面!$J$4=\"\",\"\",入力画面!$J$4)","v":""},{"$nulls":4},"～",{"$f":"IF(入力画面!$Q$4=\"\",\"\",入力画面!$Q$4)","v":""},{"$nulls":4},"）",{"$nulls":14},"仙 建 工 業 株 式 会 社"]
[{"$nulls":41},"協力会社名"]
["工 事 番 号",{"$nulls":3},{"$f":"$E$4","v":0},{"$nulls":7},"工 事 件 名",{"$nulls":4},{"$f":"$R$4","v":0},{"$nulls":23},{"$f":"$AP$4","v":""},{"$nulls":19},"　印"]
["契   約   日",{"$nulls":3},{"$f":"$E$5","v":""},{"$nulls":7},"工         期",{"$nulls":4},"自",{"$nulls":3},{"$f":"$V$5","v":""},{"$nulls":7},"至",{"$nulls":3},{"$f":"$AH$5","v":""}]
["№","工                         種",{"$nulls":15},"契       約       金       額",{"$nulls":13},"前回迄出来高累計",{"$nulls":7},"今  回  出  来  高",{"$nulls":7},"残            高",{"$nulls":7},"摘                要"]
[{"$nulls":17},"単位",null,"数 量",null,null,"単   価",{"$nulls":3},"金     額",{"$nulls":4},"数 量",null,null,"金     額",{"$nulls":4},"数 量",null,null,"金     額",{"$nulls":4},"数 量",null,null,"金     額"]
[281,{"$f":"入力画面!B291:Q291","v":0},{"$nulls":15},{"$f":"入力画面!R291:S291","v":0},null,{"$f":"IF(入力画面!$T291<>\"\",入力画面!T291,\"\")","v":""},null,null,{"$f":"IF(入力画面!$T291<>\"\",入力画面!W291,\"\")","v":""},{"$nulls":3},{"$f":"IF(入力画面!$T291<>\"\",入力画面!AA291:AE291,\"\")","v":""},{"$nulls":4},{"$f":"IF(入力画面!$T291<>\"\",入力画面!AF291:AH291,\"\")","v":""},null,null,{"$f":"IF(入力画面!$T291<>\"\",入力画面!AI291:AM291,\"\")","v":""},{"$nulls":4},{"$f":"IF(入力画面!$T291<>\"\",入力画面!AN291:AP291,\"\")","v":""},null,null,{"$f":"IF(入力画面!$T291<>\"\",入力画面!AQ291:AU291,\"\")","v":""},{"$nulls":4},{"$f":"IF(入力画面!$T291<>\"\",入力画面!AV291:AX291,\"\")","v":""},null,null,{"$f":"IF(入力画面!$T291<>\"\",入力画面!AY291:BC291,\"\")","v":""},{"$nulls":4},{"$f":"入力画面!BD291:BM291","v":0}]
[282,{"$f":"入力画面!B292:Q292","v":0},{"$nulls":15},{"$f":"入力画面!R292:S292","v":0},null,{"$f":"IF(入力画面!$T292<>\"\",入力画面!T292,\"\")","v":""},null,null,{"$f":"IF(入力画面!$T292<>\"\",入力画面!W292,\"\")","v":""},{"$nulls":3},{"$f":"IF(入力画面!$T292<>\"\",入力画面!AA292:AE292,\"\")","v":""},{"$nulls":4},{"$f":"IF(入力画面!$T292<>\"\",入力画面!AF292:AH292,\"\")","v":""},null,null,{"$f":"IF(入力画面!$T292<>\"\",入力画面!AI292:AM292,\"\")","v":""},{"$nulls":4},{"$f":"IF(入力画面!$T292<>\"\",入力画面!AN292:AP292,\"\")","v":""},null,null,{"$f":"IF(入力画面!$T292<>\"\",入力画面!AQ292:AU292,\"\")","v":""},{"$nulls":4},{"$f":"IF(入力画面!$T292<>\"\",入力画面!AV292:AX292,\"\")","v":""},null,null,{"$f":"IF(入力画面!$T292<>\"\",入力画面!AY292:BC292,\"\")","v":""},{"$nulls":4},{"$f":"入力画面!BD292:BM292","v":0}]
[283,{"$f":"入力画面!B293:Q293","v":0},{"$nulls":15},{"$f":"入力画面!R293:S293","v":0},null,{"$f":"IF(入力画面!$T293<>\"\",入力画面!T293,\"\")","v":""},null,null,{"$f":"IF(入力画面!$T293<>\"\",入力画面!W293,\"\")","v":""},{"$nulls":3},{"$f":"IF(入力画面!$T293<>\"\",入力画面!AA293:AE293,\"\")","v":""},{"$nulls":4},{"$f":"IF(入力画面!$T293<>\"\",入力画面!AF293:AH293,\"\")","v":""},null,null,{"$f":"IF(入力画面!$T293<>\"\",入力画面!AI293:AM293,\"\")","v":""},{"$nulls":4},{"$f":"IF(入力画面!$T293<>\"\",入力画面!AN293:AP293,\"\")","v":""},null,null,{"$f":"IF(入力画面!$T293<>\"\",入力画面!AQ293:AU293,\"\")","v":""},{"$nulls":4},{"$f":"IF(入力画面!$T293<>\"\",入力画面!AV293:AX293,\"\")","v":""},null,null,{"$f":"IF(入力画面!$T293<>\"\",入力画面!AY293:BC293,\"\")","v":""},{"$nulls":4},{"$f":"入力画面!BD293:BM293","v":0}]
[284,{"$f":"入力画面!B294:Q294","v":0},{"$nulls":15},{"$f":"入力画面!R294:S294","v":0},null,{"$f":"IF(入力画面!$T294<>\"\",入力画面!T294,\"\")","v":""},null,null,{"$f":"IF(入力画面!$T294<>\"\",入力画面!W294,\"\")","v":""},{"$nulls":3},{"$f":"IF(入力画面!$T294<>\"\",入力画面!AA294:AE294,\"\")","v":""},{"$nulls":4},{"$f":"IF(入力画面!$T294<>\"\",入力画面!AF294:AH294,\"\")","v":""},null,null,{"$f":"IF(入力画面!$T294<>\"\",入力画面!AI294:AM294,\"\")","v":""},{"$nulls":4},{"$f":"IF(入力画面!$T294<>\"\",入力画面!AN294:AP294,\"\")","v":""},null,null,{"$f":"IF(入力画面!$T294<>\"\",入力画面!AQ294:AU294,\"\")","v":""},{"$nulls":4},{"$f":"IF(入力画面!$T294<>\"\",入力画面!AV294:AX294,\"\")","v":""},null,null,{"$f":"IF(入力画面!$T294<>\"\",入力画面!AY294:BC294,\"\")","v":""},{"$nulls":4},{"$f":"入力画面!BD294:BM294","v":0}]
[285,{"$f":"入力画面!B295:Q295","v":0},{"$nulls":15},{"$f":"入力画面!R295:S295","v":0},null,{"$f":"IF(入力画面!$T295<>\"\",入力画面!T295,\"\")","v":""},null,null,{"$f":"IF(入力画面!$T295<>\"\",入力画面!W295,\"\")","v":""},{"$nulls":3},{"$f":"IF(入力画面!$T295<>\"\",入力画面!AA295:AE295,\"\")","v":""},{"$nulls":4},{"$f":"IF(入力画面!$T295<>\"\",入力画面!AF295:AH295,\"\")","v":""},null,null,{"$f":"IF(入力画面!$T295<>\"\",入力画面!AI295:AM295,\"\")","v":""},{"$nulls":4},{"$f":"IF(入力画面!$T295<>\"\",入力画面!AN295:AP295,\"\")","v":""},null,null,{"$f":"IF(入力画面!$T295<>\"\",入力画面!AQ295:AU295,\"\")","v":""},{"$nulls":4},{"$f":"IF(入力画面!$T295<>\"\",入力画面!AV295:AX295,\"\")","v":""},null,null,{"$f":"IF(入力画面!$T295<>\"\",入力画面!AY295:BC295,\"\")","v":""},{"$nulls":4},{"$f":"入力画面!BD295:BM295","v":0}]
[286,{"$f":"入力画面!B296:Q296","v":0},{"$nulls":15},{"$f":"入力画面!R296:S296","v":0},null,{"$f":"IF(入力画面!$T296<>\"\",入力画面!T296,\"\")","v":""},null,null,{"$f":"IF(入力画面!$T296<>\"\",入力画面!W296,\"\")","v":""},{"$nulls":3},{"$f":"IF(入力画面!$T296<>\"\",入力画面!AA296:AE296,\"\")","v":""},{"$nulls":4},{"$f":"IF(入力画面!$T296<>\"\",入力画面!AF296:AH296,\"\")","v":""},null,null,{"$f":"IF(入力画面!$T296<>\"\",入力画面!AI296:AM296,\"\")","v":""},{"$nulls":4},{"$f":"IF(入力画面!$T296<>\"\",入力画面!AN296:AP296,\"\")","v":""},null,null,{"$f":"IF(入力画面!$T296<>\"\",入力画面!AQ296:AU296,\"\")","v":""},{"$nulls":4},{"$f":"IF(入力画面!$T296<>\"\",入力画面!AV296:AX296,\"\")","v":""},null,null,{"$f":"IF(入力画面!$T296<>\"\",入力画面!AY296:BC296,\"\")","v":""},{"$nulls":4},{"$f":"入力画面!BD296:BM296","v":0}]
[287,{"$f":"入力画面!B297:Q297","v":0},{"$nulls":15},{"$f":"入力画面!R297:S297","v":0},null,{"$f":"IF(入力画面!$T297<>\"\",入力画面!T297,\"\")","v":""},null,null,{"$f":"IF(入力画面!$T297<>\"\",入力画面!W297,\"\")","v":""},{"$nulls":3},{"$f":"IF(入力画面!$T297<>\"\",入力画面!AA297:AE297,\"\")","v":""},{"$nulls":4},{"$f":"IF(入力画面!$T297<>\"\",入力画面!AF297:AH297,\"\")","v":""},null,null,{"$f":"IF(入力画面!$T297<>\"\",入力画面!AI297:AM297,\"\")","v":""},{"$nulls":4},{"$f":"IF(入力画面!$T297<>\"\",入力画面!AN297:AP297,\"\")","v":""},null,null,{"$f":"IF(入力画面!$T297<>\"\",入力画面!AQ297:AU297,\"\")","v":""},{"$nulls":4},{"$f":"IF(入力画面!$T297<>\"\",入力画面!AV297:AX297,\"\")","v":""},null,null,{"$f":"IF(入力画面!$T297<>\"\",入力画面!AY297:BC297,\"\")","v":""},{"$nulls":4},{"$f":"入力画面!BD297:BM297","v":0}]
[288,{"$f":"入力画面!B298:Q298","v":0},{"$nulls":15},{"$f":"入力画面!R298:S298","v":0},null,{"$f":"IF(入力画面!$T298<>\"\",入力画面!T298,\"\")","v":""},null,null,{"$f":"IF(入力画面!$T298<>\"\",入力画面!W298,\"\")","v":""},{"$nulls":3},{"$f":"IF(入力画面!$T298<>\"\",入力画面!AA298:AE298,\"\")","v":""},{"$nulls":4},{"$f":"IF(入力画面!$T298<>\"\",入力画面!AF298:AH298,\"\")","v":""},null,null,{"$f":"IF(入力画面!$T298<>\"\",入力画面!AI298:AM298,\"\")","v":""},{"$nulls":4},{"$f":"IF(入力画面!$T298<>\"\",入力画面!AN298:AP298,\"\")","v":""},null,null,{"$f":"IF(入力画面!$T298<>\"\",入力画面!AQ298:AU298,\"\")","v":""},{"$nulls":4},{"$f":"IF(入力画面!$T298<>\"\",入力画面!AV298:AX298,\"\")","v":""},null,null,{"$f":"IF(入力画面!$T298<>\"\",入力画面!AY298:BC298,\"\")","v":""},{"$nulls":4},{"$f":"入力画面!BD298:BM298","v":0}]
[289,{"$f":"入力画面!B299:Q299","v":0},{"$nulls":15},{"$f":"入力画面!R299:S299","v":0},null,{"$f":"IF(入力画面!$T299<>\"\",入力画面!T299,\"\")","v":""},null,null,{"$f":"IF(入力画面!$T299<>\"\",入力画面!W299,\"\")","v":""},{"$nulls":3},{"$f":"IF(入力画面!$T299<>\"\",入力画面!AA299:AE299,\"\")","v":""},{"$nulls":4},{"$f":"IF(入力画面!$T299<>\"\",入力画面!AF299:AH299,\"\")","v":""},null,null,{"$f":"IF(入力画面!$T299<>\"\",入力画面!AI299:AM299,\"\")","v":""},{"$nulls":4},{"$f":"IF(入力画面!$T299<>\"\",入力画面!AN299:AP299,\"\")","v":""},null,null,{"$f":"IF(入力画面!$T299<>\"\",入力画面!AQ299:AU299,\"\")","v":""},{"$nulls":4},{"$f":"IF(入力画面!$T299<>\"\",入力画面!AV299:AX299,\"\")","v":""},null,null,{"$f":"IF(入力画面!$T299<>\"\",入力画面!AY299:BC299,\"\")","v":""},{"$nulls":4},{"$f":"入力画面!BD299:BM299","v":0}]
[290,{"$f":"入力画面!B300:Q300","v":0},{"$nulls":15},{"$f":"入力画面!R300:S300","v":0},null,{"$f":"IF(入力画面!$T300<>\"\",入力画面!T300,\"\")","v":""},null,null,{"$f":"IF(入力画面!$T300<>\"\",入力画面!W300,\"\")","v":""},{"$nulls":3},{"$f":"IF(入力画面!$T300<>\"\",入力画面!AA300:AE300,\"\")","v":""},{"$nulls":4},{"$f":"IF(入力画面!$T300<>\"\",入力画面!AF300:AH300,\"\")","v":""},null,null,{"$f":"IF(入力画面!$T300<>\"\",入力画面!AI300:AM300,\"\")","v":""},{"$nulls":4},{"$f":"IF(入力画面!$T300<>\"\",入力画面!AN300:AP300,\"\")","v":""},null,null,{"$f":"IF(入力画面!$T300<>\"\",入力画面!AQ300:AU300,\"\")","v":""},{"$nulls":4},{"$f":"IF(入力画面!$T300<>\"\",入力画面!AV300:AX300,\"\")","v":""},null,null,{"$f":"IF(入力画面!$T300<>\"\",入力画面!AY300:BC300,\"\")","v":""},{"$nulls":4},{"$f":"入力画面!BD300:BM300","v":0}]
[291,{"$f":"入力画面!B301:Q301","v":0},{"$nulls":15},{"$f":"入力画面!R301:S301","v":0},null,{"$f":"IF(入力画面!$T301<>\"\",入力画面!T301,\"\")","v":""},null,null,{"$f":"IF(入力画面!$T301<>\"\",入力画面!W301,\"\")","v":""},{"$nulls":3},{"$f":"IF(入力画面!$T301<>\"\",入力画面!AA301:AE301,\"\")","v":""},{"$nulls":4},{"$f":"IF(入力画面!$T301<>\"\",入力画面!AF301:AH301,\"\")","v":""},null,null,{"$f":"IF(入力画面!$T301<>\"\",入力画面!AI301:AM301,\"\")","v":""},{"$nulls":4},{"$f":"IF(入力画面!$T301<>\"\",入力画面!AN301:AP301,\"\")","v":""},null,null,{"$f":"IF(入力画面!$T301<>\"\",入力画面!AQ301:AU301,\"\")","v":""},{"$nulls":4},{"$f":"IF(入力画面!$T301<>\"\",入力画面!AV301:AX301,\"\")","v":""},null,null,{"$f":"IF(入力画面!$T301<>\"\",入力画面!AY301:BC301,\"\")","v":""},{"$nulls":4},{"$f":"入力画面!BD301:BM301","v":0}]
[292,{"$f":"入力画面!B302:Q302","v":0},{"$nulls":15},{"$f":"入力画面!R302:S302","v":0},null,{"$f":"IF(入力画面!$T302<>\"\",入力画面!T302,\"\")","v":""},null,null,{"$f":"IF(入力画面!$T302<>\"\",入力画面!W302,\"\")","v":""},{"$nulls":3},{"$f":"IF(入力画面!$T302<>\"\",入力画面!AA302:AE302,\"\")","v":""},{"$nulls":4},{"$f":"IF(入力画面!$T302<>\"\",入力画面!AF302:AH302,\"\")","v":""},null,null,{"$f":"IF(入力画面!$T302<>\"\",入力画面!AI302:AM302,\"\")","v":""},{"$nulls":4},{"$f":"IF(入力画面!$T302<>\"\",入力画面!AN302:AP302,\"\")","v":""},null,null,{"$f":"IF(入力画面!$T302<>\"\",入力画面!AQ302:AU302,\"\")","v":""},{"$nulls":4},{"$f":"IF(入力画面!$T302<>\"\",入力画面!AV302:AX302,\"\")","v":""},null,null,{"$f":"IF(入力画面!$T302<>\"\",入力画面!AY302:BC302,\"\")","v":""},{"$nulls":4},{"$f":"入力画面!BD302:BM302","v":0}]
[293,{"$f":"入力画面!B303:Q303","v":0},{"$nulls":15},{"$f":"入力画面!R303:S303","v":0},null,{"$f":"IF(入力画面!$T303<>\"\",入力画面!T303,\"\")","v":""},null,null,{"$f":"IF(入力画面!$T303<>\"\",入力画面!W303,\"\")","v":""},{"$nulls":3},{"$f":"IF(入力画面!$T303<>\"\",入力画面!AA303:AE303,\"\")","v":""},{"$nulls":4},{"$f":"IF(入力画面!$T303<>\"\",入力画面!AF303:AH303,\"\")","v":""},null,null,{"$f":"IF(入力画面!$T303<>\"\",入力画面!AI303:AM303,\"\")","v":""},{"$nulls":4},{"$f":"IF(入力画面!$T303<>\"\",入力画面!AN303:AP303,\"\")","v":""},null,null,{"$f":"IF(入力画面!$T303<>\"\",入力画面!AQ303:AU303,\"\")","v":""},{"$nulls":4},{"$f":"IF(入力画面!$T303<>\"\",入力画面!AV303:AX303,\"\")","v":""},null,null,{"$f":"IF(入力画面!$T303<>\"\",入力画面!AY303:BC303,\"\")","v":""},{"$nulls":4},{"$f":"入力画面!BD303:BM303","v":0}]
[294,{"$f":"入力画面!B304:Q304","v":0},{"$nulls":15},{"$f":"入力画面!R304:S304","v":0},null,{"$f":"IF(入力画面!$T304<>\"\",入力画面!T304,\"\")","v":""},null,null,{"$f":"IF(入力画面!$T304<>\"\",入力画面!W304,\"\")","v":""},{"$nulls":3},{"$f":"IF(入力画面!$T304<>\"\",入力画面!AA304:AE304,\"\")","v":""},{"$nulls":4},{"$f":"IF(入力画面!$T304<>\"\",入力画面!AF304:AH304,\"\")","v":""},null,null,{"$f":"IF(入力画面!$T304<>\"\",入力画面!AI304:AM304,\"\")","v":""},{"$nulls":4},{"$f":"IF(入力画面!$T304<>\"\",入力画面!AN304:AP304,\"\")","v":""},null,null,{"$f":"IF(入力画面!$T304<>\"\",入力画面!AQ304:AU304,\"\")","v":""},{"$nulls":4},{"$f":"IF(入力画面!$T304<>\"\",入力画面!AV304:AX304,\"\")","v":""},null,null,{"$f":"IF(入力画面!$T304<>\"\",入力画面!AY304:BC304,\"\")","v":""},{"$nulls":4},{"$f":"入力画面!BD304:BM304","v":0}]
[295,{"$f":"入力画面!B305:Q305","v":0},{"$nulls":15},{"$f":"入力画面!R305:S305","v":0},null,{"$f":"IF(入力画面!$T305<>\"\",入力画面!T305,\"\")","v":""},null,null,{"$f":"IF(入力画面!$T305<>\"\",入力画面!W305,\"\")","v":""},{"$nulls":3},{"$f":"IF(入力画面!$T305<>\"\",入力画面!AA305:AE305,\"\")","v":""},{"$nulls":4},{"$f":"IF(入力画面!$T305<>\"\",入力画面!AF305:AH305,\"\")","v":""},null,null,{"$f":"IF(入力画面!$T305<>\"\",入力画面!AI305:AM305,\"\")","v":""},{"$nulls":4},{"$f":"IF(入力画面!$T305<>\"\",入力画面!AN305:AP305,\"\")","v":""},null,null,{"$f":"IF(入力画面!$T305<>\"\",入力画面!AQ305:AU305,\"\")","v":""},{"$nulls":4},{"$f":"IF(入力画面!$T305<>\"\",入力画面!AV305:AX305,\"\")","v":""},null,null,{"$f":"IF(入力画面!$T305<>\"\",入力画面!AY305:BC305,\"\")","v":""},{"$nulls":4},{"$f":"入力画面!BD305:BM305","v":0}]
[296,{"$f":"入力画面!B306:Q306","v":0},{"$nulls":15},{"$f":"入力画面!R306:S306","v":0},null,{"$f":"IF(入力画面!$T306<>\"\",入力画面!T306,\"\")","v":""},null,null,{"$f":"IF(入力画面!$T306<>\"\",入力画面!W306,\"\")","v":""},{"$nulls":3},{"$f":"IF(入力画面!$T306<>\"\",入力画面!AA306:AE306,\"\")","v":""},{"$nulls":4},{"$f":"IF(入力画面!$T306<>\"\",入力画面!AF306:AH306,\"\")","v":""},null,null,{"$f":"IF(入力画面!$T306<>\"\",入力画面!AI306:AM306,\"\")","v":""},{"$nulls":4},{"$f":"IF(入力画面!$T306<>\"\",入力画面!AN306:AP306,\"\")","v":""},null,null,{"$f":"IF(入力画面!$T306<>\"\",入力画面!AQ306:AU306,\"\")","v":""},{"$nulls":4},{"$f":"IF(入力画面!$T306<>\"\",入力画面!AV306:AX306,\"\")","v":""},null,null,{"$f":"IF(入力画面!$T306<>\"\",入力画面!AY306:BC306,\"\")","v":""},{"$nulls":4},{"$f":"入力画面!BD306:BM306","v":0}]
[297,{"$f":"入力画面!B307:Q307","v":0},{"$nulls":15},{"$f":"入力画面!R307:S307","v":0},null,{"$f":"IF(入力画面!$T307<>\"\",入力画面!T307,\"\")","v":""},null,null,{"$f":"IF(入力画面!$T307<>\"\",入力画面!W307,\"\")","v":""},{"$nulls":3},{"$f":"IF(入力画面!$T307<>\"\",入力画面!AA307:AE307,\"\")","v":""},{"$nulls":4},{"$f":"IF(入力画面!$T307<>\"\",入力画面!AF307:AH307,\"\")","v":""},null,null,{"$f":"IF(入力画面!$T307<>\"\",入力画面!AI307:AM307,\"\")","v":""},{"$nulls":4},{"$f":"IF(入力画面!$T307<>\"\",入力画面!AN307:AP307,\"\")","v":""},null,null,{"$f":"IF(入力画面!$T307<>\"\",入力画面!AQ307:AU307,\"\")","v":""},{"$nulls":4},{"$f":"IF(入力画面!$T307<>\"\",入力画面!AV307:AX307,\"\")","v":""},null,null,{"$f":"IF(入力画面!$T307<>\"\",入力画面!AY307:BC307,\"\")","v":""},{"$nulls":4},{"$f":"入力画面!BD307:BM307","v":0}]
[298,{"$f":"入力画面!B308:Q308","v":0},{"$nulls":15},{"$f":"入力画面!R308:S308","v":0},null,{"$f":"IF(入力画面!$T308<>\"\",入力画面!T308,\"\")","v":""},null,null,{"$f":"IF(入力画面!$T308<>\"\",入力画面!W308,\"\")","v":""},{"$nulls":3},{"$f":"IF(入力画面!$T308<>\"\",入力画面!AA308:AE308,\"\")","v":""},{"$nulls":4},{"$f":"IF(入力画面!$T308<>\"\",入力画面!AF308:AH308,\"\")","v":""},null,null,{"$f":"IF(入力画面!$T308<>\"\",入力画面!AI308:AM308,\"\")","v":""},{"$nulls":4},{"$f":"IF(入力画面!$T308<>\"\",入力画面!AN308:AP308,\"\")","v":""},null,null,{"$f":"IF(入力画面!$T308<>\"\",入力画面!AQ308:AU308,\"\")","v":""},{"$nulls":4},{"$f":"IF(入力画面!$T308<>\"\",入力画面!AV308:AX308,\"\")","v":""},null,null,{"$f":"IF(入力画面!$T308<>\"\",入力画面!AY308:BC308,\"\")","v":""},{"$nulls":4},{"$f":"入力画面!BD308:BM308","v":0}]
[299,{"$f":"入力画面!B309:Q309","v":0},{"$nulls":15},{"$f":"入力画面!R309:S309","v":0},null,{"$f":"IF(入力画面!$T309<>\"\",入力画面!T309,\"\")","v":""},null,null,{"$f":"IF(入力画面!$T309<>\"\",入力画面!W309,\"\")","v":""},{"$nulls":3},{"$f":"IF(入力画面!$T309<>\"\",入力画面!AA309:AE309,\"\")","v":""},{"$nulls":4},{"$f":"IF(入力画面!$T309<>\"\",入力画面!AF309:AH309,\"\")","v":""},null,null,{"$f":"IF(入力画面!$T309<>\"\",入力画面!AI309:AM309,\"\")","v":""},{"$nulls":4},{"$f":"IF(入力画面!$T309<>\"\",入力画面!AN309:AP309,\"\")","v":""},null,null,{"$f":"IF(入力画面!$T309<>\"\",入力画面!AQ309:AU309,\"\")","v":""},{"$nulls":4},{"$f":"IF(入力画面!$T309<>\"\",入力画面!AV309:AX309,\"\")","v":""},null,null,{"$f":"IF(入力画面!$T309<>\"\",入力画面!AY309:BC309,\"\")","v":""},{"$nulls":4},{"$f":"入力画面!BD309:BM309","v":0}]
[300,{"$f":"入力画面!B310:Q310","v":0},{"$nulls":15},{"$f":"入力画面!R310:S310","v":0},null,{"$f":"IF(入力画面!$T310<>\"\",入力画面!T310,\"\")","v":""},null,null,{"$f":"IF(入力画面!$T310<>\"\",入力画面!W310,\"\")","v":""},{"$nulls":3},{"$f":"IF(入力画面!$T310<>\"\",入力画面!AA310:AE310,\"\")","v":""},{"$nulls":4},{"$f":"IF(入力画面!$T310<>\"\",入力画面!AF310:AH310,\"\")","v":""},null,null,{"$f":"IF(入力画面!$T310<>\"\",入力画面!AI310:AM310,\"\")","v":""},{"$nulls":4},{"$f":"IF(入力画面!$T310<>\"\",入力画面!AN310:AP310,\"\")","v":""},null,null,{"$f":"IF(入力画面!$T310<>\"\",入力画面!AQ310:AU310,\"\")","v":""},{"$nulls":4},{"$f":"IF(入力画面!$T310<>\"\",入力画面!AV310:AX310,\"\")","v":""},null,null,{"$f":"IF(入力画面!$T310<>\"\",入力画面!AY310:BC310,\"\")","v":""},{"$nulls":4},{"$f":"入力画面!BD310:BM310","v":0}]
["※消費税、保留金の計算は別紙、請求書で行ってください",{"$nulls":21},"小計",{"$nulls":3},{"$f":"SUM(AA442:AE461)","v":{"v":0,"d":"0 "}},{"$nulls":4},"小計",null,null,{"$f":"SUM(AI442:AM461)","v":{"v":0,"d":"0 "}},{"$nulls":4},"小計",null,null,{"$f":"SUM(AQ442:AU461)","v":{"v":0,"d":"0 "}},{"$nulls":4},"小計",null,null,{"$f":"SUM(AY442:BC461)","v":{"v":0,"d":"0 "}},{"$nulls":4},"担　当　者　　　　確　認　印",{"$nulls":4},{"$f":"IF(AA463=\"－\",\"―――――\",\"\")","v":"―――――"}]
["※完成後一括払いであっても出来高検収書を作成・添付してください",{"$nulls":21},"合計",{"$nulls":3},{"$f":"IF(AND(OR(AA431<>0,AI431<>0,AQ431<>0,AY431<>0),AND(AA432=\"－\",AA493=0,AI493=0,AQ493=0,AY493=0)),AA28+AA59+AA90+AA121+AA152+AA183+AA214+AA245+AA276+AA307+AA338+AA369+AA400+AA431+AA462,\"－\")","v":"－"},{"$nulls":4},"合計",null,null,{"$f":"IF($AA463<>\"－\",AI28+AI59+AI90+AI121+AI152+AI183+AI214+AI245+AI276+AI307+AI338+AI369+AI400+AI431+AI462,\"－\")","v":"－"},{"$nulls":4},"合計",null,null,{"$f":"IF($AA463<>\"－\",AQ28+AQ59+AQ90+AQ121+AQ152+AQ183+AQ214+AQ245+AQ276+AQ307+AQ338+AQ369+AQ400+AQ431+AQ462,\"－\")","v":"－"},{"$nulls":4},"合計",null,null,{"$f":"IF($AA463<>\"－\",AY28+AY59+AY90+AY121+AY152+AY183+AY214+AY245+AY276+AY307+AY338+AY369+AY400+AY431+AY462,\"－\")","v":"－"}]
["※協力会社印は出力枚数の都度、押印してください",{"$nulls":33},"今回迄出来高累計",{"$nulls":7},{"$f":"IF(AA463=\"－\",\"－\",AI463+AQ463)","v":"－"}]
[{"$nulls":55},"検   収   日",{"$nulls":4},{"$f":"IF(AA463=\"－\",\"――――\",\"\")","v":"――――"}]
[]
[null,null,"出　来　高　検　収　書　（第",{"$nulls":15},{"$f":"$S$2","v":0},null,"回）",null,null,"( 検収期間",{"$nulls":4},{"$f":"IF(入力画面!$J$4=\"\",\"\",入力画面!$J$4)","v":""},{"$nulls":4},"～",{"$f":"IF(入力画面!$Q$4=\"\",\"\",入力画面!$Q$4)","v":""},{"$nulls":4},"）",{"$nulls":14},"仙 建 工 業 株 式 会 社"]
[{"$nulls":41},"協力会社名"]
["工 事 番 号",{"$nulls":3},{"$f":"$E$4","v":0},{"$nulls":7},"工 事 件 名",{"$nulls":4},{"$f":"$R$4","v":0},{"$nulls":23},{"$f":"$AP$4","v":""},{"$nulls":19},"　印"]
["契   約   日",{"$nulls":3},{"$f":"$E$5","v":""},{"$nulls":7},"工         期",{"$nulls":4},"自",{"$nulls":3},{"$f":"$V$5","v":""},{"$nulls":7},"至",{"$nulls":3},{"$f":"$AH$5","v":""}]
["№","工                         種",{"$nulls":15},"契       約       金       額",{"$nulls":13},"前回迄出来高累計",{"$nulls":7},"今  回  出  来  高",{"$nulls":7},"残            高",{"$nulls":7},"摘                要"]
[{"$nulls":17},"単位",null,"数 量",null,null,"単   価",{"$nulls":3},"金     額",{"$nulls":4},"数 量",null,null,"金     額",{"$nulls":4},"数 量",null,null,"金     額",{"$nulls":4},"数 量",null,null,"金     額"]
[301,{"$f":"入力画面!B311:Q311","v":0},{"$nulls":15},{"$f":"入力画面!R311:S311","v":0},null,{"$f":"IF(入力画面!$T311<>\"\",入力画面!T311,\"\")","v":""},null,null,{"$f":"IF(入力画面!$T311<>\"\",入力画面!W311,\"\")","v":""},{"$nulls":3},{"$f":"IF(入力画面!$T311<>\"\",入力画面!AA311:AE311,\"\")","v":""},{"$nulls":4},{"$f":"IF(入力画面!$T311<>\"\",入力画面!AF311:AH311,\"\")","v":""},null,null,{"$f":"IF(入力画面!$T311<>\"\",入力画面!AI311:AM311,\"\")","v":""},{"$nulls":4},{"$f":"IF(入力画面!$T311<>\"\",入力画面!AN311:AP311,\"\")","v":""},null,null,{"$f":"IF(入力画面!$T311<>\"\",入力画面!AQ311:AU311,\"\")","v":""},{"$nulls":4},{"$f":"IF(入力画面!$T311<>\"\",入力画面!AV311:AX311,\"\")","v":""},null,null,{"$f":"IF(入力画面!$T311<>\"\",入力画面!AY311:BC311,\"\")","v":""},{"$nulls":4},{"$f":"入力画面!BD311:BM311","v":0}]
[302,{"$f":"入力画面!B312:Q312","v":0},{"$nulls":15},{"$f":"入力画面!R312:S312","v":0},null,{"$f":"IF(入力画面!$T312<>\"\",入力画面!T312,\"\")","v":""},null,null,{"$f":"IF(入力画面!$T312<>\"\",入力画面!W312,\"\")","v":""},{"$nulls":3},{"$f":"IF(入力画面!$T312<>\"\",入力画面!AA312:AE312,\"\")","v":""},{"$nulls":4},{"$f":"IF(入力画面!$T312<>\"\",入力画面!AF312:AH312,\"\")","v":""},null,null,{"$f":"IF(入力画面!$T312<>\"\",入力画面!AI312:AM312,\"\")","v":""},{"$nulls":4},{"$f":"IF(入力画面!$T312<>\"\",入力画面!AN312:AP312,\"\")","v":""},null,null,{"$f":"IF(入力画面!$T312<>\"\",入力画面!AQ312:AU312,\"\")","v":""},{"$nulls":4},{"$f":"IF(入力画面!$T312<>\"\",入力画面!AV312:AX312,\"\")","v":""},null,null,{"$f":"IF(入力画面!$T312<>\"\",入力画面!AY312:BC312,\"\")","v":""},{"$nulls":4},{"$f":"入力画面!BD312:BM312","v":0}]
[303,{"$f":"入力画面!B313:Q313","v":0},{"$nulls":15},{"$f":"入力画面!R313:S313","v":0},null,{"$f":"IF(入力画面!$T313<>\"\",入力画面!T313,\"\")","v":""},null,null,{"$f":"IF(入力画面!$T313<>\"\",入力画面!W313,\"\")","v":""},{"$nulls":3},{"$f":"IF(入力画面!$T313<>\"\",入力画面!AA313:AE313,\"\")","v":""},{"$nulls":4},{"$f":"IF(入力画面!$T313<>\"\",入力画面!AF313:AH313,\"\")","v":""},null,null,{"$f":"IF(入力画面!$T313<>\"\",入力画面!AI313:AM313,\"\")","v":""},{"$nulls":4},{"$f":"IF(入力画面!$T313<>\"\",入力画面!AN313:AP313,\"\")","v":""},null,null,{"$f":"IF(入力画面!$T313<>\"\",入力画面!AQ313:AU313,\"\")","v":""},{"$nulls":4},{"$f":"IF(入力画面!$T313<>\"\",入力画面!AV313:AX313,\"\")","v":""},null,null,{"$f":"IF(入力画面!$T313<>\"\",入力画面!AY313:BC313,\"\")","v":""},{"$nulls":4},{"$f":"入力画面!BD313:BM313","v":0}]
[304,{"$f":"入力画面!B314:Q314","v":0},{"$nulls":15},{"$f":"入力画面!R314:S314","v":0},null,{"$f":"IF(入力画面!$T314<>\"\",入力画面!T314,\"\")","v":""},null,null,{"$f":"IF(入力画面!$T314<>\"\",入力画面!W314,\"\")","v":""},{"$nulls":3},{"$f":"IF(入力画面!$T314<>\"\",入力画面!AA314:AE314,\"\")","v":""},{"$nulls":4},{"$f":"IF(入力画面!$T314<>\"\",入力画面!AF314:AH314,\"\")","v":""},null,null,{"$f":"IF(入力画面!$T314<>\"\",入力画面!AI314:AM314,\"\")","v":""},{"$nulls":4},{"$f":"IF(入力画面!$T314<>\"\",入力画面!AN314:AP314,\"\")","v":""},null,null,{"$f":"IF(入力画面!$T314<>\"\",入力画面!AQ314:AU314,\"\")","v":""},{"$nulls":4},{"$f":"IF(入力画面!$T314<>\"\",入力画面!AV314:AX314,\"\")","v":""},null,null,{"$f":"IF(入力画面!$T314<>\"\",入力画面!AY314:BC314,\"\")","v":""},{"$nulls":4},{"$f":"入力画面!BD314:BM314","v":0}]
[305,{"$f":"入力画面!B315:Q315","v":0},{"$nulls":15},{"$f":"入力画面!R315:S315","v":0},null,{"$f":"IF(入力画面!$T315<>\"\",入力画面!T315,\"\")","v":""},null,null,{"$f":"IF(入力画面!$T315<>\"\",入力画面!W315,\"\")","v":""},{"$nulls":3},{"$f":"IF(入力画面!$T315<>\"\",入力画面!AA315:AE315,\"\")","v":""},{"$nulls":4},{"$f":"IF(入力画面!$T315<>\"\",入力画面!AF315:AH315,\"\")","v":""},null,null,{"$f":"IF(入力画面!$T315<>\"\",入力画面!AI315:AM315,\"\")","v":""},{"$nulls":4},{"$f":"IF(入力画面!$T315<>\"\",入力画面!AN315:AP315,\"\")","v":""},null,null,{"$f":"IF(入力画面!$T315<>\"\",入力画面!AQ315:AU315,\"\")","v":""},{"$nulls":4},{"$f":"IF(入力画面!$T315<>\"\",入力画面!AV315:AX315,\"\")","v":""},null,null,{"$f":"IF(入力画面!$T315<>\"\",入力画面!AY315:BC315,\"\")","v":""},{"$nulls":4},{"$f":"入力画面!BD315:BM315","v":0}]
[306,{"$f":"入力画面!B316:Q316","v":0},{"$nulls":15},{"$f":"入力画面!R316:S316","v":0},null,{"$f":"IF(入力画面!$T316<>\"\",入力画面!T316,\"\")","v":""},null,null,{"$f":"IF(入力画面!$T316<>\"\",入力画面!W316,\"\")","v":""},{"$nulls":3},{"$f":"IF(入力画面!$T316<>\"\",入力画面!AA316:AE316,\"\")","v":""},{"$nulls":4},{"$f":"IF(入力画面!$T316<>\"\",入力画面!AF316:AH316,\"\")","v":""},null,null,{"$f":"IF(入力画面!$T316<>\"\",入力画面!AI316:AM316,\"\")","v":""},{"$nulls":4},{"$f":"IF(入力画面!$T316<>\"\",入力画面!AN316:AP316,\"\")","v":""},null,null,{"$f":"IF(入力画面!$T316<>\"\",入力画面!AQ316:AU316,\"\")","v":""},{"$nulls":4},{"$f":"IF(入力画面!$T316<>\"\",入力画面!AV316:AX316,\"\")","v":""},null,null,{"$f":"IF(入力画面!$T316<>\"\",入力画面!AY316:BC316,\"\")","v":""},{"$nulls":4},{"$f":"入力画面!BD316:BM316","v":0}]
[307,{"$f":"入力画面!B317:Q317","v":0},{"$nulls":15},{"$f":"入力画面!R317:S317","v":0},null,{"$f":"IF(入力画面!$T317<>\"\",入力画面!T317,\"\")","v":""},null,null,{"$f":"IF(入力画面!$T317<>\"\",入力画面!W317,\"\")","v":""},{"$nulls":3},{"$f":"IF(入力画面!$T317<>\"\",入力画面!AA317:AE317,\"\")","v":""},{"$nulls":4},{"$f":"IF(入力画面!$T317<>\"\",入力画面!AF317:AH317,\"\")","v":""},null,null,{"$f":"IF(入力画面!$T317<>\"\",入力画面!AI317:AM317,\"\")","v":""},{"$nulls":4},{"$f":"IF(入力画面!$T317<>\"\",入力画面!AN317:AP317,\"\")","v":""},null,null,{"$f":"IF(入力画面!$T317<>\"\",入力画面!AQ317:AU317,\"\")","v":""},{"$nulls":4},{"$f":"IF(入力画面!$T317<>\"\",入力画面!AV317:AX317,\"\")","v":""},null,null,{"$f":"IF(入力画面!$T317<>\"\",入力画面!AY317:BC317,\"\")","v":""},{"$nulls":4},{"$f":"入力画面!BD317:BM317","v":0}]
[308,{"$f":"入力画面!B318:Q318","v":0},{"$nulls":15},{"$f":"入力画面!R318:S318","v":0},null,{"$f":"IF(入力画面!$T318<>\"\",入力画面!T318,\"\")","v":""},null,null,{"$f":"IF(入力画面!$T318<>\"\",入力画面!W318,\"\")","v":""},{"$nulls":3},{"$f":"IF(入力画面!$T318<>\"\",入力画面!AA318:AE318,\"\")","v":""},{"$nulls":4},{"$f":"IF(入力画面!$T318<>\"\",入力画面!AF318:AH318,\"\")","v":""},null,null,{"$f":"IF(入力画面!$T318<>\"\",入力画面!AI318:AM318,\"\")","v":""},{"$nulls":4},{"$f":"IF(入力画面!$T318<>\"\",入力画面!AN318:AP318,\"\")","v":""},null,null,{"$f":"IF(入力画面!$T318<>\"\",入力画面!AQ318:AU318,\"\")","v":""},{"$nulls":4},{"$f":"IF(入力画面!$T318<>\"\",入力画面!AV318:AX318,\"\")","v":""},null,null,{"$f":"IF(入力画面!$T318<>\"\",入力画面!AY318:BC318,\"\")","v":""},{"$nulls":4},{"$f":"入力画面!BD318:BM318","v":0}]
[309,{"$f":"入力画面!B319:Q319","v":0},{"$nulls":15},{"$f":"入力画面!R319:S319","v":0},null,{"$f":"IF(入力画面!$T319<>\"\",入力画面!T319,\"\")","v":""},null,null,{"$f":"IF(入力画面!$T319<>\"\",入力画面!W319,\"\")","v":""},{"$nulls":3},{"$f":"IF(入力画面!$T319<>\"\",入力画面!AA319:AE319,\"\")","v":""},{"$nulls":4},{"$f":"IF(入力画面!$T319<>\"\",入力画面!AF319:AH319,\"\")","v":""},null,null,{"$f":"IF(入力画面!$T319<>\"\",入力画面!AI319:AM319,\"\")","v":""},{"$nulls":4},{"$f":"IF(入力画面!$T319<>\"\",入力画面!AN319:AP319,\"\")","v":""},null,null,{"$f":"IF(入力画面!$T319<>\"\",入力画面!AQ319:AU319,\"\")","v":""},{"$nulls":4},{"$f":"IF(入力画面!$T319<>\"\",入力画面!AV319:AX319,\"\")","v":""},null,null,{"$f":"IF(入力画面!$T319<>\"\",入力画面!AY319:BC319,\"\")","v":""},{"$nulls":4},{"$f":"入力画面!BD319:BM319","v":0}]
[310,{"$f":"入力画面!B320:Q320","v":0},{"$nulls":15},{"$f":"入力画面!R320:S320","v":0},null,{"$f":"IF(入力画面!$T320<>\"\",入力画面!T320,\"\")","v":""},null,null,{"$f":"IF(入力画面!$T320<>\"\",入力画面!W320,\"\")","v":""},{"$nulls":3},{"$f":"IF(入力画面!$T320<>\"\",入力画面!AA320:AE320,\"\")","v":""},{"$nulls":4},{"$f":"IF(入力画面!$T320<>\"\",入力画面!AF320:AH320,\"\")","v":""},null,null,{"$f":"IF(入力画面!$T320<>\"\",入力画面!AI320:AM320,\"\")","v":""},{"$nulls":4},{"$f":"IF(入力画面!$T320<>\"\",入力画面!AN320:AP320,\"\")","v":""},null,null,{"$f":"IF(入力画面!$T320<>\"\",入力画面!AQ320:AU320,\"\")","v":""},{"$nulls":4},{"$f":"IF(入力画面!$T320<>\"\",入力画面!AV320:AX320,\"\")","v":""},null,null,{"$f":"IF(入力画面!$T320<>\"\",入力画面!AY320:BC320,\"\")","v":""},{"$nulls":4},{"$f":"入力画面!BD320:BM320","v":0}]
[311,{"$f":"入力画面!B321:Q321","v":0},{"$nulls":15},{"$f":"入力画面!R321:S321","v":0},null,{"$f":"IF(入力画面!$T321<>\"\",入力画面!T321,\"\")","v":""},null,null,{"$f":"IF(入力画面!$T321<>\"\",入力画面!W321,\"\")","v":""},{"$nulls":3},{"$f":"IF(入力画面!$T321<>\"\",入力画面!AA321:AE321,\"\")","v":""},{"$nulls":4},{"$f":"IF(入力画面!$T321<>\"\",入力画面!AF321:AH321,\"\")","v":""},null,null,{"$f":"IF(入力画面!$T321<>\"\",入力画面!AI321:AM321,\"\")","v":""},{"$nulls":4},{"$f":"IF(入力画面!$T321<>\"\",入力画面!AN321:AP321,\"\")","v":""},null,null,{"$f":"IF(入力画面!$T321<>\"\",入力画面!AQ321:AU321,\"\")","v":""},{"$nulls":4},{"$f":"IF(入力画面!$T321<>\"\",入力画面!AV321:AX321,\"\")","v":""},null,null,{"$f":"IF(入力画面!$T321<>\"\",入力画面!AY321:BC321,\"\")","v":""},{"$nulls":4},{"$f":"入力画面!BD321:BM321","v":0}]
[312,{"$f":"入力画面!B322:Q322","v":0},{"$nulls":15},{"$f":"入力画面!R322:S322","v":0},null,{"$f":"IF(入力画面!$T322<>\"\",入力画面!T322,\"\")","v":""},null,null,{"$f":"IF(入力画面!$T322<>\"\",入力画面!W322,\"\")","v":""},{"$nulls":3},{"$f":"IF(入力画面!$T322<>\"\",入力画面!AA322:AE322,\"\")","v":""},{"$nulls":4},{"$f":"IF(入力画面!$T322<>\"\",入力画面!AF322:AH322,\"\")","v":""},null,null,{"$f":"IF(入力画面!$T322<>\"\",入力画面!AI322:AM322,\"\")","v":""},{"$nulls":4},{"$f":"IF(入力画面!$T322<>\"\",入力画面!AN322:AP322,\"\")","v":""},null,null,{"$f":"IF(入力画面!$T322<>\"\",入力画面!AQ322:AU322,\"\")","v":""},{"$nulls":4},{"$f":"IF(入力画面!$T322<>\"\",入力画面!AV322:AX322,\"\")","v":""},null,null,{"$f":"IF(入力画面!$T322<>\"\",入力画面!AY322:BC322,\"\")","v":""},{"$nulls":4},{"$f":"入力画面!BD322:BM322","v":0}]
[313,{"$f":"入力画面!B323:Q323","v":0},{"$nulls":15},{"$f":"入力画面!R323:S323","v":0},null,{"$f":"IF(入力画面!$T323<>\"\",入力画面!T323,\"\")","v":""},null,null,{"$f":"IF(入力画面!$T323<>\"\",入力画面!W323,\"\")","v":""},{"$nulls":3},{"$f":"IF(入力画面!$T323<>\"\",入力画面!AA323:AE323,\"\")","v":""},{"$nulls":4},{"$f":"IF(入力画面!$T323<>\"\",入力画面!AF323:AH323,\"\")","v":""},null,null,{"$f":"IF(入力画面!$T323<>\"\",入力画面!AI323:AM323,\"\")","v":""},{"$nulls":4},{"$f":"IF(入力画面!$T323<>\"\",入力画面!AN323:AP323,\"\")","v":""},null,null,{"$f":"IF(入力画面!$T323<>\"\",入力画面!AQ323:AU323,\"\")","v":""},{"$nulls":4},{"$f":"IF(入力画面!$T323<>\"\",入力画面!AV323:AX323,\"\")","v":""},null,null,{"$f":"IF(入力画面!$T323<>\"\",入力画面!AY323:BC323,\"\")","v":""},{"$nulls":4},{"$f":"入力画面!BD323:BM323","v":0}]
[314,{"$f":"入力画面!B324:Q324","v":0},{"$nulls":15},{"$f":"入力画面!R324:S324","v":0},null,{"$f":"IF(入力画面!$T324<>\"\",入力画面!T324,\"\")","v":""},null,null,{"$f":"IF(入力画面!$T324<>\"\",入力画面!W324,\"\")","v":""},{"$nulls":3},{"$f":"IF(入力画面!$T324<>\"\",入力画面!AA324:AE324,\"\")","v":""},{"$nulls":4},{"$f":"IF(入力画面!$T324<>\"\",入力画面!AF324:AH324,\"\")","v":""},null,null,{"$f":"IF(入力画面!$T324<>\"\",入力画面!AI324:AM324,\"\")","v":""},{"$nulls":4},{"$f":"IF(入力画面!$T324<>\"\",入力画面!AN324:AP324,\"\")","v":""},null,null,{"$f":"IF(入力画面!$T324<>\"\",入力画面!AQ324:AU324,\"\")","v":""},{"$nulls":4},{"$f":"IF(入力画面!$T324<>\"\",入力画面!AV324:AX324,\"\")","v":""},null,null,{"$f":"IF(入力画面!$T324<>\"\",入力画面!AY324:BC324,\"\")","v":""},{"$nulls":4},{"$f":"入力画面!BD324:BM324","v":0}]
[315,{"$f":"入力画面!B325:Q325","v":0},{"$nulls":15},{"$f":"入力画面!R325:S325","v":0},null,{"$f":"IF(入力画面!$T325<>\"\",入力画面!T325,\"\")","v":""},null,null,{"$f":"IF(入力画面!$T325<>\"\",入力画面!W325,\"\")","v":""},{"$nulls":3},{"$f":"IF(入力画面!$T325<>\"\",入力画面!AA325:AE325,\"\")","v":""},{"$nulls":4},{"$f":"IF(入力画面!$T325<>\"\",入力画面!AF325:AH325,\"\")","v":""},null,null,{"$f":"IF(入力画面!$T325<>\"\",入力画面!AI325:AM325,\"\")","v":""},{"$nulls":4},{"$f":"IF(入力画面!$T325<>\"\",入力画面!AN325:AP325,\"\")","v":""},null,null,{"$f":"IF(入力画面!$T325<>\"\",入力画面!AQ325:AU325,\"\")","v":""},{"$nulls":4},{"$f":"IF(入力画面!$T325<>\"\",入力画面!AV325:AX325,\"\")","v":""},null,null,{"$f":"IF(入力画面!$T325<>\"\",入力画面!AY325:BC325,\"\")","v":""},{"$nulls":4},{"$f":"入力画面!BD325:BM325","v":0}]
[316,{"$f":"入力画面!B326:Q326","v":0},{"$nulls":15},{"$f":"入力画面!R326:S326","v":0},null,{"$f":"IF(入力画面!$T326<>\"\",入力画面!T326,\"\")","v":""},null,null,{"$f":"IF(入力画面!$T326<>\"\",入力画面!W326,\"\")","v":""},{"$nulls":3},{"$f":"IF(入力画面!$T326<>\"\",入力画面!AA326:AE326,\"\")","v":""},{"$nulls":4},{"$f":"IF(入力画面!$T326<>\"\",入力画面!AF326:AH326,\"\")","v":""},null,null,{"$f":"IF(入力画面!$T326<>\"\",入力画面!AI326:AM326,\"\")","v":""},{"$nulls":4},{"$f":"IF(入力画面!$T326<>\"\",入力画面!AN326:AP326,\"\")","v":""},null,null,{"$f":"IF(入力画面!$T326<>\"\",入力画面!AQ326:AU326,\"\")","v":""},{"$nulls":4},{"$f":"IF(入力画面!$T326<>\"\",入力画面!AV326:AX326,\"\")","v":""},null,null,{"$f":"IF(入力画面!$T326<>\"\",入力画面!AY326:BC326,\"\")","v":""},{"$nulls":4},{"$f":"入力画面!BD326:BM326","v":0}]
[317,{"$f":"入力画面!B327:Q327","v":0},{"$nulls":15},{"$f":"入力画面!R327:S327","v":0},null,{"$f":"IF(入力画面!$T327<>\"\",入力画面!T327,\"\")","v":""},null,null,{"$f":"IF(入力画面!$T327<>\"\",入力画面!W327,\"\")","v":""},{"$nulls":3},{"$f":"IF(入力画面!$T327<>\"\",入力画面!AA327:AE327,\"\")","v":""},{"$nulls":4},{"$f":"IF(入力画面!$T327<>\"\",入力画面!AF327:AH327,\"\")","v":""},null,null,{"$f":"IF(入力画面!$T327<>\"\",入力画面!AI327:AM327,\"\")","v":""},{"$nulls":4},{"$f":"IF(入力画面!$T327<>\"\",入力画面!AN327:AP327,\"\")","v":""},null,null,{"$f":"IF(入力画面!$T327<>\"\",入力画面!AQ327:AU327,\"\")","v":""},{"$nulls":4},{"$f":"IF(入力画面!$T327<>\"\",入力画面!AV327:AX327,\"\")","v":""},null,null,{"$f":"IF(入力画面!$T327<>\"\",入力画面!AY327:BC327,\"\")","v":""},{"$nulls":4},{"$f":"入力画面!BD327:BM327","v":0}]
[318,{"$f":"入力画面!B328:Q328","v":0},{"$nulls":15},{"$f":"入力画面!R328:S328","v":0},null,{"$f":"IF(入力画面!$T328<>\"\",入力画面!T328,\"\")","v":""},null,null,{"$f":"IF(入力画面!$T328<>\"\",入力画面!W328,\"\")","v":""},{"$nulls":3},{"$f":"IF(入力画面!$T328<>\"\",入力画面!AA328:AE328,\"\")","v":""},{"$nulls":4},{"$f":"IF(入力画面!$T328<>\"\",入力画面!AF328:AH328,\"\")","v":""},null,null,{"$f":"IF(入力画面!$T328<>\"\",入力画面!AI328:AM328,\"\")","v":""},{"$nulls":4},{"$f":"IF(入力画面!$T328<>\"\",入力画面!AN328:AP328,\"\")","v":""},null,null,{"$f":"IF(入力画面!$T328<>\"\",入力画面!AQ328:AU328,\"\")","v":""},{"$nulls":4},{"$f":"IF(入力画面!$T328<>\"\",入力画面!AV328:AX328,\"\")","v":""},null,null,{"$f":"IF(入力画面!$T328<>\"\",入力画面!AY328:BC328,\"\")","v":""},{"$nulls":4},{"$f":"入力画面!BD328:BM328","v":0}]
[319,{"$f":"入力画面!B329:Q329","v":0},{"$nulls":15},{"$f":"入力画面!R329:S329","v":0},null,{"$f":"IF(入力画面!$T329<>\"\",入力画面!T329,\"\")","v":""},null,null,{"$f":"IF(入力画面!$T329<>\"\",入力画面!W329,\"\")","v":""},{"$nulls":3},{"$f":"IF(入力画面!$T329<>\"\",入力画面!AA329:AE329,\"\")","v":""},{"$nulls":4},{"$f":"IF(入力画面!$T329<>\"\",入力画面!AF329:AH329,\"\")","v":""},null,null,{"$f":"IF(入力画面!$T329<>\"\",入力画面!AI329:AM329,\"\")","v":""},{"$nulls":4},{"$f":"IF(入力画面!$T329<>\"\",入力画面!AN329:AP329,\"\")","v":""},null,null,{"$f":"IF(入力画面!$T329<>\"\",入力画面!AQ329:AU329,\"\")","v":""},{"$nulls":4},{"$f":"IF(入力画面!$T329<>\"\",入力画面!AV329:AX329,\"\")","v":""},null,null,{"$f":"IF(入力画面!$T329<>\"\",入力画面!AY329:BC329,\"\")","v":""},{"$nulls":4},{"$f":"入力画面!BD329:BM329","v":0}]
[320,{"$f":"入力画面!B330:Q330","v":0},{"$nulls":15},{"$f":"入力画面!R330:S330","v":0},null,{"$f":"IF(入力画面!$T330<>\"\",入力画面!T330,\"\")","v":""},null,null,{"$f":"IF(入力画面!$T330<>\"\",入力画面!W330,\"\")","v":""},{"$nulls":3},{"$f":"IF(入力画面!$T330<>\"\",入力画面!AA330:AE330,\"\")","v":""},{"$nulls":4},{"$f":"IF(入力画面!$T330<>\"\",入力画面!AF330:AH330,\"\")","v":""},null,null,{"$f":"IF(入力画面!$T330<>\"\",入力画面!AI330:AM330,\"\")","v":""},{"$nulls":4},{"$f":"IF(入力画面!$T330<>\"\",入力画面!AN330:AP330,\"\")","v":""},null,null,{"$f":"IF(入力画面!$T330<>\"\",入力画面!AQ330:AU330,\"\")","v":""},{"$nulls":4},{"$f":"IF(入力画面!$T330<>\"\",入力画面!AV330:AX330,\"\")","v":""},null,null,{"$f":"IF(入力画面!$T330<>\"\",入力画面!AY330:BC330,\"\")","v":""},{"$nulls":4},{"$f":"入力画面!BD330:BM330","v":0}]
["※消費税、保留金の計算は別紙、請求書で行ってください",{"$nulls":21},"小計",{"$nulls":3},{"$f":"SUM(AA473:AE492)","v":{"v":0,"d":"0 "}},{"$nulls":4},"小計",null,null,{"$f":"SUM(AI473:AM492)","v":{"v":0,"d":"0 "}},{"$nulls":4},"小計",null,null,{"$f":"SUM(AQ473:AU492)","v":{"v":0,"d":"0 "}},{"$nulls":4},"小計",null,null,{"$f":"SUM(AY473:BC492)","v":{"v":0,"d":"0 "}},{"$nulls":4},"担　当　者　　　　確　認　印",{"$nulls":4},{"$f":"IF(AA494=\"－\",\"―――――\",\"\")","v":"―――――"}]
["※完成後一括払いであっても出来高検収書を作成・添付してください",{"$nulls":21},"合計",{"$nulls":3},{"$f":"IF(AND(OR(AA462<>0,AI462<>0,AQ462<>0,AY462<>0),AND(AA463=\"－\",AA524=0,AI524=0,AQ524=0,AY524=0)),AA28+AA59+AA90+AA121+AA152+AA183+AA214+AA245+AA276+AA307+AA338+AA369+AA400+AA431+AA462+AA493,\"－\")","v":"－"},{"$nulls":4},"合計",null,null,{"$f":"IF($AA494<>\"－\",AI28+AI59+AI90+AI121+AI152+AI183+AI214+AI245+AI276+AI307+AI338+AI369+AI400+AI431+AI462+AI493,\"－\")","v":"－"},{"$nulls":4},"合計",null,null,{"$f":"IF($AA494<>\"－\",AQ28+AQ59+AQ90+AQ121+AQ152+AQ183+AQ214+AQ245+AQ276+AQ307+AQ338+AQ369+AQ400+AQ431+AQ462+AQ493,\"－\")","v":"－"},{"$nulls":4},"合計",null,null,{"$f":"IF($AA494<>\"－\",AY28+AY59+AY90+AY121+AY152+AY183+AY214+AY245+AY276+AY307+AY338+AY369+AY400+AY431+AY462+AY493,\"－\")","v":"－"}]
["※協力会社印は出力枚数の都度、押印してください",{"$nulls":33},"今回迄出来高累計",{"$nulls":7},{"$f":"IF(AA494=\"－\",\"－\",AI494+AQ494)","v":"－"}]
[{"$nulls":55},"検   収   日",{"$nulls":4},{"$f":"IF(AA494=\"－\",\"――――\",\"\")","v":"――――"}]
[]
[null,null,"出　来　高　検　収　書　（第",{"$nulls":15},{"$f":"$S$2","v":0},null,"回）",null,null,"( 検収期間",{"$nulls":4},{"$f":"IF(入力画面!$J$4=\"\",\"\",入力画面!$J$4)","v":""},{"$nulls":4},"～",{"$f":"IF(入力画面!$Q$4=\"\",\"\",入力画面!$Q$4)","v":""},{"$nulls":4},"）",{"$nulls":14},"仙 建 工 業 株 式 会 社"]
[{"$nulls":41},"協力会社名"]
["工 事 番 号",{"$nulls":3},{"$f":"$E$4","v":0},{"$nulls":7},"工 事 件 名",{"$nulls":4},{"$f":"$R$4","v":0},{"$nulls":23},{"$f":"$AP$4","v":""},{"$nulls":19},"　印"]
["契   約   日",{"$nulls":3},{"$f":"$E$5","v":""},{"$nulls":7},"工         期",{"$nulls":4},"自",{"$nulls":3},{"$f":"$V$5","v":""},{"$nulls":7},"至",{"$nulls":3},{"$f":"$AH$5","v":""}]
["№","工                         種",{"$nulls":15},"契       約       金       額",{"$nulls":13},"前回迄出来高累計",{"$nulls":7},"今  回  出  来  高",{"$nulls":7},"残            高",{"$nulls":7},"摘                要"]
[{"$nulls":17},"単位",null,"数 量",null,null,"単   価",{"$nulls":3},"金     額",{"$nulls":4},"数 量",null,null,"金     額",{"$nulls":4},"数 量",null,null,"金     額",{"$nulls":4},"数 量",null,null,"金     額"]
[321,{"$f":"入力画面!B331:Q331","v":0},{"$nulls":15},{"$f":"入力画面!R331:S331","v":0},null,{"$f":"IF(入力画面!$T331<>\"\",入力画面!T331,\"\")","v":""},null,null,{"$f":"IF(入力画面!$T331<>\"\",入力画面!W331,\"\")","v":""},{"$nulls":3},{"$f":"IF(入力画面!$T331<>\"\",入力画面!AA331:AE331,\"\")","v":""},{"$nulls":4},{"$f":"IF(入力画面!$T331<>\"\",入力画面!AF331:AH331,\"\")","v":""},null,null,{"$f":"IF(入力画面!$T331<>\"\",入力画面!AI331:AM331,\"\")","v":""},{"$nulls":4},{"$f":"IF(入力画面!$T331<>\"\",入力画面!AN331:AP331,\"\")","v":""},null,null,{"$f":"IF(入力画面!$T331<>\"\",入力画面!AQ331:AU331,\"\")","v":""},{"$nulls":4},{"$f":"IF(入力画面!$T331<>\"\",入力画面!AV331:AX331,\"\")","v":""},null,null,{"$f":"IF(入力画面!$T331<>\"\",入力画面!AY331:BC331,\"\")","v":""},{"$nulls":4},{"$f":"入力画面!BD331:BM331","v":0}]
[322,{"$f":"入力画面!B332:Q332","v":0},{"$nulls":15},{"$f":"入力画面!R332:S332","v":0},null,{"$f":"IF(入力画面!$T332<>\"\",入力画面!T332,\"\")","v":""},null,null,{"$f":"IF(入力画面!$T332<>\"\",入力画面!W332,\"\")","v":""},{"$nulls":3},{"$f":"IF(入力画面!$T332<>\"\",入力画面!AA332:AE332,\"\")","v":""},{"$nulls":4},{"$f":"IF(入力画面!$T332<>\"\",入力画面!AF332:AH332,\"\")","v":""},null,null,{"$f":"IF(入力画面!$T332<>\"\",入力画面!AI332:AM332,\"\")","v":""},{"$nulls":4},{"$f":"IF(入力画面!$T332<>\"\",入力画面!AN332:AP332,\"\")","v":""},null,null,{"$f":"IF(入力画面!$T332<>\"\",入力画面!AQ332:AU332,\"\")","v":""},{"$nulls":4},{"$f":"IF(入力画面!$T332<>\"\",入力画面!AV332:AX332,\"\")","v":""},null,null,{"$f":"IF(入力画面!$T332<>\"\",入力画面!AY332:BC332,\"\")","v":""},{"$nulls":4},{"$f":"入力画面!BD332:BM332","v":0}]
[323,{"$f":"入力画面!B333:Q333","v":0},{"$nulls":15},{"$f":"入力画面!R333:S333","v":0},null,{"$f":"IF(入力画面!$T333<>\"\",入力画面!T333,\"\")","v":""},null,null,{"$f":"IF(入力画面!$T333<>\"\",入力画面!W333,\"\")","v":""},{"$nulls":3},{"$f":"IF(入力画面!$T333<>\"\",入力画面!AA333:AE333,\"\")","v":""},{"$nulls":4},{"$f":"IF(入力画面!$T333<>\"\",入力画面!AF333:AH333,\"\")","v":""},null,null,{"$f":"IF(入力画面!$T333<>\"\",入力画面!AI333:AM333,\"\")","v":""},{"$nulls":4},{"$f":"IF(入力画面!$T333<>\"\",入力画面!AN333:AP333,\"\")","v":""},null,null,{"$f":"IF(入力画面!$T333<>\"\",入力画面!AQ333:AU333,\"\")","v":""},{"$nulls":4},{"$f":"IF(入力画面!$T333<>\"\",入力画面!AV333:AX333,\"\")","v":""},null,null,{"$f":"IF(入力画面!$T333<>\"\",入力画面!AY333:BC333,\"\")","v":""},{"$nulls":4},{"$f":"入力画面!BD333:BM333","v":0}]
[324,{"$f":"入力画面!B334:Q334","v":0},{"$nulls":15},{"$f":"入力画面!R334:S334","v":0},null,{"$f":"IF(入力画面!$T334<>\"\",入力画面!T334,\"\")","v":""},null,null,{"$f":"IF(入力画面!$T334<>\"\",入力画面!W334,\"\")","v":""},{"$nulls":3},{"$f":"IF(入力画面!$T334<>\"\",入力画面!AA334:AE334,\"\")","v":""},{"$nulls":4},{"$f":"IF(入力画面!$T334<>\"\",入力画面!AF334:AH334,\"\")","v":""},null,null,{"$f":"IF(入力画面!$T334<>\"\",入力画面!AI334:AM334,\"\")","v":""},{"$nulls":4},{"$f":"IF(入力画面!$T334<>\"\",入力画面!AN334:AP334,\"\")","v":""},null,null,{"$f":"IF(入力画面!$T334<>\"\",入力画面!AQ334:AU334,\"\")","v":""},{"$nulls":4},{"$f":"IF(入力画面!$T334<>\"\",入力画面!AV334:AX334,\"\")","v":""},null,null,{"$f":"IF(入力画面!$T334<>\"\",入力画面!AY334:BC334,\"\")","v":""},{"$nulls":4},{"$f":"入力画面!BD334:BM334","v":0}]
[325,{"$f":"入力画面!B335:Q335","v":0},{"$nulls":15},{"$f":"入力画面!R335:S335","v":0},null,{"$f":"IF(入力画面!$T335<>\"\",入力画面!T335,\"\")","v":""},null,null,{"$f":"IF(入力画面!$T335<>\"\",入力画面!W335,\"\")","v":""},{"$nulls":3},{"$f":"IF(入力画面!$T335<>\"\",入力画面!AA335:AE335,\"\")","v":""},{"$nulls":4},{"$f":"IF(入力画面!$T335<>\"\",入力画面!AF335:AH335,\"\")","v":""},null,null,{"$f":"IF(入力画面!$T335<>\"\",入力画面!AI335:AM335,\"\")","v":""},{"$nulls":4},{"$f":"IF(入力画面!$T335<>\"\",入力画面!AN335:AP335,\"\")","v":""},null,null,{"$f":"IF(入力画面!$T335<>\"\",入力画面!AQ335:AU335,\"\")","v":""},{"$nulls":4},{"$f":"IF(入力画面!$T335<>\"\",入力画面!AV335:AX335,\"\")","v":""},null,null,{"$f":"IF(入力画面!$T335<>\"\",入力画面!AY335:BC335,\"\")","v":""},{"$nulls":4},{"$f":"入力画面!BD335:BM335","v":0}]
[326,{"$f":"入力画面!B336:Q336","v":0},{"$nulls":15},{"$f":"入力画面!R336:S336","v":0},null,{"$f":"IF(入力画面!$T336<>\"\",入力画面!T336,\"\")","v":""},null,null,{"$f":"IF(入力画面!$T336<>\"\",入力画面!W336,\"\")","v":""},{"$nulls":3},{"$f":"IF(入力画面!$T336<>\"\",入力画面!AA336:AE336,\"\")","v":""},{"$nulls":4},{"$f":"IF(入力画面!$T336<>\"\",入力画面!AF336:AH336,\"\")","v":""},null,null,{"$f":"IF(入力画面!$T336<>\"\",入力画面!AI336:AM336,\"\")","v":""},{"$nulls":4},{"$f":"IF(入力画面!$T336<>\"\",入力画面!AN336:AP336,\"\")","v":""},null,null,{"$f":"IF(入力画面!$T336<>\"\",入力画面!AQ336:AU336,\"\")","v":""},{"$nulls":4},{"$f":"IF(入力画面!$T336<>\"\",入力画面!AV336:AX336,\"\")","v":""},null,null,{"$f":"IF(入力画面!$T336<>\"\",入力画面!AY336:BC336,\"\")","v":""},{"$nulls":4},{"$f":"入力画面!BD336:BM336","v":0}]
[327,{"$f":"入力画面!B337:Q337","v":0},{"$nulls":15},{"$f":"入力画面!R337:S337","v":0},null,{"$f":"IF(入力画面!$T337<>\"\",入力画面!T337,\"\")","v":""},null,null,{"$f":"IF(入力画面!$T337<>\"\",入力画面!W337,\"\")","v":""},{"$nulls":3},{"$f":"IF(入力画面!$T337<>\"\",入力画面!AA337:AE337,\"\")","v":""},{"$nulls":4},{"$f":"IF(入力画面!$T337<>\"\",入力画面!AF337:AH337,\"\")","v":""},null,null,{"$f":"IF(入力画面!$T337<>\"\",入力画面!AI337:AM337,\"\")","v":""},{"$nulls":4},{"$f":"IF(入力画面!$T337<>\"\",入力画面!AN337:AP337,\"\")","v":""},null,null,{"$f":"IF(入力画面!$T337<>\"\",入力画面!AQ337:AU337,\"\")","v":""},{"$nulls":4},{"$f":"IF(入力画面!$T337<>\"\",入力画面!AV337:AX337,\"\")","v":""},null,null,{"$f":"IF(入力画面!$T337<>\"\",入力画面!AY337:BC337,\"\")","v":""},{"$nulls":4},{"$f":"入力画面!BD337:BM337","v":0}]
[328,{"$f":"入力画面!B338:Q338","v":0},{"$nulls":15},{"$f":"入力画面!R338:S338","v":0},null,{"$f":"IF(入力画面!$T338<>\"\",入力画面!T338,\"\")","v":""},null,null,{"$f":"IF(入力画面!$T338<>\"\",入力画面!W338,\"\")","v":""},{"$nulls":3},{"$f":"IF(入力画面!$T338<>\"\",入力画面!AA338:AE338,\"\")","v":""},{"$nulls":4},{"$f":"IF(入力画面!$T338<>\"\",入力画面!AF338:AH338,\"\")","v":""},null,null,{"$f":"IF(入力画面!$T338<>\"\",入力画面!AI338:AM338,\"\")","v":""},{"$nulls":4},{"$f":"IF(入力画面!$T338<>\"\",入力画面!AN338:AP338,\"\")","v":""},null,null,{"$f":"IF(入力画面!$T338<>\"\",入力画面!AQ338:AU338,\"\")","v":""},{"$nulls":4},{"$f":"IF(入力画面!$T338<>\"\",入力画面!AV338:AX338,\"\")","v":""},null,null,{"$f":"IF(入力画面!$T338<>\"\",入力画面!AY338:BC338,\"\")","v":""},{"$nulls":4},{"$f":"入力画面!BD338:BM338","v":0}]
[329,{"$f":"入力画面!B339:Q339","v":0},{"$nulls":15},{"$f":"入力画面!R339:S339","v":0},null,{"$f":"IF(入力画面!$T339<>\"\",入力画面!T339,\"\")","v":""},null,null,{"$f":"IF(入力画面!$T339<>\"\",入力画面!W339,\"\")","v":""},{"$nulls":3},{"$f":"IF(入力画面!$T339<>\"\",入力画面!AA339:AE339,\"\")","v":""},{"$nulls":4},{"$f":"IF(入力画面!$T339<>\"\",入力画面!AF339:AH339,\"\")","v":""},null,null,{"$f":"IF(入力画面!$T339<>\"\",入力画面!AI339:AM339,\"\")","v":""},{"$nulls":4},{"$f":"IF(入力画面!$T339<>\"\",入力画面!AN339:AP339,\"\")","v":""},null,null,{"$f":"IF(入力画面!$T339<>\"\",入力画面!AQ339:AU339,\"\")","v":""},{"$nulls":4},{"$f":"IF(入力画面!$T339<>\"\",入力画面!AV339:AX339,\"\")","v":""},null,null,{"$f":"IF(入力画面!$T339<>\"\",入力画面!AY339:BC339,\"\")","v":""},{"$nulls":4},{"$f":"入力画面!BD339:BM339","v":0}]
[330,{"$f":"入力画面!B340:Q340","v":0},{"$nulls":15},{"$f":"入力画面!R340:S340","v":0},null,{"$f":"IF(入力画面!$T340<>\"\",入力画面!T340,\"\")","v":""},null,null,{"$f":"IF(入力画面!$T340<>\"\",入力画面!W340,\"\")","v":""},{"$nulls":3},{"$f":"IF(入力画面!$T340<>\"\",入力画面!AA340:AE340,\"\")","v":""},{"$nulls":4},{"$f":"IF(入力画面!$T340<>\"\",入力画面!AF340:AH340,\"\")","v":""},null,null,{"$f":"IF(入力画面!$T340<>\"\",入力画面!AI340:AM340,\"\")","v":""},{"$nulls":4},{"$f":"IF(入力画面!$T340<>\"\",入力画面!AN340:AP340,\"\")","v":""},null,null,{"$f":"IF(入力画面!$T340<>\"\",入力画面!AQ340:AU340,\"\")","v":""},{"$nulls":4},{"$f":"IF(入力画面!$T340<>\"\",入力画面!AV340:AX340,\"\")","v":""},null,null,{"$f":"IF(入力画面!$T340<>\"\",入力画面!AY340:BC340,\"\")","v":""},{"$nulls":4},{"$f":"入力画面!BD340:BM340","v":0}]
[331,{"$f":"入力画面!B341:Q341","v":0},{"$nulls":15},{"$f":"入力画面!R341:S341","v":0},null,{"$f":"IF(入力画面!$T341<>\"\",入力画面!T341,\"\")","v":""},null,null,{"$f":"IF(入力画面!$T341<>\"\",入力画面!W341,\"\")","v":""},{"$nulls":3},{"$f":"IF(入力画面!$T341<>\"\",入力画面!AA341:AE341,\"\")","v":""},{"$nulls":4},{"$f":"IF(入力画面!$T341<>\"\",入力画面!AF341:AH341,\"\")","v":""},null,null,{"$f":"IF(入力画面!$T341<>\"\",入力画面!AI341:AM341,\"\")","v":""},{"$nulls":4},{"$f":"IF(入力画面!$T341<>\"\",入力画面!AN341:AP341,\"\")","v":""},null,null,{"$f":"IF(入力画面!$T341<>\"\",入力画面!AQ341:AU341,\"\")","v":""},{"$nulls":4},{"$f":"IF(入力画面!$T341<>\"\",入力画面!AV341:AX341,\"\")","v":""},null,null,{"$f":"IF(入力画面!$T341<>\"\",入力画面!AY341:BC341,\"\")","v":""},{"$nulls":4},{"$f":"入力画面!BD341:BM341","v":0}]
[332,{"$f":"入力画面!B342:Q342","v":0},{"$nulls":15},{"$f":"入力画面!R342:S342","v":0},null,{"$f":"IF(入力画面!$T342<>\"\",入力画面!T342,\"\")","v":""},null,null,{"$f":"IF(入力画面!$T342<>\"\",入力画面!W342,\"\")","v":""},{"$nulls":3},{"$f":"IF(入力画面!$T342<>\"\",入力画面!AA342:AE342,\"\")","v":""},{"$nulls":4},{"$f":"IF(入力画面!$T342<>\"\",入力画面!AF342:AH342,\"\")","v":""},null,null,{"$f":"IF(入力画面!$T342<>\"\",入力画面!AI342:AM342,\"\")","v":""},{"$nulls":4},{"$f":"IF(入力画面!$T342<>\"\",入力画面!AN342:AP342,\"\")","v":""},null,null,{"$f":"IF(入力画面!$T342<>\"\",入力画面!AQ342:AU342,\"\")","v":""},{"$nulls":4},{"$f":"IF(入力画面!$T342<>\"\",入力画面!AV342:AX342,\"\")","v":""},null,null,{"$f":"IF(入力画面!$T342<>\"\",入力画面!AY342:BC342,\"\")","v":""},{"$nulls":4},{"$f":"入力画面!BD342:BM342","v":0}]
[333,{"$f":"入力画面!B343:Q343","v":0},{"$nulls":15},{"$f":"入力画面!R343:S343","v":0},null,{"$f":"IF(入力画面!$T343<>\"\",入力画面!T343,\"\")","v":""},null,null,{"$f":"IF(入力画面!$T343<>\"\",入力画面!W343,\"\")","v":""},{"$nulls":3},{"$f":"IF(入力画面!$T343<>\"\",入力画面!AA343:AE343,\"\")","v":""},{"$nulls":4},{"$f":"IF(入力画面!$T343<>\"\",入力画面!AF343:AH343,\"\")","v":""},null,null,{"$f":"IF(入力画面!$T343<>\"\",入力画面!AI343:AM343,\"\")","v":""},{"$nulls":4},{"$f":"IF(入力画面!$T343<>\"\",入力画面!AN343:AP343,\"\")","v":""},null,null,{"$f":"IF(入力画面!$T343<>\"\",入力画面!AQ343:AU343,\"\")","v":""},{"$nulls":4},{"$f":"IF(入力画面!$T343<>\"\",入力画面!AV343:AX343,\"\")","v":""},null,null,{"$f":"IF(入力画面!$T343<>\"\",入力画面!AY343:BC343,\"\")","v":""},{"$nulls":4},{"$f":"入力画面!BD343:BM343","v":0}]
[334,{"$f":"入力画面!B344:Q344","v":0},{"$nulls":15},{"$f":"入力画面!R344:S344","v":0},null,{"$f":"IF(入力画面!$T344<>\"\",入力画面!T344,\"\")","v":""},null,null,{"$f":"IF(入力画面!$T344<>\"\",入力画面!W344,\"\")","v":""},{"$nulls":3},{"$f":"IF(入力画面!$T344<>\"\",入力画面!AA344:AE344,\"\")","v":""},{"$nulls":4},{"$f":"IF(入力画面!$T344<>\"\",入力画面!AF344:AH344,\"\")","v":""},null,null,{"$f":"IF(入力画面!$T344<>\"\",入力画面!AI344:AM344,\"\")","v":""},{"$nulls":4},{"$f":"IF(入力画面!$T344<>\"\",入力画面!AN344:AP344,\"\")","v":""},null,null,{"$f":"IF(入力画面!$T344<>\"\",入力画面!AQ344:AU344,\"\")","v":""},{"$nulls":4},{"$f":"IF(入力画面!$T344<>\"\",入力画面!AV344:AX344,\"\")","v":""},null,null,{"$f":"IF(入力画面!$T344<>\"\",入力画面!AY344:BC344,\"\")","v":""},{"$nulls":4},{"$f":"入力画面!BD344:BM344","v":0}]
[335,{"$f":"入力画面!B345:Q345","v":0},{"$nulls":15},{"$f":"入力画面!R345:S345","v":0},null,{"$f":"IF(入力画面!$T345<>\"\",入力画面!T345,\"\")","v":""},null,null,{"$f":"IF(入力画面!$T345<>\"\",入力画面!W345,\"\")","v":""},{"$nulls":3},{"$f":"IF(入力画面!$T345<>\"\",入力画面!AA345:AE345,\"\")","v":""},{"$nulls":4},{"$f":"IF(入力画面!$T345<>\"\",入力画面!AF345:AH345,\"\")","v":""},null,null,{"$f":"IF(入力画面!$T345<>\"\",入力画面!AI345:AM345,\"\")","v":""},{"$nulls":4},{"$f":"IF(入力画面!$T345<>\"\",入力画面!AN345:AP345,\"\")","v":""},null,null,{"$f":"IF(入力画面!$T345<>\"\",入力画面!AQ345:AU345,\"\")","v":""},{"$nulls":4},{"$f":"IF(入力画面!$T345<>\"\",入力画面!AV345:AX345,\"\")","v":""},null,null,{"$f":"IF(入力画面!$T345<>\"\",入力画面!AY345:BC345,\"\")","v":""},{"$nulls":4},{"$f":"入力画面!BD345:BM345","v":0}]
[336,{"$f":"入力画面!B346:Q346","v":0},{"$nulls":15},{"$f":"入力画面!R346:S346","v":0},null,{"$f":"IF(入力画面!$T346<>\"\",入力画面!T346,\"\")","v":""},null,null,{"$f":"IF(入力画面!$T346<>\"\",入力画面!W346,\"\")","v":""},{"$nulls":3},{"$f":"IF(入力画面!$T346<>\"\",入力画面!AA346:AE346,\"\")","v":""},{"$nulls":4},{"$f":"IF(入力画面!$T346<>\"\",入力画面!AF346:AH346,\"\")","v":""},null,null,{"$f":"IF(入力画面!$T346<>\"\",入力画面!AI346:AM346,\"\")","v":""},{"$nulls":4},{"$f":"IF(入力画面!$T346<>\"\",入力画面!AN346:AP346,\"\")","v":""},null,null,{"$f":"IF(入力画面!$T346<>\"\",入力画面!AQ346:AU346,\"\")","v":""},{"$nulls":4},{"$f":"IF(入力画面!$T346<>\"\",入力画面!AV346:AX346,\"\")","v":""},null,null,{"$f":"IF(入力画面!$T346<>\"\",入力画面!AY346:BC346,\"\")","v":""},{"$nulls":4},{"$f":"入力画面!BD346:BM346","v":0}]
[337,{"$f":"入力画面!B347:Q347","v":0},{"$nulls":15},{"$f":"入力画面!R347:S347","v":0},null,{"$f":"IF(入力画面!$T347<>\"\",入力画面!T347,\"\")","v":""},null,null,{"$f":"IF(入力画面!$T347<>\"\",入力画面!W347,\"\")","v":""},{"$nulls":3},{"$f":"IF(入力画面!$T347<>\"\",入力画面!AA347:AE347,\"\")","v":""},{"$nulls":4},{"$f":"IF(入力画面!$T347<>\"\",入力画面!AF347:AH347,\"\")","v":""},null,null,{"$f":"IF(入力画面!$T347<>\"\",入力画面!AI347:AM347,\"\")","v":""},{"$nulls":4},{"$f":"IF(入力画面!$T347<>\"\",入力画面!AN347:AP347,\"\")","v":""},null,null,{"$f":"IF(入力画面!$T347<>\"\",入力画面!AQ347:AU347,\"\")","v":""},{"$nulls":4},{"$f":"IF(入力画面!$T347<>\"\",入力画面!AV347:AX347,\"\")","v":""},null,null,{"$f":"IF(入力画面!$T347<>\"\",入力画面!AY347:BC347,\"\")","v":""},{"$nulls":4},{"$f":"入力画面!BD347:BM347","v":0}]
[338,{"$f":"入力画面!B348:Q348","v":0},{"$nulls":15},{"$f":"入力画面!R348:S348","v":0},null,{"$f":"IF(入力画面!$T348<>\"\",入力画面!T348,\"\")","v":""},null,null,{"$f":"IF(入力画面!$T348<>\"\",入力画面!W348,\"\")","v":""},{"$nulls":3},{"$f":"IF(入力画面!$T348<>\"\",入力画面!AA348:AE348,\"\")","v":""},{"$nulls":4},{"$f":"IF(入力画面!$T348<>\"\",入力画面!AF348:AH348,\"\")","v":""},null,null,{"$f":"IF(入力画面!$T348<>\"\",入力画面!AI348:AM348,\"\")","v":""},{"$nulls":4},{"$f":"IF(入力画面!$T348<>\"\",入力画面!AN348:AP348,\"\")","v":""},null,null,{"$f":"IF(入力画面!$T348<>\"\",入力画面!AQ348:AU348,\"\")","v":""},{"$nulls":4},{"$f":"IF(入力画面!$T348<>\"\",入力画面!AV348:AX348,\"\")","v":""},null,null,{"$f":"IF(入力画面!$T348<>\"\",入力画面!AY348:BC348,\"\")","v":""},{"$nulls":4},{"$f":"入力画面!BD348:BM348","v":0}]
[339,{"$f":"入力画面!B349:Q349","v":0},{"$nulls":15},{"$f":"入力画面!R349:S349","v":0},null,{"$f":"IF(入力画面!$T349<>\"\",入力画面!T349,\"\")","v":""},null,null,{"$f":"IF(入力画面!$T349<>\"\",入力画面!W349,\"\")","v":""},{"$nulls":3},{"$f":"IF(入力画面!$T349<>\"\",入力画面!AA349:AE349,\"\")","v":""},{"$nulls":4},{"$f":"IF(入力画面!$T349<>\"\",入力画面!AF349:AH349,\"\")","v":""},null,null,{"$f":"IF(入力画面!$T349<>\"\",入力画面!AI349:AM349,\"\")","v":""},{"$nulls":4},{"$f":"IF(入力画面!$T349<>\"\",入力画面!AN349:AP349,\"\")","v":""},null,null,{"$f":"IF(入力画面!$T349<>\"\",入力画面!AQ349:AU349,\"\")","v":""},{"$nulls":4},{"$f":"IF(入力画面!$T349<>\"\",入力画面!AV349:AX349,\"\")","v":""},null,null,{"$f":"IF(入力画面!$T349<>\"\",入力画面!AY349:BC349,\"\")","v":""},{"$nulls":4},{"$f":"入力画面!BD349:BM349","v":0}]
[340,{"$f":"入力画面!B350:Q350","v":0},{"$nulls":15},{"$f":"入力画面!R350:S350","v":0},null,{"$f":"IF(入力画面!$T350<>\"\",入力画面!T350,\"\")","v":""},null,null,{"$f":"IF(入力画面!$T350<>\"\",入力画面!W350,\"\")","v":""},{"$nulls":3},{"$f":"IF(入力画面!$T350<>\"\",入力画面!AA350:AE350,\"\")","v":""},{"$nulls":4},{"$f":"IF(入力画面!$T350<>\"\",入力画面!AF350:AH350,\"\")","v":""},null,null,{"$f":"IF(入力画面!$T350<>\"\",入力画面!AI350:AM350,\"\")","v":""},{"$nulls":4},{"$f":"IF(入力画面!$T350<>\"\",入力画面!AN350:AP350,\"\")","v":""},null,null,{"$f":"IF(入力画面!$T350<>\"\",入力画面!AQ350:AU350,\"\")","v":""},{"$nulls":4},{"$f":"IF(入力画面!$T350<>\"\",入力画面!AV350:AX350,\"\")","v":""},null,null,{"$f":"IF(入力画面!$T350<>\"\",入力画面!AY350:BC350,\"\")","v":""},{"$nulls":4},{"$f":"入力画面!BD350:BM350","v":0}]
["※消費税、保留金の計算は別紙、請求書で行ってください",{"$nulls":21},"小計",{"$nulls":3},{"$f":"SUM(AA504:AE523)","v":{"v":0,"d":"0 "}},{"$nulls":4},"小計",null,null,{"$f":"SUM(AI504:AM523)","v":{"v":0,"d":"0 "}},{"$nulls":4},"小計",null,null,{"$f":"SUM(AQ504:AU523)","v":{"v":0,"d":"0 "}},{"$nulls":4},"小計",null,null,{"$f":"SUM(AY504:BC523)","v":{"v":0,"d":"0 "}},{"$nulls":4},"担　当　者　　　　確　認　印",{"$nulls":4},{"$f":"IF(AA525=\"－\",\"―――――\",\"\")","v":"―――――"}]
["※完成後一括払いであっても出来高検収書を作成・添付してください",{"$nulls":21},"合計",{"$nulls":3},{"$f":"IF(AND(OR(AA493<>0,AI493<>0,AQ493<>0,AY493<>0),AND(AA494=\"－\",AA555=0,AI555=0,AQ555=0,AY555=0)),AA28+AA59+AA90+AA121+AA152+AA183+AA214+AA245+AA276+AA307+AA338+AA369+AA400+AA431+AA462+AA493+AA524,\"－\")","v":"－"},{"$nulls":4},"合計",null,null,{"$f":"IF($AA525<>\"－\",AI28+AI59+AI90+AI121+AI152+AI183+AI214+AI245+AI276+AI307+AI338+AI369+AI400+AI431+AI462+AI493+AI524,\"－\")","v":"－"},{"$nulls":4},"合計",null,null,{"$f":"IF($AA525<>\"－\",AQ28+AQ59+AQ90+AQ121+AQ152+AQ183+AQ214+AQ245+AQ276+AQ307+AQ338+AQ369+AQ400+AQ431+AQ462+AQ493+AQ524,\"－\")","v":"－"},{"$nulls":4},"合計",null,null,{"$f":"IF($AA525<>\"－\",AY28+AY59+AY90+AY121+AY152+AY183+AY214+AY245+AY276+AY307+AY338+AY369+AY400+AY431+AY462+AY493+AY524,\"－\")","v":"－"}]
["※協力会社印は出力枚数の都度、押印してください",{"$nulls":33},"今回迄出来高累計",{"$nulls":7},{"$f":"IF(AA525=\"－\",\"－\",AI525+AQ525)","v":"－"}]
[{"$nulls":55},"検   収   日",{"$nulls":4},{"$f":"IF(AA525=\"－\",\"――――\",\"\")","v":"――――"}]
[]
[null,null,"出　来　高　検　収　書　（第",{"$nulls":15},{"$f":"$S$2","v":0},null,"回）",null,null,"( 検収期間",{"$nulls":4},{"$f":"IF(入力画面!$J$4=\"\",\"\",入力画面!$J$4)","v":""},{"$nulls":4},"～",{"$f":"IF(入力画面!$Q$4=\"\",\"\",入力画面!$Q$4)","v":""},{"$nulls":4},"）",{"$nulls":14},"仙 建 工 業 株 式 会 社"]
[{"$nulls":41},"協力会社名"]
["工 事 番 号",{"$nulls":3},{"$f":"$E$4","v":0},{"$nulls":7},"工 事 件 名",{"$nulls":4},{"$f":"$R$4","v":0},{"$nulls":23},{"$f":"$AP$4","v":""},{"$nulls":19},"　印"]
["契   約   日",{"$nulls":3},{"$f":"$E$5","v":""},{"$nulls":7},"工         期",{"$nulls":4},"自",{"$nulls":3},{"$f":"$V$5","v":""},{"$nulls":7},"至",{"$nulls":3},{"$f":"$AH$5","v":""}]
["№","工                         種",{"$nulls":15},"契       約       金       額",{"$nulls":13},"前回迄出来高累計",{"$nulls":7},"今  回  出  来  高",{"$nulls":7},"残            高",{"$nulls":7},"摘                要"]
[{"$nulls":17},"単位",null,"数 量",null,null,"単   価",{"$nulls":3},"金     額",{"$nulls":4},"数 量",null,null,"金     額",{"$nulls":4},"数 量",null,null,"金     額",{"$nulls":4},"数 量",null,null,"金     額"]
[341,{"$f":"入力画面!B351:Q351","v":0},{"$nulls":15},{"$f":"入力画面!R351:S351","v":0},null,{"$f":"IF(入力画面!$T351<>\"\",入力画面!T351,\"\")","v":""},null,null,{"$f":"IF(入力画面!$T351<>\"\",入力画面!W351,\"\")","v":""},{"$nulls":3},{"$f":"IF(入力画面!$T351<>\"\",入力画面!AA351:AE351,\"\")","v":""},{"$nulls":4},{"$f":"IF(入力画面!$T351<>\"\",入力画面!AF351:AH351,\"\")","v":""},null,null,{"$f":"IF(入力画面!$T351<>\"\",入力画面!AI351:AM351,\"\")","v":""},{"$nulls":4},{"$f":"IF(入力画面!$T351<>\"\",入力画面!AN351:AP351,\"\")","v":""},null,null,{"$f":"IF(入力画面!$T351<>\"\",入力画面!AQ351:AU351,\"\")","v":""},{"$nulls":4},{"$f":"IF(入力画面!$T351<>\"\",入力画面!AV351:AX351,\"\")","v":""},null,null,{"$f":"IF(入力画面!$T351<>\"\",入力画面!AY351:BC351,\"\")","v":""},{"$nulls":4},{"$f":"入力画面!BD351:BM351","v":0}]
[342,{"$f":"入力画面!B352:Q352","v":0},{"$nulls":15},{"$f":"入力画面!R352:S352","v":0},null,{"$f":"IF(入力画面!$T352<>\"\",入力画面!T352,\"\")","v":""},null,null,{"$f":"IF(入力画面!$T352<>\"\",入力画面!W352,\"\")","v":""},{"$nulls":3},{"$f":"IF(入力画面!$T352<>\"\",入力画面!AA352:AE352,\"\")","v":""},{"$nulls":4},{"$f":"IF(入力画面!$T352<>\"\",入力画面!AF352:AH352,\"\")","v":""},null,null,{"$f":"IF(入力画面!$T352<>\"\",入力画面!AI352:AM352,\"\")","v":""},{"$nulls":4},{"$f":"IF(入力画面!$T352<>\"\",入力画面!AN352:AP352,\"\")","v":""},null,null,{"$f":"IF(入力画面!$T352<>\"\",入力画面!AQ352:AU352,\"\")","v":""},{"$nulls":4},{"$f":"IF(入力画面!$T352<>\"\",入力画面!AV352:AX352,\"\")","v":""},null,null,{"$f":"IF(入力画面!$T352<>\"\",入力画面!AY352:BC352,\"\")","v":""},{"$nulls":4},{"$f":"入力画面!BD352:BM352","v":0}]
[343,{"$f":"入力画面!B353:Q353","v":0},{"$nulls":15},{"$f":"入力画面!R353:S353","v":0},null,{"$f":"IF(入力画面!$T353<>\"\",入力画面!T353,\"\")","v":""},null,null,{"$f":"IF(入力画面!$T353<>\"\",入力画面!W353,\"\")","v":""},{"$nulls":3},{"$f":"IF(入力画面!$T353<>\"\",入力画面!AA353:AE353,\"\")","v":""},{"$nulls":4},{"$f":"IF(入力画面!$T353<>\"\",入力画面!AF353:AH353,\"\")","v":""},null,null,{"$f":"IF(入力画面!$T353<>\"\",入力画面!AI353:AM353,\"\")","v":""},{"$nulls":4},{"$f":"IF(入力画面!$T353<>\"\",入力画面!AN353:AP353,\"\")","v":""},null,null,{"$f":"IF(入力画面!$T353<>\"\",入力画面!AQ353:AU353,\"\")","v":""},{"$nulls":4},{"$f":"IF(入力画面!$T353<>\"\",入力画面!AV353:AX353,\"\")","v":""},null,null,{"$f":"IF(入力画面!$T353<>\"\",入力画面!AY353:BC353,\"\")","v":""},{"$nulls":4},{"$f":"入力画面!BD353:BM353","v":0}]
[344,{"$f":"入力画面!B354:Q354","v":0},{"$nulls":15},{"$f":"入力画面!R354:S354","v":0},null,{"$f":"IF(入力画面!$T354<>\"\",入力画面!T354,\"\")","v":""},null,null,{"$f":"IF(入力画面!$T354<>\"\",入力画面!W354,\"\")","v":""},{"$nulls":3},{"$f":"IF(入力画面!$T354<>\"\",入力画面!AA354:AE354,\"\")","v":""},{"$nulls":4},{"$f":"IF(入力画面!$T354<>\"\",入力画面!AF354:AH354,\"\")","v":""},null,null,{"$f":"IF(入力画面!$T354<>\"\",入力画面!AI354:AM354,\"\")","v":""},{"$nulls":4},{"$f":"IF(入力画面!$T354<>\"\",入力画面!AN354:AP354,\"\")","v":""},null,null,{"$f":"IF(入力画面!$T354<>\"\",入力画面!AQ354:AU354,\"\")","v":""},{"$nulls":4},{"$f":"IF(入力画面!$T354<>\"\",入力画面!AV354:AX354,\"\")","v":""},null,null,{"$f":"IF(入力画面!$T354<>\"\",入力画面!AY354:BC354,\"\")","v":""},{"$nulls":4},{"$f":"入力画面!BD354:BM354","v":0}]
[345,{"$f":"入力画面!B355:Q355","v":0},{"$nulls":15},{"$f":"入力画面!R355:S355","v":0},null,{"$f":"IF(入力画面!$T355<>\"\",入力画面!T355,\"\")","v":""},null,null,{"$f":"IF(入力画面!$T355<>\"\",入力画面!W355,\"\")","v":""},{"$nulls":3},{"$f":"IF(入力画面!$T355<>\"\",入力画面!AA355:AE355,\"\")","v":""},{"$nulls":4},{"$f":"IF(入力画面!$T355<>\"\",入力画面!AF355:AH355,\"\")","v":""},null,null,{"$f":"IF(入力画面!$T355<>\"\",入力画面!AI355:AM355,\"\")","v":""},{"$nulls":4},{"$f":"IF(入力画面!$T355<>\"\",入力画面!AN355:AP355,\"\")","v":""},null,null,{"$f":"IF(入力画面!$T355<>\"\",入力画面!AQ355:AU355,\"\")","v":""},{"$nulls":4},{"$f":"IF(入力画面!$T355<>\"\",入力画面!AV355:AX355,\"\")","v":""},null,null,{"$f":"IF(入力画面!$T355<>\"\",入力画面!AY355:BC355,\"\")","v":""},{"$nulls":4},{"$f":"入力画面!BD355:BM355","v":0}]
[346,{"$f":"入力画面!B356:Q356","v":0},{"$nulls":15},{"$f":"入力画面!R356:S356","v":0},null,{"$f":"IF(入力画面!$T356<>\"\",入力画面!T356,\"\")","v":""},null,null,{"$f":"IF(入力画面!$T356<>\"\",入力画面!W356,\"\")","v":""},{"$nulls":3},{"$f":"IF(入力画面!$T356<>\"\",入力画面!AA356:AE356,\"\")","v":""},{"$nulls":4},{"$f":"IF(入力画面!$T356<>\"\",入力画面!AF356:AH356,\"\")","v":""},null,null,{"$f":"IF(入力画面!$T356<>\"\",入力画面!AI356:AM356,\"\")","v":""},{"$nulls":4},{"$f":"IF(入力画面!$T356<>\"\",入力画面!AN356:AP356,\"\")","v":""},null,null,{"$f":"IF(入力画面!$T356<>\"\",入力画面!AQ356:AU356,\"\")","v":""},{"$nulls":4},{"$f":"IF(入力画面!$T356<>\"\",入力画面!AV356:AX356,\"\")","v":""},null,null,{"$f":"IF(入力画面!$T356<>\"\",入力画面!AY356:BC356,\"\")","v":""},{"$nulls":4},{"$f":"入力画面!BD356:BM356","v":0}]
[347,{"$f":"入力画面!B357:Q357","v":0},{"$nulls":15},{"$f":"入力画面!R357:S357","v":0},null,{"$f":"IF(入力画面!$T357<>\"\",入力画面!T357,\"\")","v":""},null,null,{"$f":"IF(入力画面!$T357<>\"\",入力画面!W357,\"\")","v":""},{"$nulls":3},{"$f":"IF(入力画面!$T357<>\"\",入力画面!AA357:AE357,\"\")","v":""},{"$nulls":4},{"$f":"IF(入力画面!$T357<>\"\",入力画面!AF357:AH357,\"\")","v":""},null,null,{"$f":"IF(入力画面!$T357<>\"\",入力画面!AI357:AM357,\"\")","v":""},{"$nulls":4},{"$f":"IF(入力画面!$T357<>\"\",入力画面!AN357:AP357,\"\")","v":""},null,null,{"$f":"IF(入力画面!$T357<>\"\",入力画面!AQ357:AU357,\"\")","v":""},{"$nulls":4},{"$f":"IF(入力画面!$T357<>\"\",入力画面!AV357:AX357,\"\")","v":""},null,null,{"$f":"IF(入力画面!$T357<>\"\",入力画面!AY357:BC357,\"\")","v":""},{"$nulls":4},{"$f":"入力画面!BD357:BM357","v":0}]
[348,{"$f":"入力画面!B358:Q358","v":0},{"$nulls":15},{"$f":"入力画面!R358:S358","v":0},null,{"$f":"IF(入力画面!$T358<>\"\",入力画面!T358,\"\")","v":""},null,null,{"$f":"IF(入力画面!$T358<>\"\",入力画面!W358,\"\")","v":""},{"$nulls":3},{"$f":"IF(入力画面!$T358<>\"\",入力画面!AA358:AE358,\"\")","v":""},{"$nulls":4},{"$f":"IF(入力画面!$T358<>\"\",入力画面!AF358:AH358,\"\")","v":""},null,null,{"$f":"IF(入力画面!$T358<>\"\",入力画面!AI358:AM358,\"\")","v":""},{"$nulls":4},{"$f":"IF(入力画面!$T358<>\"\",入力画面!AN358:AP358,\"\")","v":""},null,null,{"$f":"IF(入力画面!$T358<>\"\",入力画面!AQ358:AU358,\"\")","v":""},{"$nulls":4},{"$f":"IF(入力画面!$T358<>\"\",入力画面!AV358:AX358,\"\")","v":""},null,null,{"$f":"IF(入力画面!$T358<>\"\",入力画面!AY358:BC358,\"\")","v":""},{"$nulls":4},{"$f":"入力画面!BD358:BM358","v":0}]
[349,{"$f":"入力画面!B359:Q359","v":0},{"$nulls":15},{"$f":"入力画面!R359:S359","v":0},null,{"$f":"IF(入力画面!$T359<>\"\",入力画面!T359,\"\")","v":""},null,null,{"$f":"IF(入力画面!$T359<>\"\",入力画面!W359,\"\")","v":""},{"$nulls":3},{"$f":"IF(入力画面!$T359<>\"\",入力画面!AA359:AE359,\"\")","v":""},{"$nulls":4},{"$f":"IF(入力画面!$T359<>\"\",入力画面!AF359:AH359,\"\")","v":""},null,null,{"$f":"IF(入力画面!$T359<>\"\",入力画面!AI359:AM359,\"\")","v":""},{"$nulls":4},{"$f":"IF(入力画面!$T359<>\"\",入力画面!AN359:AP359,\"\")","v":""},null,null,{"$f":"IF(入力画面!$T359<>\"\",入力画面!AQ359:AU359,\"\")","v":""},{"$nulls":4},{"$f":"IF(入力画面!$T359<>\"\",入力画面!AV359:AX359,\"\")","v":""},null,null,{"$f":"IF(入力画面!$T359<>\"\",入力画面!AY359:BC359,\"\")","v":""},{"$nulls":4},{"$f":"入力画面!BD359:BM359","v":0}]
[350,{"$f":"入力画面!B360:Q360","v":0},{"$nulls":15},{"$f":"入力画面!R360:S360","v":0},null,{"$f":"IF(入力画面!$T360<>\"\",入力画面!T360,\"\")","v":""},null,null,{"$f":"IF(入力画面!$T360<>\"\",入力画面!W360,\"\")","v":""},{"$nulls":3},{"$f":"IF(入力画面!$T360<>\"\",入力画面!AA360:AE360,\"\")","v":""},{"$nulls":4},{"$f":"IF(入力画面!$T360<>\"\",入力画面!AF360:AH360,\"\")","v":""},null,null,{"$f":"IF(入力画面!$T360<>\"\",入力画面!AI360:AM360,\"\")","v":""},{"$nulls":4},{"$f":"IF(入力画面!$T360<>\"\",入力画面!AN360:AP360,\"\")","v":""},null,null,{"$f":"IF(入力画面!$T360<>\"\",入力画面!AQ360:AU360,\"\")","v":""},{"$nulls":4},{"$f":"IF(入力画面!$T360<>\"\",入力画面!AV360:AX360,\"\")","v":""},null,null,{"$f":"IF(入力画面!$T360<>\"\",入力画面!AY360:BC360,\"\")","v":""},{"$nulls":4},{"$f":"入力画面!BD360:BM360","v":0}]
[351,{"$f":"入力画面!B361:Q361","v":0},{"$nulls":15},{"$f":"入力画面!R361:S361","v":0},null,{"$f":"IF(入力画面!$T361<>\"\",入力画面!T361,\"\")","v":""},null,null,{"$f":"IF(入力画面!$T361<>\"\",入力画面!W361,\"\")","v":""},{"$nulls":3},{"$f":"IF(入力画面!$T361<>\"\",入力画面!AA361:AE361,\"\")","v":""},{"$nulls":4},{"$f":"IF(入力画面!$T361<>\"\",入力画面!AF361:AH361,\"\")","v":""},null,null,{"$f":"IF(入力画面!$T361<>\"\",入力画面!AI361:AM361,\"\")","v":""},{"$nulls":4},{"$f":"IF(入力画面!$T361<>\"\",入力画面!AN361:AP361,\"\")","v":""},null,null,{"$f":"IF(入力画面!$T361<>\"\",入力画面!AQ361:AU361,\"\")","v":""},{"$nulls":4},{"$f":"IF(入力画面!$T361<>\"\",入力画面!AV361:AX361,\"\")","v":""},null,null,{"$f":"IF(入力画面!$T361<>\"\",入力画面!AY361:BC361,\"\")","v":""},{"$nulls":4},{"$f":"入力画面!BD361:BM361","v":0}]
[352,{"$f":"入力画面!B362:Q362","v":0},{"$nulls":15},{"$f":"入力画面!R362:S362","v":0},null,{"$f":"IF(入力画面!$T362<>\"\",入力画面!T362,\"\")","v":""},null,null,{"$f":"IF(入力画面!$T362<>\"\",入力画面!W362,\"\")","v":""},{"$nulls":3},{"$f":"IF(入力画面!$T362<>\"\",入力画面!AA362:AE362,\"\")","v":""},{"$nulls":4},{"$f":"IF(入力画面!$T362<>\"\",入力画面!AF362:AH362,\"\")","v":""},null,null,{"$f":"IF(入力画面!$T362<>\"\",入力画面!AI362:AM362,\"\")","v":""},{"$nulls":4},{"$f":"IF(入力画面!$T362<>\"\",入力画面!AN362:AP362,\"\")","v":""},null,null,{"$f":"IF(入力画面!$T362<>\"\",入力画面!AQ362:AU362,\"\")","v":""},{"$nulls":4},{"$f":"IF(入力画面!$T362<>\"\",入力画面!AV362:AX362,\"\")","v":""},null,null,{"$f":"IF(入力画面!$T362<>\"\",入力画面!AY362:BC362,\"\")","v":""},{"$nulls":4},{"$f":"入力画面!BD362:BM362","v":0}]
[353,{"$f":"入力画面!B363:Q363","v":0},{"$nulls":15},{"$f":"入力画面!R363:S363","v":0},null,{"$f":"IF(入力画面!$T363<>\"\",入力画面!T363,\"\")","v":""},null,null,{"$f":"IF(入力画面!$T363<>\"\",入力画面!W363,\"\")","v":""},{"$nulls":3},{"$f":"IF(入力画面!$T363<>\"\",入力画面!AA363:AE363,\"\")","v":""},{"$nulls":4},{"$f":"IF(入力画面!$T363<>\"\",入力画面!AF363:AH363,\"\")","v":""},null,null,{"$f":"IF(入力画面!$T363<>\"\",入力画面!AI363:AM363,\"\")","v":""},{"$nulls":4},{"$f":"IF(入力画面!$T363<>\"\",入力画面!AN363:AP363,\"\")","v":""},null,null,{"$f":"IF(入力画面!$T363<>\"\",入力画面!AQ363:AU363,\"\")","v":""},{"$nulls":4},{"$f":"IF(入力画面!$T363<>\"\",入力画面!AV363:AX363,\"\")","v":""},null,null,{"$f":"IF(入力画面!$T363<>\"\",入力画面!AY363:BC363,\"\")","v":""},{"$nulls":4},{"$f":"入力画面!BD363:BM363","v":0}]
[354,{"$f":"入力画面!B364:Q364","v":0},{"$nulls":15},{"$f":"入力画面!R364:S364","v":0},null,{"$f":"IF(入力画面!$T364<>\"\",入力画面!T364,\"\")","v":""},null,null,{"$f":"IF(入力画面!$T364<>\"\",入力画面!W364,\"\")","v":""},{"$nulls":3},{"$f":"IF(入力画面!$T364<>\"\",入力画面!AA364:AE364,\"\")","v":""},{"$nulls":4},{"$f":"IF(入力画面!$T364<>\"\",入力画面!AF364:AH364,\"\")","v":""},null,null,{"$f":"IF(入力画面!$T364<>\"\",入力画面!AI364:AM364,\"\")","v":""},{"$nulls":4},{"$f":"IF(入力画面!$T364<>\"\",入力画面!AN364:AP364,\"\")","v":""},null,null,{"$f":"IF(入力画面!$T364<>\"\",入力画面!AQ364:AU364,\"\")","v":""},{"$nulls":4},{"$f":"IF(入力画面!$T364<>\"\",入力画面!AV364:AX364,\"\")","v":""},null,null,{"$f":"IF(入力画面!$T364<>\"\",入力画面!AY364:BC364,\"\")","v":""},{"$nulls":4},{"$f":"入力画面!BD364:BM364","v":0}]
[355,{"$f":"入力画面!B365:Q365","v":0},{"$nulls":15},{"$f":"入力画面!R365:S365","v":0},null,{"$f":"IF(入力画面!$T365<>\"\",入力画面!T365,\"\")","v":""},null,null,{"$f":"IF(入力画面!$T365<>\"\",入力画面!W365,\"\")","v":""},{"$nulls":3},{"$f":"IF(入力画面!$T365<>\"\",入力画面!AA365:AE365,\"\")","v":""},{"$nulls":4},{"$f":"IF(入力画面!$T365<>\"\",入力画面!AF365:AH365,\"\")","v":""},null,null,{"$f":"IF(入力画面!$T365<>\"\",入力画面!AI365:AM365,\"\")","v":""},{"$nulls":4},{"$f":"IF(入力画面!$T365<>\"\",入力画面!AN365:AP365,\"\")","v":""},null,null,{"$f":"IF(入力画面!$T365<>\"\",入力画面!AQ365:AU365,\"\")","v":""},{"$nulls":4},{"$f":"IF(入力画面!$T365<>\"\",入力画面!AV365:AX365,\"\")","v":""},null,null,{"$f":"IF(入力画面!$T365<>\"\",入力画面!AY365:BC365,\"\")","v":""},{"$nulls":4},{"$f":"入力画面!BD365:BM365","v":0}]
[356,{"$f":"入力画面!B366:Q366","v":0},{"$nulls":15},{"$f":"入力画面!R366:S366","v":0},null,{"$f":"IF(入力画面!$T366<>\"\",入力画面!T366,\"\")","v":""},null,null,{"$f":"IF(入力画面!$T366<>\"\",入力画面!W366,\"\")","v":""},{"$nulls":3},{"$f":"IF(入力画面!$T366<>\"\",入力画面!AA366:AE366,\"\")","v":""},{"$nulls":4},{"$f":"IF(入力画面!$T366<>\"\",入力画面!AF366:AH366,\"\")","v":""},null,null,{"$f":"IF(入力画面!$T366<>\"\",入力画面!AI366:AM366,\"\")","v":""},{"$nulls":4},{"$f":"IF(入力画面!$T366<>\"\",入力画面!AN366:AP366,\"\")","v":""},null,null,{"$f":"IF(入力画面!$T366<>\"\",入力画面!AQ366:AU366,\"\")","v":""},{"$nulls":4},{"$f":"IF(入力画面!$T366<>\"\",入力画面!AV366:AX366,\"\")","v":""},null,null,{"$f":"IF(入力画面!$T366<>\"\",入力画面!AY366:BC366,\"\")","v":""},{"$nulls":4},{"$f":"入力画面!BD366:BM366","v":0}]
[357,{"$f":"入力画面!B367:Q367","v":0},{"$nulls":15},{"$f":"入力画面!R367:S367","v":0},null,{"$f":"IF(入力画面!$T367<>\"\",入力画面!T367,\"\")","v":""},null,null,{"$f":"IF(入力画面!$T367<>\"\",入力画面!W367,\"\")","v":""},{"$nulls":3},{"$f":"IF(入力画面!$T367<>\"\",入力画面!AA367:AE367,\"\")","v":""},{"$nulls":4},{"$f":"IF(入力画面!$T367<>\"\",入力画面!AF367:AH367,\"\")","v":""},null,null,{"$f":"IF(入力画面!$T367<>\"\",入力画面!AI367:AM367,\"\")","v":""},{"$nulls":4},{"$f":"IF(入力画面!$T367<>\"\",入力画面!AN367:AP367,\"\")","v":""},null,null,{"$f":"IF(入力画面!$T367<>\"\",入力画面!AQ367:AU367,\"\")","v":""},{"$nulls":4},{"$f":"IF(入力画面!$T367<>\"\",入力画面!AV367:AX367,\"\")","v":""},null,null,{"$f":"IF(入力画面!$T367<>\"\",入力画面!AY367:BC367,\"\")","v":""},{"$nulls":4},{"$f":"入力画面!BD367:BM367","v":0}]
[358,{"$f":"入力画面!B368:Q368","v":0},{"$nulls":15},{"$f":"入力画面!R368:S368","v":0},null,{"$f":"IF(入力画面!$T368<>\"\",入力画面!T368,\"\")","v":""},null,null,{"$f":"IF(入力画面!$T368<>\"\",入力画面!W368,\"\")","v":""},{"$nulls":3},{"$f":"IF(入力画面!$T368<>\"\",入力画面!AA368:AE368,\"\")","v":""},{"$nulls":4},{"$f":"IF(入力画面!$T368<>\"\",入力画面!AF368:AH368,\"\")","v":""},null,null,{"$f":"IF(入力画面!$T368<>\"\",入力画面!AI368:AM368,\"\")","v":""},{"$nulls":4},{"$f":"IF(入力画面!$T368<>\"\",入力画面!AN368:AP368,\"\")","v":""},null,null,{"$f":"IF(入力画面!$T368<>\"\",入力画面!AQ368:AU368,\"\")","v":""},{"$nulls":4},{"$f":"IF(入力画面!$T368<>\"\",入力画面!AV368:AX368,\"\")","v":""},null,null,{"$f":"IF(入力画面!$T368<>\"\",入力画面!AY368:BC368,\"\")","v":""},{"$nulls":4},{"$f":"入力画面!BD368:BM368","v":0}]
[359,{"$f":"入力画面!B369:Q369","v":0},{"$nulls":15},{"$f":"入力画面!R369:S369","v":0},null,{"$f":"IF(入力画面!$T369<>\"\",入力画面!T369,\"\")","v":""},null,null,{"$f":"IF(入力画面!$T369<>\"\",入力画面!W369,\"\")","v":""},{"$nulls":3},{"$f":"IF(入力画面!$T369<>\"\",入力画面!AA369:AE369,\"\")","v":""},{"$nulls":4},{"$f":"IF(入力画面!$T369<>\"\",入力画面!AF369:AH369,\"\")","v":""},null,null,{"$f":"IF(入力画面!$T369<>\"\",入力画面!AI369:AM369,\"\")","v":""},{"$nulls":4},{"$f":"IF(入力画面!$T369<>\"\",入力画面!AN369:AP369,\"\")","v":""},null,null,{"$f":"IF(入力画面!$T369<>\"\",入力画面!AQ369:AU369,\"\")","v":""},{"$nulls":4},{"$f":"IF(入力画面!$T369<>\"\",入力画面!AV369:AX369,\"\")","v":""},null,null,{"$f":"IF(入力画面!$T369<>\"\",入力画面!AY369:BC369,\"\")","v":""},{"$nulls":4},{"$f":"入力画面!BD369:BM369","v":0}]
[360,{"$f":"入力画面!B370:Q370","v":0},{"$nulls":15},{"$f":"入力画面!R370:S370","v":0},null,{"$f":"IF(入力画面!$T370<>\"\",入力画面!T370,\"\")","v":""},null,null,{"$f":"IF(入力画面!$T370<>\"\",入力画面!W370,\"\")","v":""},{"$nulls":3},{"$f":"IF(入力画面!$T370<>\"\",入力画面!AA370:AE370,\"\")","v":""},{"$nulls":4},{"$f":"IF(入力画面!$T370<>\"\",入力画面!AF370:AH370,\"\")","v":""},null,null,{"$f":"IF(入力画面!$T370<>\"\",入力画面!AI370:AM370,\"\")","v":""},{"$nulls":4},{"$f":"IF(入力画面!$T370<>\"\",入力画面!AN370:AP370,\"\")","v":""},null,null,{"$f":"IF(入力画面!$T370<>\"\",入力画面!AQ370:AU370,\"\")","v":""},{"$nulls":4},{"$f":"IF(入力画面!$T370<>\"\",入力画面!AV370:AX370,\"\")","v":""},null,null,{"$f":"IF(入力画面!$T370<>\"\",入力画面!AY370:BC370,\"\")","v":""},{"$nulls":4},{"$f":"入力画面!BD370:BM370","v":0}]
["※消費税、保留金の計算は別紙、請求書で行ってください",{"$nulls":21},"小計",{"$nulls":3},{"$f":"SUM(AA535:AE554)","v":{"v":0,"d":"0 "}},{"$nulls":4},"小計",null,null,{"$f":"SUM(AI535:AM554)","v":{"v":0,"d":"0 "}},{"$nulls":4},"小計",null,null,{"$f":"SUM(AQ535:AU554)","v":{"v":0,"d":"0 "}},{"$nulls":4},"小計",null,null,{"$f":"SUM(AY535:BC554)","v":{"v":0,"d":"0 "}},{"$nulls":4},"担　当　者　　　　確　認　印",{"$nulls":4},{"$f":"IF(AA556=\"－\",\"―――――\",\"\")","v":"―――――"}]
["※完成後一括払いであっても出来高検収書を作成・添付してください",{"$nulls":21},"合計",{"$nulls":3},{"$f":"IF(AND(OR(AA524<>0,AI524<>0,AQ524<>0,AY524<>0),AND(AA525=\"－\",AA586=0,AI586=0,AQ586=0,AY586=0)),AA28+AA59+AA90+AA121+AA152+AA183+AA214+AA245+AA276+AA307+AA338+AA369+AA400+AA431+AA462+AA493+AA524+AA555,\"－\")","v":"－"},{"$nulls":4},"合計",null,null,{"$f":"IF($AA556<>\"－\",AI28+AI59+AI90+AI121+AI152+AI183+AI214+AI245+AI276+AI307+AI338+AI369+AI400+AI431+AI462+AI493+AI524+AI555,\"－\")","v":"－"},{"$nulls":4},"合計",null,null,{"$f":"IF($AA556<>\"－\",AQ28+AQ59+AQ90+AQ121+AQ152+AQ183+AQ214+AQ245+AQ276+AQ307+AQ338+AQ369+AQ400+AQ431+AQ462+AQ493+AQ524+AQ555,\"－\")","v":"－"},{"$nulls":4},"合計",null,null,{"$f":"IF($AA556<>\"－\",AY28+AY59+AY90+AY121+AY152+AY183+AY214+AY245+AY276+AY307+AY338+AY369+AY400+AY431+AY462+AY493+AY524+AY555,\"－\")","v":"－"}]
["※協力会社印は出力枚数の都度、押印してください",{"$nulls":33},"今回迄出来高累計",{"$nulls":7},{"$f":"IF(AA556=\"－\",\"－\",AI556+AQ556)","v":"－"}]
[{"$nulls":55},"検   収   日",{"$nulls":4},{"$f":"IF(AA556=\"－\",\"――――\",\"\")","v":"――――"}]
[]
[null,null,"出　来　高　検　収　書　（第",{"$nulls":15},{"$f":"$S$2","v":0},null,"回）",null,null,"( 検収期間",{"$nulls":4},{"$f":"IF(入力画面!$J$4=\"\",\"\",入力画面!$J$4)","v":""},{"$nulls":4},"～",{"$f":"IF(入力画面!$Q$4=\"\",\"\",入力画面!$Q$4)","v":""},{"$nulls":4},"）",{"$nulls":14},"仙 建 工 業 株 式 会 社"]
[{"$nulls":41},"協力会社名"]
["工 事 番 号",{"$nulls":3},{"$f":"$E$4","v":0},{"$nulls":7},"工 事 件 名",{"$nulls":4},{"$f":"$R$4","v":0},{"$nulls":23},{"$f":"$AP$4","v":""},{"$nulls":19},"　印"]
["契   約   日",{"$nulls":3},{"$f":"$E$5","v":""},{"$nulls":7},"工         期",{"$nulls":4},"自",{"$nulls":3},{"$f":"$V$5","v":""},{"$nulls":7},"至",{"$nulls":3},{"$f":"$AH$5","v":""}]
["№","工                         種",{"$nulls":15},"契       約       金       額",{"$nulls":13},"前回迄出来高累計",{"$nulls":7},"今  回  出  来  高",{"$nulls":7},"残            高",{"$nulls":7},"摘                要"]
[{"$nulls":17},"単位",null,"数 量",null,null,"単   価",{"$nulls":3},"金     額",{"$nulls":4},"数 量",null,null,"金     額",{"$nulls":4},"数 量",null,null,"金     額",{"$nulls":4},"数 量",null,null,"金     額"]
[361,{"$f":"入力画面!B371:Q371","v":0},{"$nulls":15},{"$f":"入力画面!R371:S371","v":0},null,{"$f":"IF(入力画面!$T371<>\"\",入力画面!T371,\"\")","v":""},null,null,{"$f":"IF(入力画面!$T371<>\"\",入力画面!W371,\"\")","v":""},{"$nulls":3},{"$f":"IF(入力画面!$T371<>\"\",入力画面!AA371:AE371,\"\")","v":""},{"$nulls":4},{"$f":"IF(入力画面!$T371<>\"\",入力画面!AF371:AH371,\"\")","v":""},null,null,{"$f":"IF(入力画面!$T371<>\"\",入力画面!AI371:AM371,\"\")","v":""},{"$nulls":4},{"$f":"IF(入力画面!$T371<>\"\",入力画面!AN371:AP371,\"\")","v":""},null,null,{"$f":"IF(入力画面!$T371<>\"\",入力画面!AQ371:AU371,\"\")","v":""},{"$nulls":4},{"$f":"IF(入力画面!$T371<>\"\",入力画面!AV371:AX371,\"\")","v":""},null,null,{"$f":"IF(入力画面!$T371<>\"\",入力画面!AY371:BC371,\"\")","v":""},{"$nulls":4},{"$f":"入力画面!BD371:BM371","v":0}]
[362,{"$f":"入力画面!B372:Q372","v":0},{"$nulls":15},{"$f":"入力画面!R372:S372","v":0},null,{"$f":"IF(入力画面!$T372<>\"\",入力画面!T372,\"\")","v":""},null,null,{"$f":"IF(入力画面!$T372<>\"\",入力画面!W372,\"\")","v":""},{"$nulls":3},{"$f":"IF(入力画面!$T372<>\"\",入力画面!AA372:AE372,\"\")","v":""},{"$nulls":4},{"$f":"IF(入力画面!$T372<>\"\",入力画面!AF372:AH372,\"\")","v":""},null,null,{"$f":"IF(入力画面!$T372<>\"\",入力画面!AI372:AM372,\"\")","v":""},{"$nulls":4},{"$f":"IF(入力画面!$T372<>\"\",入力画面!AN372:AP372,\"\")","v":""},null,null,{"$f":"IF(入力画面!$T372<>\"\",入力画面!AQ372:AU372,\"\")","v":""},{"$nulls":4},{"$f":"IF(入力画面!$T372<>\"\",入力画面!AV372:AX372,\"\")","v":""},null,null,{"$f":"IF(入力画面!$T372<>\"\",入力画面!AY372:BC372,\"\")","v":""},{"$nulls":4},{"$f":"入力画面!BD372:BM372","v":0}]
[363,{"$f":"入力画面!B373:Q373","v":0},{"$nulls":15},{"$f":"入力画面!R373:S373","v":0},null,{"$f":"IF(入力画面!$T373<>\"\",入力画面!T373,\"\")","v":""},null,null,{"$f":"IF(入力画面!$T373<>\"\",入力画面!W373,\"\")","v":""},{"$nulls":3},{"$f":"IF(入力画面!$T373<>\"\",入力画面!AA373:AE373,\"\")","v":""},{"$nulls":4},{"$f":"IF(入力画面!$T373<>\"\",入力画面!AF373:AH373,\"\")","v":""},null,null,{"$f":"IF(入力画面!$T373<>\"\",入力画面!AI373:AM373,\"\")","v":""},{"$nulls":4},{"$f":"IF(入力画面!$T373<>\"\",入力画面!AN373:AP373,\"\")","v":""},null,null,{"$f":"IF(入力画面!$T373<>\"\",入力画面!AQ373:AU373,\"\")","v":""},{"$nulls":4},{"$f":"IF(入力画面!$T373<>\"\",入力画面!AV373:AX373,\"\")","v":""},null,null,{"$f":"IF(入力画面!$T373<>\"\",入力画面!AY373:BC373,\"\")","v":""},{"$nulls":4},{"$f":"入力画面!BD373:BM373","v":0}]
[364,{"$f":"入力画面!B374:Q374","v":0},{"$nulls":15},{"$f":"入力画面!R374:S374","v":0},null,{"$f":"IF(入力画面!$T374<>\"\",入力画面!T374,\"\")","v":""},null,null,{"$f":"IF(入力画面!$T374<>\"\",入力画面!W374,\"\")","v":""},{"$nulls":3},{"$f":"IF(入力画面!$T374<>\"\",入力画面!AA374:AE374,\"\")","v":""},{"$nulls":4},{"$f":"IF(入力画面!$T374<>\"\",入力画面!AF374:AH374,\"\")","v":""},null,null,{"$f":"IF(入力画面!$T374<>\"\",入力画面!AI374:AM374,\"\")","v":""},{"$nulls":4},{"$f":"IF(入力画面!$T374<>\"\",入力画面!AN374:AP374,\"\")","v":""},null,null,{"$f":"IF(入力画面!$T374<>\"\",入力画面!AQ374:AU374,\"\")","v":""},{"$nulls":4},{"$f":"IF(入力画面!$T374<>\"\",入力画面!AV374:AX374,\"\")","v":""},null,null,{"$f":"IF(入力画面!$T374<>\"\",入力画面!AY374:BC374,\"\")","v":""},{"$nulls":4},{"$f":"入力画面!BD374:BM374","v":0}]
[365,{"$f":"入力画面!B375:Q375","v":0},{"$nulls":15},{"$f":"入力画面!R375:S375","v":0},null,{"$f":"IF(入力画面!$T375<>\"\",入力画面!T375,\"\")","v":""},null,null,{"$f":"IF(入力画面!$T375<>\"\",入力画面!W375,\"\")","v":""},{"$nulls":3},{"$f":"IF(入力画面!$T375<>\"\",入力画面!AA375:AE375,\"\")","v":""},{"$nulls":4},{"$f":"IF(入力画面!$T375<>\"\",入力画面!AF375:AH375,\"\")","v":""},null,null,{"$f":"IF(入力画面!$T375<>\"\",入力画面!AI375:AM375,\"\")","v":""},{"$nulls":4},{"$f":"IF(入力画面!$T375<>\"\",入力画面!AN375:AP375,\"\")","v":""},null,null,{"$f":"IF(入力画面!$T375<>\"\",入力画面!AQ375:AU375,\"\")","v":""},{"$nulls":4},{"$f":"IF(入力画面!$T375<>\"\",入力画面!AV375:AX375,\"\")","v":""},null,null,{"$f":"IF(入力画面!$T375<>\"\",入力画面!AY375:BC375,\"\")","v":""},{"$nulls":4},{"$f":"入力画面!BD375:BM375","v":0}]
[366,{"$f":"入力画面!B376:Q376","v":0},{"$nulls":15},{"$f":"入力画面!R376:S376","v":0},null,{"$f":"IF(入力画面!$T376<>\"\",入力画面!T376,\"\")","v":""},null,null,{"$f":"IF(入力画面!$T376<>\"\",入力画面!W376,\"\")","v":""},{"$nulls":3},{"$f":"IF(入力画面!$T376<>\"\",入力画面!AA376:AE376,\"\")","v":""},{"$nulls":4},{"$f":"IF(入力画面!$T376<>\"\",入力画面!AF376:AH376,\"\")","v":""},null,null,{"$f":"IF(入力画面!$T376<>\"\",入力画面!AI376:AM376,\"\")","v":""},{"$nulls":4},{"$f":"IF(入力画面!$T376<>\"\",入力画面!AN376:AP376,\"\")","v":""},null,null,{"$f":"IF(入力画面!$T376<>\"\",入力画面!AQ376:AU376,\"\")","v":""},{"$nulls":4},{"$f":"IF(入力画面!$T376<>\"\",入力画面!AV376:AX376,\"\")","v":""},null,null,{"$f":"IF(入力画面!$T376<>\"\",入力画面!AY376:BC376,\"\")","v":""},{"$nulls":4},{"$f":"入力画面!BD376:BM376","v":0}]
[367,{"$f":"入力画面!B377:Q377","v":0},{"$nulls":15},{"$f":"入力画面!R377:S377","v":0},null,{"$f":"IF(入力画面!$T377<>\"\",入力画面!T377,\"\")","v":""},null,null,{"$f":"IF(入力画面!$T377<>\"\",入力画面!W377,\"\")","v":""},{"$nulls":3},{"$f":"IF(入力画面!$T377<>\"\",入力画面!AA377:AE377,\"\")","v":""},{"$nulls":4},{"$f":"IF(入力画面!$T377<>\"\",入力画面!AF377:AH377,\"\")","v":""},null,null,{"$f":"IF(入力画面!$T377<>\"\",入力画面!AI377:AM377,\"\")","v":""},{"$nulls":4},{"$f":"IF(入力画面!$T377<>\"\",入力画面!AN377:AP377,\"\")","v":""},null,null,{"$f":"IF(入力画面!$T377<>\"\",入力画面!AQ377:AU377,\"\")","v":""},{"$nulls":4},{"$f":"IF(入力画面!$T377<>\"\",入力画面!AV377:AX377,\"\")","v":""},null,null,{"$f":"IF(入力画面!$T377<>\"\",入力画面!AY377:BC377,\"\")","v":""},{"$nulls":4},{"$f":"入力画面!BD377:BM377","v":0}]
[368,{"$f":"入力画面!B378:Q378","v":0},{"$nulls":15},{"$f":"入力画面!R378:S378","v":0},null,{"$f":"IF(入力画面!$T378<>\"\",入力画面!T378,\"\")","v":""},null,null,{"$f":"IF(入力画面!$T378<>\"\",入力画面!W378,\"\")","v":""},{"$nulls":3},{"$f":"IF(入力画面!$T378<>\"\",入力画面!AA378:AE378,\"\")","v":""},{"$nulls":4},{"$f":"IF(入力画面!$T378<>\"\",入力画面!AF378:AH378,\"\")","v":""},null,null,{"$f":"IF(入力画面!$T378<>\"\",入力画面!AI378:AM378,\"\")","v":""},{"$nulls":4},{"$f":"IF(入力画面!$T378<>\"\",入力画面!AN378:AP378,\"\")","v":""},null,null,{"$f":"IF(入力画面!$T378<>\"\",入力画面!AQ378:AU378,\"\")","v":""},{"$nulls":4},{"$f":"IF(入力画面!$T378<>\"\",入力画面!AV378:AX378,\"\")","v":""},null,null,{"$f":"IF(入力画面!$T378<>\"\",入力画面!AY378:BC378,\"\")","v":""},{"$nulls":4},{"$f":"入力画面!BD378:BM378","v":0}]
[369,{"$f":"入力画面!B379:Q379","v":0},{"$nulls":15},{"$f":"入力画面!R379:S379","v":0},null,{"$f":"IF(入力画面!$T379<>\"\",入力画面!T379,\"\")","v":""},null,null,{"$f":"IF(入力画面!$T379<>\"\",入力画面!W379,\"\")","v":""},{"$nulls":3},{"$f":"IF(入力画面!$T379<>\"\",入力画面!AA379:AE379,\"\")","v":""},{"$nulls":4},{"$f":"IF(入力画面!$T379<>\"\",入力画面!AF379:AH379,\"\")","v":""},null,null,{"$f":"IF(入力画面!$T379<>\"\",入力画面!AI379:AM379,\"\")","v":""},{"$nulls":4},{"$f":"IF(入力画面!$T379<>\"\",入力画面!AN379:AP379,\"\")","v":""},null,null,{"$f":"IF(入力画面!$T379<>\"\",入力画面!AQ379:AU379,\"\")","v":""},{"$nulls":4},{"$f":"IF(入力画面!$T379<>\"\",入力画面!AV379:AX379,\"\")","v":""},null,null,{"$f":"IF(入力画面!$T379<>\"\",入力画面!AY379:BC379,\"\")","v":""},{"$nulls":4},{"$f":"入力画面!BD379:BM379","v":0}]
[370,{"$f":"入力画面!B380:Q380","v":0},{"$nulls":15},{"$f":"入力画面!R380:S380","v":0},null,{"$f":"IF(入力画面!$T380<>\"\",入力画面!T380,\"\")","v":""},null,null,{"$f":"IF(入力画面!$T380<>\"\",入力画面!W380,\"\")","v":""},{"$nulls":3},{"$f":"IF(入力画面!$T380<>\"\",入力画面!AA380:AE380,\"\")","v":""},{"$nulls":4},{"$f":"IF(入力画面!$T380<>\"\",入力画面!AF380:AH380,\"\")","v":""},null,null,{"$f":"IF(入力画面!$T380<>\"\",入力画面!AI380:AM380,\"\")","v":""},{"$nulls":4},{"$f":"IF(入力画面!$T380<>\"\",入力画面!AN380:AP380,\"\")","v":""},null,null,{"$f":"IF(入力画面!$T380<>\"\",入力画面!AQ380:AU380,\"\")","v":""},{"$nulls":4},{"$f":"IF(入力画面!$T380<>\"\",入力画面!AV380:AX380,\"\")","v":""},null,null,{"$f":"IF(入力画面!$T380<>\"\",入力画面!AY380:BC380,\"\")","v":""},{"$nulls":4},{"$f":"入力画面!BD380:BM380","v":0}]
[371,{"$f":"入力画面!B381:Q381","v":0},{"$nulls":15},{"$f":"入力画面!R381:S381","v":0},null,{"$f":"IF(入力画面!$T381<>\"\",入力画面!T381,\"\")","v":""},null,null,{"$f":"IF(入力画面!$T381<>\"\",入力画面!W381,\"\")","v":""},{"$nulls":3},{"$f":"IF(入力画面!$T381<>\"\",入力画面!AA381:AE381,\"\")","v":""},{"$nulls":4},{"$f":"IF(入力画面!$T381<>\"\",入力画面!AF381:AH381,\"\")","v":""},null,null,{"$f":"IF(入力画面!$T381<>\"\",入力画面!AI381:AM381,\"\")","v":""},{"$nulls":4},{"$f":"IF(入力画面!$T381<>\"\",入力画面!AN381:AP381,\"\")","v":""},null,null,{"$f":"IF(入力画面!$T381<>\"\",入力画面!AQ381:AU381,\"\")","v":""},{"$nulls":4},{"$f":"IF(入力画面!$T381<>\"\",入力画面!AV381:AX381,\"\")","v":""},null,null,{"$f":"IF(入力画面!$T381<>\"\",入力画面!AY381:BC381,\"\")","v":""},{"$nulls":4},{"$f":"入力画面!BD381:BM381","v":0}]
[372,{"$f":"入力画面!B382:Q382","v":0},{"$nulls":15},{"$f":"入力画面!R382:S382","v":0},null,{"$f":"IF(入力画面!$T382<>\"\",入力画面!T382,\"\")","v":""},null,null,{"$f":"IF(入力画面!$T382<>\"\",入力画面!W382,\"\")","v":""},{"$nulls":3},{"$f":"IF(入力画面!$T382<>\"\",入力画面!AA382:AE382,\"\")","v":""},{"$nulls":4},{"$f":"IF(入力画面!$T382<>\"\",入力画面!AF382:AH382,\"\")","v":""},null,null,{"$f":"IF(入力画面!$T382<>\"\",入力画面!AI382:AM382,\"\")","v":""},{"$nulls":4},{"$f":"IF(入力画面!$T382<>\"\",入力画面!AN382:AP382,\"\")","v":""},null,null,{"$f":"IF(入力画面!$T382<>\"\",入力画面!AQ382:AU382,\"\")","v":""},{"$nulls":4},{"$f":"IF(入力画面!$T382<>\"\",入力画面!AV382:AX382,\"\")","v":""},null,null,{"$f":"IF(入力画面!$T382<>\"\",入力画面!AY382:BC382,\"\")","v":""},{"$nulls":4},{"$f":"入力画面!BD382:BM382","v":0}]
[373,{"$f":"入力画面!B383:Q383","v":0},{"$nulls":15},{"$f":"入力画面!R383:S383","v":0},null,{"$f":"IF(入力画面!$T383<>\"\",入力画面!T383,\"\")","v":""},null,null,{"$f":"IF(入力画面!$T383<>\"\",入力画面!W383,\"\")","v":""},{"$nulls":3},{"$f":"IF(入力画面!$T383<>\"\",入力画面!AA383:AE383,\"\")","v":""},{"$nulls":4},{"$f":"IF(入力画面!$T383<>\"\",入力画面!AF383:AH383,\"\")","v":""},null,null,{"$f":"IF(入力画面!$T383<>\"\",入力画面!AI383:AM383,\"\")","v":""},{"$nulls":4},{"$f":"IF(入力画面!$T383<>\"\",入力画面!AN383:AP383,\"\")","v":""},null,null,{"$f":"IF(入力画面!$T383<>\"\",入力画面!AQ383:AU383,\"\")","v":""},{"$nulls":4},{"$f":"IF(入力画面!$T383<>\"\",入力画面!AV383:AX383,\"\")","v":""},null,null,{"$f":"IF(入力画面!$T383<>\"\",入力画面!AY383:BC383,\"\")","v":""},{"$nulls":4},{"$f":"入力画面!BD383:BM383","v":0}]
[374,{"$f":"入力画面!B384:Q384","v":0},{"$nulls":15},{"$f":"入力画面!R384:S384","v":0},null,{"$f":"IF(入力画面!$T384<>\"\",入力画面!T384,\"\")","v":""},null,null,{"$f":"IF(入力画面!$T384<>\"\",入力画面!W384,\"\")","v":""},{"$nulls":3},{"$f":"IF(入力画面!$T384<>\"\",入力画面!AA384:AE384,\"\")","v":""},{"$nulls":4},{"$f":"IF(入力画面!$T384<>\"\",入力画面!AF384:AH384,\"\")","v":""},null,null,{"$f":"IF(入力画面!$T384<>\"\",入力画面!AI384:AM384,\"\")","v":""},{"$nulls":4},{"$f":"IF(入力画面!$T384<>\"\",入力画面!AN384:AP384,\"\")","v":""},null,null,{"$f":"IF(入力画面!$T384<>\"\",入力画面!AQ384:AU384,\"\")","v":""},{"$nulls":4},{"$f":"IF(入力画面!$T384<>\"\",入力画面!AV384:AX384,\"\")","v":""},null,null,{"$f":"IF(入力画面!$T384<>\"\",入力画面!AY384:BC384,\"\")","v":""},{"$nulls":4},{"$f":"入力画面!BD384:BM384","v":0}]
[375,{"$f":"入力画面!B385:Q385","v":0},{"$nulls":15},{"$f":"入力画面!R385:S385","v":0},null,{"$f":"IF(入力画面!$T385<>\"\",入力画面!T385,\"\")","v":""},null,null,{"$f":"IF(入力画面!$T385<>\"\",入力画面!W385,\"\")","v":""},{"$nulls":3},{"$f":"IF(入力画面!$T385<>\"\",入力画面!AA385:AE385,\"\")","v":""},{"$nulls":4},{"$f":"IF(入力画面!$T385<>\"\",入力画面!AF385:AH385,\"\")","v":""},null,null,{"$f":"IF(入力画面!$T385<>\"\",入力画面!AI385:AM385,\"\")","v":""},{"$nulls":4},{"$f":"IF(入力画面!$T385<>\"\",入力画面!AN385:AP385,\"\")","v":""},null,null,{"$f":"IF(入力画面!$T385<>\"\",入力画面!AQ385:AU385,\"\")","v":""},{"$nulls":4},{"$f":"IF(入力画面!$T385<>\"\",入力画面!AV385:AX385,\"\")","v":""},null,null,{"$f":"IF(入力画面!$T385<>\"\",入力画面!AY385:BC385,\"\")","v":""},{"$nulls":4},{"$f":"入力画面!BD385:BM385","v":0}]
[376,{"$f":"入力画面!B386:Q386","v":0},{"$nulls":15},{"$f":"入力画面!R386:S386","v":0},null,{"$f":"IF(入力画面!$T386<>\"\",入力画面!T386,\"\")","v":""},null,null,{"$f":"IF(入力画面!$T386<>\"\",入力画面!W386,\"\")","v":""},{"$nulls":3},{"$f":"IF(入力画面!$T386<>\"\",入力画面!AA386:AE386,\"\")","v":""},{"$nulls":4},{"$f":"IF(入力画面!$T386<>\"\",入力画面!AF386:AH386,\"\")","v":""},null,null,{"$f":"IF(入力画面!$T386<>\"\",入力画面!AI386:AM386,\"\")","v":""},{"$nulls":4},{"$f":"IF(入力画面!$T386<>\"\",入力画面!AN386:AP386,\"\")","v":""},null,null,{"$f":"IF(入力画面!$T386<>\"\",入力画面!AQ386:AU386,\"\")","v":""},{"$nulls":4},{"$f":"IF(入力画面!$T386<>\"\",入力画面!AV386:AX386,\"\")","v":""},null,null,{"$f":"IF(入力画面!$T386<>\"\",入力画面!AY386:BC386,\"\")","v":""},{"$nulls":4},{"$f":"入力画面!BD386:BM386","v":0}]
[377,{"$f":"入力画面!B387:Q387","v":0},{"$nulls":15},{"$f":"入力画面!R387:S387","v":0},null,{"$f":"IF(入力画面!$T387<>\"\",入力画面!T387,\"\")","v":""},null,null,{"$f":"IF(入力画面!$T387<>\"\",入力画面!W387,\"\")","v":""},{"$nulls":3},{"$f":"IF(入力画面!$T387<>\"\",入力画面!AA387:AE387,\"\")","v":""},{"$nulls":4},{"$f":"IF(入力画面!$T387<>\"\",入力画面!AF387:AH387,\"\")","v":""},null,null,{"$f":"IF(入力画面!$T387<>\"\",入力画面!AI387:AM387,\"\")","v":""},{"$nulls":4},{"$f":"IF(入力画面!$T387<>\"\",入力画面!AN387:AP387,\"\")","v":""},null,null,{"$f":"IF(入力画面!$T387<>\"\",入力画面!AQ387:AU387,\"\")","v":""},{"$nulls":4},{"$f":"IF(入力画面!$T387<>\"\",入力画面!AV387:AX387,\"\")","v":""},null,null,{"$f":"IF(入力画面!$T387<>\"\",入力画面!AY387:BC387,\"\")","v":""},{"$nulls":4},{"$f":"入力画面!BD387:BM387","v":0}]
[378,{"$f":"入力画面!B388:Q388","v":0},{"$nulls":15},{"$f":"入力画面!R388:S388","v":0},null,{"$f":"IF(入力画面!$T388<>\"\",入力画面!T388,\"\")","v":""},null,null,{"$f":"IF(入力画面!$T388<>\"\",入力画面!W388,\"\")","v":""},{"$nulls":3},{"$f":"IF(入力画面!$T388<>\"\",入力画面!AA388:AE388,\"\")","v":""},{"$nulls":4},{"$f":"IF(入力画面!$T388<>\"\",入力画面!AF388:AH388,\"\")","v":""},null,null,{"$f":"IF(入力画面!$T388<>\"\",入力画面!AI388:AM388,\"\")","v":""},{"$nulls":4},{"$f":"IF(入力画面!$T388<>\"\",入力画面!AN388:AP388,\"\")","v":""},null,null,{"$f":"IF(入力画面!$T388<>\"\",入力画面!AQ388:AU388,\"\")","v":""},{"$nulls":4},{"$f":"IF(入力画面!$T388<>\"\",入力画面!AV388:AX388,\"\")","v":""},null,null,{"$f":"IF(入力画面!$T388<>\"\",入力画面!AY388:BC388,\"\")","v":""},{"$nulls":4},{"$f":"入力画面!BD388:BM388","v":0}]
[379,{"$f":"入力画面!B389:Q389","v":0},{"$nulls":15},{"$f":"入力画面!R389:S389","v":0},null,{"$f":"IF(入力画面!$T389<>\"\",入力画面!T389,\"\")","v":""},null,null,{"$f":"IF(入力画面!$T389<>\"\",入力画面!W389,\"\")","v":""},{"$nulls":3},{"$f":"IF(入力画面!$T389<>\"\",入力画面!AA389:AE389,\"\")","v":""},{"$nulls":4},{"$f":"IF(入力画面!$T389<>\"\",入力画面!AF389:AH389,\"\")","v":""},null,null,{"$f":"IF(入力画面!$T389<>\"\",入力画面!AI389:AM389,\"\")","v":""},{"$nulls":4},{"$f":"IF(入力画面!$T389<>\"\",入力画面!AN389:AP389,\"\")","v":""},null,null,{"$f":"IF(入力画面!$T389<>\"\",入力画面!AQ389:AU389,\"\")","v":""},{"$nulls":4},{"$f":"IF(入力画面!$T389<>\"\",入力画面!AV389:AX389,\"\")","v":""},null,null,{"$f":"IF(入力画面!$T389<>\"\",入力画面!AY389:BC389,\"\")","v":""},{"$nulls":4},{"$f":"入力画面!BD389:BM389","v":0}]
[380,{"$f":"入力画面!B390:Q390","v":0},{"$nulls":15},{"$f":"入力画面!R390:S390","v":0},null,{"$f":"IF(入力画面!$T390<>\"\",入力画面!T390,\"\")","v":""},null,null,{"$f":"IF(入力画面!$T390<>\"\",入力画面!W390,\"\")","v":""},{"$nulls":3},{"$f":"IF(入力画面!$T390<>\"\",入力画面!AA390:AE390,\"\")","v":""},{"$nulls":4},{"$f":"IF(入力画面!$T390<>\"\",入力画面!AF390:AH390,\"\")","v":""},null,null,{"$f":"IF(入力画面!$T390<>\"\",入力画面!AI390:AM390,\"\")","v":""},{"$nulls":4},{"$f":"IF(入力画面!$T390<>\"\",入力画面!AN390:AP390,\"\")","v":""},null,null,{"$f":"IF(入力画面!$T390<>\"\",入力画面!AQ390:AU390,\"\")","v":""},{"$nulls":4},{"$f":"IF(入力画面!$T390<>\"\",入力画面!AV390:AX390,\"\")","v":""},null,null,{"$f":"IF(入力画面!$T390<>\"\",入力画面!AY390:BC390,\"\")","v":""},{"$nulls":4},{"$f":"入力画面!BD390:BM390","v":0}]
["※消費税、保留金の計算は別紙、請求書で行ってください",{"$nulls":21},"小計",{"$nulls":3},{"$f":"SUM(AA566:AE585)","v":{"v":0,"d":"0 "}},{"$nulls":4},"小計",null,null,{"$f":"SUM(AI566:AM585)","v":{"v":0,"d":"0 "}},{"$nulls":4},"小計",null,null,{"$f":"SUM(AQ566:AU585)","v":{"v":0,"d":"0 "}},{"$nulls":4},"小計",null,null,{"$f":"SUM(AY566:BC585)","v":{"v":0,"d":"0 "}},{"$nulls":4},"担　当　者　　　　確　認　印",{"$nulls":4},{"$f":"IF(AA587=\"－\",\"―――――\",\"\")","v":"―――――"}]
["※完成後一括払いであっても出来高検収書を作成・添付してください",{"$nulls":21},"合計",{"$nulls":3},{"$f":"IF(AND(OR(AA555<>0,AI555<>0,AQ555<>0,AY555<>0),AND(AA556=\"－\",AA617=0,AI617=0,AQ617=0,AY617=0)),AA28+AA59+AA90+AA121+AA152+AA183+AA214+AA245+AA276+AA307+AA338+AA369+AA400+AA431+AA462+AA493+AA524+AA555+AA586,\"－\")","v":"－"},{"$nulls":4},"合計",null,null,{"$f":"IF($AA587<>\"－\",AI28+AI59+AI90+AI121+AI152+AI183+AI214+AI245+AI276+AI307+AI338+AI369+AI400+AI431+AI462+AI493+AI524+AI555+AI586,\"－\")","v":"－"},{"$nulls":4},"合計",null,null,{"$f":"IF($AA587<>\"－\",AQ28+AQ59+AQ90+AQ121+AQ152+AQ183+AQ214+AQ245+AQ276+AQ307+AQ338+AQ369+AQ400+AQ431+AQ462+AQ493+AQ524+AQ555+AQ586,\"－\")","v":"－"},{"$nulls":4},"合計",null,null,{"$f":"IF($AA587<>\"－\",AY28+AY59+AY90+AY121+AY152+AY183+AY214+AY245+AY276+AY307+AY338+AY369+AY400+AY431+AY462+AY493+AY524+AY555+AY586,\"－\")","v":"－"}]
["※協力会社印は出力枚数の都度、押印してください",{"$nulls":33},"今回迄出来高累計",{"$nulls":7},{"$f":"IF(AA587=\"－\",\"－\",AI587+AQ587)","v":"－"}]
[{"$nulls":55},"検   収   日",{"$nulls":4},{"$f":"IF(AA587=\"－\",\"――――\",\"\")","v":"――――"}]
[]
[null,null,"出　来　高　検　収　書　（第",{"$nulls":15},{"$f":"$S$2","v":0},null,"回）",null,null,"( 検収期間",{"$nulls":4},{"$f":"IF(入力画面!$J$4=\"\",\"\",入力画面!$J$4)","v":""},{"$nulls":4},"～",{"$f":"IF(入力画面!$Q$4=\"\",\"\",入力画面!$Q$4)","v":""},{"$nulls":4},"）",{"$nulls":14},"仙 建 工 業 株 式 会 社"]
[{"$nulls":41},"協力会社名"]
["工 事 番 号",{"$nulls":3},{"$f":"$E$4","v":0},{"$nulls":7},"工 事 件 名",{"$nulls":4},{"$f":"$R$4","v":0},{"$nulls":23},{"$f":"$AP$4","v":""},{"$nulls":19},"　印"]
["契   約   日",{"$nulls":3},{"$f":"$E$5","v":""},{"$nulls":7},"工         期",{"$nulls":4},"自",{"$nulls":3},{"$f":"$V$5","v":""},{"$nulls":7},"至",{"$nulls":3},{"$f":"$AH$5","v":""}]
["№","工                         種",{"$nulls":15},"契       約       金       額",{"$nulls":13},"前回迄出来高累計",{"$nulls":7},"今  回  出  来  高",{"$nulls":7},"残            高",{"$nulls":7},"摘                要"]
[{"$nulls":17},"単位",null,"数 量",null,null,"単   価",{"$nulls":3},"金     額",{"$nulls":4},"数 量",null,null,"金     額",{"$nulls":4},"数 量",null,null,"金     額",{"$nulls":4},"数 量",null,null,"金     額"]
[381,{"$f":"入力画面!B391:Q391","v":0},{"$nulls":15},{"$f":"入力画面!R391:S391","v":0},null,{"$f":"IF(入力画面!$T391<>\"\",入力画面!T391,\"\")","v":""},null,null,{"$f":"IF(入力画面!$T391<>\"\",入力画面!W391,\"\")","v":""},{"$nulls":3},{"$f":"IF(入力画面!$T391<>\"\",入力画面!AA391:AE391,\"\")","v":""},{"$nulls":4},{"$f":"IF(入力画面!$T391<>\"\",入力画面!AF391:AH391,\"\")","v":""},null,null,{"$f":"IF(入力画面!$T391<>\"\",入力画面!AI391:AM391,\"\")","v":""},{"$nulls":4},{"$f":"IF(入力画面!$T391<>\"\",入力画面!AN391:AP391,\"\")","v":""},null,null,{"$f":"IF(入力画面!$T391<>\"\",入力画面!AQ391:AU391,\"\")","v":""},{"$nulls":4},{"$f":"IF(入力画面!$T391<>\"\",入力画面!AV391:AX391,\"\")","v":""},null,null,{"$f":"IF(入力画面!$T391<>\"\",入力画面!AY391:BC391,\"\")","v":""},{"$nulls":4},{"$f":"入力画面!BD391:BM391","v":0}]
[382,{"$f":"入力画面!B392:Q392","v":0},{"$nulls":15},{"$f":"入力画面!R392:S392","v":0},null,{"$f":"IF(入力画面!$T392<>\"\",入力画面!T392,\"\")","v":""},null,null,{"$f":"IF(入力画面!$T392<>\"\",入力画面!W392,\"\")","v":""},{"$nulls":3},{"$f":"IF(入力画面!$T392<>\"\",入力画面!AA392:AE392,\"\")","v":""},{"$nulls":4},{"$f":"IF(入力画面!$T392<>\"\",入力画面!AF392:AH392,\"\")","v":""},null,null,{"$f":"IF(入力画面!$T392<>\"\",入力画面!AI392:AM392,\"\")","v":""},{"$nulls":4},{"$f":"IF(入力画面!$T392<>\"\",入力画面!AN392:AP392,\"\")","v":""},null,null,{"$f":"IF(入力画面!$T392<>\"\",入力画面!AQ392:AU392,\"\")","v":""},{"$nulls":4},{"$f":"IF(入力画面!$T392<>\"\",入力画面!AV392:AX392,\"\")","v":""},null,null,{"$f":"IF(入力画面!$T392<>\"\",入力画面!AY392:BC392,\"\")","v":""},{"$nulls":4},{"$f":"入力画面!BD392:BM392","v":0}]
[383,{"$f":"入力画面!B393:Q393","v":0},{"$nulls":15},{"$f":"入力画面!R393:S393","v":0},null,{"$f":"IF(入力画面!$T393<>\"\",入力画面!T393,\"\")","v":""},null,null,{"$f":"IF(入力画面!$T393<>\"\",入力画面!W393,\"\")","v":""},{"$nulls":3},{"$f":"IF(入力画面!$T393<>\"\",入力画面!AA393:AE393,\"\")","v":""},{"$nulls":4},{"$f":"IF(入力画面!$T393<>\"\",入力画面!AF393:AH393,\"\")","v":""},null,null,{"$f":"IF(入力画面!$T393<>\"\",入力画面!AI393:AM393,\"\")","v":""},{"$nulls":4},{"$f":"IF(入力画面!$T393<>\"\",入力画面!AN393:AP393,\"\")","v":""},null,null,{"$f":"IF(入力画面!$T393<>\"\",入力画面!AQ393:AU393,\"\")","v":""},{"$nulls":4},{"$f":"IF(入力画面!$T393<>\"\",入力画面!AV393:AX393,\"\")","v":""},null,null,{"$f":"IF(入力画面!$T393<>\"\",入力画面!AY393:BC393,\"\")","v":""},{"$nulls":4},{"$f":"入力画面!BD393:BM393","v":0}]
[384,{"$f":"入力画面!B394:Q394","v":0},{"$nulls":15},{"$f":"入力画面!R394:S394","v":0},null,{"$f":"IF(入力画面!$T394<>\"\",入力画面!T394,\"\")","v":""},null,null,{"$f":"IF(入力画面!$T394<>\"\",入力画面!W394,\"\")","v":""},{"$nulls":3},{"$f":"IF(入力画面!$T394<>\"\",入力画面!AA394:AE394,\"\")","v":""},{"$nulls":4},{"$f":"IF(入力画面!$T394<>\"\",入力画面!AF394:AH394,\"\")","v":""},null,null,{"$f":"IF(入力画面!$T394<>\"\",入力画面!AI394:AM394,\"\")","v":""},{"$nulls":4},{"$f":"IF(入力画面!$T394<>\"\",入力画面!AN394:AP394,\"\")","v":""},null,null,{"$f":"IF(入力画面!$T394<>\"\",入力画面!AQ394:AU394,\"\")","v":""},{"$nulls":4},{"$f":"IF(入力画面!$T394<>\"\",入力画面!AV394:AX394,\"\")","v":""},null,null,{"$f":"IF(入力画面!$T394<>\"\",入力画面!AY394:BC394,\"\")","v":""},{"$nulls":4},{"$f":"入力画面!BD394:BM394","v":0}]
[385,{"$f":"入力画面!B395:Q395","v":0},{"$nulls":15},{"$f":"入力画面!R395:S395","v":0},null,{"$f":"IF(入力画面!$T395<>\"\",入力画面!T395,\"\")","v":""},null,null,{"$f":"IF(入力画面!$T395<>\"\",入力画面!W395,\"\")","v":""},{"$nulls":3},{"$f":"IF(入力画面!$T395<>\"\",入力画面!AA395:AE395,\"\")","v":""},{"$nulls":4},{"$f":"IF(入力画面!$T395<>\"\",入力画面!AF395:AH395,\"\")","v":""},null,null,{"$f":"IF(入力画面!$T395<>\"\",入力画面!AI395:AM395,\"\")","v":""},{"$nulls":4},{"$f":"IF(入力画面!$T395<>\"\",入力画面!AN395:AP395,\"\")","v":""},null,null,{"$f":"IF(入力画面!$T395<>\"\",入力画面!AQ395:AU395,\"\")","v":""},{"$nulls":4},{"$f":"IF(入力画面!$T395<>\"\",入力画面!AV395:AX395,\"\")","v":""},null,null,{"$f":"IF(入力画面!$T395<>\"\",入力画面!AY395:BC395,\"\")","v":""},{"$nulls":4},{"$f":"入力画面!BD395:BM395","v":0}]
[386,{"$f":"入力画面!B396:Q396","v":0},{"$nulls":15},{"$f":"入力画面!R396:S396","v":0},null,{"$f":"IF(入力画面!$T396<>\"\",入力画面!T396,\"\")","v":""},null,null,{"$f":"IF(入力画面!$T396<>\"\",入力画面!W396,\"\")","v":""},{"$nulls":3},{"$f":"IF(入力画面!$T396<>\"\",入力画面!AA396:AE396,\"\")","v":""},{"$nulls":4},{"$f":"IF(入力画面!$T396<>\"\",入力画面!AF396:AH396,\"\")","v":""},null,null,{"$f":"IF(入力画面!$T396<>\"\",入力画面!AI396:AM396,\"\")","v":""},{"$nulls":4},{"$f":"IF(入力画面!$T396<>\"\",入力画面!AN396:AP396,\"\")","v":""},null,null,{"$f":"IF(入力画面!$T396<>\"\",入力画面!AQ396:AU396,\"\")","v":""},{"$nulls":4},{"$f":"IF(入力画面!$T396<>\"\",入力画面!AV396:AX396,\"\")","v":""},null,null,{"$f":"IF(入力画面!$T396<>\"\",入力画面!AY396:BC396,\"\")","v":""},{"$nulls":4},{"$f":"入力画面!BD396:BM396","v":0}]
[387,{"$f":"入力画面!B397:Q397","v":0},{"$nulls":15},{"$f":"入力画面!R397:S397","v":0},null,{"$f":"IF(入力画面!$T397<>\"\",入力画面!T397,\"\")","v":""},null,null,{"$f":"IF(入力画面!$T397<>\"\",入力画面!W397,\"\")","v":""},{"$nulls":3},{"$f":"IF(入力画面!$T397<>\"\",入力画面!AA397:AE397,\"\")","v":""},{"$nulls":4},{"$f":"IF(入力画面!$T397<>\"\",入力画面!AF397:AH397,\"\")","v":""},null,null,{"$f":"IF(入力画面!$T397<>\"\",入力画面!AI397:AM397,\"\")","v":""},{"$nulls":4},{"$f":"IF(入力画面!$T397<>\"\",入力画面!AN397:AP397,\"\")","v":""},null,null,{"$f":"IF(入力画面!$T397<>\"\",入力画面!AQ397:AU397,\"\")","v":""},{"$nulls":4},{"$f":"IF(入力画面!$T397<>\"\",入力画面!AV397:AX397,\"\")","v":""},null,null,{"$f":"IF(入力画面!$T397<>\"\",入力画面!AY397:BC397,\"\")","v":""},{"$nulls":4},{"$f":"入力画面!BD397:BM397","v":0}]
[388,{"$f":"入力画面!B398:Q398","v":0},{"$nulls":15},{"$f":"入力画面!R398:S398","v":0},null,{"$f":"IF(入力画面!$T398<>\"\",入力画面!T398,\"\")","v":""},null,null,{"$f":"IF(入力画面!$T398<>\"\",入力画面!W398,\"\")","v":""},{"$nulls":3},{"$f":"IF(入力画面!$T398<>\"\",入力画面!AA398:AE398,\"\")","v":""},{"$nulls":4},{"$f":"IF(入力画面!$T398<>\"\",入力画面!AF398:AH398,\"\")","v":""},null,null,{"$f":"IF(入力画面!$T398<>\"\",入力画面!AI398:AM398,\"\")","v":""},{"$nulls":4},{"$f":"IF(入力画面!$T398<>\"\",入力画面!AN398:AP398,\"\")","v":""},null,null,{"$f":"IF(入力画面!$T398<>\"\",入力画面!AQ398:AU398,\"\")","v":""},{"$nulls":4},{"$f":"IF(入力画面!$T398<>\"\",入力画面!AV398:AX398,\"\")","v":""},null,null,{"$f":"IF(入力画面!$T398<>\"\",入力画面!AY398:BC398,\"\")","v":""},{"$nulls":4},{"$f":"入力画面!BD398:BM398","v":0}]
[389,{"$f":"入力画面!B399:Q399","v":0},{"$nulls":15},{"$f":"入力画面!R399:S399","v":0},null,{"$f":"IF(入力画面!$T399<>\"\",入力画面!T399,\"\")","v":""},null,null,{"$f":"IF(入力画面!$T399<>\"\",入力画面!W399,\"\")","v":""},{"$nulls":3},{"$f":"IF(入力画面!$T399<>\"\",入力画面!AA399:AE399,\"\")","v":""},{"$nulls":4},{"$f":"IF(入力画面!$T399<>\"\",入力画面!AF399:AH399,\"\")","v":""},null,null,{"$f":"IF(入力画面!$T399<>\"\",入力画面!AI399:AM399,\"\")","v":""},{"$nulls":4},{"$f":"IF(入力画面!$T399<>\"\",入力画面!AN399:AP399,\"\")","v":""},null,null,{"$f":"IF(入力画面!$T399<>\"\",入力画面!AQ399:AU399,\"\")","v":""},{"$nulls":4},{"$f":"IF(入力画面!$T399<>\"\",入力画面!AV399:AX399,\"\")","v":""},null,null,{"$f":"IF(入力画面!$T399<>\"\",入力画面!AY399:BC399,\"\")","v":""},{"$nulls":4},{"$f":"入力画面!BD399:BM399","v":0}]
[390,{"$f":"入力画面!B400:Q400","v":0},{"$nulls":15},{"$f":"入力画面!R400:S400","v":0},null,{"$f":"IF(入力画面!$T400<>\"\",入力画面!T400,\"\")","v":""},null,null,{"$f":"IF(入力画面!$T400<>\"\",入力画面!W400,\"\")","v":""},{"$nulls":3},{"$f":"IF(入力画面!$T400<>\"\",入力画面!AA400:AE400,\"\")","v":""},{"$nulls":4},{"$f":"IF(入力画面!$T400<>\"\",入力画面!AF400:AH400,\"\")","v":""},null,null,{"$f":"IF(入力画面!$T400<>\"\",入力画面!AI400:AM400,\"\")","v":""},{"$nulls":4},{"$f":"IF(入力画面!$T400<>\"\",入力画面!AN400:AP400,\"\")","v":""},null,null,{"$f":"IF(入力画面!$T400<>\"\",入力画面!AQ400:AU400,\"\")","v":""},{"$nulls":4},{"$f":"IF(入力画面!$T400<>\"\",入力画面!AV400:AX400,\"\")","v":""},null,null,{"$f":"IF(入力画面!$T400<>\"\",入力画面!AY400:BC400,\"\")","v":""},{"$nulls":4},{"$f":"入力画面!BD400:BM400","v":0}]
[391,{"$f":"入力画面!B401:Q401","v":0},{"$nulls":15},{"$f":"入力画面!R401:S401","v":0},null,{"$f":"IF(入力画面!$T401<>\"\",入力画面!T401,\"\")","v":""},null,null,{"$f":"IF(入力画面!$T401<>\"\",入力画面!W401,\"\")","v":""},{"$nulls":3},{"$f":"IF(入力画面!$T401<>\"\",入力画面!AA401:AE401,\"\")","v":""},{"$nulls":4},{"$f":"IF(入力画面!$T401<>\"\",入力画面!AF401:AH401,\"\")","v":""},null,null,{"$f":"IF(入力画面!$T401<>\"\",入力画面!AI401:AM401,\"\")","v":""},{"$nulls":4},{"$f":"IF(入力画面!$T401<>\"\",入力画面!AN401:AP401,\"\")","v":""},null,null,{"$f":"IF(入力画面!$T401<>\"\",入力画面!AQ401:AU401,\"\")","v":""},{"$nulls":4},{"$f":"IF(入力画面!$T401<>\"\",入力画面!AV401:AX401,\"\")","v":""},null,null,{"$f":"IF(入力画面!$T401<>\"\",入力画面!AY401:BC401,\"\")","v":""},{"$nulls":4},{"$f":"入力画面!BD401:BM401","v":0}]
[392,{"$f":"入力画面!B402:Q402","v":0},{"$nulls":15},{"$f":"入力画面!R402:S402","v":0},null,{"$f":"IF(入力画面!$T402<>\"\",入力画面!T402,\"\")","v":""},null,null,{"$f":"IF(入力画面!$T402<>\"\",入力画面!W402,\"\")","v":""},{"$nulls":3},{"$f":"IF(入力画面!$T402<>\"\",入力画面!AA402:AE402,\"\")","v":""},{"$nulls":4},{"$f":"IF(入力画面!$T402<>\"\",入力画面!AF402:AH402,\"\")","v":""},null,null,{"$f":"IF(入力画面!$T402<>\"\",入力画面!AI402:AM402,\"\")","v":""},{"$nulls":4},{"$f":"IF(入力画面!$T402<>\"\",入力画面!AN402:AP402,\"\")","v":""},null,null,{"$f":"IF(入力画面!$T402<>\"\",入力画面!AQ402:AU402,\"\")","v":""},{"$nulls":4},{"$f":"IF(入力画面!$T402<>\"\",入力画面!AV402:AX402,\"\")","v":""},null,null,{"$f":"IF(入力画面!$T402<>\"\",入力画面!AY402:BC402,\"\")","v":""},{"$nulls":4},{"$f":"入力画面!BD402:BM402","v":0}]
[393,{"$f":"入力画面!B403:Q403","v":0},{"$nulls":15},{"$f":"入力画面!R403:S403","v":0},null,{"$f":"IF(入力画面!$T403<>\"\",入力画面!T403,\"\")","v":""},null,null,{"$f":"IF(入力画面!$T403<>\"\",入力画面!W403,\"\")","v":""},{"$nulls":3},{"$f":"IF(入力画面!$T403<>\"\",入力画面!AA403:AE403,\"\")","v":""},{"$nulls":4},{"$f":"IF(入力画面!$T403<>\"\",入力画面!AF403:AH403,\"\")","v":""},null,null,{"$f":"IF(入力画面!$T403<>\"\",入力画面!AI403:AM403,\"\")","v":""},{"$nulls":4},{"$f":"IF(入力画面!$T403<>\"\",入力画面!AN403:AP403,\"\")","v":""},null,null,{"$f":"IF(入力画面!$T403<>\"\",入力画面!AQ403:AU403,\"\")","v":""},{"$nulls":4},{"$f":"IF(入力画面!$T403<>\"\",入力画面!AV403:AX403,\"\")","v":""},null,null,{"$f":"IF(入力画面!$T403<>\"\",入力画面!AY403:BC403,\"\")","v":""},{"$nulls":4},{"$f":"入力画面!BD403:BM403","v":0}]
[394,{"$f":"入力画面!B404:Q404","v":0},{"$nulls":15},{"$f":"入力画面!R404:S404","v":0},null,{"$f":"IF(入力画面!$T404<>\"\",入力画面!T404,\"\")","v":""},null,null,{"$f":"IF(入力画面!$T404<>\"\",入力画面!W404,\"\")","v":""},{"$nulls":3},{"$f":"IF(入力画面!$T404<>\"\",入力画面!AA404:AE404,\"\")","v":""},{"$nulls":4},{"$f":"IF(入力画面!$T404<>\"\",入力画面!AF404:AH404,\"\")","v":""},null,null,{"$f":"IF(入力画面!$T404<>\"\",入力画面!AI404:AM404,\"\")","v":""},{"$nulls":4},{"$f":"IF(入力画面!$T404<>\"\",入力画面!AN404:AP404,\"\")","v":""},null,null,{"$f":"IF(入力画面!$T404<>\"\",入力画面!AQ404:AU404,\"\")","v":""},{"$nulls":4},{"$f":"IF(入力画面!$T404<>\"\",入力画面!AV404:AX404,\"\")","v":""},null,null,{"$f":"IF(入力画面!$T404<>\"\",入力画面!AY404:BC404,\"\")","v":""},{"$nulls":4},{"$f":"入力画面!BD404:BM404","v":0}]
[395,{"$f":"入力画面!B405:Q405","v":0},{"$nulls":15},{"$f":"入力画面!R405:S405","v":0},null,{"$f":"IF(入力画面!$T405<>\"\",入力画面!T405,\"\")","v":""},null,null,{"$f":"IF(入力画面!$T405<>\"\",入力画面!W405,\"\")","v":""},{"$nulls":3},{"$f":"IF(入力画面!$T405<>\"\",入力画面!AA405:AE405,\"\")","v":""},{"$nulls":4},{"$f":"IF(入力画面!$T405<>\"\",入力画面!AF405:AH405,\"\")","v":""},null,null,{"$f":"IF(入力画面!$T405<>\"\",入力画面!AI405:AM405,\"\")","v":""},{"$nulls":4},{"$f":"IF(入力画面!$T405<>\"\",入力画面!AN405:AP405,\"\")","v":""},null,null,{"$f":"IF(入力画面!$T405<>\"\",入力画面!AQ405:AU405,\"\")","v":""},{"$nulls":4},{"$f":"IF(入力画面!$T405<>\"\",入力画面!AV405:AX405,\"\")","v":""},null,null,{"$f":"IF(入力画面!$T405<>\"\",入力画面!AY405:BC405,\"\")","v":""},{"$nulls":4},{"$f":"入力画面!BD405:BM405","v":0}]
[396,{"$f":"入力画面!B406:Q406","v":0},{"$nulls":15},{"$f":"入力画面!R406:S406","v":0},null,{"$f":"IF(入力画面!$T406<>\"\",入力画面!T406,\"\")","v":""},null,null,{"$f":"IF(入力画面!$T406<>\"\",入力画面!W406,\"\")","v":""},{"$nulls":3},{"$f":"IF(入力画面!$T406<>\"\",入力画面!AA406:AE406,\"\")","v":""},{"$nulls":4},{"$f":"IF(入力画面!$T406<>\"\",入力画面!AF406:AH406,\"\")","v":""},null,null,{"$f":"IF(入力画面!$T406<>\"\",入力画面!AI406:AM406,\"\")","v":""},{"$nulls":4},{"$f":"IF(入力画面!$T406<>\"\",入力画面!AN406:AP406,\"\")","v":""},null,null,{"$f":"IF(入力画面!$T406<>\"\",入力画面!AQ406:AU406,\"\")","v":""},{"$nulls":4},{"$f":"IF(入力画面!$T406<>\"\",入力画面!AV406:AX406,\"\")","v":""},null,null,{"$f":"IF(入力画面!$T406<>\"\",入力画面!AY406:BC406,\"\")","v":""},{"$nulls":4},{"$f":"入力画面!BD406:BM406","v":0}]
[397,{"$f":"入力画面!B407:Q407","v":0},{"$nulls":15},{"$f":"入力画面!R407:S407","v":0},null,{"$f":"IF(入力画面!$T407<>\"\",入力画面!T407,\"\")","v":""},null,null,{"$f":"IF(入力画面!$T407<>\"\",入力画面!W407,\"\")","v":""},{"$nulls":3},{"$f":"IF(入力画面!$T407<>\"\",入力画面!AA407:AE407,\"\")","v":""},{"$nulls":4},{"$f":"IF(入力画面!$T407<>\"\",入力画面!AF407:AH407,\"\")","v":""},null,null,{"$f":"IF(入力画面!$T407<>\"\",入力画面!AI407:AM407,\"\")","v":""},{"$nulls":4},{"$f":"IF(入力画面!$T407<>\"\",入力画面!AN407:AP407,\"\")","v":""},null,null,{"$f":"IF(入力画面!$T407<>\"\",入力画面!AQ407:AU407,\"\")","v":""},{"$nulls":4},{"$f":"IF(入力画面!$T407<>\"\",入力画面!AV407:AX407,\"\")","v":""},null,null,{"$f":"IF(入力画面!$T407<>\"\",入力画面!AY407:BC407,\"\")","v":""},{"$nulls":4},{"$f":"入力画面!BD407:BM407","v":0}]
[398,{"$f":"入力画面!B408:Q408","v":0},{"$nulls":15},{"$f":"入力画面!R408:S408","v":0},null,{"$f":"IF(入力画面!$T408<>\"\",入力画面!T408,\"\")","v":""},null,null,{"$f":"IF(入力画面!$T408<>\"\",入力画面!W408,\"\")","v":""},{"$nulls":3},{"$f":"IF(入力画面!$T408<>\"\",入力画面!AA408:AE408,\"\")","v":""},{"$nulls":4},{"$f":"IF(入力画面!$T408<>\"\",入力画面!AF408:AH408,\"\")","v":""},null,null,{"$f":"IF(入力画面!$T408<>\"\",入力画面!AI408:AM408,\"\")","v":""},{"$nulls":4},{"$f":"IF(入力画面!$T408<>\"\",入力画面!AN408:AP408,\"\")","v":""},null,null,{"$f":"IF(入力画面!$T408<>\"\",入力画面!AQ408:AU408,\"\")","v":""},{"$nulls":4},{"$f":"IF(入力画面!$T408<>\"\",入力画面!AV408:AX408,\"\")","v":""},null,null,{"$f":"IF(入力画面!$T408<>\"\",入力画面!AY408:BC408,\"\")","v":""},{"$nulls":4},{"$f":"入力画面!BD408:BM408","v":0}]
[399,{"$f":"入力画面!B409:Q409","v":0},{"$nulls":15},{"$f":"入力画面!R409:S409","v":0},null,{"$f":"IF(入力画面!$T409<>\"\",入力画面!T409,\"\")","v":""},null,null,{"$f":"IF(入力画面!$T409<>\"\",入力画面!W409,\"\")","v":""},{"$nulls":3},{"$f":"IF(入力画面!$T409<>\"\",入力画面!AA409:AE409,\"\")","v":""},{"$nulls":4},{"$f":"IF(入力画面!$T409<>\"\",入力画面!AF409:AH409,\"\")","v":""},null,null,{"$f":"IF(入力画面!$T409<>\"\",入力画面!AI409:AM409,\"\")","v":""},{"$nulls":4},{"$f":"IF(入力画面!$T409<>\"\",入力画面!AN409:AP409,\"\")","v":""},null,null,{"$f":"IF(入力画面!$T409<>\"\",入力画面!AQ409:AU409,\"\")","v":""},{"$nulls":4},{"$f":"IF(入力画面!$T409<>\"\",入力画面!AV409:AX409,\"\")","v":""},null,null,{"$f":"IF(入力画面!$T409<>\"\",入力画面!AY409:BC409,\"\")","v":""},{"$nulls":4},{"$f":"入力画面!BD409:BM409","v":0}]
[400,{"$f":"入力画面!B410:Q410","v":0},{"$nulls":15},{"$f":"入力画面!R410:S410","v":0},null,{"$f":"IF(入力画面!$T410<>\"\",入力画面!T410,\"\")","v":""},null,null,{"$f":"IF(入力画面!$T410<>\"\",入力画面!W410,\"\")","v":""},{"$nulls":3},{"$f":"IF(入力画面!$T410<>\"\",入力画面!AA410:AE410,\"\")","v":""},{"$nulls":4},{"$f":"IF(入力画面!$T410<>\"\",入力画面!AF410:AH410,\"\")","v":""},null,null,{"$f":"IF(入力画面!$T410<>\"\",入力画面!AI410:AM410,\"\")","v":""},{"$nulls":4},{"$f":"IF(入力画面!$T410<>\"\",入力画面!AN410:AP410,\"\")","v":""},null,null,{"$f":"IF(入力画面!$T410<>\"\",入力画面!AQ410:AU410,\"\")","v":""},{"$nulls":4},{"$f":"IF(入力画面!$T410<>\"\",入力画面!AV410:AX410,\"\")","v":""},null,null,{"$f":"IF(入力画面!$T410<>\"\",入力画面!AY410:BC410,\"\")","v":""},{"$nulls":4},{"$f":"入力画面!BD410:BM410","v":0}]
["※消費税、保留金の計算は別紙、請求書で行ってください",{"$nulls":21},"小計",{"$nulls":3},{"$f":"SUM(AA597:AE616)","v":{"v":0,"d":"0 "}},{"$nulls":4},"小計",null,null,{"$f":"SUM(AI597:AM616)","v":{"v":0,"d":"0 "}},{"$nulls":4},"小計",null,null,{"$f":"SUM(AQ597:AU616)","v":{"v":0,"d":"0 "}},{"$nulls":4},"小計",null,null,{"$f":"SUM(AY597:BC616)","v":{"v":0,"d":"0 "}},{"$nulls":4},"担　当　者　　　　確　認　印",{"$nulls":4},{"$f":"IF(AA618=\"－\",\"―――――\",\"\")","v":"―――――"}]
["※完成後一括払いであっても出来高検収書を作成・添付してください",{"$nulls":21},"合計",{"$nulls":3},{"$f":"IF(AND(OR(AA586<>0,AI586<>0,AQ586<>0,AY586<>0),AND(AA587=\"－\",AA648=0,AI648=0,AQ648=0,AY648=0)),AA28+AA59+AA90+AA121+AA152+AA183+AA214+AA245+AA276+AA307+AA338+AA369+AA400+AA431+AA462+AA493+AA524+AA555+AA586+AA617,\"－\")","v":"－"},{"$nulls":4},"合計",null,null,{"$f":"IF($AA618<>\"－\",AI28+AI59+AI90+AI121+AI152+AI183+AI214+AI245+AI276+AI307+AI338+AI369+AI400+AI431+AI462+AI493+AI524+AI555+AI586+AI617,\"－\")","v":"－"},{"$nulls":4},"合計",null,null,{"$f":"IF($AA618<>\"－\",AQ28+AQ59+AQ90+AQ121+AQ152+AQ183+AQ214+AQ245+AQ276+AQ307+AQ338+AQ369+AQ400+AQ431+AQ462+AQ493+AQ524+AQ555+AQ586+AQ617,\"－\")","v":"－"},{"$nulls":4},"合計",null,null,{"$f":"IF($AA618<>\"－\",AY28+AY59+AY90+AY121+AY152+AY183+AY214+AY245+AY276+AY307+AY338+AY369+AY400+AY431+AY462+AY493+AY524+AY555+AY586+AY617,\"－\")","v":"－"}]
["※協力会社印は出力枚数の都度、押印してください",{"$nulls":33},"今回迄出来高累計",{"$nulls":7},{"$f":"IF(AA618=\"－\",\"－\",AI618+AQ618)","v":"－"}]
[{"$nulls":55},"検   収   日",{"$nulls":4},{"$f":"IF(AA618=\"－\",\"――――\",\"\")","v":"――――"}]
[]
[null,null,"出　来　高　検　収　書　（第",{"$nulls":15},{"$f":"$S$2","v":0},null,"回）",null,null,"( 検収期間",{"$nulls":4},{"$f":"IF(入力画面!$J$4=\"\",\"\",入力画面!$J$4)","v":""},{"$nulls":4},"～",{"$f":"IF(入力画面!$Q$4=\"\",\"\",入力画面!$Q$4)","v":""},{"$nulls":4},"）",{"$nulls":14},"仙 建 工 業 株 式 会 社"]
[{"$nulls":41},"協力会社名"]
["工 事 番 号",{"$nulls":3},{"$f":"$E$4","v":0},{"$nulls":7},"工 事 件 名",{"$nulls":4},{"$f":"$R$4","v":0},{"$nulls":23},{"$f":"$AP$4","v":""},{"$nulls":19},"　印"]
["契   約   日",{"$nulls":3},{"$f":"$E$5","v":""},{"$nulls":7},"工         期",{"$nulls":4},"自",{"$nulls":3},{"$f":"$V$5","v":""},{"$nulls":7},"至",{"$nulls":3},{"$f":"$AH$5","v":""}]
["№","工                         種",{"$nulls":15},"契       約       金       額",{"$nulls":13},"前回迄出来高累計",{"$nulls":7},"今  回  出  来  高",{"$nulls":7},"残            高",{"$nulls":7},"摘                要"]
[{"$nulls":17},"単位",null,"数 量",null,null,"単   価",{"$nulls":3},"金     額",{"$nulls":4},"数 量",null,null,"金     額",{"$nulls":4},"数 量",null,null,"金     額",{"$nulls":4},"数 量",null,null,"金     額"]
[401,{"$f":"入力画面!B411:Q411","v":0},{"$nulls":15},{"$f":"入力画面!R411:S411","v":0},null,{"$f":"IF(入力画面!$T411<>\"\",入力画面!T411,\"\")","v":""},null,null,{"$f":"IF(入力画面!$T411<>\"\",入力画面!W411,\"\")","v":""},{"$nulls":3},{"$f":"IF(入力画面!$T411<>\"\",入力画面!AA411:AE411,\"\")","v":""},{"$nulls":4},{"$f":"IF(入力画面!$T411<>\"\",入力画面!AF411:AH411,\"\")","v":""},null,null,{"$f":"IF(入力画面!$T411<>\"\",入力画面!AI411:AM411,\"\")","v":""},{"$nulls":4},{"$f":"IF(入力画面!$T411<>\"\",入力画面!AN411:AP411,\"\")","v":""},null,null,{"$f":"IF(入力画面!$T411<>\"\",入力画面!AQ411:AU411,\"\")","v":""},{"$nulls":4},{"$f":"IF(入力画面!$T411<>\"\",入力画面!AV411:AX411,\"\")","v":""},null,null,{"$f":"IF(入力画面!$T411<>\"\",入力画面!AY411:BC411,\"\")","v":""},{"$nulls":4},{"$f":"入力画面!BD411:BM411","v":0}]
[402,{"$f":"入力画面!B412:Q412","v":0},{"$nulls":15},{"$f":"入力画面!R412:S412","v":0},null,{"$f":"IF(入力画面!$T412<>\"\",入力画面!T412,\"\")","v":""},null,null,{"$f":"IF(入力画面!$T412<>\"\",入力画面!W412,\"\")","v":""},{"$nulls":3},{"$f":"IF(入力画面!$T412<>\"\",入力画面!AA412:AE412,\"\")","v":""},{"$nulls":4},{"$f":"IF(入力画面!$T412<>\"\",入力画面!AF412:AH412,\"\")","v":""},null,null,{"$f":"IF(入力画面!$T412<>\"\",入力画面!AI412:AM412,\"\")","v":""},{"$nulls":4},{"$f":"IF(入力画面!$T412<>\"\",入力画面!AN412:AP412,\"\")","v":""},null,null,{"$f":"IF(入力画面!$T412<>\"\",入力画面!AQ412:AU412,\"\")","v":""},{"$nulls":4},{"$f":"IF(入力画面!$T412<>\"\",入力画面!AV412:AX412,\"\")","v":""},null,null,{"$f":"IF(入力画面!$T412<>\"\",入力画面!AY412:BC412,\"\")","v":""},{"$nulls":4},{"$f":"入力画面!BD412:BM412","v":0}]
[403,{"$f":"入力画面!B413:Q413","v":0},{"$nulls":15},{"$f":"入力画面!R413:S413","v":0},null,{"$f":"IF(入力画面!$T413<>\"\",入力画面!T413,\"\")","v":""},null,null,{"$f":"IF(入力画面!$T413<>\"\",入力画面!W413,\"\")","v":""},{"$nulls":3},{"$f":"IF(入力画面!$T413<>\"\",入力画面!AA413:AE413,\"\")","v":""},{"$nulls":4},{"$f":"IF(入力画面!$T413<>\"\",入力画面!AF413:AH413,\"\")","v":""},null,null,{"$f":"IF(入力画面!$T413<>\"\",入力画面!AI413:AM413,\"\")","v":""},{"$nulls":4},{"$f":"IF(入力画面!$T413<>\"\",入力画面!AN413:AP413,\"\")","v":""},null,null,{"$f":"IF(入力画面!$T413<>\"\",入力画面!AQ413:AU413,\"\")","v":""},{"$nulls":4},{"$f":"IF(入力画面!$T413<>\"\",入力画面!AV413:AX413,\"\")","v":""},null,null,{"$f":"IF(入力画面!$T413<>\"\",入力画面!AY413:BC413,\"\")","v":""},{"$nulls":4},{"$f":"入力画面!BD413:BM413","v":0}]
[404,{"$f":"入力画面!B414:Q414","v":0},{"$nulls":15},{"$f":"入力画面!R414:S414","v":0},null,{"$f":"IF(入力画面!$T414<>\"\",入力画面!T414,\"\")","v":""},null,null,{"$f":"IF(入力画面!$T414<>\"\",入力画面!W414,\"\")","v":""},{"$nulls":3},{"$f":"IF(入力画面!$T414<>\"\",入力画面!AA414:AE414,\"\")","v":""},{"$nulls":4},{"$f":"IF(入力画面!$T414<>\"\",入力画面!AF414:AH414,\"\")","v":""},null,null,{"$f":"IF(入力画面!$T414<>\"\",入力画面!AI414:AM414,\"\")","v":""},{"$nulls":4},{"$f":"IF(入力画面!$T414<>\"\",入力画面!AN414:AP414,\"\")","v":""},null,null,{"$f":"IF(入力画面!$T414<>\"\",入力画面!AQ414:AU414,\"\")","v":""},{"$nulls":4},{"$f":"IF(入力画面!$T414<>\"\",入力画面!AV414:AX414,\"\")","v":""},null,null,{"$f":"IF(入力画面!$T414<>\"\",入力画面!AY414:BC414,\"\")","v":""},{"$nulls":4},{"$f":"入力画面!BD414:BM414","v":0}]
[405,{"$f":"入力画面!B415:Q415","v":0},{"$nulls":15},{"$f":"入力画面!R415:S415","v":0},null,{"$f":"IF(入力画面!$T415<>\"\",入力画面!T415,\"\")","v":""},null,null,{"$f":"IF(入力画面!$T415<>\"\",入力画面!W415,\"\")","v":""},{"$nulls":3},{"$f":"IF(入力画面!$T415<>\"\",入力画面!AA415:AE415,\"\")","v":""},{"$nulls":4},{"$f":"IF(入力画面!$T415<>\"\",入力画面!AF415:AH415,\"\")","v":""},null,null,{"$f":"IF(入力画面!$T415<>\"\",入力画面!AI415:AM415,\"\")","v":""},{"$nulls":4},{"$f":"IF(入力画面!$T415<>\"\",入力画面!AN415:AP415,\"\")","v":""},null,null,{"$f":"IF(入力画面!$T415<>\"\",入力画面!AQ415:AU415,\"\")","v":""},{"$nulls":4},{"$f":"IF(入力画面!$T415<>\"\",入力画面!AV415:AX415,\"\")","v":""},null,null,{"$f":"IF(入力画面!$T415<>\"\",入力画面!AY415:BC415,\"\")","v":""},{"$nulls":4},{"$f":"入力画面!BD415:BM415","v":0}]
[406,{"$f":"入力画面!B416:Q416","v":0},{"$nulls":15},{"$f":"入力画面!R416:S416","v":0},null,{"$f":"IF(入力画面!$T416<>\"\",入力画面!T416,\"\")","v":""},null,null,{"$f":"IF(入力画面!$T416<>\"\",入力画面!W416,\"\")","v":""},{"$nulls":3},{"$f":"IF(入力画面!$T416<>\"\",入力画面!AA416:AE416,\"\")","v":""},{"$nulls":4},{"$f":"IF(入力画面!$T416<>\"\",入力画面!AF416:AH416,\"\")","v":""},null,null,{"$f":"IF(入力画面!$T416<>\"\",入力画面!AI416:AM416,\"\")","v":""},{"$nulls":4},{"$f":"IF(入力画面!$T416<>\"\",入力画面!AN416:AP416,\"\")","v":""},null,null,{"$f":"IF(入力画面!$T416<>\"\",入力画面!AQ416:AU416,\"\")","v":""},{"$nulls":4},{"$f":"IF(入力画面!$T416<>\"\",入力画面!AV416:AX416,\"\")","v":""},null,null,{"$f":"IF(入力画面!$T416<>\"\",入力画面!AY416:BC416,\"\")","v":""},{"$nulls":4},{"$f":"入力画面!BD416:BM416","v":0}]
[407,{"$f":"入力画面!B417:Q417","v":0},{"$nulls":15},{"$f":"入力画面!R417:S417","v":0},null,{"$f":"IF(入力画面!$T417<>\"\",入力画面!T417,\"\")","v":""},null,null,{"$f":"IF(入力画面!$T417<>\"\",入力画面!W417,\"\")","v":""},{"$nulls":3},{"$f":"IF(入力画面!$T417<>\"\",入力画面!AA417:AE417,\"\")","v":""},{"$nulls":4},{"$f":"IF(入力画面!$T417<>\"\",入力画面!AF417:AH417,\"\")","v":""},null,null,{"$f":"IF(入力画面!$T417<>\"\",入力画面!AI417:AM417,\"\")","v":""},{"$nulls":4},{"$f":"IF(入力画面!$T417<>\"\",入力画面!AN417:AP417,\"\")","v":""},null,null,{"$f":"IF(入力画面!$T417<>\"\",入力画面!AQ417:AU417,\"\")","v":""},{"$nulls":4},{"$f":"IF(入力画面!$T417<>\"\",入力画面!AV417:AX417,\"\")","v":""},null,null,{"$f":"IF(入力画面!$T417<>\"\",入力画面!AY417:BC417,\"\")","v":""},{"$nulls":4},{"$f":"入力画面!BD417:BM417","v":0}]
[408,{"$f":"入力画面!B418:Q418","v":0},{"$nulls":15},{"$f":"入力画面!R418:S418","v":0},null,{"$f":"IF(入力画面!$T418<>\"\",入力画面!T418,\"\")","v":""},null,null,{"$f":"IF(入力画面!$T418<>\"\",入力画面!W418,\"\")","v":""},{"$nulls":3},{"$f":"IF(入力画面!$T418<>\"\",入力画面!AA418:AE418,\"\")","v":""},{"$nulls":4},{"$f":"IF(入力画面!$T418<>\"\",入力画面!AF418:AH418,\"\")","v":""},null,null,{"$f":"IF(入力画面!$T418<>\"\",入力画面!AI418:AM418,\"\")","v":""},{"$nulls":4},{"$f":"IF(入力画面!$T418<>\"\",入力画面!AN418:AP418,\"\")","v":""},null,null,{"$f":"IF(入力画面!$T418<>\"\",入力画面!AQ418:AU418,\"\")","v":""},{"$nulls":4},{"$f":"IF(入力画面!$T418<>\"\",入力画面!AV418:AX418,\"\")","v":""},null,null,{"$f":"IF(入力画面!$T418<>\"\",入力画面!AY418:BC418,\"\")","v":""},{"$nulls":4},{"$f":"入力画面!BD418:BM418","v":0}]
[409,{"$f":"入力画面!B419:Q419","v":0},{"$nulls":15},{"$f":"入力画面!R419:S419","v":0},null,{"$f":"IF(入力画面!$T419<>\"\",入力画面!T419,\"\")","v":""},null,null,{"$f":"IF(入力画面!$T419<>\"\",入力画面!W419,\"\")","v":""},{"$nulls":3},{"$f":"IF(入力画面!$T419<>\"\",入力画面!AA419:AE419,\"\")","v":""},{"$nulls":4},{"$f":"IF(入力画面!$T419<>\"\",入力画面!AF419:AH419,\"\")","v":""},null,null,{"$f":"IF(入力画面!$T419<>\"\",入力画面!AI419:AM419,\"\")","v":""},{"$nulls":4},{"$f":"IF(入力画面!$T419<>\"\",入力画面!AN419:AP419,\"\")","v":""},null,null,{"$f":"IF(入力画面!$T419<>\"\",入力画面!AQ419:AU419,\"\")","v":""},{"$nulls":4},{"$f":"IF(入力画面!$T419<>\"\",入力画面!AV419:AX419,\"\")","v":""},null,null,{"$f":"IF(入力画面!$T419<>\"\",入力画面!AY419:BC419,\"\")","v":""},{"$nulls":4},{"$f":"入力画面!BD419:BM419","v":0}]
[410,{"$f":"入力画面!B420:Q420","v":0},{"$nulls":15},{"$f":"入力画面!R420:S420","v":0},null,{"$f":"IF(入力画面!$T420<>\"\",入力画面!T420,\"\")","v":""},null,null,{"$f":"IF(入力画面!$T420<>\"\",入力画面!W420,\"\")","v":""},{"$nulls":3},{"$f":"IF(入力画面!$T420<>\"\",入力画面!AA420:AE420,\"\")","v":""},{"$nulls":4},{"$f":"IF(入力画面!$T420<>\"\",入力画面!AF420:AH420,\"\")","v":""},null,null,{"$f":"IF(入力画面!$T420<>\"\",入力画面!AI420:AM420,\"\")","v":""},{"$nulls":4},{"$f":"IF(入力画面!$T420<>\"\",入力画面!AN420:AP420,\"\")","v":""},null,null,{"$f":"IF(入力画面!$T420<>\"\",入力画面!AQ420:AU420,\"\")","v":""},{"$nulls":4},{"$f":"IF(入力画面!$T420<>\"\",入力画面!AV420:AX420,\"\")","v":""},null,null,{"$f":"IF(入力画面!$T420<>\"\",入力画面!AY420:BC420,\"\")","v":""},{"$nulls":4},{"$f":"入力画面!BD420:BM420","v":0}]
[411,{"$f":"入力画面!B421:Q421","v":0},{"$nulls":15},{"$f":"入力画面!R421:S421","v":0},null,{"$f":"IF(入力画面!$T421<>\"\",入力画面!T421,\"\")","v":""},null,null,{"$f":"IF(入力画面!$T421<>\"\",入力画面!W421,\"\")","v":""},{"$nulls":3},{"$f":"IF(入力画面!$T421<>\"\",入力画面!AA421:AE421,\"\")","v":""},{"$nulls":4},{"$f":"IF(入力画面!$T421<>\"\",入力画面!AF421:AH421,\"\")","v":""},null,null,{"$f":"IF(入力画面!$T421<>\"\",入力画面!AI421:AM421,\"\")","v":""},{"$nulls":4},{"$f":"IF(入力画面!$T421<>\"\",入力画面!AN421:AP421,\"\")","v":""},null,null,{"$f":"IF(入力画面!$T421<>\"\",入力画面!AQ421:AU421,\"\")","v":""},{"$nulls":4},{"$f":"IF(入力画面!$T421<>\"\",入力画面!AV421:AX421,\"\")","v":""},null,null,{"$f":"IF(入力画面!$T421<>\"\",入力画面!AY421:BC421,\"\")","v":""},{"$nulls":4},{"$f":"入力画面!BD421:BM421","v":0}]
[412,{"$f":"入力画面!B422:Q422","v":0},{"$nulls":15},{"$f":"入力画面!R422:S422","v":0},null,{"$f":"IF(入力画面!$T422<>\"\",入力画面!T422,\"\")","v":""},null,null,{"$f":"IF(入力画面!$T422<>\"\",入力画面!W422,\"\")","v":""},{"$nulls":3},{"$f":"IF(入力画面!$T422<>\"\",入力画面!AA422:AE422,\"\")","v":""},{"$nulls":4},{"$f":"IF(入力画面!$T422<>\"\",入力画面!AF422:AH422,\"\")","v":""},null,null,{"$f":"IF(入力画面!$T422<>\"\",入力画面!AI422:AM422,\"\")","v":""},{"$nulls":4},{"$f":"IF(入力画面!$T422<>\"\",入力画面!AN422:AP422,\"\")","v":""},null,null,{"$f":"IF(入力画面!$T422<>\"\",入力画面!AQ422:AU422,\"\")","v":""},{"$nulls":4},{"$f":"IF(入力画面!$T422<>\"\",入力画面!AV422:AX422,\"\")","v":""},null,null,{"$f":"IF(入力画面!$T422<>\"\",入力画面!AY422:BC422,\"\")","v":""},{"$nulls":4},{"$f":"入力画面!BD422:BM422","v":0}]
[413,{"$f":"入力画面!B423:Q423","v":0},{"$nulls":15},{"$f":"入力画面!R423:S423","v":0},null,{"$f":"IF(入力画面!$T423<>\"\",入力画面!T423,\"\")","v":""},null,null,{"$f":"IF(入力画面!$T423<>\"\",入力画面!W423,\"\")","v":""},{"$nulls":3},{"$f":"IF(入力画面!$T423<>\"\",入力画面!AA423:AE423,\"\")","v":""},{"$nulls":4},{"$f":"IF(入力画面!$T423<>\"\",入力画面!AF423:AH423,\"\")","v":""},null,null,{"$f":"IF(入力画面!$T423<>\"\",入力画面!AI423:AM423,\"\")","v":""},{"$nulls":4},{"$f":"IF(入力画面!$T423<>\"\",入力画面!AN423:AP423,\"\")","v":""},null,null,{"$f":"IF(入力画面!$T423<>\"\",入力画面!AQ423:AU423,\"\")","v":""},{"$nulls":4},{"$f":"IF(入力画面!$T423<>\"\",入力画面!AV423:AX423,\"\")","v":""},null,null,{"$f":"IF(入力画面!$T423<>\"\",入力画面!AY423:BC423,\"\")","v":""},{"$nulls":4},{"$f":"入力画面!BD423:BM423","v":0}]
[414,{"$f":"入力画面!B424:Q424","v":0},{"$nulls":15},{"$f":"入力画面!R424:S424","v":0},null,{"$f":"IF(入力画面!$T424<>\"\",入力画面!T424,\"\")","v":""},null,null,{"$f":"IF(入力画面!$T424<>\"\",入力画面!W424,\"\")","v":""},{"$nulls":3},{"$f":"IF(入力画面!$T424<>\"\",入力画面!AA424:AE424,\"\")","v":""},{"$nulls":4},{"$f":"IF(入力画面!$T424<>\"\",入力画面!AF424:AH424,\"\")","v":""},null,null,{"$f":"IF(入力画面!$T424<>\"\",入力画面!AI424:AM424,\"\")","v":""},{"$nulls":4},{"$f":"IF(入力画面!$T424<>\"\",入力画面!AN424:AP424,\"\")","v":""},null,null,{"$f":"IF(入力画面!$T424<>\"\",入力画面!AQ424:AU424,\"\")","v":""},{"$nulls":4},{"$f":"IF(入力画面!$T424<>\"\",入力画面!AV424:AX424,\"\")","v":""},null,null,{"$f":"IF(入力画面!$T424<>\"\",入力画面!AY424:BC424,\"\")","v":""},{"$nulls":4},{"$f":"入力画面!BD424:BM424","v":0}]
[415,{"$f":"入力画面!B425:Q425","v":0},{"$nulls":15},{"$f":"入力画面!R425:S425","v":0},null,{"$f":"IF(入力画面!$T425<>\"\",入力画面!T425,\"\")","v":""},null,null,{"$f":"IF(入力画面!$T425<>\"\",入力画面!W425,\"\")","v":""},{"$nulls":3},{"$f":"IF(入力画面!$T425<>\"\",入力画面!AA425:AE425,\"\")","v":""},{"$nulls":4},{"$f":"IF(入力画面!$T425<>\"\",入力画面!AF425:AH425,\"\")","v":""},null,null,{"$f":"IF(入力画面!$T425<>\"\",入力画面!AI425:AM425,\"\")","v":""},{"$nulls":4},{"$f":"IF(入力画面!$T425<>\"\",入力画面!AN425:AP425,\"\")","v":""},null,null,{"$f":"IF(入力画面!$T425<>\"\",入力画面!AQ425:AU425,\"\")","v":""},{"$nulls":4},{"$f":"IF(入力画面!$T425<>\"\",入力画面!AV425:AX425,\"\")","v":""},null,null,{"$f":"IF(入力画面!$T425<>\"\",入力画面!AY425:BC425,\"\")","v":""},{"$nulls":4},{"$f":"入力画面!BD425:BM425","v":0}]
[416,{"$f":"入力画面!B426:Q426","v":0},{"$nulls":15},{"$f":"入力画面!R426:S426","v":0},null,{"$f":"IF(入力画面!$T426<>\"\",入力画面!T426,\"\")","v":""},null,null,{"$f":"IF(入力画面!$T426<>\"\",入力画面!W426,\"\")","v":""},{"$nulls":3},{"$f":"IF(入力画面!$T426<>\"\",入力画面!AA426:AE426,\"\")","v":""},{"$nulls":4},{"$f":"IF(入力画面!$T426<>\"\",入力画面!AF426:AH426,\"\")","v":""},null,null,{"$f":"IF(入力画面!$T426<>\"\",入力画面!AI426:AM426,\"\")","v":""},{"$nulls":4},{"$f":"IF(入力画面!$T426<>\"\",入力画面!AN426:AP426,\"\")","v":""},null,null,{"$f":"IF(入力画面!$T426<>\"\",入力画面!AQ426:AU426,\"\")","v":""},{"$nulls":4},{"$f":"IF(入力画面!$T426<>\"\",入力画面!AV426:AX426,\"\")","v":""},null,null,{"$f":"IF(入力画面!$T426<>\"\",入力画面!AY426:BC426,\"\")","v":""},{"$nulls":4},{"$f":"入力画面!BD426:BM426","v":0}]
[417,{"$f":"入力画面!B427:Q427","v":0},{"$nulls":15},{"$f":"入力画面!R427:S427","v":0},null,{"$f":"IF(入力画面!$T427<>\"\",入力画面!T427,\"\")","v":""},null,null,{"$f":"IF(入力画面!$T427<>\"\",入力画面!W427,\"\")","v":""},{"$nulls":3},{"$f":"IF(入力画面!$T427<>\"\",入力画面!AA427:AE427,\"\")","v":""},{"$nulls":4},{"$f":"IF(入力画面!$T427<>\"\",入力画面!AF427:AH427,\"\")","v":""},null,null,{"$f":"IF(入力画面!$T427<>\"\",入力画面!AI427:AM427,\"\")","v":""},{"$nulls":4},{"$f":"IF(入力画面!$T427<>\"\",入力画面!AN427:AP427,\"\")","v":""},null,null,{"$f":"IF(入力画面!$T427<>\"\",入力画面!AQ427:AU427,\"\")","v":""},{"$nulls":4},{"$f":"IF(入力画面!$T427<>\"\",入力画面!AV427:AX427,\"\")","v":""},null,null,{"$f":"IF(入力画面!$T427<>\"\",入力画面!AY427:BC427,\"\")","v":""},{"$nulls":4},{"$f":"入力画面!BD427:BM427","v":0}]
[418,{"$f":"入力画面!B428:Q428","v":0},{"$nulls":15},{"$f":"入力画面!R428:S428","v":0},null,{"$f":"IF(入力画面!$T428<>\"\",入力画面!T428,\"\")","v":""},null,null,{"$f":"IF(入力画面!$T428<>\"\",入力画面!W428,\"\")","v":""},{"$nulls":3},{"$f":"IF(入力画面!$T428<>\"\",入力画面!AA428:AE428,\"\")","v":""},{"$nulls":4},{"$f":"IF(入力画面!$T428<>\"\",入力画面!AF428:AH428,\"\")","v":""},null,null,{"$f":"IF(入力画面!$T428<>\"\",入力画面!AI428:AM428,\"\")","v":""},{"$nulls":4},{"$f":"IF(入力画面!$T428<>\"\",入力画面!AN428:AP428,\"\")","v":""},null,null,{"$f":"IF(入力画面!$T428<>\"\",入力画面!AQ428:AU428,\"\")","v":""},{"$nulls":4},{"$f":"IF(入力画面!$T428<>\"\",入力画面!AV428:AX428,\"\")","v":""},null,null,{"$f":"IF(入力画面!$T428<>\"\",入力画面!AY428:BC428,\"\")","v":""},{"$nulls":4},{"$f":"入力画面!BD428:BM428","v":0}]
[419,{"$f":"入力画面!B429:Q429","v":0},{"$nulls":15},{"$f":"入力画面!R429:S429","v":0},null,{"$f":"IF(入力画面!$T429<>\"\",入力画面!T429,\"\")","v":""},null,null,{"$f":"IF(入力画面!$T429<>\"\",入力画面!W429,\"\")","v":""},{"$nulls":3},{"$f":"IF(入力画面!$T429<>\"\",入力画面!AA429:AE429,\"\")","v":""},{"$nulls":4},{"$f":"IF(入力画面!$T429<>\"\",入力画面!AF429:AH429,\"\")","v":""},null,null,{"$f":"IF(入力画面!$T429<>\"\",入力画面!AI429:AM429,\"\")","v":""},{"$nulls":4},{"$f":"IF(入力画面!$T429<>\"\",入力画面!AN429:AP429,\"\")","v":""},null,null,{"$f":"IF(入力画面!$T429<>\"\",入力画面!AQ429:AU429,\"\")","v":""},{"$nulls":4},{"$f":"IF(入力画面!$T429<>\"\",入力画面!AV429:AX429,\"\")","v":""},null,null,{"$f":"IF(入力画面!$T429<>\"\",入力画面!AY429:BC429,\"\")","v":""},{"$nulls":4},{"$f":"入力画面!BD429:BM429","v":0}]
[420,{"$f":"入力画面!B430:Q430","v":0},{"$nulls":15},{"$f":"入力画面!R430:S430","v":0},null,{"$f":"IF(入力画面!$T430<>\"\",入力画面!T430,\"\")","v":""},null,null,{"$f":"IF(入力画面!$T430<>\"\",入力画面!W430,\"\")","v":""},{"$nulls":3},{"$f":"IF(入力画面!$T430<>\"\",入力画面!AA430:AE430,\"\")","v":""},{"$nulls":4},{"$f":"IF(入力画面!$T430<>\"\",入力画面!AF430:AH430,\"\")","v":""},null,null,{"$f":"IF(入力画面!$T430<>\"\",入力画面!AI430:AM430,\"\")","v":""},{"$nulls":4},{"$f":"IF(入力画面!$T430<>\"\",入力画面!AN430:AP430,\"\")","v":""},null,null,{"$f":"IF(入力画面!$T430<>\"\",入力画面!AQ430:AU430,\"\")","v":""},{"$nulls":4},{"$f":"IF(入力画面!$T430<>\"\",入力画面!AV430:AX430,\"\")","v":""},null,null,{"$f":"IF(入力画面!$T430<>\"\",入力画面!AY430:BC430,\"\")","v":""},{"$nulls":4},{"$f":"入力画面!BD430:BM430","v":0}]
["※消費税、保留金の計算は別紙、請求書で行ってください",{"$nulls":21},"小計",{"$nulls":3},{"$f":"SUM(AA628:AE647)","v":{"v":0,"d":"0 "}},{"$nulls":4},"小計",null,null,{"$f":"SUM(AI628:AM647)","v":{"v":0,"d":"0 "}},{"$nulls":4},"小計",null,null,{"$f":"SUM(AQ628:AU647)","v":{"v":0,"d":"0 "}},{"$nulls":4},"小計",null,null,{"$f":"SUM(AY628:BC647)","v":{"v":0,"d":"0 "}},{"$nulls":4},"担　当　者　　　　確　認　印",{"$nulls":4},{"$f":"IF(AA649=\"－\",\"―――――\",\"\")","v":"―――――"}]
["※完成後一括払いであっても出来高検収書を作成・添付してください",{"$nulls":21},"合計",{"$nulls":3},{"$f":"IF(AND(OR(AA617<>0,AI617<>0,AQ617<>0,AY617<>0),AND(AA618=\"－\",AA679=0,AI679=0,AQ679=0,AY679=0)),AA28+AA59+AA90+AA121+AA152+AA183+AA214+AA245+AA276+AA307+AA338+AA369+AA400+AA431+AA462+AA493+AA524+AA555+AA586+AA617+AA648,\"－\")","v":"－"},{"$nulls":4},"合計",null,null,{"$f":"IF($AA649<>\"－\",AI28+AI59+AI90+AI121+AI152+AI183+AI214+AI245+AI276+AI307+AI338+AI369+AI400+AI431+AI462+AI493+AI524+AI555+AI586+AI617+AI648,\"－\")","v":"－"},{"$nulls":4},"合計",null,null,{"$f":"IF($AA649<>\"－\",AQ28+AQ59+AQ90+AQ121+AQ152+AQ183+AQ214+AQ245+AQ276+AQ307+AQ338+AQ369+AQ400+AQ431+AQ462+AQ493+AQ524+AQ555+AQ586+AQ617+AQ648,\"－\")","v":"－"},{"$nulls":4},"合計",null,null,{"$f":"IF($AA649<>\"－\",AY28+AY59+AY90+AY121+AY152+AY183+AY214+AY245+AY276+AY307+AY338+AY369+AY400+AY431+AY462+AY493+AY524+AY555+AY586+AY617+AY648,\"－\")","v":"－"}]
["※協力会社印は出力枚数の都度、押印してください",{"$nulls":33},"今回迄出来高累計",{"$nulls":7},{"$f":"IF(AA649=\"－\",\"－\",AI649+AQ649)","v":"－"}]
[{"$nulls":55},"検   収   日",{"$nulls":4},{"$f":"IF(AA649=\"－\",\"――――\",\"\")","v":"――――"}]
[]
[null,null,"出　来　高　検　収　書　（第",{"$nulls":15},{"$f":"$S$2","v":0},null,"回）",null,null,"( 検収期間",{"$nulls":4},{"$f":"IF(入力画面!$J$4=\"\",\"\",入力画面!$J$4)","v":""},{"$nulls":4},"～",{"$f":"IF(入力画面!$Q$4=\"\",\"\",入力画面!$Q$4)","v":""},{"$nulls":4},"）",{"$nulls":14},"仙 建 工 業 株 式 会 社"]
[{"$nulls":41},"協力会社名"]
["工 事 番 号",{"$nulls":3},{"$f":"$E$4","v":0},{"$nulls":7},"工 事 件 名",{"$nulls":4},{"$f":"$R$4","v":0},{"$nulls":23},{"$f":"$AP$4","v":""},{"$nulls":19},"　印"]
["契   約   日",{"$nulls":3},{"$f":"$E$5","v":""},{"$nulls":7},"工         期",{"$nulls":4},"自",{"$nulls":3},{"$f":"$V$5","v":""},{"$nulls":7},"至",{"$nulls":3},{"$f":"$AH$5","v":""}]
["№","工                         種",{"$nulls":15},"契       約       金       額",{"$nulls":13},"前回迄出来高累計",{"$nulls":7},"今  回  出  来  高",{"$nulls":7},"残            高",{"$nulls":7},"摘                要"]
[{"$nulls":17},"単位",null,"数 量",null,null,"単   価",{"$nulls":3},"金     額",{"$nulls":4},"数 量",null,null,"金     額",{"$nulls":4},"数 量",null,null,"金     額",{"$nulls":4},"数 量",null,null,"金     額"]
[421,{"$f":"入力画面!B431:Q431","v":0},{"$nulls":15},{"$f":"入力画面!R431:S431","v":0},null,{"$f":"IF(入力画面!$T431<>\"\",入力画面!T431,\"\")","v":""},null,null,{"$f":"IF(入力画面!$T431<>\"\",入力画面!W431,\"\")","v":""},{"$nulls":3},{"$f":"IF(入力画面!$T431<>\"\",入力画面!AA431:AE431,\"\")","v":""},{"$nulls":4},{"$f":"IF(入力画面!$T431<>\"\",入力画面!AF431:AH431,\"\")","v":""},null,null,{"$f":"IF(入力画面!$T431<>\"\",入力画面!AI431:AM431,\"\")","v":""},{"$nulls":4},{"$f":"IF(入力画面!$T431<>\"\",入力画面!AN431:AP431,\"\")","v":""},null,null,{"$f":"IF(入力画面!$T431<>\"\",入力画面!AQ431:AU431,\"\")","v":""},{"$nulls":4},{"$f":"IF(入力画面!$T431<>\"\",入力画面!AV431:AX431,\"\")","v":""},null,null,{"$f":"IF(入力画面!$T431<>\"\",入力画面!AY431:BC431,\"\")","v":""},{"$nulls":4},{"$f":"入力画面!BD431:BM431","v":0}]
[422,{"$f":"入力画面!B432:Q432","v":0},{"$nulls":15},{"$f":"入力画面!R432:S432","v":0},null,{"$f":"IF(入力画面!$T432<>\"\",入力画面!T432,\"\")","v":""},null,null,{"$f":"IF(入力画面!$T432<>\"\",入力画面!W432,\"\")","v":""},{"$nulls":3},{"$f":"IF(入力画面!$T432<>\"\",入力画面!AA432:AE432,\"\")","v":""},{"$nulls":4},{"$f":"IF(入力画面!$T432<>\"\",入力画面!AF432:AH432,\"\")","v":""},null,null,{"$f":"IF(入力画面!$T432<>\"\",入力画面!AI432:AM432,\"\")","v":""},{"$nulls":4},{"$f":"IF(入力画面!$T432<>\"\",入力画面!AN432:AP432,\"\")","v":""},null,null,{"$f":"IF(入力画面!$T432<>\"\",入力画面!AQ432:AU432,\"\")","v":""},{"$nulls":4},{"$f":"IF(入力画面!$T432<>\"\",入力画面!AV432:AX432,\"\")","v":""},null,null,{"$f":"IF(入力画面!$T432<>\"\",入力画面!AY432:BC432,\"\")","v":""},{"$nulls":4},{"$f":"入力画面!BD432:BM432","v":0}]
[423,{"$f":"入力画面!B433:Q433","v":0},{"$nulls":15},{"$f":"入力画面!R433:S433","v":0},null,{"$f":"IF(入力画面!$T433<>\"\",入力画面!T433,\"\")","v":""},null,null,{"$f":"IF(入力画面!$T433<>\"\",入力画面!W433,\"\")","v":""},{"$nulls":3},{"$f":"IF(入力画面!$T433<>\"\",入力画面!AA433:AE433,\"\")","v":""},{"$nulls":4},{"$f":"IF(入力画面!$T433<>\"\",入力画面!AF433:AH433,\"\")","v":""},null,null,{"$f":"IF(入力画面!$T433<>\"\",入力画面!AI433:AM433,\"\")","v":""},{"$nulls":4},{"$f":"IF(入力画面!$T433<>\"\",入力画面!AN433:AP433,\"\")","v":""},null,null,{"$f":"IF(入力画面!$T433<>\"\",入力画面!AQ433:AU433,\"\")","v":""},{"$nulls":4},{"$f":"IF(入力画面!$T433<>\"\",入力画面!AV433:AX433,\"\")","v":""},null,null,{"$f":"IF(入力画面!$T433<>\"\",入力画面!AY433:BC433,\"\")","v":""},{"$nulls":4},{"$f":"入力画面!BD433:BM433","v":0}]
[424,{"$f":"入力画面!B434:Q434","v":0},{"$nulls":15},{"$f":"入力画面!R434:S434","v":0},null,{"$f":"IF(入力画面!$T434<>\"\",入力画面!T434,\"\")","v":""},null,null,{"$f":"IF(入力画面!$T434<>\"\",入力画面!W434,\"\")","v":""},{"$nulls":3},{"$f":"IF(入力画面!$T434<>\"\",入力画面!AA434:AE434,\"\")","v":""},{"$nulls":4},{"$f":"IF(入力画面!$T434<>\"\",入力画面!AF434:AH434,\"\")","v":""},null,null,{"$f":"IF(入力画面!$T434<>\"\",入力画面!AI434:AM434,\"\")","v":""},{"$nulls":4},{"$f":"IF(入力画面!$T434<>\"\",入力画面!AN434:AP434,\"\")","v":""},null,null,{"$f":"IF(入力画面!$T434<>\"\",入力画面!AQ434:AU434,\"\")","v":""},{"$nulls":4},{"$f":"IF(入力画面!$T434<>\"\",入力画面!AV434:AX434,\"\")","v":""},null,null,{"$f":"IF(入力画面!$T434<>\"\",入力画面!AY434:BC434,\"\")","v":""},{"$nulls":4},{"$f":"入力画面!BD434:BM434","v":0}]
[425,{"$f":"入力画面!B435:Q435","v":0},{"$nulls":15},{"$f":"入力画面!R435:S435","v":0},null,{"$f":"IF(入力画面!$T435<>\"\",入力画面!T435,\"\")","v":""},null,null,{"$f":"IF(入力画面!$T435<>\"\",入力画面!W435,\"\")","v":""},{"$nulls":3},{"$f":"IF(入力画面!$T435<>\"\",入力画面!AA435:AE435,\"\")","v":""},{"$nulls":4},{"$f":"IF(入力画面!$T435<>\"\",入力画面!AF435:AH435,\"\")","v":""},null,null,{"$f":"IF(入力画面!$T435<>\"\",入力画面!AI435:AM435,\"\")","v":""},{"$nulls":4},{"$f":"IF(入力画面!$T435<>\"\",入力画面!AN435:AP435,\"\")","v":""},null,null,{"$f":"IF(入力画面!$T435<>\"\",入力画面!AQ435:AU435,\"\")","v":""},{"$nulls":4},{"$f":"IF(入力画面!$T435<>\"\",入力画面!AV435:AX435,\"\")","v":""},null,null,{"$f":"IF(入力画面!$T435<>\"\",入力画面!AY435:BC435,\"\")","v":""},{"$nulls":4},{"$f":"入力画面!BD435:BM435","v":0}]
[426,{"$f":"入力画面!B436:Q436","v":0},{"$nulls":15},{"$f":"入力画面!R436:S436","v":0},null,{"$f":"IF(入力画面!$T436<>\"\",入力画面!T436,\"\")","v":""},null,null,{"$f":"IF(入力画面!$T436<>\"\",入力画面!W436,\"\")","v":""},{"$nulls":3},{"$f":"IF(入力画面!$T436<>\"\",入力画面!AA436:AE436,\"\")","v":""},{"$nulls":4},{"$f":"IF(入力画面!$T436<>\"\",入力画面!AF436:AH436,\"\")","v":""},null,null,{"$f":"IF(入力画面!$T436<>\"\",入力画面!AI436:AM436,\"\")","v":""},{"$nulls":4},{"$f":"IF(入力画面!$T436<>\"\",入力画面!AN436:AP436,\"\")","v":""},null,null,{"$f":"IF(入力画面!$T436<>\"\",入力画面!AQ436:AU436,\"\")","v":""},{"$nulls":4},{"$f":"IF(入力画面!$T436<>\"\",入力画面!AV436:AX436,\"\")","v":""},null,null,{"$f":"IF(入力画面!$T436<>\"\",入力画面!AY436:BC436,\"\")","v":""},{"$nulls":4},{"$f":"入力画面!BD436:BM436","v":0}]
[427,{"$f":"入力画面!B437:Q437","v":0},{"$nulls":15},{"$f":"入力画面!R437:S437","v":0},null,{"$f":"IF(入力画面!$T437<>\"\",入力画面!T437,\"\")","v":""},null,null,{"$f":"IF(入力画面!$T437<>\"\",入力画面!W437,\"\")","v":""},{"$nulls":3},{"$f":"IF(入力画面!$T437<>\"\",入力画面!AA437:AE437,\"\")","v":""},{"$nulls":4},{"$f":"IF(入力画面!$T437<>\"\",入力画面!AF437:AH437,\"\")","v":""},null,null,{"$f":"IF(入力画面!$T437<>\"\",入力画面!AI437:AM437,\"\")","v":""},{"$nulls":4},{"$f":"IF(入力画面!$T437<>\"\",入力画面!AN437:AP437,\"\")","v":""},null,null,{"$f":"IF(入力画面!$T437<>\"\",入力画面!AQ437:AU437,\"\")","v":""},{"$nulls":4},{"$f":"IF(入力画面!$T437<>\"\",入力画面!AV437:AX437,\"\")","v":""},null,null,{"$f":"IF(入力画面!$T437<>\"\",入力画面!AY437:BC437,\"\")","v":""},{"$nulls":4},{"$f":"入力画面!BD437:BM437","v":0}]
[428,{"$f":"入力画面!B438:Q438","v":0},{"$nulls":15},{"$f":"入力画面!R438:S438","v":0},null,{"$f":"IF(入力画面!$T438<>\"\",入力画面!T438,\"\")","v":""},null,null,{"$f":"IF(入力画面!$T438<>\"\",入力画面!W438,\"\")","v":""},{"$nulls":3},{"$f":"IF(入力画面!$T438<>\"\",入力画面!AA438:AE438,\"\")","v":""},{"$nulls":4},{"$f":"IF(入力画面!$T438<>\"\",入力画面!AF438:AH438,\"\")","v":""},null,null,{"$f":"IF(入力画面!$T438<>\"\",入力画面!AI438:AM438,\"\")","v":""},{"$nulls":4},{"$f":"IF(入力画面!$T438<>\"\",入力画面!AN438:AP438,\"\")","v":""},null,null,{"$f":"IF(入力画面!$T438<>\"\",入力画面!AQ438:AU438,\"\")","v":""},{"$nulls":4},{"$f":"IF(入力画面!$T438<>\"\",入力画面!AV438:AX438,\"\")","v":""},null,null,{"$f":"IF(入力画面!$T438<>\"\",入力画面!AY438:BC438,\"\")","v":""},{"$nulls":4},{"$f":"入力画面!BD438:BM438","v":0}]
[429,{"$f":"入力画面!B439:Q439","v":0},{"$nulls":15},{"$f":"入力画面!R439:S439","v":0},null,{"$f":"IF(入力画面!$T439<>\"\",入力画面!T439,\"\")","v":""},null,null,{"$f":"IF(入力画面!$T439<>\"\",入力画面!W439,\"\")","v":""},{"$nulls":3},{"$f":"IF(入力画面!$T439<>\"\",入力画面!AA439:AE439,\"\")","v":""},{"$nulls":4},{"$f":"IF(入力画面!$T439<>\"\",入力画面!AF439:AH439,\"\")","v":""},null,null,{"$f":"IF(入力画面!$T439<>\"\",入力画面!AI439:AM439,\"\")","v":""},{"$nulls":4},{"$f":"IF(入力画面!$T439<>\"\",入力画面!AN439:AP439,\"\")","v":""},null,null,{"$f":"IF(入力画面!$T439<>\"\",入力画面!AQ439:AU439,\"\")","v":""},{"$nulls":4},{"$f":"IF(入力画面!$T439<>\"\",入力画面!AV439:AX439,\"\")","v":""},null,null,{"$f":"IF(入力画面!$T439<>\"\",入力画面!AY439:BC439,\"\")","v":""},{"$nulls":4},{"$f":"入力画面!BD439:BM439","v":0}]
[430,{"$f":"入力画面!B440:Q440","v":0},{"$nulls":15},{"$f":"入力画面!R440:S440","v":0},null,{"$f":"IF(入力画面!$T440<>\"\",入力画面!T440,\"\")","v":""},null,null,{"$f":"IF(入力画面!$T440<>\"\",入力画面!W440,\"\")","v":""},{"$nulls":3},{"$f":"IF(入力画面!$T440<>\"\",入力画面!AA440:AE440,\"\")","v":""},{"$nulls":4},{"$f":"IF(入力画面!$T440<>\"\",入力画面!AF440:AH440,\"\")","v":""},null,null,{"$f":"IF(入力画面!$T440<>\"\",入力画面!AI440:AM440,\"\")","v":""},{"$nulls":4},{"$f":"IF(入力画面!$T440<>\"\",入力画面!AN440:AP440,\"\")","v":""},null,null,{"$f":"IF(入力画面!$T440<>\"\",入力画面!AQ440:AU440,\"\")","v":""},{"$nulls":4},{"$f":"IF(入力画面!$T440<>\"\",入力画面!AV440:AX440,\"\")","v":""},null,null,{"$f":"IF(入力画面!$T440<>\"\",入力画面!AY440:BC440,\"\")","v":""},{"$nulls":4},{"$f":"入力画面!BD440:BM440","v":0}]
[431,{"$f":"入力画面!B441:Q441","v":0},{"$nulls":15},{"$f":"入力画面!R441:S441","v":0},null,{"$f":"IF(入力画面!$T441<>\"\",入力画面!T441,\"\")","v":""},null,null,{"$f":"IF(入力画面!$T441<>\"\",入力画面!W441,\"\")","v":""},{"$nulls":3},{"$f":"IF(入力画面!$T441<>\"\",入力画面!AA441:AE441,\"\")","v":""},{"$nulls":4},{"$f":"IF(入力画面!$T441<>\"\",入力画面!AF441:AH441,\"\")","v":""},null,null,{"$f":"IF(入力画面!$T441<>\"\",入力画面!AI441:AM441,\"\")","v":""},{"$nulls":4},{"$f":"IF(入力画面!$T441<>\"\",入力画面!AN441:AP441,\"\")","v":""},null,null,{"$f":"IF(入力画面!$T441<>\"\",入力画面!AQ441:AU441,\"\")","v":""},{"$nulls":4},{"$f":"IF(入力画面!$T441<>\"\",入力画面!AV441:AX441,\"\")","v":""},null,null,{"$f":"IF(入力画面!$T441<>\"\",入力画面!AY441:BC441,\"\")","v":""},{"$nulls":4},{"$f":"入力画面!BD441:BM441","v":0}]
[432,{"$f":"入力画面!B442:Q442","v":0},{"$nulls":15},{"$f":"入力画面!R442:S442","v":0},null,{"$f":"IF(入力画面!$T442<>\"\",入力画面!T442,\"\")","v":""},null,null,{"$f":"IF(入力画面!$T442<>\"\",入力画面!W442,\"\")","v":""},{"$nulls":3},{"$f":"IF(入力画面!$T442<>\"\",入力画面!AA442:AE442,\"\")","v":""},{"$nulls":4},{"$f":"IF(入力画面!$T442<>\"\",入力画面!AF442:AH442,\"\")","v":""},null,null,{"$f":"IF(入力画面!$T442<>\"\",入力画面!AI442:AM442,\"\")","v":""},{"$nulls":4},{"$f":"IF(入力画面!$T442<>\"\",入力画面!AN442:AP442,\"\")","v":""},null,null,{"$f":"IF(入力画面!$T442<>\"\",入力画面!AQ442:AU442,\"\")","v":""},{"$nulls":4},{"$f":"IF(入力画面!$T442<>\"\",入力画面!AV442:AX442,\"\")","v":""},null,null,{"$f":"IF(入力画面!$T442<>\"\",入力画面!AY442:BC442,\"\")","v":""},{"$nulls":4},{"$f":"入力画面!BD442:BM442","v":0}]
[433,{"$f":"入力画面!B443:Q443","v":0},{"$nulls":15},{"$f":"入力画面!R443:S443","v":0},null,{"$f":"IF(入力画面!$T443<>\"\",入力画面!T443,\"\")","v":""},null,null,{"$f":"IF(入力画面!$T443<>\"\",入力画面!W443,\"\")","v":""},{"$nulls":3},{"$f":"IF(入力画面!$T443<>\"\",入力画面!AA443:AE443,\"\")","v":""},{"$nulls":4},{"$f":"IF(入力画面!$T443<>\"\",入力画面!AF443:AH443,\"\")","v":""},null,null,{"$f":"IF(入力画面!$T443<>\"\",入力画面!AI443:AM443,\"\")","v":""},{"$nulls":4},{"$f":"IF(入力画面!$T443<>\"\",入力画面!AN443:AP443,\"\")","v":""},null,null,{"$f":"IF(入力画面!$T443<>\"\",入力画面!AQ443:AU443,\"\")","v":""},{"$nulls":4},{"$f":"IF(入力画面!$T443<>\"\",入力画面!AV443:AX443,\"\")","v":""},null,null,{"$f":"IF(入力画面!$T443<>\"\",入力画面!AY443:BC443,\"\")","v":""},{"$nulls":4},{"$f":"入力画面!BD443:BM443","v":0}]
[434,{"$f":"入力画面!B444:Q444","v":0},{"$nulls":15},{"$f":"入力画面!R444:S444","v":0},null,{"$f":"IF(入力画面!$T444<>\"\",入力画面!T444,\"\")","v":""},null,null,{"$f":"IF(入力画面!$T444<>\"\",入力画面!W444,\"\")","v":""},{"$nulls":3},{"$f":"IF(入力画面!$T444<>\"\",入力画面!AA444:AE444,\"\")","v":""},{"$nulls":4},{"$f":"IF(入力画面!$T444<>\"\",入力画面!AF444:AH444,\"\")","v":""},null,null,{"$f":"IF(入力画面!$T444<>\"\",入力画面!AI444:AM444,\"\")","v":""},{"$nulls":4},{"$f":"IF(入力画面!$T444<>\"\",入力画面!AN444:AP444,\"\")","v":""},null,null,{"$f":"IF(入力画面!$T444<>\"\",入力画面!AQ444:AU444,\"\")","v":""},{"$nulls":4},{"$f":"IF(入力画面!$T444<>\"\",入力画面!AV444:AX444,\"\")","v":""},null,null,{"$f":"IF(入力画面!$T444<>\"\",入力画面!AY444:BC444,\"\")","v":""},{"$nulls":4},{"$f":"入力画面!BD444:BM444","v":0}]
[435,{"$f":"入力画面!B445:Q445","v":0},{"$nulls":15},{"$f":"入力画面!R445:S445","v":0},null,{"$f":"IF(入力画面!$T445<>\"\",入力画面!T445,\"\")","v":""},null,null,{"$f":"IF(入力画面!$T445<>\"\",入力画面!W445,\"\")","v":""},{"$nulls":3},{"$f":"IF(入力画面!$T445<>\"\",入力画面!AA445:AE445,\"\")","v":""},{"$nulls":4},{"$f":"IF(入力画面!$T445<>\"\",入力画面!AF445:AH445,\"\")","v":""},null,null,{"$f":"IF(入力画面!$T445<>\"\",入力画面!AI445:AM445,\"\")","v":""},{"$nulls":4},{"$f":"IF(入力画面!$T445<>\"\",入力画面!AN445:AP445,\"\")","v":""},null,null,{"$f":"IF(入力画面!$T445<>\"\",入力画面!AQ445:AU445,\"\")","v":""},{"$nulls":4},{"$f":"IF(入力画面!$T445<>\"\",入力画面!AV445:AX445,\"\")","v":""},null,null,{"$f":"IF(入力画面!$T445<>\"\",入力画面!AY445:BC445,\"\")","v":""},{"$nulls":4},{"$f":"入力画面!BD445:BM445","v":0}]
[436,{"$f":"入力画面!B446:Q446","v":0},{"$nulls":15},{"$f":"入力画面!R446:S446","v":0},null,{"$f":"IF(入力画面!$T446<>\"\",入力画面!T446,\"\")","v":""},null,null,{"$f":"IF(入力画面!$T446<>\"\",入力画面!W446,\"\")","v":""},{"$nulls":3},{"$f":"IF(入力画面!$T446<>\"\",入力画面!AA446:AE446,\"\")","v":""},{"$nulls":4},{"$f":"IF(入力画面!$T446<>\"\",入力画面!AF446:AH446,\"\")","v":""},null,null,{"$f":"IF(入力画面!$T446<>\"\",入力画面!AI446:AM446,\"\")","v":""},{"$nulls":4},{"$f":"IF(入力画面!$T446<>\"\",入力画面!AN446:AP446,\"\")","v":""},null,null,{"$f":"IF(入力画面!$T446<>\"\",入力画面!AQ446:AU446,\"\")","v":""},{"$nulls":4},{"$f":"IF(入力画面!$T446<>\"\",入力画面!AV446:AX446,\"\")","v":""},null,null,{"$f":"IF(入力画面!$T446<>\"\",入力画面!AY446:BC446,\"\")","v":""},{"$nulls":4},{"$f":"入力画面!BD446:BM446","v":0}]
[437,{"$f":"入力画面!B447:Q447","v":0},{"$nulls":15},{"$f":"入力画面!R447:S447","v":0},null,{"$f":"IF(入力画面!$T447<>\"\",入力画面!T447,\"\")","v":""},null,null,{"$f":"IF(入力画面!$T447<>\"\",入力画面!W447,\"\")","v":""},{"$nulls":3},{"$f":"IF(入力画面!$T447<>\"\",入力画面!AA447:AE447,\"\")","v":""},{"$nulls":4},{"$f":"IF(入力画面!$T447<>\"\",入力画面!AF447:AH447,\"\")","v":""},null,null,{"$f":"IF(入力画面!$T447<>\"\",入力画面!AI447:AM447,\"\")","v":""},{"$nulls":4},{"$f":"IF(入力画面!$T447<>\"\",入力画面!AN447:AP447,\"\")","v":""},null,null,{"$f":"IF(入力画面!$T447<>\"\",入力画面!AQ447:AU447,\"\")","v":""},{"$nulls":4},{"$f":"IF(入力画面!$T447<>\"\",入力画面!AV447:AX447,\"\")","v":""},null,null,{"$f":"IF(入力画面!$T447<>\"\",入力画面!AY447:BC447,\"\")","v":""},{"$nulls":4},{"$f":"入力画面!BD447:BM447","v":0}]
[438,{"$f":"入力画面!B448:Q448","v":0},{"$nulls":15},{"$f":"入力画面!R448:S448","v":0},null,{"$f":"IF(入力画面!$T448<>\"\",入力画面!T448,\"\")","v":""},null,null,{"$f":"IF(入力画面!$T448<>\"\",入力画面!W448,\"\")","v":""},{"$nulls":3},{"$f":"IF(入力画面!$T448<>\"\",入力画面!AA448:AE448,\"\")","v":""},{"$nulls":4},{"$f":"IF(入力画面!$T448<>\"\",入力画面!AF448:AH448,\"\")","v":""},null,null,{"$f":"IF(入力画面!$T448<>\"\",入力画面!AI448:AM448,\"\")","v":""},{"$nulls":4},{"$f":"IF(入力画面!$T448<>\"\",入力画面!AN448:AP448,\"\")","v":""},null,null,{"$f":"IF(入力画面!$T448<>\"\",入力画面!AQ448:AU448,\"\")","v":""},{"$nulls":4},{"$f":"IF(入力画面!$T448<>\"\",入力画面!AV448:AX448,\"\")","v":""},null,null,{"$f":"IF(入力画面!$T448<>\"\",入力画面!AY448:BC448,\"\")","v":""},{"$nulls":4},{"$f":"入力画面!BD448:BM448","v":0}]
[439,{"$f":"入力画面!B449:Q449","v":0},{"$nulls":15},{"$f":"入力画面!R449:S449","v":0},null,{"$f":"IF(入力画面!$T449<>\"\",入力画面!T449,\"\")","v":""},null,null,{"$f":"IF(入力画面!$T449<>\"\",入力画面!W449,\"\")","v":""},{"$nulls":3},{"$f":"IF(入力画面!$T449<>\"\",入力画面!AA449:AE449,\"\")","v":""},{"$nulls":4},{"$f":"IF(入力画面!$T449<>\"\",入力画面!AF449:AH449,\"\")","v":""},null,null,{"$f":"IF(入力画面!$T449<>\"\",入力画面!AI449:AM449,\"\")","v":""},{"$nulls":4},{"$f":"IF(入力画面!$T449<>\"\",入力画面!AN449:AP449,\"\")","v":""},null,null,{"$f":"IF(入力画面!$T449<>\"\",入力画面!AQ449:AU449,\"\")","v":""},{"$nulls":4},{"$f":"IF(入力画面!$T449<>\"\",入力画面!AV449:AX449,\"\")","v":""},null,null,{"$f":"IF(入力画面!$T449<>\"\",入力画面!AY449:BC449,\"\")","v":""},{"$nulls":4},{"$f":"入力画面!BD449:BM449","v":0}]
[440,{"$f":"入力画面!B450:Q450","v":0},{"$nulls":15},{"$f":"入力画面!R450:S450","v":0},null,{"$f":"IF(入力画面!$T450<>\"\",入力画面!T450,\"\")","v":""},null,null,{"$f":"IF(入力画面!$T450<>\"\",入力画面!W450,\"\")","v":""},{"$nulls":3},{"$f":"IF(入力画面!$T450<>\"\",入力画面!AA450:AE450,\"\")","v":""},{"$nulls":4},{"$f":"IF(入力画面!$T450<>\"\",入力画面!AF450:AH450,\"\")","v":""},null,null,{"$f":"IF(入力画面!$T450<>\"\",入力画面!AI450:AM450,\"\")","v":""},{"$nulls":4},{"$f":"IF(入力画面!$T450<>\"\",入力画面!AN450:AP450,\"\")","v":""},null,null,{"$f":"IF(入力画面!$T450<>\"\",入力画面!AQ450:AU450,\"\")","v":""},{"$nulls":4},{"$f":"IF(入力画面!$T450<>\"\",入力画面!AV450:AX450,\"\")","v":""},null,null,{"$f":"IF(入力画面!$T450<>\"\",入力画面!AY450:BC450,\"\")","v":""},{"$nulls":4},{"$f":"入力画面!BD450:BM450","v":0}]
["※消費税、保留金の計算は別紙、請求書で行ってください",{"$nulls":21},"小計",{"$nulls":3},{"$f":"SUM(AA659:AE678)","v":{"v":0,"d":"0 "}},{"$nulls":4},"小計",null,null,{"$f":"SUM(AI659:AM678)","v":{"v":0,"d":"0 "}},{"$nulls":4},"小計",null,null,{"$f":"SUM(AQ659:AU678)","v":{"v":0,"d":"0 "}},{"$nulls":4},"小計",null,null,{"$f":"SUM(AY659:BC678)","v":{"v":0,"d":"0 "}},{"$nulls":4},"担　当　者　　　　確　認　印",{"$nulls":4},{"$f":"IF(AA680=\"－\",\"―――――\",\"\")","v":"―――――"}]
["※完成後一括払いであっても出来高検収書を作成・添付してください",{"$nulls":21},"合計",{"$nulls":3},{"$f":"IF(AND(OR(AA648<>0,AI648<>0,AQ648<>0,AY648<>0),AND(AA649=\"－\",AA710=0,AI710=0,AQ710=0,AY710=0)),AA28+AA59+AA90+AA121+AA152+AA183+AA214+AA245+AA276+AA307+AA338+AA369+AA400+AA431+AA462+AA493+AA524+AA555+AA586+AA617+AA648+AA679,\"－\")","v":"－"},{"$nulls":4},"合計",null,null,{"$f":"IF($AA680<>\"－\",AI28+AI59+AI90+AI121+AI152+AI183+AI214+AI245+AI276+AI307+AI338+AI369+AI400+AI431+AI462+AI493+AI524+AI555+AI586+AI617+AI648+AI679,\"－\")","v":"－"},{"$nulls":4},"合計",null,null,{"$f":"IF($AA680<>\"－\",AQ28+AQ59+AQ90+AQ121+AQ152+AQ183+AQ214+AQ245+AQ276+AQ307+AQ338+AQ369+AQ400+AQ431+AQ462+AQ493+AQ524+AQ555+AQ586+AQ617+AQ648+AQ679,\"－\")","v":"－"},{"$nulls":4},"合計",null,null,{"$f":"IF($AA680<>\"－\",AY28+AY59+AY90+AY121+AY152+AY183+AY214+AY245+AY276+AY307+AY338+AY369+AY400+AY431+AY462+AY493+AY524+AY555+AY586+AY617+AY648+AY679,\"－\")","v":"－"}]
["※協力会社印は出力枚数の都度、押印してください",{"$nulls":33},"今回迄出来高累計",{"$nulls":7},{"$f":"IF(AA680=\"－\",\"－\",AI680+AQ680)","v":"－"}]
[{"$nulls":55},"検   収   日",{"$nulls":4},{"$f":"IF(AA680=\"－\",\"――――\",\"\")","v":"――――"}]
[]
[null,null,"出　来　高　検　収　書　（第",{"$nulls":15},{"$f":"$S$2","v":0},null,"回）",null,null,"( 検収期間",{"$nulls":4},{"$f":"IF(入力画面!$J$4=\"\",\"\",入力画面!$J$4)","v":""},{"$nulls":4},"～",{"$f":"IF(入力画面!$Q$4=\"\",\"\",入力画面!$Q$4)","v":""},{"$nulls":4},"）",{"$nulls":14},"仙 建 工 業 株 式 会 社"]
[{"$nulls":41},"協力会社名"]
["工 事 番 号",{"$nulls":3},{"$f":"$E$4","v":0},{"$nulls":7},"工 事 件 名",{"$nulls":4},{"$f":"$R$4","v":0},{"$nulls":23},{"$f":"$AP$4","v":""},{"$nulls":19},"　印"]
["契   約   日",{"$nulls":3},{"$f":"$E$5","v":""},{"$nulls":7},"工         期",{"$nulls":4},"自",{"$nulls":3},{"$f":"$V$5","v":""},{"$nulls":7},"至",{"$nulls":3},{"$f":"$AH$5","v":""}]
["№","工                         種",{"$nulls":15},"契       約       金       額",{"$nulls":13},"前回迄出来高累計",{"$nulls":7},"今  回  出  来  高",{"$nulls":7},"残            高",{"$nulls":7},"摘                要"]
[{"$nulls":17},"単位",null,"数 量",null,null,"単   価",{"$nulls":3},"金     額",{"$nulls":4},"数 量",null,null,"金     額",{"$nulls":4},"数 量",null,null,"金     額",{"$nulls":4},"数 量",null,null,"金     額"]
[441,{"$f":"入力画面!B451:Q451","v":0},{"$nulls":15},{"$f":"入力画面!R451:S451","v":0},null,{"$f":"IF(入力画面!$T451<>\"\",入力画面!T451,\"\")","v":""},null,null,{"$f":"IF(入力画面!$T451<>\"\",入力画面!W451,\"\")","v":""},{"$nulls":3},{"$f":"IF(入力画面!$T451<>\"\",入力画面!AA451:AE451,\"\")","v":""},{"$nulls":4},{"$f":"IF(入力画面!$T451<>\"\",入力画面!AF451:AH451,\"\")","v":""},null,null,{"$f":"IF(入力画面!$T451<>\"\",入力画面!AI451:AM451,\"\")","v":""},{"$nulls":4},{"$f":"IF(入力画面!$T451<>\"\",入力画面!AN451:AP451,\"\")","v":""},null,null,{"$f":"IF(入力画面!$T451<>\"\",入力画面!AQ451:AU451,\"\")","v":""},{"$nulls":4},{"$f":"IF(入力画面!$T451<>\"\",入力画面!AV451:AX451,\"\")","v":""},null,null,{"$f":"IF(入力画面!$T451<>\"\",入力画面!AY451:BC451,\"\")","v":""},{"$nulls":4},{"$f":"入力画面!BD451:BM451","v":0}]
[442,{"$f":"入力画面!B452:Q452","v":0},{"$nulls":15},{"$f":"入力画面!R452:S452","v":0},null,{"$f":"IF(入力画面!$T452<>\"\",入力画面!T452,\"\")","v":""},null,null,{"$f":"IF(入力画面!$T452<>\"\",入力画面!W452,\"\")","v":""},{"$nulls":3},{"$f":"IF(入力画面!$T452<>\"\",入力画面!AA452:AE452,\"\")","v":""},{"$nulls":4},{"$f":"IF(入力画面!$T452<>\"\",入力画面!AF452:AH452,\"\")","v":""},null,null,{"$f":"IF(入力画面!$T452<>\"\",入力画面!AI452:AM452,\"\")","v":""},{"$nulls":4},{"$f":"IF(入力画面!$T452<>\"\",入力画面!AN452:AP452,\"\")","v":""},null,null,{"$f":"IF(入力画面!$T452<>\"\",入力画面!AQ452:AU452,\"\")","v":""},{"$nulls":4},{"$f":"IF(入力画面!$T452<>\"\",入力画面!AV452:AX452,\"\")","v":""},null,null,{"$f":"IF(入力画面!$T452<>\"\",入力画面!AY452:BC452,\"\")","v":""},{"$nulls":4},{"$f":"入力画面!BD452:BM452","v":0}]
[443,{"$f":"入力画面!B453:Q453","v":0},{"$nulls":15},{"$f":"入力画面!R453:S453","v":0},null,{"$f":"IF(入力画面!$T453<>\"\",入力画面!T453,\"\")","v":""},null,null,{"$f":"IF(入力画面!$T453<>\"\",入力画面!W453,\"\")","v":""},{"$nulls":3},{"$f":"IF(入力画面!$T453<>\"\",入力画面!AA453:AE453,\"\")","v":""},{"$nulls":4},{"$f":"IF(入力画面!$T453<>\"\",入力画面!AF453:AH453,\"\")","v":""},null,null,{"$f":"IF(入力画面!$T453<>\"\",入力画面!AI453:AM453,\"\")","v":""},{"$nulls":4},{"$f":"IF(入力画面!$T453<>\"\",入力画面!AN453:AP453,\"\")","v":""},null,null,{"$f":"IF(入力画面!$T453<>\"\",入力画面!AQ453:AU453,\"\")","v":""},{"$nulls":4},{"$f":"IF(入力画面!$T453<>\"\",入力画面!AV453:AX453,\"\")","v":""},null,null,{"$f":"IF(入力画面!$T453<>\"\",入力画面!AY453:BC453,\"\")","v":""},{"$nulls":4},{"$f":"入力画面!BD453:BM453","v":0}]
[444,{"$f":"入力画面!B454:Q454","v":0},{"$nulls":15},{"$f":"入力画面!R454:S454","v":0},null,{"$f":"IF(入力画面!$T454<>\"\",入力画面!T454,\"\")","v":""},null,null,{"$f":"IF(入力画面!$T454<>\"\",入力画面!W454,\"\")","v":""},{"$nulls":3},{"$f":"IF(入力画面!$T454<>\"\",入力画面!AA454:AE454,\"\")","v":""},{"$nulls":4},{"$f":"IF(入力画面!$T454<>\"\",入力画面!AF454:AH454,\"\")","v":""},null,null,{"$f":"IF(入力画面!$T454<>\"\",入力画面!AI454:AM454,\"\")","v":""},{"$nulls":4},{"$f":"IF(入力画面!$T454<>\"\",入力画面!AN454:AP454,\"\")","v":""},null,null,{"$f":"IF(入力画面!$T454<>\"\",入力画面!AQ454:AU454,\"\")","v":""},{"$nulls":4},{"$f":"IF(入力画面!$T454<>\"\",入力画面!AV454:AX454,\"\")","v":""},null,null,{"$f":"IF(入力画面!$T454<>\"\",入力画面!AY454:BC454,\"\")","v":""},{"$nulls":4},{"$f":"入力画面!BD454:BM454","v":0}]
[445,{"$f":"入力画面!B455:Q455","v":0},{"$nulls":15},{"$f":"入力画面!R455:S455","v":0},null,{"$f":"IF(入力画面!$T455<>\"\",入力画面!T455,\"\")","v":""},null,null,{"$f":"IF(入力画面!$T455<>\"\",入力画面!W455,\"\")","v":""},{"$nulls":3},{"$f":"IF(入力画面!$T455<>\"\",入力画面!AA455:AE455,\"\")","v":""},{"$nulls":4},{"$f":"IF(入力画面!$T455<>\"\",入力画面!AF455:AH455,\"\")","v":""},null,null,{"$f":"IF(入力画面!$T455<>\"\",入力画面!AI455:AM455,\"\")","v":""},{"$nulls":4},{"$f":"IF(入力画面!$T455<>\"\",入力画面!AN455:AP455,\"\")","v":""},null,null,{"$f":"IF(入力画面!$T455<>\"\",入力画面!AQ455:AU455,\"\")","v":""},{"$nulls":4},{"$f":"IF(入力画面!$T455<>\"\",入力画面!AV455:AX455,\"\")","v":""},null,null,{"$f":"IF(入力画面!$T455<>\"\",入力画面!AY455:BC455,\"\")","v":""},{"$nulls":4},{"$f":"入力画面!BD455:BM455","v":0}]
[446,{"$f":"入力画面!B456:Q456","v":0},{"$nulls":15},{"$f":"入力画面!R456:S456","v":0},null,{"$f":"IF(入力画面!$T456<>\"\",入力画面!T456,\"\")","v":""},null,null,{"$f":"IF(入力画面!$T456<>\"\",入力画面!W456,\"\")","v":""},{"$nulls":3},{"$f":"IF(入力画面!$T456<>\"\",入力画面!AA456:AE456,\"\")","v":""},{"$nulls":4},{"$f":"IF(入力画面!$T456<>\"\",入力画面!AF456:AH456,\"\")","v":""},null,null,{"$f":"IF(入力画面!$T456<>\"\",入力画面!AI456:AM456,\"\")","v":""},{"$nulls":4},{"$f":"IF(入力画面!$T456<>\"\",入力画面!AN456:AP456,\"\")","v":""},null,null,{"$f":"IF(入力画面!$T456<>\"\",入力画面!AQ456:AU456,\"\")","v":""},{"$nulls":4},{"$f":"IF(入力画面!$T456<>\"\",入力画面!AV456:AX456,\"\")","v":""},null,null,{"$f":"IF(入力画面!$T456<>\"\",入力画面!AY456:BC456,\"\")","v":""},{"$nulls":4},{"$f":"入力画面!BD456:BM456","v":0}]
[447,{"$f":"入力画面!B457:Q457","v":0},{"$nulls":15},{"$f":"入力画面!R457:S457","v":0},null,{"$f":"IF(入力画面!$T457<>\"\",入力画面!T457,\"\")","v":""},null,null,{"$f":"IF(入力画面!$T457<>\"\",入力画面!W457,\"\")","v":""},{"$nulls":3},{"$f":"IF(入力画面!$T457<>\"\",入力画面!AA457:AE457,\"\")","v":""},{"$nulls":4},{"$f":"IF(入力画面!$T457<>\"\",入力画面!AF457:AH457,\"\")","v":""},null,null,{"$f":"IF(入力画面!$T457<>\"\",入力画面!AI457:AM457,\"\")","v":""},{"$nulls":4},{"$f":"IF(入力画面!$T457<>\"\",入力画面!AN457:AP457,\"\")","v":""},null,null,{"$f":"IF(入力画面!$T457<>\"\",入力画面!AQ457:AU457,\"\")","v":""},{"$nulls":4},{"$f":"IF(入力画面!$T457<>\"\",入力画面!AV457:AX457,\"\")","v":""},null,null,{"$f":"IF(入力画面!$T457<>\"\",入力画面!AY457:BC457,\"\")","v":""},{"$nulls":4},{"$f":"入力画面!BD457:BM457","v":0}]
[448,{"$f":"入力画面!B458:Q458","v":0},{"$nulls":15},{"$f":"入力画面!R458:S458","v":0},null,{"$f":"IF(入力画面!$T458<>\"\",入力画面!T458,\"\")","v":""},null,null,{"$f":"IF(入力画面!$T458<>\"\",入力画面!W458,\"\")","v":""},{"$nulls":3},{"$f":"IF(入力画面!$T458<>\"\",入力画面!AA458:AE458,\"\")","v":""},{"$nulls":4},{"$f":"IF(入力画面!$T458<>\"\",入力画面!AF458:AH458,\"\")","v":""},null,null,{"$f":"IF(入力画面!$T458<>\"\",入力画面!AI458:AM458,\"\")","v":""},{"$nulls":4},{"$f":"IF(入力画面!$T458<>\"\",入力画面!AN458:AP458,\"\")","v":""},null,null,{"$f":"IF(入力画面!$T458<>\"\",入力画面!AQ458:AU458,\"\")","v":""},{"$nulls":4},{"$f":"IF(入力画面!$T458<>\"\",入力画面!AV458:AX458,\"\")","v":""},null,null,{"$f":"IF(入力画面!$T458<>\"\",入力画面!AY458:BC458,\"\")","v":""},{"$nulls":4},{"$f":"入力画面!BD458:BM458","v":0}]
[449,{"$f":"入力画面!B459:Q459","v":0},{"$nulls":15},{"$f":"入力画面!R459:S459","v":0},null,{"$f":"IF(入力画面!$T459<>\"\",入力画面!T459,\"\")","v":""},null,null,{"$f":"IF(入力画面!$T459<>\"\",入力画面!W459,\"\")","v":""},{"$nulls":3},{"$f":"IF(入力画面!$T459<>\"\",入力画面!AA459:AE459,\"\")","v":""},{"$nulls":4},{"$f":"IF(入力画面!$T459<>\"\",入力画面!AF459:AH459,\"\")","v":""},null,null,{"$f":"IF(入力画面!$T459<>\"\",入力画面!AI459:AM459,\"\")","v":""},{"$nulls":4},{"$f":"IF(入力画面!$T459<>\"\",入力画面!AN459:AP459,\"\")","v":""},null,null,{"$f":"IF(入力画面!$T459<>\"\",入力画面!AQ459:AU459,\"\")","v":""},{"$nulls":4},{"$f":"IF(入力画面!$T459<>\"\",入力画面!AV459:AX459,\"\")","v":""},null,null,{"$f":"IF(入力画面!$T459<>\"\",入力画面!AY459:BC459,\"\")","v":""},{"$nulls":4},{"$f":"入力画面!BD459:BM459","v":0}]
[450,{"$f":"入力画面!B460:Q460","v":0},{"$nulls":15},{"$f":"入力画面!R460:S460","v":0},null,{"$f":"IF(入力画面!$T460<>\"\",入力画面!T460,\"\")","v":""},null,null,{"$f":"IF(入力画面!$T460<>\"\",入力画面!W460,\"\")","v":""},{"$nulls":3},{"$f":"IF(入力画面!$T460<>\"\",入力画面!AA460:AE460,\"\")","v":""},{"$nulls":4},{"$f":"IF(入力画面!$T460<>\"\",入力画面!AF460:AH460,\"\")","v":""},null,null,{"$f":"IF(入力画面!$T460<>\"\",入力画面!AI460:AM460,\"\")","v":""},{"$nulls":4},{"$f":"IF(入力画面!$T460<>\"\",入力画面!AN460:AP460,\"\")","v":""},null,null,{"$f":"IF(入力画面!$T460<>\"\",入力画面!AQ460:AU460,\"\")","v":""},{"$nulls":4},{"$f":"IF(入力画面!$T460<>\"\",入力画面!AV460:AX460,\"\")","v":""},null,null,{"$f":"IF(入力画面!$T460<>\"\",入力画面!AY460:BC460,\"\")","v":""},{"$nulls":4},{"$f":"入力画面!BD460:BM460","v":0}]
[451,{"$f":"入力画面!B461:Q461","v":0},{"$nulls":15},{"$f":"入力画面!R461:S461","v":0},null,{"$f":"IF(入力画面!$T461<>\"\",入力画面!T461,\"\")","v":""},null,null,{"$f":"IF(入力画面!$T461<>\"\",入力画面!W461,\"\")","v":""},{"$nulls":3},{"$f":"IF(入力画面!$T461<>\"\",入力画面!AA461:AE461,\"\")","v":""},{"$nulls":4},{"$f":"IF(入力画面!$T461<>\"\",入力画面!AF461:AH461,\"\")","v":""},null,null,{"$f":"IF(入力画面!$T461<>\"\",入力画面!AI461:AM461,\"\")","v":""},{"$nulls":4},{"$f":"IF(入力画面!$T461<>\"\",入力画面!AN461:AP461,\"\")","v":""},null,null,{"$f":"IF(入力画面!$T461<>\"\",入力画面!AQ461:AU461,\"\")","v":""},{"$nulls":4},{"$f":"IF(入力画面!$T461<>\"\",入力画面!AV461:AX461,\"\")","v":""},null,null,{"$f":"IF(入力画面!$T461<>\"\",入力画面!AY461:BC461,\"\")","v":""},{"$nulls":4},{"$f":"入力画面!BD461:BM461","v":0}]
[452,{"$f":"入力画面!B462:Q462","v":0},{"$nulls":15},{"$f":"入力画面!R462:S462","v":0},null,{"$f":"IF(入力画面!$T462<>\"\",入力画面!T462,\"\")","v":""},null,null,{"$f":"IF(入力画面!$T462<>\"\",入力画面!W462,\"\")","v":""},{"$nulls":3},{"$f":"IF(入力画面!$T462<>\"\",入力画面!AA462:AE462,\"\")","v":""},{"$nulls":4},{"$f":"IF(入力画面!$T462<>\"\",入力画面!AF462:AH462,\"\")","v":""},null,null,{"$f":"IF(入力画面!$T462<>\"\",入力画面!AI462:AM462,\"\")","v":""},{"$nulls":4},{"$f":"IF(入力画面!$T462<>\"\",入力画面!AN462:AP462,\"\")","v":""},null,null,{"$f":"IF(入力画面!$T462<>\"\",入力画面!AQ462:AU462,\"\")","v":""},{"$nulls":4},{"$f":"IF(入力画面!$T462<>\"\",入力画面!AV462:AX462,\"\")","v":""},null,null,{"$f":"IF(入力画面!$T462<>\"\",入力画面!AY462:BC462,\"\")","v":""},{"$nulls":4},{"$f":"入力画面!BD462:BM462","v":0}]
[453,{"$f":"入力画面!B463:Q463","v":0},{"$nulls":15},{"$f":"入力画面!R463:S463","v":0},null,{"$f":"IF(入力画面!$T463<>\"\",入力画面!T463,\"\")","v":""},null,null,{"$f":"IF(入力画面!$T463<>\"\",入力画面!W463,\"\")","v":""},{"$nulls":3},{"$f":"IF(入力画面!$T463<>\"\",入力画面!AA463:AE463,\"\")","v":""},{"$nulls":4},{"$f":"IF(入力画面!$T463<>\"\",入力画面!AF463:AH463,\"\")","v":""},null,null,{"$f":"IF(入力画面!$T463<>\"\",入力画面!AI463:AM463,\"\")","v":""},{"$nulls":4},{"$f":"IF(入力画面!$T463<>\"\",入力画面!AN463:AP463,\"\")","v":""},null,null,{"$f":"IF(入力画面!$T463<>\"\",入力画面!AQ463:AU463,\"\")","v":""},{"$nulls":4},{"$f":"IF(入力画面!$T463<>\"\",入力画面!AV463:AX463,\"\")","v":""},null,null,{"$f":"IF(入力画面!$T463<>\"\",入力画面!AY463:BC463,\"\")","v":""},{"$nulls":4},{"$f":"入力画面!BD463:BM463","v":0}]
[454,{"$f":"入力画面!B464:Q464","v":0},{"$nulls":15},{"$f":"入力画面!R464:S464","v":0},null,{"$f":"IF(入力画面!$T464<>\"\",入力画面!T464,\"\")","v":""},null,null,{"$f":"IF(入力画面!$T464<>\"\",入力画面!W464,\"\")","v":""},{"$nulls":3},{"$f":"IF(入力画面!$T464<>\"\",入力画面!AA464:AE464,\"\")","v":""},{"$nulls":4},{"$f":"IF(入力画面!$T464<>\"\",入力画面!AF464:AH464,\"\")","v":""},null,null,{"$f":"IF(入力画面!$T464<>\"\",入力画面!AI464:AM464,\"\")","v":""},{"$nulls":4},{"$f":"IF(入力画面!$T464<>\"\",入力画面!AN464:AP464,\"\")","v":""},null,null,{"$f":"IF(入力画面!$T464<>\"\",入力画面!AQ464:AU464,\"\")","v":""},{"$nulls":4},{"$f":"IF(入力画面!$T464<>\"\",入力画面!AV464:AX464,\"\")","v":""},null,null,{"$f":"IF(入力画面!$T464<>\"\",入力画面!AY464:BC464,\"\")","v":""},{"$nulls":4},{"$f":"入力画面!BD464:BM464","v":0}]
[455,{"$f":"入力画面!B465:Q465","v":0},{"$nulls":15},{"$f":"入力画面!R465:S465","v":0},null,{"$f":"IF(入力画面!$T465<>\"\",入力画面!T465,\"\")","v":""},null,null,{"$f":"IF(入力画面!$T465<>\"\",入力画面!W465,\"\")","v":""},{"$nulls":3},{"$f":"IF(入力画面!$T465<>\"\",入力画面!AA465:AE465,\"\")","v":""},{"$nulls":4},{"$f":"IF(入力画面!$T465<>\"\",入力画面!AF465:AH465,\"\")","v":""},null,null,{"$f":"IF(入力画面!$T465<>\"\",入力画面!AI465:AM465,\"\")","v":""},{"$nulls":4},{"$f":"IF(入力画面!$T465<>\"\",入力画面!AN465:AP465,\"\")","v":""},null,null,{"$f":"IF(入力画面!$T465<>\"\",入力画面!AQ465:AU465,\"\")","v":""},{"$nulls":4},{"$f":"IF(入力画面!$T465<>\"\",入力画面!AV465:AX465,\"\")","v":""},null,null,{"$f":"IF(入力画面!$T465<>\"\",入力画面!AY465:BC465,\"\")","v":""},{"$nulls":4},{"$f":"入力画面!BD465:BM465","v":0}]
[456,{"$f":"入力画面!B466:Q466","v":0},{"$nulls":15},{"$f":"入力画面!R466:S466","v":0},null,{"$f":"IF(入力画面!$T466<>\"\",入力画面!T466,\"\")","v":""},null,null,{"$f":"IF(入力画面!$T466<>\"\",入力画面!W466,\"\")","v":""},{"$nulls":3},{"$f":"IF(入力画面!$T466<>\"\",入力画面!AA466:AE466,\"\")","v":""},{"$nulls":4},{"$f":"IF(入力画面!$T466<>\"\",入力画面!AF466:AH466,\"\")","v":""},null,null,{"$f":"IF(入力画面!$T466<>\"\",入力画面!AI466:AM466,\"\")","v":""},{"$nulls":4},{"$f":"IF(入力画面!$T466<>\"\",入力画面!AN466:AP466,\"\")","v":""},null,null,{"$f":"IF(入力画面!$T466<>\"\",入力画面!AQ466:AU466,\"\")","v":""},{"$nulls":4},{"$f":"IF(入力画面!$T466<>\"\",入力画面!AV466:AX466,\"\")","v":""},null,null,{"$f":"IF(入力画面!$T466<>\"\",入力画面!AY466:BC466,\"\")","v":""},{"$nulls":4},{"$f":"入力画面!BD466:BM466","v":0}]
[457,{"$f":"入力画面!B467:Q467","v":0},{"$nulls":15},{"$f":"入力画面!R467:S467","v":0},null,{"$f":"IF(入力画面!$T467<>\"\",入力画面!T467,\"\")","v":""},null,null,{"$f":"IF(入力画面!$T467<>\"\",入力画面!W467,\"\")","v":""},{"$nulls":3},{"$f":"IF(入力画面!$T467<>\"\",入力画面!AA467:AE467,\"\")","v":""},{"$nulls":4},{"$f":"IF(入力画面!$T467<>\"\",入力画面!AF467:AH467,\"\")","v":""},null,null,{"$f":"IF(入力画面!$T467<>\"\",入力画面!AI467:AM467,\"\")","v":""},{"$nulls":4},{"$f":"IF(入力画面!$T467<>\"\",入力画面!AN467:AP467,\"\")","v":""},null,null,{"$f":"IF(入力画面!$T467<>\"\",入力画面!AQ467:AU467,\"\")","v":""},{"$nulls":4},{"$f":"IF(入力画面!$T467<>\"\",入力画面!AV467:AX467,\"\")","v":""},null,null,{"$f":"IF(入力画面!$T467<>\"\",入力画面!AY467:BC467,\"\")","v":""},{"$nulls":4},{"$f":"入力画面!BD467:BM467","v":0}]
[458,{"$f":"入力画面!B468:Q468","v":0},{"$nulls":15},{"$f":"入力画面!R468:S468","v":0},null,{"$f":"IF(入力画面!$T468<>\"\",入力画面!T468,\"\")","v":""},null,null,{"$f":"IF(入力画面!$T468<>\"\",入力画面!W468,\"\")","v":""},{"$nulls":3},{"$f":"IF(入力画面!$T468<>\"\",入力画面!AA468:AE468,\"\")","v":""},{"$nulls":4},{"$f":"IF(入力画面!$T468<>\"\",入力画面!AF468:AH468,\"\")","v":""},null,null,{"$f":"IF(入力画面!$T468<>\"\",入力画面!AI468:AM468,\"\")","v":""},{"$nulls":4},{"$f":"IF(入力画面!$T468<>\"\",入力画面!AN468:AP468,\"\")","v":""},null,null,{"$f":"IF(入力画面!$T468<>\"\",入力画面!AQ468:AU468,\"\")","v":""},{"$nulls":4},{"$f":"IF(入力画面!$T468<>\"\",入力画面!AV468:AX468,\"\")","v":""},null,null,{"$f":"IF(入力画面!$T468<>\"\",入力画面!AY468:BC468,\"\")","v":""},{"$nulls":4},{"$f":"入力画面!BD468:BM468","v":0}]
[459,{"$f":"入力画面!B469:Q469","v":0},{"$nulls":15},{"$f":"入力画面!R469:S469","v":0},null,{"$f":"IF(入力画面!$T469<>\"\",入力画面!T469,\"\")","v":""},null,null,{"$f":"IF(入力画面!$T469<>\"\",入力画面!W469,\"\")","v":""},{"$nulls":3},{"$f":"IF(入力画面!$T469<>\"\",入力画面!AA469:AE469,\"\")","v":""},{"$nulls":4},{"$f":"IF(入力画面!$T469<>\"\",入力画面!AF469:AH469,\"\")","v":""},null,null,{"$f":"IF(入力画面!$T469<>\"\",入力画面!AI469:AM469,\"\")","v":""},{"$nulls":4},{"$f":"IF(入力画面!$T469<>\"\",入力画面!AN469:AP469,\"\")","v":""},null,null,{"$f":"IF(入力画面!$T469<>\"\",入力画面!AQ469:AU469,\"\")","v":""},{"$nulls":4},{"$f":"IF(入力画面!$T469<>\"\",入力画面!AV469:AX469,\"\")","v":""},null,null,{"$f":"IF(入力画面!$T469<>\"\",入力画面!AY469:BC469,\"\")","v":""},{"$nulls":4},{"$f":"入力画面!BD469:BM469","v":0}]
[460,{"$f":"入力画面!B470:Q470","v":0},{"$nulls":15},{"$f":"入力画面!R470:S470","v":0},null,{"$f":"IF(入力画面!$T470<>\"\",入力画面!T470,\"\")","v":""},null,null,{"$f":"IF(入力画面!$T470<>\"\",入力画面!W470,\"\")","v":""},{"$nulls":3},{"$f":"IF(入力画面!$T470<>\"\",入力画面!AA470:AE470,\"\")","v":""},{"$nulls":4},{"$f":"IF(入力画面!$T470<>\"\",入力画面!AF470:AH470,\"\")","v":""},null,null,{"$f":"IF(入力画面!$T470<>\"\",入力画面!AI470:AM470,\"\")","v":""},{"$nulls":4},{"$f":"IF(入力画面!$T470<>\"\",入力画面!AN470:AP470,\"\")","v":""},null,null,{"$f":"IF(入力画面!$T470<>\"\",入力画面!AQ470:AU470,\"\")","v":""},{"$nulls":4},{"$f":"IF(入力画面!$T470<>\"\",入力画面!AV470:AX470,\"\")","v":""},null,null,{"$f":"IF(入力画面!$T470<>\"\",入力画面!AY470:BC470,\"\")","v":""},{"$nulls":4},{"$f":"入力画面!BD470:BM470","v":0}]
["※消費税、保留金の計算は別紙、請求書で行ってください",{"$nulls":21},"小計",{"$nulls":3},{"$f":"SUM(AA690:AE709)","v":{"v":0,"d":"0 "}},{"$nulls":4},"小計",null,null,{"$f":"SUM(AI690:AM709)","v":{"v":0,"d":"0 "}},{"$nulls":4},"小計",null,null,{"$f":"SUM(AQ690:AU709)","v":{"v":0,"d":"0 "}},{"$nulls":4},"小計",null,null,{"$f":"SUM(AY690:BC709)","v":{"v":0,"d":"0 "}},{"$nulls":4},"担　当　者　　　　確　認　印",{"$nulls":4},{"$f":"IF(AA711=\"－\",\"―――――\",\"\")","v":"―――――"}]
["※完成後一括払いであっても出来高検収書を作成・添付してください",{"$nulls":21},"合計",{"$nulls":3},{"$f":"IF(AND(OR(AA679<>0,AI679<>0,AQ679<>0,AY679<>0),AND(AA680=\"－\",AA741=0,AI741=0,AQ741=0,AY741=0)),AA28+AA59+AA90+AA121+AA152+AA183+AA214+AA245+AA276+AA307+AA338+AA369+AA400+AA431+AA462+AA493+AA524+AA555+AA586+AA617+AA648+AA679+AA710,\"－\")","v":"－"},{"$nulls":4},"合計",null,null,{"$f":"IF($AA711<>\"－\",AI28+AI59+AI90+AI121+AI152+AI183+AI214+AI245+AI276+AI307+AI338+AI369+AI400+AI431+AI462+AI493+AI524+AI555+AI586+AI617+AI648+AI679+AI710,\"－\")","v":"－"},{"$nulls":4},"合計",null,null,{"$f":"IF($AA711<>\"－\",AQ28+AQ59+AQ90+AQ121+AQ152+AQ183+AQ214+AQ245+AQ276+AQ307+AQ338+AQ369+AQ400+AQ431+AQ462+AQ493+AQ524+AQ555+AQ586+AQ617+AQ648+AQ679+AQ710,\"－\")","v":"－"},{"$nulls":4},"合計",null,null,{"$f":"IF($AA711<>\"－\",AY28+AY59+AY90+AY121+AY152+AY183+AY214+AY245+AY276+AY307+AY338+AY369+AY400+AY431+AY462+AY493+AY524+AY555+AY586+AY617+AY648+AY679+AY710,\"－\")","v":"－"}]
["※協力会社印は出力枚数の都度、押印してください",{"$nulls":33},"今回迄出来高累計",{"$nulls":7},{"$f":"IF(AA711=\"－\",\"－\",AI711+AQ711)","v":"－"}]
[{"$nulls":55},"検   収   日",{"$nulls":4},{"$f":"IF(AA711=\"－\",\"――――\",\"\")","v":"――――"}]
[]
[null,null,"出　来　高　検　収　書　（第",{"$nulls":15},{"$f":"$S$2","v":0},null,"回）",null,null,"( 検収期間",{"$nulls":4},{"$f":"IF(入力画面!$J$4=\"\",\"\",入力画面!$J$4)","v":""},{"$nulls":4},"～",{"$f":"IF(入力画面!$Q$4=\"\",\"\",入力画面!$Q$4)","v":""},{"$nulls":4},"）",{"$nulls":14},"仙 建 工 業 株 式 会 社"]
[{"$nulls":41},"協力会社名"]
["工 事 番 号",{"$nulls":3},{"$f":"$E$4","v":0},{"$nulls":7},"工 事 件 名",{"$nulls":4},{"$f":"$R$4","v":0},{"$nulls":23},{"$f":"$AP$4","v":""},{"$nulls":19},"　印"]
["契   約   日",{"$nulls":3},{"$f":"$E$5","v":""},{"$nulls":7},"工         期",{"$nulls":4},"自",{"$nulls":3},{"$f":"$V$5","v":""},{"$nulls":7},"至",{"$nulls":3},{"$f":"$AH$5","v":""}]
["№","工                         種",{"$nulls":15},"契       約       金       額",{"$nulls":13},"前回迄出来高累計",{"$nulls":7},"今  回  出  来  高",{"$nulls":7},"残            高",{"$nulls":7},"摘                要"]
[{"$nulls":17},"単位",null,"数 量",null,null,"単   価",{"$nulls":3},"金     額",{"$nulls":4},"数 量",null,null,"金     額",{"$nulls":4},"数 量",null,null,"金     額",{"$nulls":4},"数 量",null,null,"金     額"]
[461,{"$f":"入力画面!B471:Q471","v":0},{"$nulls":15},{"$f":"入力画面!R471:S471","v":0},null,{"$f":"IF(入力画面!$T471<>\"\",入力画面!T471,\"\")","v":""},null,null,{"$f":"IF(入力画面!$T471<>\"\",入力画面!W471,\"\")","v":""},{"$nulls":3},{"$f":"IF(入力画面!$T471<>\"\",入力画面!AA471:AE471,\"\")","v":""},{"$nulls":4},{"$f":"IF(入力画面!$T471<>\"\",入力画面!AF471:AH471,\"\")","v":""},null,null,{"$f":"IF(入力画面!$T471<>\"\",入力画面!AI471:AM471,\"\")","v":""},{"$nulls":4},{"$f":"IF(入力画面!$T471<>\"\",入力画面!AN471:AP471,\"\")","v":""},null,null,{"$f":"IF(入力画面!$T471<>\"\",入力画面!AQ471:AU471,\"\")","v":""},{"$nulls":4},{"$f":"IF(入力画面!$T471<>\"\",入力画面!AV471:AX471,\"\")","v":""},null,null,{"$f":"IF(入力画面!$T471<>\"\",入力画面!AY471:BC471,\"\")","v":""},{"$nulls":4},{"$f":"入力画面!BD471:BM471","v":0}]
[462,{"$f":"入力画面!B472:Q472","v":0},{"$nulls":15},{"$f":"入力画面!R472:S472","v":0},null,{"$f":"IF(入力画面!$T472<>\"\",入力画面!T472,\"\")","v":""},null,null,{"$f":"IF(入力画面!$T472<>\"\",入力画面!W472,\"\")","v":""},{"$nulls":3},{"$f":"IF(入力画面!$T472<>\"\",入力画面!AA472:AE472,\"\")","v":""},{"$nulls":4},{"$f":"IF(入力画面!$T472<>\"\",入力画面!AF472:AH472,\"\")","v":""},null,null,{"$f":"IF(入力画面!$T472<>\"\",入力画面!AI472:AM472,\"\")","v":""},{"$nulls":4},{"$f":"IF(入力画面!$T472<>\"\",入力画面!AN472:AP472,\"\")","v":""},null,null,{"$f":"IF(入力画面!$T472<>\"\",入力画面!AQ472:AU472,\"\")","v":""},{"$nulls":4},{"$f":"IF(入力画面!$T472<>\"\",入力画面!AV472:AX472,\"\")","v":""},null,null,{"$f":"IF(入力画面!$T472<>\"\",入力画面!AY472:BC472,\"\")","v":""},{"$nulls":4},{"$f":"入力画面!BD472:BM472","v":0}]
[463,{"$f":"入力画面!B473:Q473","v":0},{"$nulls":15},{"$f":"入力画面!R473:S473","v":0},null,{"$f":"IF(入力画面!$T473<>\"\",入力画面!T473,\"\")","v":""},null,null,{"$f":"IF(入力画面!$T473<>\"\",入力画面!W473,\"\")","v":""},{"$nulls":3},{"$f":"IF(入力画面!$T473<>\"\",入力画面!AA473:AE473,\"\")","v":""},{"$nulls":4},{"$f":"IF(入力画面!$T473<>\"\",入力画面!AF473:AH473,\"\")","v":""},null,null,{"$f":"IF(入力画面!$T473<>\"\",入力画面!AI473:AM473,\"\")","v":""},{"$nulls":4},{"$f":"IF(入力画面!$T473<>\"\",入力画面!AN473:AP473,\"\")","v":""},null,null,{"$f":"IF(入力画面!$T473<>\"\",入力画面!AQ473:AU473,\"\")","v":""},{"$nulls":4},{"$f":"IF(入力画面!$T473<>\"\",入力画面!AV473:AX473,\"\")","v":""},null,null,{"$f":"IF(入力画面!$T473<>\"\",入力画面!AY473:BC473,\"\")","v":""},{"$nulls":4},{"$f":"入力画面!BD473:BM473","v":0}]
[464,{"$f":"入力画面!B474:Q474","v":0},{"$nulls":15},{"$f":"入力画面!R474:S474","v":0},null,{"$f":"IF(入力画面!$T474<>\"\",入力画面!T474,\"\")","v":""},null,null,{"$f":"IF(入力画面!$T474<>\"\",入力画面!W474,\"\")","v":""},{"$nulls":3},{"$f":"IF(入力画面!$T474<>\"\",入力画面!AA474:AE474,\"\")","v":""},{"$nulls":4},{"$f":"IF(入力画面!$T474<>\"\",入力画面!AF474:AH474,\"\")","v":""},null,null,{"$f":"IF(入力画面!$T474<>\"\",入力画面!AI474:AM474,\"\")","v":""},{"$nulls":4},{"$f":"IF(入力画面!$T474<>\"\",入力画面!AN474:AP474,\"\")","v":""},null,null,{"$f":"IF(入力画面!$T474<>\"\",入力画面!AQ474:AU474,\"\")","v":""},{"$nulls":4},{"$f":"IF(入力画面!$T474<>\"\",入力画面!AV474:AX474,\"\")","v":""},null,null,{"$f":"IF(入力画面!$T474<>\"\",入力画面!AY474:BC474,\"\")","v":""},{"$nulls":4},{"$f":"入力画面!BD474:BM474","v":0}]
[465,{"$f":"入力画面!B475:Q475","v":0},{"$nulls":15},{"$f":"入力画面!R475:S475","v":0},null,{"$f":"IF(入力画面!$T475<>\"\",入力画面!T475,\"\")","v":""},null,null,{"$f":"IF(入力画面!$T475<>\"\",入力画面!W475,\"\")","v":""},{"$nulls":3},{"$f":"IF(入力画面!$T475<>\"\",入力画面!AA475:AE475,\"\")","v":""},{"$nulls":4},{"$f":"IF(入力画面!$T475<>\"\",入力画面!AF475:AH475,\"\")","v":""},null,null,{"$f":"IF(入力画面!$T475<>\"\",入力画面!AI475:AM475,\"\")","v":""},{"$nulls":4},{"$f":"IF(入力画面!$T475<>\"\",入力画面!AN475:AP475,\"\")","v":""},null,null,{"$f":"IF(入力画面!$T475<>\"\",入力画面!AQ475:AU475,\"\")","v":""},{"$nulls":4},{"$f":"IF(入力画面!$T475<>\"\",入力画面!AV475:AX475,\"\")","v":""},null,null,{"$f":"IF(入力画面!$T475<>\"\",入力画面!AY475:BC475,\"\")","v":""},{"$nulls":4},{"$f":"入力画面!BD475:BM475","v":0}]
[466,{"$f":"入力画面!B476:Q476","v":0},{"$nulls":15},{"$f":"入力画面!R476:S476","v":0},null,{"$f":"IF(入力画面!$T476<>\"\",入力画面!T476,\"\")","v":""},null,null,{"$f":"IF(入力画面!$T476<>\"\",入力画面!W476,\"\")","v":""},{"$nulls":3},{"$f":"IF(入力画面!$T476<>\"\",入力画面!AA476:AE476,\"\")","v":""},{"$nulls":4},{"$f":"IF(入力画面!$T476<>\"\",入力画面!AF476:AH476,\"\")","v":""},null,null,{"$f":"IF(入力画面!$T476<>\"\",入力画面!AI476:AM476,\"\")","v":""},{"$nulls":4},{"$f":"IF(入力画面!$T476<>\"\",入力画面!AN476:AP476,\"\")","v":""},null,null,{"$f":"IF(入力画面!$T476<>\"\",入力画面!AQ476:AU476,\"\")","v":""},{"$nulls":4},{"$f":"IF(入力画面!$T476<>\"\",入力画面!AV476:AX476,\"\")","v":""},null,null,{"$f":"IF(入力画面!$T476<>\"\",入力画面!AY476:BC476,\"\")","v":""},{"$nulls":4},{"$f":"入力画面!BD476:BM476","v":0}]
[467,{"$f":"入力画面!B477:Q477","v":0},{"$nulls":15},{"$f":"入力画面!R477:S477","v":0},null,{"$f":"IF(入力画面!$T477<>\"\",入力画面!T477,\"\")","v":""},null,null,{"$f":"IF(入力画面!$T477<>\"\",入力画面!W477,\"\")","v":""},{"$nulls":3},{"$f":"IF(入力画面!$T477<>\"\",入力画面!AA477:AE477,\"\")","v":""},{"$nulls":4},{"$f":"IF(入力画面!$T477<>\"\",入力画面!AF477:AH477,\"\")","v":""},null,null,{"$f":"IF(入力画面!$T477<>\"\",入力画面!AI477:AM477,\"\")","v":""},{"$nulls":4},{"$f":"IF(入力画面!$T477<>\"\",入力画面!AN477:AP477,\"\")","v":""},null,null,{"$f":"IF(入力画面!$T477<>\"\",入力画面!AQ477:AU477,\"\")","v":""},{"$nulls":4},{"$f":"IF(入力画面!$T477<>\"\",入力画面!AV477:AX477,\"\")","v":""},null,null,{"$f":"IF(入力画面!$T477<>\"\",入力画面!AY477:BC477,\"\")","v":""},{"$nulls":4},{"$f":"入力画面!BD477:BM477","v":0}]
[468,{"$f":"入力画面!B478:Q478","v":0},{"$nulls":15},{"$f":"入力画面!R478:S478","v":0},null,{"$f":"IF(入力画面!$T478<>\"\",入力画面!T478,\"\")","v":""},null,null,{"$f":"IF(入力画面!$T478<>\"\",入力画面!W478,\"\")","v":""},{"$nulls":3},{"$f":"IF(入力画面!$T478<>\"\",入力画面!AA478:AE478,\"\")","v":""},{"$nulls":4},{"$f":"IF(入力画面!$T478<>\"\",入力画面!AF478:AH478,\"\")","v":""},null,null,{"$f":"IF(入力画面!$T478<>\"\",入力画面!AI478:AM478,\"\")","v":""},{"$nulls":4},{"$f":"IF(入力画面!$T478<>\"\",入力画面!AN478:AP478,\"\")","v":""},null,null,{"$f":"IF(入力画面!$T478<>\"\",入力画面!AQ478:AU478,\"\")","v":""},{"$nulls":4},{"$f":"IF(入力画面!$T478<>\"\",入力画面!AV478:AX478,\"\")","v":""},null,null,{"$f":"IF(入力画面!$T478<>\"\",入力画面!AY478:BC478,\"\")","v":""},{"$nulls":4},{"$f":"入力画面!BD478:BM478","v":0}]
[469,{"$f":"入力画面!B479:Q479","v":0},{"$nulls":15},{"$f":"入力画面!R479:S479","v":0},null,{"$f":"IF(入力画面!$T479<>\"\",入力画面!T479,\"\")","v":""},null,null,{"$f":"IF(入力画面!$T479<>\"\",入力画面!W479,\"\")","v":""},{"$nulls":3},{"$f":"IF(入力画面!$T479<>\"\",入力画面!AA479:AE479,\"\")","v":""},{"$nulls":4},{"$f":"IF(入力画面!$T479<>\"\",入力画面!AF479:AH479,\"\")","v":""},null,null,{"$f":"IF(入力画面!$T479<>\"\",入力画面!AI479:AM479,\"\")","v":""},{"$nulls":4},{"$f":"IF(入力画面!$T479<>\"\",入力画面!AN479:AP479,\"\")","v":""},null,null,{"$f":"IF(入力画面!$T479<>\"\",入力画面!AQ479:AU479,\"\")","v":""},{"$nulls":4},{"$f":"IF(入力画面!$T479<>\"\",入力画面!AV479:AX479,\"\")","v":""},null,null,{"$f":"IF(入力画面!$T479<>\"\",入力画面!AY479:BC479,\"\")","v":""},{"$nulls":4},{"$f":"入力画面!BD479:BM479","v":0}]
[470,{"$f":"入力画面!B480:Q480","v":0},{"$nulls":15},{"$f":"入力画面!R480:S480","v":0},null,{"$f":"IF(入力画面!$T480<>\"\",入力画面!T480,\"\")","v":""},null,null,{"$f":"IF(入力画面!$T480<>\"\",入力画面!W480,\"\")","v":""},{"$nulls":3},{"$f":"IF(入力画面!$T480<>\"\",入力画面!AA480:AE480,\"\")","v":""},{"$nulls":4},{"$f":"IF(入力画面!$T480<>\"\",入力画面!AF480:AH480,\"\")","v":""},null,null,{"$f":"IF(入力画面!$T480<>\"\",入力画面!AI480:AM480,\"\")","v":""},{"$nulls":4},{"$f":"IF(入力画面!$T480<>\"\",入力画面!AN480:AP480,\"\")","v":""},null,null,{"$f":"IF(入力画面!$T480<>\"\",入力画面!AQ480:AU480,\"\")","v":""},{"$nulls":4},{"$f":"IF(入力画面!$T480<>\"\",入力画面!AV480:AX480,\"\")","v":""},null,null,{"$f":"IF(入力画面!$T480<>\"\",入力画面!AY480:BC480,\"\")","v":""},{"$nulls":4},{"$f":"入力画面!BD480:BM480","v":0}]
[471,{"$f":"入力画面!B481:Q481","v":0},{"$nulls":15},{"$f":"入力画面!R481:S481","v":0},null,{"$f":"IF(入力画面!$T481<>\"\",入力画面!T481,\"\")","v":""},null,null,{"$f":"IF(入力画面!$T481<>\"\",入力画面!W481,\"\")","v":""},{"$nulls":3},{"$f":"IF(入力画面!$T481<>\"\",入力画面!AA481:AE481,\"\")","v":""},{"$nulls":4},{"$f":"IF(入力画面!$T481<>\"\",入力画面!AF481:AH481,\"\")","v":""},null,null,{"$f":"IF(入力画面!$T481<>\"\",入力画面!AI481:AM481,\"\")","v":""},{"$nulls":4},{"$f":"IF(入力画面!$T481<>\"\",入力画面!AN481:AP481,\"\")","v":""},null,null,{"$f":"IF(入力画面!$T481<>\"\",入力画面!AQ481:AU481,\"\")","v":""},{"$nulls":4},{"$f":"IF(入力画面!$T481<>\"\",入力画面!AV481:AX481,\"\")","v":""},null,null,{"$f":"IF(入力画面!$T481<>\"\",入力画面!AY481:BC481,\"\")","v":""},{"$nulls":4},{"$f":"入力画面!BD481:BM481","v":0}]
[472,{"$f":"入力画面!B482:Q482","v":0},{"$nulls":15},{"$f":"入力画面!R482:S482","v":0},null,{"$f":"IF(入力画面!$T482<>\"\",入力画面!T482,\"\")","v":""},null,null,{"$f":"IF(入力画面!$T482<>\"\",入力画面!W482,\"\")","v":""},{"$nulls":3},{"$f":"IF(入力画面!$T482<>\"\",入力画面!AA482:AE482,\"\")","v":""},{"$nulls":4},{"$f":"IF(入力画面!$T482<>\"\",入力画面!AF482:AH482,\"\")","v":""},null,null,{"$f":"IF(入力画面!$T482<>\"\",入力画面!AI482:AM482,\"\")","v":""},{"$nulls":4},{"$f":"IF(入力画面!$T482<>\"\",入力画面!AN482:AP482,\"\")","v":""},null,null,{"$f":"IF(入力画面!$T482<>\"\",入力画面!AQ482:AU482,\"\")","v":""},{"$nulls":4},{"$f":"IF(入力画面!$T482<>\"\",入力画面!AV482:AX482,\"\")","v":""},null,null,{"$f":"IF(入力画面!$T482<>\"\",入力画面!AY482:BC482,\"\")","v":""},{"$nulls":4},{"$f":"入力画面!BD482:BM482","v":0}]
[473,{"$f":"入力画面!B483:Q483","v":0},{"$nulls":15},{"$f":"入力画面!R483:S483","v":0},null,{"$f":"IF(入力画面!$T483<>\"\",入力画面!T483,\"\")","v":""},null,null,{"$f":"IF(入力画面!$T483<>\"\",入力画面!W483,\"\")","v":""},{"$nulls":3},{"$f":"IF(入力画面!$T483<>\"\",入力画面!AA483:AE483,\"\")","v":""},{"$nulls":4},{"$f":"IF(入力画面!$T483<>\"\",入力画面!AF483:AH483,\"\")","v":""},null,null,{"$f":"IF(入力画面!$T483<>\"\",入力画面!AI483:AM483,\"\")","v":""},{"$nulls":4},{"$f":"IF(入力画面!$T483<>\"\",入力画面!AN483:AP483,\"\")","v":""},null,null,{"$f":"IF(入力画面!$T483<>\"\",入力画面!AQ483:AU483,\"\")","v":""},{"$nulls":4},{"$f":"IF(入力画面!$T483<>\"\",入力画面!AV483:AX483,\"\")","v":""},null,null,{"$f":"IF(入力画面!$T483<>\"\",入力画面!AY483:BC483,\"\")","v":""},{"$nulls":4},{"$f":"入力画面!BD483:BM483","v":0}]
[474,{"$f":"入力画面!B484:Q484","v":0},{"$nulls":15},{"$f":"入力画面!R484:S484","v":0},null,{"$f":"IF(入力画面!$T484<>\"\",入力画面!T484,\"\")","v":""},null,null,{"$f":"IF(入力画面!$T484<>\"\",入力画面!W484,\"\")","v":""},{"$nulls":3},{"$f":"IF(入力画面!$T484<>\"\",入力画面!AA484:AE484,\"\")","v":""},{"$nulls":4},{"$f":"IF(入力画面!$T484<>\"\",入力画面!AF484:AH484,\"\")","v":""},null,null,{"$f":"IF(入力画面!$T484<>\"\",入力画面!AI484:AM484,\"\")","v":""},{"$nulls":4},{"$f":"IF(入力画面!$T484<>\"\",入力画面!AN484:AP484,\"\")","v":""},null,null,{"$f":"IF(入力画面!$T484<>\"\",入力画面!AQ484:AU484,\"\")","v":""},{"$nulls":4},{"$f":"IF(入力画面!$T484<>\"\",入力画面!AV484:AX484,\"\")","v":""},null,null,{"$f":"IF(入力画面!$T484<>\"\",入力画面!AY484:BC484,\"\")","v":""},{"$nulls":4},{"$f":"入力画面!BD484:BM484","v":0}]
[475,{"$f":"入力画面!B485:Q485","v":0},{"$nulls":15},{"$f":"入力画面!R485:S485","v":0},null,{"$f":"IF(入力画面!$T485<>\"\",入力画面!T485,\"\")","v":""},null,null,{"$f":"IF(入力画面!$T485<>\"\",入力画面!W485,\"\")","v":""},{"$nulls":3},{"$f":"IF(入力画面!$T485<>\"\",入力画面!AA485:AE485,\"\")","v":""},{"$nulls":4},{"$f":"IF(入力画面!$T485<>\"\",入力画面!AF485:AH485,\"\")","v":""},null,null,{"$f":"IF(入力画面!$T485<>\"\",入力画面!AI485:AM485,\"\")","v":""},{"$nulls":4},{"$f":"IF(入力画面!$T485<>\"\",入力画面!AN485:AP485,\"\")","v":""},null,null,{"$f":"IF(入力画面!$T485<>\"\",入力画面!AQ485:AU485,\"\")","v":""},{"$nulls":4},{"$f":"IF(入力画面!$T485<>\"\",入力画面!AV485:AX485,\"\")","v":""},null,null,{"$f":"IF(入力画面!$T485<>\"\",入力画面!AY485:BC485,\"\")","v":""},{"$nulls":4},{"$f":"入力画面!BD485:BM485","v":0}]
[476,{"$f":"入力画面!B486:Q486","v":0},{"$nulls":15},{"$f":"入力画面!R486:S486","v":0},null,{"$f":"IF(入力画面!$T486<>\"\",入力画面!T486,\"\")","v":""},null,null,{"$f":"IF(入力画面!$T486<>\"\",入力画面!W486,\"\")","v":""},{"$nulls":3},{"$f":"IF(入力画面!$T486<>\"\",入力画面!AA486:AE486,\"\")","v":""},{"$nulls":4},{"$f":"IF(入力画面!$T486<>\"\",入力画面!AF486:AH486,\"\")","v":""},null,null,{"$f":"IF(入力画面!$T486<>\"\",入力画面!AI486:AM486,\"\")","v":""},{"$nulls":4},{"$f":"IF(入力画面!$T486<>\"\",入力画面!AN486:AP486,\"\")","v":""},null,null,{"$f":"IF(入力画面!$T486<>\"\",入力画面!AQ486:AU486,\"\")","v":""},{"$nulls":4},{"$f":"IF(入力画面!$T486<>\"\",入力画面!AV486:AX486,\"\")","v":""},null,null,{"$f":"IF(入力画面!$T486<>\"\",入力画面!AY486:BC486,\"\")","v":""},{"$nulls":4},{"$f":"入力画面!BD486:BM486","v":0}]
[477,{"$f":"入力画面!B487:Q487","v":0},{"$nulls":15},{"$f":"入力画面!R487:S487","v":0},null,{"$f":"IF(入力画面!$T487<>\"\",入力画面!T487,\"\")","v":""},null,null,{"$f":"IF(入力画面!$T487<>\"\",入力画面!W487,\"\")","v":""},{"$nulls":3},{"$f":"IF(入力画面!$T487<>\"\",入力画面!AA487:AE487,\"\")","v":""},{"$nulls":4},{"$f":"IF(入力画面!$T487<>\"\",入力画面!AF487:AH487,\"\")","v":""},null,null,{"$f":"IF(入力画面!$T487<>\"\",入力画面!AI487:AM487,\"\")","v":""},{"$nulls":4},{"$f":"IF(入力画面!$T487<>\"\",入力画面!AN487:AP487,\"\")","v":""},null,null,{"$f":"IF(入力画面!$T487<>\"\",入力画面!AQ487:AU487,\"\")","v":""},{"$nulls":4},{"$f":"IF(入力画面!$T487<>\"\",入力画面!AV487:AX487,\"\")","v":""},null,null,{"$f":"IF(入力画面!$T487<>\"\",入力画面!AY487:BC487,\"\")","v":""},{"$nulls":4},{"$f":"入力画面!BD487:BM487","v":0}]
[478,{"$f":"入力画面!B488:Q488","v":0},{"$nulls":15},{"$f":"入力画面!R488:S488","v":0},null,{"$f":"IF(入力画面!$T488<>\"\",入力画面!T488,\"\")","v":""},null,null,{"$f":"IF(入力画面!$T488<>\"\",入力画面!W488,\"\")","v":""},{"$nulls":3},{"$f":"IF(入力画面!$T488<>\"\",入力画面!AA488:AE488,\"\")","v":""},{"$nulls":4},{"$f":"IF(入力画面!$T488<>\"\",入力画面!AF488:AH488,\"\")","v":""},null,null,{"$f":"IF(入力画面!$T488<>\"\",入力画面!AI488:AM488,\"\")","v":""},{"$nulls":4},{"$f":"IF(入力画面!$T488<>\"\",入力画面!AN488:AP488,\"\")","v":""},null,null,{"$f":"IF(入力画面!$T488<>\"\",入力画面!AQ488:AU488,\"\")","v":""},{"$nulls":4},{"$f":"IF(入力画面!$T488<>\"\",入力画面!AV488:AX488,\"\")","v":""},null,null,{"$f":"IF(入力画面!$T488<>\"\",入力画面!AY488:BC488,\"\")","v":""},{"$nulls":4},{"$f":"入力画面!BD488:BM488","v":0}]
[479,{"$f":"入力画面!B489:Q489","v":0},{"$nulls":15},{"$f":"入力画面!R489:S489","v":0},null,{"$f":"IF(入力画面!$T489<>\"\",入力画面!T489,\"\")","v":""},null,null,{"$f":"IF(入力画面!$T489<>\"\",入力画面!W489,\"\")","v":""},{"$nulls":3},{"$f":"IF(入力画面!$T489<>\"\",入力画面!AA489:AE489,\"\")","v":""},{"$nulls":4},{"$f":"IF(入力画面!$T489<>\"\",入力画面!AF489:AH489,\"\")","v":""},null,null,{"$f":"IF(入力画面!$T489<>\"\",入力画面!AI489:AM489,\"\")","v":""},{"$nulls":4},{"$f":"IF(入力画面!$T489<>\"\",入力画面!AN489:AP489,\"\")","v":""},null,null,{"$f":"IF(入力画面!$T489<>\"\",入力画面!AQ489:AU489,\"\")","v":""},{"$nulls":4},{"$f":"IF(入力画面!$T489<>\"\",入力画面!AV489:AX489,\"\")","v":""},null,null,{"$f":"IF(入力画面!$T489<>\"\",入力画面!AY489:BC489,\"\")","v":""},{"$nulls":4},{"$f":"入力画面!BD489:BM489","v":0}]
[480,{"$f":"入力画面!B490:Q490","v":0},{"$nulls":15},{"$f":"入力画面!R490:S490","v":0},null,{"$f":"IF(入力画面!$T490<>\"\",入力画面!T490,\"\")","v":""},null,null,{"$f":"IF(入力画面!$T490<>\"\",入力画面!W490,\"\")","v":""},{"$nulls":3},{"$f":"IF(入力画面!$T490<>\"\",入力画面!AA490:AE490,\"\")","v":""},{"$nulls":4},{"$f":"IF(入力画面!$T490<>\"\",入力画面!AF490:AH490,\"\")","v":""},null,null,{"$f":"IF(入力画面!$T490<>\"\",入力画面!AI490:AM490,\"\")","v":""},{"$nulls":4},{"$f":"IF(入力画面!$T490<>\"\",入力画面!AN490:AP490,\"\")","v":""},null,null,{"$f":"IF(入力画面!$T490<>\"\",入力画面!AQ490:AU490,\"\")","v":""},{"$nulls":4},{"$f":"IF(入力画面!$T490<>\"\",入力画面!AV490:AX490,\"\")","v":""},null,null,{"$f":"IF(入力画面!$T490<>\"\",入力画面!AY490:BC490,\"\")","v":""},{"$nulls":4},{"$f":"入力画面!BD490:BM490","v":0}]
["※消費税、保留金の計算は別紙、請求書で行ってください",{"$nulls":21},"小計",{"$nulls":3},{"$f":"SUM(AA721:AE740)","v":{"v":0,"d":"0 "}},{"$nulls":4},"小計",null,null,{"$f":"SUM(AI721:AM740)","v":{"v":0,"d":"0 "}},{"$nulls":4},"小計",null,null,{"$f":"SUM(AQ721:AU740)","v":{"v":0,"d":"0 "}},{"$nulls":4},"小計",null,null,{"$f":"SUM(AY721:BC740)","v":{"v":0,"d":"0 "}},{"$nulls":4},"担　当　者　　　　確　認　印",{"$nulls":4},{"$f":"IF(AA742=\"－\",\"―――――\",\"\")","v":"―――――"}]
["※完成後一括払いであっても出来高検収書を作成・添付してください",{"$nulls":21},"合計",{"$nulls":3},{"$f":"IF(AND(OR(AA710<>0,AI710<>0,AQ710<>0,AY710<>0),AND(AA711=\"－\",AA772=0,AI772=0,AQ772=0,AY772=0)),AA28+AA59+AA90+AA121+AA152+AA183+AA214+AA245+AA276+AA307+AA338+AA369+AA400+AA431+AA462+AA493+AA524+AA555+AA586+AA617+AA648+AA679+AA710+AA741,\"－\")","v":"－"},{"$nulls":4},"合計",null,null,{"$f":"IF($AA742<>\"－\",AI28+AI59+AI90+AI121+AI152+AI183+AI214+AI245+AI276+AI307+AI338+AI369+AI400+AI431+AI462+AI493+AI524+AI555+AI586+AI617+AI648+AI679+AI710+AI741,\"－\")","v":"－"},{"$nulls":4},"合計",null,null,{"$f":"IF($AA742<>\"－\",AQ28+AQ59+AQ90+AQ121+AQ152+AQ183+AQ214+AQ245+AQ276+AQ307+AQ338+AQ369+AQ400+AQ431+AQ462+AQ493+AQ524+AQ555+AQ586+AQ617+AQ648+AQ679+AQ710+AQ741,\"－\")","v":"－"},{"$nulls":4},"合計",null,null,{"$f":"IF($AA742<>\"－\",AY28+AY59+AY90+AY121+AY152+AY183+AY214+AY245+AY276+AY307+AY338+AY369+AY400+AY431+AY462+AY493+AY524+AY555+AY586+AY617+AY648+AY679+AY710+AY741,\"－\")","v":"－"}]
["※協力会社印は出力枚数の都度、押印してください",{"$nulls":33},"今回迄出来高累計",{"$nulls":7},{"$f":"IF(AA742=\"－\",\"－\",AI742+AQ742)","v":"－"}]
[{"$nulls":55},"検   収   日",{"$nulls":4},{"$f":"IF(AA742=\"－\",\"――――\",\"\")","v":"――――"}]
[]
[null,null,"出　来　高　検　収　書　（第",{"$nulls":15},{"$f":"$S$2","v":0},null,"回）",null,null,"( 検収期間",{"$nulls":4},{"$f":"IF(入力画面!$J$4=\"\",\"\",入力画面!$J$4)","v":""},{"$nulls":4},"～",{"$f":"IF(入力画面!$Q$4=\"\",\"\",入力画面!$Q$4)","v":""},{"$nulls":4},"）",{"$nulls":14},"仙 建 工 業 株 式 会 社"]
[{"$nulls":41},"協力会社名"]
["工 事 番 号",{"$nulls":3},{"$f":"$E$4","v":0},{"$nulls":7},"工 事 件 名",{"$nulls":4},{"$f":"$R$4","v":0},{"$nulls":23},{"$f":"$AP$4","v":""},{"$nulls":19},"　印"]
["契   約   日",{"$nulls":3},{"$f":"$E$5","v":""},{"$nulls":7},"工         期",{"$nulls":4},"自",{"$nulls":3},{"$f":"$V$5","v":""},{"$nulls":7},"至",{"$nulls":3},{"$f":"$AH$5","v":""}]
["№","工                         種",{"$nulls":15},"契       約       金       額",{"$nulls":13},"前回迄出来高累計",{"$nulls":7},"今  回  出  来  高",{"$nulls":7},"残            高",{"$nulls":7},"摘                要"]
[{"$nulls":17},"単位",null,"数 量",null,null,"単   価",{"$nulls":3},"金     額",{"$nulls":4},"数 量",null,null,"金     額",{"$nulls":4},"数 量",null,null,"金     額",{"$nulls":4},"数 量",null,null,"金     額"]
[481,{"$f":"入力画面!B491:Q491","v":0},{"$nulls":15},{"$f":"入力画面!R491:S491","v":0},null,{"$f":"IF(入力画面!$T491<>\"\",入力画面!T491,\"\")","v":""},null,null,{"$f":"IF(入力画面!$T491<>\"\",入力画面!W491,\"\")","v":""},{"$nulls":3},{"$f":"IF(入力画面!$T491<>\"\",入力画面!AA491:AE491,\"\")","v":""},{"$nulls":4},{"$f":"IF(入力画面!$T491<>\"\",入力画面!AF491:AH491,\"\")","v":""},null,null,{"$f":"IF(入力画面!$T491<>\"\",入力画面!AI491:AM491,\"\")","v":""},{"$nulls":4},{"$f":"IF(入力画面!$T491<>\"\",入力画面!AN491:AP491,\"\")","v":""},null,null,{"$f":"IF(入力画面!$T491<>\"\",入力画面!AQ491:AU491,\"\")","v":""},{"$nulls":4},{"$f":"IF(入力画面!$T491<>\"\",入力画面!AV491:AX491,\"\")","v":""},null,null,{"$f":"IF(入力画面!$T491<>\"\",入力画面!AY491:BC491,\"\")","v":""},{"$nulls":4},{"$f":"入力画面!BD491:BM491","v":0}]
[482,{"$f":"入力画面!B492:Q492","v":0},{"$nulls":15},{"$f":"入力画面!R492:S492","v":0},null,{"$f":"IF(入力画面!$T492<>\"\",入力画面!T492,\"\")","v":""},null,null,{"$f":"IF(入力画面!$T492<>\"\",入力画面!W492,\"\")","v":""},{"$nulls":3},{"$f":"IF(入力画面!$T492<>\"\",入力画面!AA492:AE492,\"\")","v":""},{"$nulls":4},{"$f":"IF(入力画面!$T492<>\"\",入力画面!AF492:AH492,\"\")","v":""},null,null,{"$f":"IF(入力画面!$T492<>\"\",入力画面!AI492:AM492,\"\")","v":""},{"$nulls":4},{"$f":"IF(入力画面!$T492<>\"\",入力画面!AN492:AP492,\"\")","v":""},null,null,{"$f":"IF(入力画面!$T492<>\"\",入力画面!AQ492:AU492,\"\")","v":""},{"$nulls":4},{"$f":"IF(入力画面!$T492<>\"\",入力画面!AV492:AX492,\"\")","v":""},null,null,{"$f":"IF(入力画面!$T492<>\"\",入力画面!AY492:BC492,\"\")","v":""},{"$nulls":4},{"$f":"入力画面!BD492:BM492","v":0}]
[483,{"$f":"入力画面!B493:Q493","v":0},{"$nulls":15},{"$f":"入力画面!R493:S493","v":0},null,{"$f":"IF(入力画面!$T493<>\"\",入力画面!T493,\"\")","v":""},null,null,{"$f":"IF(入力画面!$T493<>\"\",入力画面!W493,\"\")","v":""},{"$nulls":3},{"$f":"IF(入力画面!$T493<>\"\",入力画面!AA493:AE493,\"\")","v":""},{"$nulls":4},{"$f":"IF(入力画面!$T493<>\"\",入力画面!AF493:AH493,\"\")","v":""},null,null,{"$f":"IF(入力画面!$T493<>\"\",入力画面!AI493:AM493,\"\")","v":""},{"$nulls":4},{"$f":"IF(入力画面!$T493<>\"\",入力画面!AN493:AP493,\"\")","v":""},null,null,{"$f":"IF(入力画面!$T493<>\"\",入力画面!AQ493:AU493,\"\")","v":""},{"$nulls":4},{"$f":"IF(入力画面!$T493<>\"\",入力画面!AV493:AX493,\"\")","v":""},null,null,{"$f":"IF(入力画面!$T493<>\"\",入力画面!AY493:BC493,\"\")","v":""},{"$nulls":4},{"$f":"入力画面!BD493:BM493","v":0}]
[484,{"$f":"入力画面!B494:Q494","v":0},{"$nulls":15},{"$f":"入力画面!R494:S494","v":0},null,{"$f":"IF(入力画面!$T494<>\"\",入力画面!T494,\"\")","v":""},null,null,{"$f":"IF(入力画面!$T494<>\"\",入力画面!W494,\"\")","v":""},{"$nulls":3},{"$f":"IF(入力画面!$T494<>\"\",入力画面!AA494:AE494,\"\")","v":""},{"$nulls":4},{"$f":"IF(入力画面!$T494<>\"\",入力画面!AF494:AH494,\"\")","v":""},null,null,{"$f":"IF(入力画面!$T494<>\"\",入力画面!AI494:AM494,\"\")","v":""},{"$nulls":4},{"$f":"IF(入力画面!$T494<>\"\",入力画面!AN494:AP494,\"\")","v":""},null,null,{"$f":"IF(入力画面!$T494<>\"\",入力画面!AQ494:AU494,\"\")","v":""},{"$nulls":4},{"$f":"IF(入力画面!$T494<>\"\",入力画面!AV494:AX494,\"\")","v":""},null,null,{"$f":"IF(入力画面!$T494<>\"\",入力画面!AY494:BC494,\"\")","v":""},{"$nulls":4},{"$f":"入力画面!BD494:BM494","v":0}]
[485,{"$f":"入力画面!B495:Q495","v":0},{"$nulls":15},{"$f":"入力画面!R495:S495","v":0},null,{"$f":"IF(入力画面!$T495<>\"\",入力画面!T495,\"\")","v":""},null,null,{"$f":"IF(入力画面!$T495<>\"\",入力画面!W495,\"\")","v":""},{"$nulls":3},{"$f":"IF(入力画面!$T495<>\"\",入力画面!AA495:AE495,\"\")","v":""},{"$nulls":4},{"$f":"IF(入力画面!$T495<>\"\",入力画面!AF495:AH495,\"\")","v":""},null,null,{"$f":"IF(入力画面!$T495<>\"\",入力画面!AI495:AM495,\"\")","v":""},{"$nulls":4},{"$f":"IF(入力画面!$T495<>\"\",入力画面!AN495:AP495,\"\")","v":""},null,null,{"$f":"IF(入力画面!$T495<>\"\",入力画面!AQ495:AU495,\"\")","v":""},{"$nulls":4},{"$f":"IF(入力画面!$T495<>\"\",入力画面!AV495:AX495,\"\")","v":""},null,null,{"$f":"IF(入力画面!$T495<>\"\",入力画面!AY495:BC495,\"\")","v":""},{"$nulls":4},{"$f":"入力画面!BD495:BM495","v":0}]
[486,{"$f":"入力画面!B496:Q496","v":0},{"$nulls":15},{"$f":"入力画面!R496:S496","v":0},null,{"$f":"IF(入力画面!$T496<>\"\",入力画面!T496,\"\")","v":""},null,null,{"$f":"IF(入力画面!$T496<>\"\",入力画面!W496,\"\")","v":""},{"$nulls":3},{"$f":"IF(入力画面!$T496<>\"\",入力画面!AA496:AE496,\"\")","v":""},{"$nulls":4},{"$f":"IF(入力画面!$T496<>\"\",入力画面!AF496:AH496,\"\")","v":""},null,null,{"$f":"IF(入力画面!$T496<>\"\",入力画面!AI496:AM496,\"\")","v":""},{"$nulls":4},{"$f":"IF(入力画面!$T496<>\"\",入力画面!AN496:AP496,\"\")","v":""},null,null,{"$f":"IF(入力画面!$T496<>\"\",入力画面!AQ496:AU496,\"\")","v":""},{"$nulls":4},{"$f":"IF(入力画面!$T496<>\"\",入力画面!AV496:AX496,\"\")","v":""},null,null,{"$f":"IF(入力画面!$T496<>\"\",入力画面!AY496:BC496,\"\")","v":""},{"$nulls":4},{"$f":"入力画面!BD496:BM496","v":0}]
[487,{"$f":"入力画面!B497:Q497","v":0},{"$nulls":15},{"$f":"入力画面!R497:S497","v":0},null,{"$f":"IF(入力画面!$T497<>\"\",入力画面!T497,\"\")","v":""},null,null,{"$f":"IF(入力画面!$T497<>\"\",入力画面!W497,\"\")","v":""},{"$nulls":3},{"$f":"IF(入力画面!$T497<>\"\",入力画面!AA497:AE497,\"\")","v":""},{"$nulls":4},{"$f":"IF(入力画面!$T497<>\"\",入力画面!AF497:AH497,\"\")","v":""},null,null,{"$f":"IF(入力画面!$T497<>\"\",入力画面!AI497:AM497,\"\")","v":""},{"$nulls":4},{"$f":"IF(入力画面!$T497<>\"\",入力画面!AN497:AP497,\"\")","v":""},null,null,{"$f":"IF(入力画面!$T497<>\"\",入力画面!AQ497:AU497,\"\")","v":""},{"$nulls":4},{"$f":"IF(入力画面!$T497<>\"\",入力画面!AV497:AX497,\"\")","v":""},null,null,{"$f":"IF(入力画面!$T497<>\"\",入力画面!AY497:BC497,\"\")","v":""},{"$nulls":4},{"$f":"入力画面!BD497:BM497","v":0}]
[488,{"$f":"入力画面!B498:Q498","v":0},{"$nulls":15},{"$f":"入力画面!R498:S498","v":0},null,{"$f":"IF(入力画面!$T498<>\"\",入力画面!T498,\"\")","v":""},null,null,{"$f":"IF(入力画面!$T498<>\"\",入力画面!W498,\"\")","v":""},{"$nulls":3},{"$f":"IF(入力画面!$T498<>\"\",入力画面!AA498:AE498,\"\")","v":""},{"$nulls":4},{"$f":"IF(入力画面!$T498<>\"\",入力画面!AF498:AH498,\"\")","v":""},null,null,{"$f":"IF(入力画面!$T498<>\"\",入力画面!AI498:AM498,\"\")","v":""},{"$nulls":4},{"$f":"IF(入力画面!$T498<>\"\",入力画面!AN498:AP498,\"\")","v":""},null,null,{"$f":"IF(入力画面!$T498<>\"\",入力画面!AQ498:AU498,\"\")","v":""},{"$nulls":4},{"$f":"IF(入力画面!$T498<>\"\",入力画面!AV498:AX498,\"\")","v":""},null,null,{"$f":"IF(入力画面!$T498<>\"\",入力画面!AY498:BC498,\"\")","v":""},{"$nulls":4},{"$f":"入力画面!BD498:BM498","v":0}]
[489,{"$f":"入力画面!B499:Q499","v":0},{"$nulls":15},{"$f":"入力画面!R499:S499","v":0},null,{"$f":"IF(入力画面!$T499<>\"\",入力画面!T499,\"\")","v":""},null,null,{"$f":"IF(入力画面!$T499<>\"\",入力画面!W499,\"\")","v":""},{"$nulls":3},{"$f":"IF(入力画面!$T499<>\"\",入力画面!AA499:AE499,\"\")","v":""},{"$nulls":4},{"$f":"IF(入力画面!$T499<>\"\",入力画面!AF499:AH499,\"\")","v":""},null,null,{"$f":"IF(入力画面!$T499<>\"\",入力画面!AI499:AM499,\"\")","v":""},{"$nulls":4},{"$f":"IF(入力画面!$T499<>\"\",入力画面!AN499:AP499,\"\")","v":""},null,null,{"$f":"IF(入力画面!$T499<>\"\",入力画面!AQ499:AU499,\"\")","v":""},{"$nulls":4},{"$f":"IF(入力画面!$T499<>\"\",入力画面!AV499:AX499,\"\")","v":""},null,null,{"$f":"IF(入力画面!$T499<>\"\",入力画面!AY499:BC499,\"\")","v":""},{"$nulls":4},{"$f":"入力画面!BD499:BM499","v":0}]
[490,{"$f":"入力画面!B500:Q500","v":0},{"$nulls":15},{"$f":"入力画面!R500:S500","v":0},null,{"$f":"IF(入力画面!$T500<>\"\",入力画面!T500,\"\")","v":""},null,null,{"$f":"IF(入力画面!$T500<>\"\",入力画面!W500,\"\")","v":""},{"$nulls":3},{"$f":"IF(入力画面!$T500<>\"\",入力画面!AA500:AE500,\"\")","v":""},{"$nulls":4},{"$f":"IF(入力画面!$T500<>\"\",入力画面!AF500:AH500,\"\")","v":""},null,null,{"$f":"IF(入力画面!$T500<>\"\",入力画面!AI500:AM500,\"\")","v":""},{"$nulls":4},{"$f":"IF(入力画面!$T500<>\"\",入力画面!AN500:AP500,\"\")","v":""},null,null,{"$f":"IF(入力画面!$T500<>\"\",入力画面!AQ500:AU500,\"\")","v":""},{"$nulls":4},{"$f":"IF(入力画面!$T500<>\"\",入力画面!AV500:AX500,\"\")","v":""},null,null,{"$f":"IF(入力画面!$T500<>\"\",入力画面!AY500:BC500,\"\")","v":""},{"$nulls":4},{"$f":"入力画面!BD500:BM500","v":0}]
[491,{"$f":"入力画面!B501:Q501","v":0},{"$nulls":15},{"$f":"入力画面!R501:S501","v":0},null,{"$f":"IF(入力画面!$T501<>\"\",入力画面!T501,\"\")","v":""},null,null,{"$f":"IF(入力画面!$T501<>\"\",入力画面!W501,\"\")","v":""},{"$nulls":3},{"$f":"IF(入力画面!$T501<>\"\",入力画面!AA501:AE501,\"\")","v":""},{"$nulls":4},{"$f":"IF(入力画面!$T501<>\"\",入力画面!AF501:AH501,\"\")","v":""},null,null,{"$f":"IF(入力画面!$T501<>\"\",入力画面!AI501:AM501,\"\")","v":""},{"$nulls":4},{"$f":"IF(入力画面!$T501<>\"\",入力画面!AN501:AP501,\"\")","v":""},null,null,{"$f":"IF(入力画面!$T501<>\"\",入力画面!AQ501:AU501,\"\")","v":""},{"$nulls":4},{"$f":"IF(入力画面!$T501<>\"\",入力画面!AV501:AX501,\"\")","v":""},null,null,{"$f":"IF(入力画面!$T501<>\"\",入力画面!AY501:BC501,\"\")","v":""},{"$nulls":4},{"$f":"入力画面!BD501:BM501","v":0}]
[492,{"$f":"入力画面!B502:Q502","v":0},{"$nulls":15},{"$f":"入力画面!R502:S502","v":0},null,{"$f":"IF(入力画面!$T502<>\"\",入力画面!T502,\"\")","v":""},null,null,{"$f":"IF(入力画面!$T502<>\"\",入力画面!W502,\"\")","v":""},{"$nulls":3},{"$f":"IF(入力画面!$T502<>\"\",入力画面!AA502:AE502,\"\")","v":""},{"$nulls":4},{"$f":"IF(入力画面!$T502<>\"\",入力画面!AF502:AH502,\"\")","v":""},null,null,{"$f":"IF(入力画面!$T502<>\"\",入力画面!AI502:AM502,\"\")","v":""},{"$nulls":4},{"$f":"IF(入力画面!$T502<>\"\",入力画面!AN502:AP502,\"\")","v":""},null,null,{"$f":"IF(入力画面!$T502<>\"\",入力画面!AQ502:AU502,\"\")","v":""},{"$nulls":4},{"$f":"IF(入力画面!$T502<>\"\",入力画面!AV502:AX502,\"\")","v":""},null,null,{"$f":"IF(入力画面!$T502<>\"\",入力画面!AY502:BC502,\"\")","v":""},{"$nulls":4},{"$f":"入力画面!BD502:BM502","v":0}]
[493,{"$f":"入力画面!B503:Q503","v":0},{"$nulls":15},{"$f":"入力画面!R503:S503","v":0},null,{"$f":"IF(入力画面!$T503<>\"\",入力画面!T503,\"\")","v":""},null,null,{"$f":"IF(入力画面!$T503<>\"\",入力画面!W503,\"\")","v":""},{"$nulls":3},{"$f":"IF(入力画面!$T503<>\"\",入力画面!AA503:AE503,\"\")","v":""},{"$nulls":4},{"$f":"IF(入力画面!$T503<>\"\",入力画面!AF503:AH503,\"\")","v":""},null,null,{"$f":"IF(入力画面!$T503<>\"\",入力画面!AI503:AM503,\"\")","v":""},{"$nulls":4},{"$f":"IF(入力画面!$T503<>\"\",入力画面!AN503:AP503,\"\")","v":""},null,null,{"$f":"IF(入力画面!$T503<>\"\",入力画面!AQ503:AU503,\"\")","v":""},{"$nulls":4},{"$f":"IF(入力画面!$T503<>\"\",入力画面!AV503:AX503,\"\")","v":""},null,null,{"$f":"IF(入力画面!$T503<>\"\",入力画面!AY503:BC503,\"\")","v":""},{"$nulls":4},{"$f":"入力画面!BD503:BM503","v":0}]
[494,{"$f":"入力画面!B504:Q504","v":0},{"$nulls":15},{"$f":"入力画面!R504:S504","v":0},null,{"$f":"IF(入力画面!$T504<>\"\",入力画面!T504,\"\")","v":""},null,null,{"$f":"IF(入力画面!$T504<>\"\",入力画面!W504,\"\")","v":""},{"$nulls":3},{"$f":"IF(入力画面!$T504<>\"\",入力画面!AA504:AE504,\"\")","v":""},{"$nulls":4},{"$f":"IF(入力画面!$T504<>\"\",入力画面!AF504:AH504,\"\")","v":""},null,null,{"$f":"IF(入力画面!$T504<>\"\",入力画面!AI504:AM504,\"\")","v":""},{"$nulls":4},{"$f":"IF(入力画面!$T504<>\"\",入力画面!AN504:AP504,\"\")","v":""},null,null,{"$f":"IF(入力画面!$T504<>\"\",入力画面!AQ504:AU504,\"\")","v":""},{"$nulls":4},{"$f":"IF(入力画面!$T504<>\"\",入力画面!AV504:AX504,\"\")","v":""},null,null,{"$f":"IF(入力画面!$T504<>\"\",入力画面!AY504:BC504,\"\")","v":""},{"$nulls":4},{"$f":"入力画面!BD504:BM504","v":0}]
[495,{"$f":"入力画面!B505:Q505","v":0},{"$nulls":15},{"$f":"入力画面!R505:S505","v":0},null,{"$f":"IF(入力画面!$T505<>\"\",入力画面!T505,\"\")","v":""},null,null,{"$f":"IF(入力画面!$T505<>\"\",入力画面!W505,\"\")","v":""},{"$nulls":3},{"$f":"IF(入力画面!$T505<>\"\",入力画面!AA505:AE505,\"\")","v":""},{"$nulls":4},{"$f":"IF(入力画面!$T505<>\"\",入力画面!AF505:AH505,\"\")","v":""},null,null,{"$f":"IF(入力画面!$T505<>\"\",入力画面!AI505:AM505,\"\")","v":""},{"$nulls":4},{"$f":"IF(入力画面!$T505<>\"\",入力画面!AN505:AP505,\"\")","v":""},null,null,{"$f":"IF(入力画面!$T505<>\"\",入力画面!AQ505:AU505,\"\")","v":""},{"$nulls":4},{"$f":"IF(入力画面!$T505<>\"\",入力画面!AV505:AX505,\"\")","v":""},null,null,{"$f":"IF(入力画面!$T505<>\"\",入力画面!AY505:BC505,\"\")","v":""},{"$nulls":4},{"$f":"入力画面!BD505:BM505","v":0}]
[496,{"$f":"入力画面!B506:Q506","v":0},{"$nulls":15},{"$f":"入力画面!R506:S506","v":0},null,{"$f":"IF(入力画面!$T506<>\"\",入力画面!T506,\"\")","v":""},null,null,{"$f":"IF(入力画面!$T506<>\"\",入力画面!W506,\"\")","v":""},{"$nulls":3},{"$f":"IF(入力画面!$T506<>\"\",入力画面!AA506:AE506,\"\")","v":""},{"$nulls":4},{"$f":"IF(入力画面!$T506<>\"\",入力画面!AF506:AH506,\"\")","v":""},null,null,{"$f":"IF(入力画面!$T506<>\"\",入力画面!AI506:AM506,\"\")","v":""},{"$nulls":4},{"$f":"IF(入力画面!$T506<>\"\",入力画面!AN506:AP506,\"\")","v":""},null,null,{"$f":"IF(入力画面!$T506<>\"\",入力画面!AQ506:AU506,\"\")","v":""},{"$nulls":4},{"$f":"IF(入力画面!$T506<>\"\",入力画面!AV506:AX506,\"\")","v":""},null,null,{"$f":"IF(入力画面!$T506<>\"\",入力画面!AY506:BC506,\"\")","v":""},{"$nulls":4},{"$f":"入力画面!BD506:BM506","v":0}]
[497,{"$f":"入力画面!B507:Q507","v":0},{"$nulls":15},{"$f":"入力画面!R507:S507","v":0},null,{"$f":"IF(入力画面!$T507<>\"\",入力画面!T507,\"\")","v":""},null,null,{"$f":"IF(入力画面!$T507<>\"\",入力画面!W507,\"\")","v":""},{"$nulls":3},{"$f":"IF(入力画面!$T507<>\"\",入力画面!AA507:AE507,\"\")","v":""},{"$nulls":4},{"$f":"IF(入力画面!$T507<>\"\",入力画面!AF507:AH507,\"\")","v":""},null,null,{"$f":"IF(入力画面!$T507<>\"\",入力画面!AI507:AM507,\"\")","v":""},{"$nulls":4},{"$f":"IF(入力画面!$T507<>\"\",入力画面!AN507:AP507,\"\")","v":""},null,null,{"$f":"IF(入力画面!$T507<>\"\",入力画面!AQ507:AU507,\"\")","v":""},{"$nulls":4},{"$f":"IF(入力画面!$T507<>\"\",入力画面!AV507:AX507,\"\")","v":""},null,null,{"$f":"IF(入力画面!$T507<>\"\",入力画面!AY507:BC507,\"\")","v":""},{"$nulls":4},{"$f":"入力画面!BD507:BM507","v":0}]
[498,{"$f":"入力画面!B508:Q508","v":0},{"$nulls":15},{"$f":"入力画面!R508:S508","v":0},null,{"$f":"IF(入力画面!$T508<>\"\",入力画面!T508,\"\")","v":""},null,null,{"$f":"IF(入力画面!$T508<>\"\",入力画面!W508,\"\")","v":""},{"$nulls":3},{"$f":"IF(入力画面!$T508<>\"\",入力画面!AA508:AE508,\"\")","v":""},{"$nulls":4},{"$f":"IF(入力画面!$T508<>\"\",入力画面!AF508:AH508,\"\")","v":""},null,null,{"$f":"IF(入力画面!$T508<>\"\",入力画面!AI508:AM508,\"\")","v":""},{"$nulls":4},{"$f":"IF(入力画面!$T508<>\"\",入力画面!AN508:AP508,\"\")","v":""},null,null,{"$f":"IF(入力画面!$T508<>\"\",入力画面!AQ508:AU508,\"\")","v":""},{"$nulls":4},{"$f":"IF(入力画面!$T508<>\"\",入力画面!AV508:AX508,\"\")","v":""},null,null,{"$f":"IF(入力画面!$T508<>\"\",入力画面!AY508:BC508,\"\")","v":""},{"$nulls":4},{"$f":"入力画面!BD508:BM508","v":0}]
[499,{"$f":"入力画面!B509:Q509","v":0},{"$nulls":15},{"$f":"入力画面!R509:S509","v":0},null,{"$f":"IF(入力画面!$T509<>\"\",入力画面!T509,\"\")","v":""},null,null,{"$f":"IF(入力画面!$T509<>\"\",入力画面!W509,\"\")","v":""},{"$nulls":3},{"$f":"IF(入力画面!$T509<>\"\",入力画面!AA509:AE509,\"\")","v":""},{"$nulls":4},{"$f":"IF(入力画面!$T509<>\"\",入力画面!AF509:AH509,\"\")","v":""},null,null,{"$f":"IF(入力画面!$T509<>\"\",入力画面!AI509:AM509,\"\")","v":""},{"$nulls":4},{"$f":"IF(入力画面!$T509<>\"\",入力画面!AN509:AP509,\"\")","v":""},null,null,{"$f":"IF(入力画面!$T509<>\"\",入力画面!AQ509:AU509,\"\")","v":""},{"$nulls":4},{"$f":"IF(入力画面!$T509<>\"\",入力画面!AV509:AX509,\"\")","v":""},null,null,{"$f":"IF(入力画面!$T509<>\"\",入力画面!AY509:BC509,\"\")","v":""},{"$nulls":4},{"$f":"入力画面!BD509:BM509","v":0}]
[500,{"$f":"入力画面!B510:Q510","v":0},{"$nulls":15},{"$f":"入力画面!R510:S510","v":0},null,{"$f":"IF(入力画面!$T510<>\"\",入力画面!T510,\"\")","v":""},null,null,{"$f":"IF(入力画面!$T510<>\"\",入力画面!W510,\"\")","v":""},{"$nulls":3},{"$f":"IF(入力画面!$T510<>\"\",入力画面!AA510:AE510,\"\")","v":""},{"$nulls":4},{"$f":"IF(入力画面!$T510<>\"\",入力画面!AF510:AH510,\"\")","v":""},null,null,{"$f":"IF(入力画面!$T510<>\"\",入力画面!AI510:AM510,\"\")","v":""},{"$nulls":4},{"$f":"IF(入力画面!$T510<>\"\",入力画面!AN510:AP510,\"\")","v":""},null,null,{"$f":"IF(入力画面!$T510<>\"\",入力画面!AQ510:AU510,\"\")","v":""},{"$nulls":4},{"$f":"IF(入力画面!$T510<>\"\",入力画面!AV510:AX510,\"\")","v":""},null,null,{"$f":"IF(入力画面!$T510<>\"\",入力画面!AY510:BC510,\"\")","v":""},{"$nulls":4},{"$f":"入力画面!BD510:BM510","v":0}]
["※消費税、保留金の計算は別紙、請求書で行ってください",{"$nulls":21},"小計",{"$nulls":3},{"$f":"SUM(AA752:AE771)","v":{"v":0,"d":"0 "}},{"$nulls":4},"小計",null,null,{"$f":"SUM(AI752:AM771)","v":{"v":0,"d":"0 "}},{"$nulls":4},"小計",null,null,{"$f":"SUM(AQ752:AU771)","v":{"v":0,"d":"0 "}},{"$nulls":4},"小計",null,null,{"$f":"SUM(AY752:BC771)","v":{"v":0,"d":"0 "}},{"$nulls":4},"担　当　者　　　　確　認　印",{"$nulls":4},{"$f":"IF(AA773=\"－\",\"―――――\",\"\")","v":"―――――"}]
["※完成後一括払いであっても出来高検収書を作成・添付してください",{"$nulls":21},"合計",{"$nulls":3},{"$f":"IF(AND(OR(AA741<>0,AI741<>0,AQ741<>0,AY741<>0),AA742=\"－\"),AA28+AA59+AA90+AA121+AA152+AA183+AA214+AA245+AA276+AA307+AA338+AA369+AA400+AA431+AA462+AA493+AA524+AA555+AA586+AA617+AA648+AA679+AA710+AA741+AA772,\"－\")","v":"－"},{"$nulls":4},"合計",null,null,{"$f":"IF($AA773<>\"－\",AI28+AI59+AI90+AI121+AI152+AI183+AI214+AI245+AI276+AI307+AI338+AI369+AI400+AI431+AI462+AI493+AI524+AI555+AI586+AI617+AI648+AI679+AI710+AI741+AI772,\"－\")","v":"－"},{"$nulls":4},"合計",null,null,{"$f":"IF($AA773<>\"－\",AQ28+AQ59+AQ90+AQ121+AQ152+AQ183+AQ214+AQ245+AQ276+AQ307+AQ338+AQ369+AQ400+AQ431+AQ462+AQ493+AQ524+AQ555+AQ586+AQ617+AQ648+AQ679+AQ710+AQ741+AQ772,\"－\")","v":"－"},{"$nulls":4},"合計",null,null,{"$f":"IF($AA773<>\"－\",AY28+AY59+AY90+AY121+AY152+AY183+AY214+AY245+AY276+AY307+AY338+AY369+AY400+AY431+AY462+AY493+AY524+AY555+AY586+AY617+AY648+AY679+AY710+AY741+AY772,\"－\")","v":"－"}]
["※協力会社印は出力枚数の都度、押印してください",{"$nulls":33},"今回迄出来高累計",{"$nulls":7},{"$f":"IF(AA773=\"－\",\"－\",AI773+AQ773)","v":"－"}]
[{"$nulls":55},"検   収   日",{"$nulls":4},{"$f":"IF(AA773=\"－\",\"――――\",\"\")","v":"――――"}]